{"text_format":"1","workbook":"xlsx","n_sheets":6,"sheets":["Mapa","Catálogo de Actividades","Concentrado","Hoja1","Concentrado respaldo","Campos"],"not_rendered":{"charts":0,"images":2,"macros":0,"external_links":1,"defined_names":205,"comments":0,"pivot_tables":0},"unopened":[],"bounds":{"document_bytes":16777216,"sheet_cells":100000,"rows_first":2000,"rows_last":500,"rows_between":2000,"halvings":0,"cell_chars":16384,"cell_head_chars":4096},"cells_cut":0,"cells_raw":0,"read":"whole","date_system":"1900"}

{"sheet":"Mapa","index":0,"n_rows":39,"n_cols":20,"rows_kept":39,"cut":false,"hidden":false,"merged":[[2,5,2,11],[3,5,3,11],[4,5,4,11],[5,5,5,11]]}
[]
[]
[null,null,null,null,null,"Unidad Técnica de Vinculación con los Organismos Públicos Locales "]
[null,null,null,null,null,"Dirección de Vinculación, Coordinación y Normatividad"]
[null,null,null,null,null,"Subdirección de Coordinación con los OPL"]
[null,null,null,null,null,"(Actualizado al 13 de diciembre de 2021)"]
[null,null,null,null,null,null,null,null,null,null,null,null,null,null,null,"Estado","name","tramo"]
[null,null,null,null,null,null,null,null,null,null,null,null,null,null,null,"Aguascalientes","aguascalientes",1]
[null,null,null,null,null,null,null,null,null,null,null,null,null,null,null,"Baja California","B_california",2]
[null,null,null,null,null,null,null,null,null,null,null,null,null,null,null,"Baja California Sur","california_sur",1]
[null,null,null,null,null,null,null,null,null,null,null,null,null,null,null,"Campeche","campeche1",1]
[null,null,null,null,null,null,null,null,null,null,null,null,null,null,null,"Coahuila","coahuila",2]
[null,null,null,null,null,null,null,null,null,null,null,null,null,null,null,"Colima","colima",1]
[null,null,null,null,null,null,null,null,null,null,null,null,null,null,null,"Chiapas","chiapas",1]
[null,null,null,null,null,null,null,null,null,null,null,null,null,null,null,"Chihuahua","chihuahua",1]
[null,null,null,null,null,null,null,null,null,null,null,null,null,null,null,"Distrito Federal","df",2]
[null,null,null,null,null,null,null,null,null,null,null,null,null,null,null,"Durango","durango",3]
[null,null,null,null,null,null,null,null,null,null,null,null,null,null,null,"Guanajuato","guanajuato",3,null,1]
[null,null,null,null,null,null,null,null,null,null,null,null,null,null,null,"Guerrero","guerrero",3,null,2]
[null,null,null,null,null,null,null,null,null,null,null,"            ",null,null,null,"Hidalgo","hidalgo",2,null,3]
[null,null,null,null,null,null,null,null,null,null,null,null,null,null,null,"Jalisco","jalisco",2]
[null,null,null,null,null,null,null,null,null,null,null,null,null,null,null,"México","mexico",3]
[null,null,null,null,null,null,null,null,null,null,null,null,null,null,null,"Michoacán","michoacan",1]
[null,null,null,null,null,null,null,null,null,null,null,null,null,null,null,"Morelos","morelos",1]
[null,null,null,null,null,null,null,null,null,null,null,null,null,null,null,"Nayarit","nayarit",1]
[null,null,null,null,null,null,null,null,null,null,null,null,null,null,null,"Nuevo León","nuevo_leon",3]
[null,null,null,null,null,null,null,null,null,null,null,null,null,null,null,"Oaxaca","oxaca",2]
[null,null,null,null,null,null,null,null,null,null,null,null,null,null,null,"Puebla","puebla",3]
[null,null,null,null,null,null,null,null,null,null,null,null,null,null,null,"Querétaro","queretaro",1]
[null,null,null,null,null,null,null,null,null,null,null,null,null,null,null,"Quintana Roo","quintana",3]
[null,null,null,null,null,null,null,null,null,null,null,null,null,null,null,"San Luis Potosí","san_luis",1]
[null,null,null,null,null,null,null,null,null,null,null,null,null,null,null,"Sinaloa","sinaloa",2]
[null,null,null,null,null,null,null,null,null,null,null,null,null,null,null,"Sonora","sonora",3]
[null,null,null,null,null,null,null,null,null,null,null,null,null,null,null,"Tabasco","tabasco",3]
[null,null,null,null,null,null,null,null,null,null,null,null,null,null,null,"Tamaulipas","tamaulipas",2]
[null,null,null,null,null,null,null,null,null,null,null,null,null,null,null,"Tlaxcala","Tlaxcala",1]
[null,null,null,null,null,null,null,null,null,null,null,null,null,null,null,"Veracruz","veracruz",1]
[null,null,null,null,null,null,null,null,null,null,null,null,null,null,null,"Yucatán","yucatan",2]
[null,null,null,null,null,null,null,null,null,null,null,null,null,null,null,"Zacatecas","zacatecas",2]

{"sheet":"Catálogo de Actividades","index":1,"n_rows":236,"n_cols":10,"rows_kept":236,"cut":false,"hidden":false,"merged":[[0,1,1,1],[0,2,1,6],[2,2,2,6]]}
[null,"Catálogo de Actividades","Unidad Técnica de Vinculación con los OPL"]
[]
[]
["SUBPROCESO","ACTIVIDAD","ADSCRIPCIÓN","UR","ID","ID","ID",null,null,"Tipo de Soporte"]
["Mecanismos de coordinación","Aprobar Calendarios y Planes Integrales de los Procesos Electorales Locales","INE","CG",null,null,1.1000000000000001,null,null,"Acuerdo"]
["Mecanismos de coordinación","Elaborar un plan de trabajo conjunto para la promoción de la participación ciudadana","INE/OPL","INE/OPL",null,null,1.2,null,null,"Formato"]
["Mecanismos de coordinación","Sesión para dar inicio al PEL","OPL","CG",null,null,1.3,null,null,"Formato"]
["Mecanismos de coordinación","Implementar un plan de trabajo conjunto para la promoción de la participación ciudadana","INE/OPL","INE/OPL",null,null,1.4]
["Mecanismos de coordinación","Presentar un informe parcial de Programa de Promoción de la Participación Ciudadana a la comisión correspondiente","INE/OPL","DECEYEC/JLE/OPL",null,null,1.5]
["Mecanismos de coordinación","Presentar un informe final de Programa de Promoción de la Participación Ciudadana a la comisión correspondiente","INE/OPL","DECEYEC/JLE/OPL",null,null,1.6]
["Integración de órganos desconcentrados","Convocatoria para la integración de los Órganos Distritales","OPL","CG",null,null,2.1,null,null,"Acuerdo"]
["Integración de órganos desconcentrados","Sesión en la que se designan e integran los Órganos Distritales","OPL","CG",null,null,2.2000000000000002]
["Integración de órganos desconcentrados","Instalación de los Órganos Distritales","OPL","OD",null,null,2.2999999999999998]
["Integración de órganos desconcentrados","Convocatoria para la integración de los Órganos Municipales","OPL","CG",null,null,2.4]
["Integración de órganos desconcentrados","Sesión en la que se designan e integran los Órganos Municipales","OPL","CG",null,null,2.5]
["Integración de órganos desconcentrados","Instalación de los Órganos Municipales","OPL","OD",null,null,2.6]
["Integración de órganos desconcentrados","Designación y/o ratificación de las y los Consejeros Electorales del Consejo Local","INE","CG",null,null,2.7]
["Integración de órganos desconcentrados","Instalación del Consejo Local","INE","CL",null,null,2.8,null,null,"Formato"]
["Integración de órganos desconcentrados","Designación y/o ratificación de las y los Consejeros Electorales de los Consejos Distritales","INE","CL",null,null,2.9]
["Integración de órganos desconcentrados","Instalación de los Consejos Distritales","INE","CD",null,null,2.1,null,null,"Formato"]
["Integración de órganos desconcentrados","Publicación de la integración de los Consejos Locales y Distritales del INE","INE","CL",null,null,2.11]
["Lista Nominal de Electores","Entrega del catálogo cartográfico","INE","DERFE",null,null,3.1]
["Lista Nominal de Electores","Generación y entrega de la Lista Nominal de Electores para Revisión en medios ópticos a los representantes de los partidos políticos","INE","DERFE",null,null,3.2]
["Lista Nominal de Electores","Elaborar los archivos de conformación de casillas extraordinarias y asignación de registros sin soporte cartográfico para la impresión del Listado Nominal para el Proceso Electoral","INE","DERFE",null,null,3.3]
["Lista Nominal de Electores","Recepción de observaciones de los partidos políticos y en su caso, candidatos independientes, a la Lista Nominal de Electores para revisión","INE/OPL","DERFE",null,null,3.4,null,null,"Oficio"]
["Lista Nominal de Electores","Entrega en formato digital el informe respecto de la atención a las observaciones formuladas a la Lista Nominal de Electores para Revisión","INE","DERFE",null,null,3.5,null,null,"Formato"]
["Lista Nominal de Electores","Entrega de la Lista Nominal de Electores Definitiva con fotografía","INE","DERFE",null,null,3.6,null,null,"Oficio"]
["Lista Nominal de Electores","Entrega de la Lista Nominal de Electores con fotografía Producto de Instancias Administrativas y Resoluciones del Tribunal (ADENDA)","INE","DERFE",null,null,3.7]
["Gestión de credencial para votar","Atender los trámites de la ciudadanía que acude a los Módulos de Atención Ciudadana a inscribirse y a actualizar su situación registral en el Padrón Electoral","INE","DERFE",null,null,4.0999999999999996]
["Gestión de credencial para votar","Atender los trámites de la ciudadanía que acude a los Módulos de Atención Ciudadana a solicitar la reposición de su CPV por robo, extravío o deterioro grave","INE","DERFE",null,null,4.2]
["Gestión de credencial para votar","Entregar la Credencial para Votar con Fotografía a los ciudadanos en las Oficinas o Módulos de Atención Ciudadana que determine el INE","INE","DERFE",null,null,4.3]
["Gestión de credencial para votar","Atender solicitudes de reimpresión de Credencial para Votar por extravío o robo","INE","DERFE",null,null,4.4000000000000004]
["Gestión de credencial para votar","Resguardar las Credenciales para Votar que no fueron recogidas por sus titulares hasta el 11 de abril y hasta el 03 de junio de 2022, derivadas de Instancias Administrativas, Demandas de Juicio o de solicitudes de reimpresión","INE","DERFE",null,null,4.5]
["Observación Electoral","Emisión de la convocatoria para la ciudadanía que desee participar en la observación electoral","OPL","CG",null,null,5.0999999999999996,null,null,"Acuerdo"]
["Observación Electoral","Recepción de solicitudes de la ciudadanía que desee participar en la observación electoral","INE/OPL","OPL/JL/JD",null,null,5.2]
["Observación Electoral","Impartición de los cursos de capacitación, preparación o información","INE/OPL","OPL/JL/JD",null,null,5.3,null,null,"Formato"]
["Observación Electoral","Acreditación de la ciudadanía como observadores u observadoras electorales","INE","CL/CD",null,null,5.4,null,null,"Formato"]
["Observación Electoral","Seguimiento a los informes mensuales de acreditación de Observadores Electores","INE","CG",null,null,5.5]
["Observación Electoral","Remisión de materiales de capacitación a la JLE para revisión","OPL","CG/DECEYEC",null,null,5.6,null,null,"Oficio"]
["Observación Electoral","Revisión, corrección, verificación y validación de materiales de capacitación para observadores electorales","INE","JLE/ DECEYEC",null,null,5.7]
["Ubicación de casillas","Recorridos por las secciones de los distritos para localizar los lugares donde se ubicarán las casillas","INE","JDE",null,null,6.1,null,null,"Formato"]
["Ubicación de casillas","Presentación a los Consejos Distritales del listado de lugares propuestos para ubicar casillas","INE","JDE",null,null,6.2,null,null,"Formato"]
["Ubicación de casillas","Visitas de examinación en los lugares propuestos para ubicar casillas básicas, contiguas, especiales y extraordinarias","INE","CD",null,null,6.3,null,null,"Formato"]
["Ubicación de casillas","Aprobación del número y ubicación de casillas extraordinarias y especiales","INE","CD",null,null,6.4,null,null,"Acuerdo"]
["Ubicación de casillas","Aprobación del número y ubicación de casillas básicas y contiguas","INE","CD",null,null,6.5,null,null,"Formato"]
["Ubicación de casillas","Entrega de la base de datos de la Lista Nominal Definitiva a UNICOM con corte al 11 de abril","INE","DERFE",null,null,6.6,null,null,"Formato"]
["Ubicación de casillas","Realizar la primera publicación de la lista de ubicación de casillas en los lugares más concurridos del distrito electoral y en los medios electrónicos del Instituto","INE","CD",null,null,6.7]
["Ubicación de casillas","En su caso, segunda publicación de la lista de ubicación de casillas por causas supervenientes en los lugares más concurridos del distrito y en los medios electrónicos del Instituto","INE","CD",null,null,6.8,null,null,"Formato"]
["Ubicación de casillas","Publicación de los encartes y difusión en medios electrónicos del Instituto","INE/OPL","DEOE/CG",null,null,6.9,null,null,"Formato"]
["Ubicación de casillas","Registro de representantes generales y ante mesas directivas de casilla","INE","CD",null,null,6.1,null,null,"Formato"]
["Ubicación de casillas","Sustitución de representantes generales y ante mesas directivas de casilla","INE","CD",null,null,6.11,null,null,"Formato"]
["Ubicación de casillas","Entrega de listados de representantes generales y ante casilla al OPL","INE","CD",null,null,6.12,null,null,"Oficio"]
["Ubicación de casillas","Avisos domiciliarios para ubicación de casillas en secciones electorales involucradas en Actualizaciones del Marco Geográfico Electoral","INE/OPL","DERFE/OPL",null,null,6.13]
["Ubicación de casillas","Notificación de la casilla en que votará la ciudadanía residente en secciones en las que el Consejo Distrital determinó no instalar casillas por las causales previstas en el artículo 234 del RE","INE","CD",null,null,6.14]
["Integración de las Mesas Directivas de Casilla","Aprobación de la Estrategia de Capacitación y Asistencia Electoral","INE","CG/DECEYEC",null,null,7.1,null,null,"Acuerdo"]
["Integración de las Mesas Directivas de Casilla","Sorteo del mes del calendario como base para la insaculación de las y los ciudadanos que integrarán las mesas directivas de casilla","INE","CG/DECEYEC",null,null,7.2,null,null,"Formato"]
["Integración de las Mesas Directivas de Casilla","Entrega de modelos para que los OPL elaboren materiales didácticos para la ciudadanía sorteada y para las y los funcionarios de casilla","INE","DECEYEC/JLE",null,null,7.3]
["Integración de las Mesas Directivas de Casilla","Revisión, corrección y validación de los materiales didácticos para la ciudadanía sorteada y para las y los funcionarios de casilla","OPL/INE","OPL/JLE/\nDECEYEC",null,null,7.4]
["Integración de las Mesas Directivas de Casilla","Entrega a la JLE de los materiales didácticos impresos para la primera y segunda etapa elaborados por parte de los OPL","INE/OPL","JLE/CG",null,null,7.5]
["Integración de las Mesas Directivas de Casilla","Reclutamiento Selección y contratación de SE y CAE","INE/OPL","INE/OPL",null,null,7.6]
["Integración de las Mesas Directivas de Casilla","Seguimiento a la aplicación de procediemientos de reclutamiento, selección y contratacion de SE y CAE","INE","DECEYEC/JLE/JD",null,null,7.7]
["Integración de las Mesas Directivas de Casilla","Sorteo de la letra a partir de la cual, con base en el apellido paterno, se seleccionará a las y los ciudadanos que integrarán las mesas directivas de casilla","INE","CG",null,null,7.8,null,null,"Formato"]
["Integración de las Mesas Directivas de Casilla","Entrega de la Lista Nominal de Electores para el Procedimiento de la Primera insaculación","INE","DERFE/UNICOM",null,null,7.9,null,null,"Acuerdo"]
["Integración de las Mesas Directivas de Casilla","Procesar los archivos de conformación de secciones electorales\ncon casilla extraordinaria para la primera insaculación","INE","DERFE",null,null,7.1]
["Integración de las Mesas Directivas de Casilla","Primera insaculación","INE","DECEYEC",null,null,7.11,null,null,"Formato"]
["Integración de las Mesas Directivas de Casilla","Primera etapa de capacitación a las personas insaculadas","INE","CD",null,null,7.12,null,null,"Formato"]
["Integración de las Mesas Directivas de Casilla","Seguimiento a la aplicación de procediemientos de la primera etapa de capacitacion electoral","INE","DECEYEC/JLE/JD",null,null,7.13]
["Integración de las Mesas Directivas de Casilla","Segunda insaculación y designación de funcionarios para mesas directivas de casilla","INE","DECEYEC",null,null,7.14,null,null,"Formato"]
["Integración de las Mesas Directivas de Casilla","Segunda estapa de capacitación a funcionarios de mesa directiva de casilla y simulacros","INE","CD",null,null,7.15]
["Integración de las Mesas Directivas de Casilla","Seguimiento a la aplicación de procediemientos de la segunda etapa de capacitacion electoral","INE","DECEYEC/JLE/JD",null,null,7.16]
["Integración de las Mesas Directivas de Casilla","Entrega de reconocimientos a funcionarios de mesas directivas de casilla","INE","CD",null,null,7.17,null,null,"Formato"]
["Fiscalización","Planeación de la Fiscalización","INE","UTF",null,null,8.1]
["Fiscalización","Fiscalización del periodo de precampaña y obtención del apoyo de la ciudadanía","INE","UTF",null,null,8.1999999999999993]
["Fiscalización","Fiscalización del periodo de campaña","INE","UTF",null,null,8.3000000000000007]
["Obligaciones y prerrogativas financieras de los partidos, candidaturas y candidaturas independientes.","Aprobación de topes de gastos de precampaña Gubernatura","OPL","CG",null,null,9.1,null,null,"Acuerdo"]
["Obligaciones y prerrogativas financieras de los partidos, candidaturas y candidaturas independientes.","Aprobación de topes de gastos de precampaña Diputaciones","OPL","CG",null,null,9.1999999999999993,null,null,"Acuerdo"]
["Obligaciones y prerrogativas financieras de los partidos, candidaturas y candidaturas independientes.","Aprobación de topes de gastos de precampaña Ayuntamientos","OPL","CG",null,null,9.3000000000000007,null,null,"Acuerdo"]
["Obligaciones y prerrogativas financieras de los partidos, candidaturas y candidaturas independientes.","Aprobación de los límites de financiamiento privado, aportaciones de militantes, simpatizantes y precandidaturas o candidaturas; así como el límite individual de aportaciones para Gubernatura","OPL","CG",null,null,9.4,null,null,"Acuerdo"]
["Obligaciones y prerrogativas financieras de los partidos, candidaturas y candidaturas independientes.","Aprobación de los límites de financiamiento privado, aportaciones de militantes, simpatizantes y precandidaturas o candidaturas; así como el límite individual de aportaciones para Diputaciones","OPL","CG",null,null,9.5,null,null,"Acuerdo"]
["Obligaciones y prerrogativas financieras de los partidos, candidaturas y candidaturas independientes.","Aprobación de los límites de financiamiento privado, aportaciones de militantes, simpatizantes y precandidaturas o candidaturas; así como el límite individual de aportaciones para Ayuntamientos","OPL","CG",null,null,9.6,null,null,"Acuerdo"]
["Obligaciones y prerrogativas financieras de los partidos, candidaturas y candidaturas independientes.","Aprobación de topes de gastos para el periodo de obtención del apoyo ciudadano para Gubernatura","OPL","CG",null,null,9.6999999999999993,null,null,"Acuerdo"]
["Obligaciones y prerrogativas financieras de los partidos, candidaturas y candidaturas independientes.","Aprobación de topes de gastos para el periodo de obtención del apoyo ciudadano para Diputaciones","OPL","CG",null,null,9.8000000000000007,null,null,"Acuerdo"]
["Obligaciones y prerrogativas financieras de los partidos, candidaturas y candidaturas independientes.","Aprobación de topes de gastos para el periodo de obtención del apoyo ciudadano para Ayuntamientos","OPL","CG",null,null,9.9,null,null,"Acuerdo"]
["Obligaciones y prerrogativas financieras de los partidos, candidaturas y candidaturas independientes.","Aprobación de topes de gastos de campaña para Gubernatura","OPL","CG",null,null,9.1,null,null,"Acuerdo"]
["Obligaciones y prerrogativas financieras de los partidos, candidaturas y candidaturas independientes.","Aprobación de topes de gastos de campaña para Diputaciones","OPL","CG",null,null,9.11,null,null,"Acuerdo"]
["Obligaciones y prerrogativas financieras de los partidos, candidaturas y candidaturas independientes.","Aprobación de topes de gastos de campaña para Ayuntamientos","OPL","CG",null,null,9.1199999999999992,null,null,"Acuerdo"]
["Candidaturas Independientes","Emisión de la convocatoria para la ciudadanía interesada en participar a una Candidatura Independiente.","OPL","CG",null,null,10.1]
["Candidaturas Independientes","Recepción de escrito de intención y documentación anexa de las y los ciudadanos que aspiren a la candidatura independiente para Gubernatura","OPL","OD",null,null,10.199999999999999,null,null,"Formato"]
["Candidaturas Independientes","Recepción de escrito de intención y documentación anexa de las y los ciudadanos que aspiren a la candidatura independiente para Diputaciones","OPL","OD",null,null,10.3,null,null,"Formato"]
["Candidaturas Independientes","Recepción de escrito de intención y documentación anexa de las y los ciudadanos que aspiren a la candidatura independiente para Ayuntamientos","OPL","SE/OD",null,null,10.4,null,null,"Formato"]
["Candidaturas Independientes","Resolución sobre procedencia de manifestación de intención de las y los aspirantes a candidaturas independientes para Gubernatura","OPL","CG",null,null,10.5,null,null,"Acuerdo"]
["Candidaturas Independientes","Resolución sobre procedencia de manifestación de intención de las y los aspirantes a candidaturas independientes para Diputaciones","OPL","CG",null,null,10.6,null,null,"Acuerdo"]
["Candidaturas Independientes","Resolución sobre procedencia de manifestación de intención de las y los aspirantes a candidaturas independientes para Ayuntamientos","OPL","CG",null,null,10.7,null,null,"Acuerdo"]
["Candidaturas Independientes","Plazo para obtener el apoyo ciudadano de las candidaturas independientes para Gubernatura","OPL","OD",null,null,10.8,null,null,"Plazo legal"]
["Candidaturas Independientes","Plazo para obtener el apoyo ciudadano de las candidaturas independientes para Diputaciones","OPL","OD",null,null,10.9,null,null,"Plazo legal"]
["Candidaturas Independientes","Plazo para obtener el apoyo ciudadano de las candidaturas independientes para Ayuntamientos","OPL","OD",null,null,10.1,null,null,"Plazo legal"]
["Candidaturas Independientes","Verificar la situación registral de las y los ciudadanos inscritos en la Lista Nominal, que presenten las y los Aspirantes a Candidaturas Independientes para los diversos cargos de elección popular a nivel local.","INE/OPL","DERFE",null,null,10.11]
["Candidaturas Independientes","Plazo para otorgar las constancias de porcentaje a favor de la o el aspirante a la candidatura independiente para Gubernatura","OPL","CG",null,null,10.119999999999999,null,null,"Formato"]
["Candidaturas Independientes","Plazo para otorgar las constancias de porcentaje a favor de la o el aspirante a la candidatura independiente para Diputaciones","OPL","CG/OD",null,null,10.130000000000001,null,null,"Formato"]
["Candidaturas Independientes","Plazo para otorgar las constancias de porcentaje a favor de la o el aspirante a la candidatura independiente para Ayuntamientos","OPL","CG/OD",null,null,10.14,null,null,"Formato"]
["Candidaturas","Registro de plataformas electorales","OPL","CG",null,null,11.1,null,null,"Formato"]
["Candidaturas","Solicitud de registro de convenio de coalición para Gubernatura","OPL","CG",null,null,11.2,null,null,"Formato"]
["Candidaturas","Solicitud de registro de convenio de coalición para Diputaciones","OPL","CG",null,null,11.3,null,null,"Formato"]
["Candidaturas","Solicitud de registro de convenio de coalición para Ayuntamientos","OPL","CG",null,null,11.4,null,null,"Formato"]
["Candidaturas","Resolución sobre Convenio de Coalición para Gubernatura","OPL","CG",null,null,11.5,null,null,"Acuerdo"]
["Candidaturas","Resolución sobre Convenio de Coalición para Diputaciones","OPL","CG",null,null,11.6,null,null,"Acuerdo"]
["Candidaturas","Resolución sobre Convenio de Coalición para Ayuntamientos","OPL","CG",null,null,11.7,null,null,"Acuerdo"]
["Candidaturas","Precampaña para Gubernatura","OPL","CG",null,null,11.8,null,null,"Plazo legal"]
["Candidaturas","Precampaña para Diputaciones","OPL","CG",null,null,11.9,null,null,"Plazo legal"]
["Candidaturas","Precampaña para Ayuntamientos","OPL","CG",null,null,11.1,null,null,"Plazo legal"]
["Candidaturas","Precampaña para Ayuntamientos: Durango, Gómez Palacio y Lerdo","OPL","CG",null,null,11.11]
["Candidaturas","Precampaña para Ayuntamientos: Canatlán, Cuencamé, Guadalupe Victoria, Mapimí, Mezquital, Nombre de Dios, Nuevo Ideal, Poanas, Pueblo Nuevo, San Dimas, Santiago Papasquiaro, El Oro, Tamazula, Tlahualilo y Vicente Guerrero","OPL","CG",null,null,11.12]
["Candidaturas","Precampaña para el resto de Ayuntamientos","OPL","CG",null,null,11.13]
["Candidaturas","Solicitud de registro de Candidaturas para Gubernatura","OPL","CG/OD",null,null,11.14,null,null,"Formato"]
["Candidaturas","Solicitud de registro de Candidaturas para Diputaciones","OPL","CG/OD",null,null,11.15,null,null,"Formato"]
["Candidaturas","Solicitud de registro de Candidaturas para Diputaciones de Representación Proporcional","OPL","CG/OD",null,null,11.16,null,null,"Formato"]
["Candidaturas","Solicitud de registro de Candidaturas para Ayuntamientos","OPL","CG/OD",null,null,11.17,null,null,"Formato"]
["Candidaturas","Resolución para aprobar las candidaturas para Gubernatura","OPL","CG",null,null,11.18,null,null,"Acuerdo"]
["Candidaturas","Resolución para aprobar las candidaturas para Diputaciones","OPL","CG",null,null,11.19,null,null,"Acuerdo"]
["Candidaturas","Resolución para aprobar las candidaturas para Diputaciones de Representación Proporcional","OPL","CG",null,null,11.2,null,null,"Acuerdo"]
["Candidaturas","Resolución para aprobar las candidaturas para Ayuntamientos","OPL","CG/OD",null,null,11.21,null,null,"Acuerdo"]
["Candidaturas","Solicitud de registro de candidaturas comunes para Gubernatura","OPL","CG",null,null,11.22]
["Candidaturas","Solicitud de registro de candidaturas comunes para Diputaciones","OPL","CG/OD",null,null,11.23]
["Candidaturas","Solicitud de registro de candidaturas comunes para Ayuntamientos","OPL","CG/OD",null,null,11.24]
["Candidaturas","Resolución para aprobar las candidaturas comunes para Gubernatura","OPL","CG",null,null,11.25,null,null,"Acuerdo"]
["Candidaturas","Resolución para aprobar las candidaturas comunes para Diputaciones","OPL","CG/OD",null,null,11.26]
["Candidaturas","Resolución para aprobar las candidaturas comunes para Ayuntamientos","OPL","CG/OD",null,null,11.27]
["Candidaturas","Campaña para Gubernatura","OPL","CG",null,null,11.28,null,null,"Plazo legal"]
["Candidaturas","Campaña para Diputaciones","OPL","CG",null,null,11.29,null,null,"Plazo legal"]
["Candidaturas","Campaña para Ayuntamientos","OPL","CG",null,null,11.3,null,null,"Plazo legal"]
["Candidaturas","Campaña para Ayuntamientos Durango, Gómez Palacio y Lerdo","OPL","CG",null,null,11.31]
["Candidaturas","Campaña para Ayuntamientos Canatlán, Cuencamé, Guadalupe Victoria, Mapimí, Mezquital, Nombre de Dios, Nuevo Ideal, Poanas, Pueblo Nuevo, San Dimas, Santiago Papasquiaro, El Oro, Tamazula, Tlahualilo y Vicente Guerrero","OPL","CG",null,null,11.32]
["Candidaturas","Campaña para resto de Ayuntamientos","OPL","CG",null,null,11.33]
["Candidaturas","Aprobación de la distribución de financiamiento público para partidos políticos","OPL","CG",null,null,11.34,null,null,"Plazo legal"]
["Debates","Aprobación de las fechas en que se celebrarán los debates para gubernatura","OPL","CG",null,null,12.1,null,null,"Acuerdo"]
["Debates","Realización del primer debate para gubernatura","OPL","CG",null,null,12.2,null,null,"Formato"]
["Debates","Realización del segundo debate para gubernatura","OPL","CG",null,null,12.3,null,null,"Formato"]
["Debates","Realización del tercer debate para gubernatura","OPL","CG",null,null,12.4,null,null,"Formato"]
["Documentación y material electoral","Aprobación de los formatos únicos con los diseños y especificaciones técnicas de la documentación y materiales electorales","INE","COTSPEL",null,null,13.1]
["Documentación y material electoral","Entrega a la Dirección Ejecutiva de Organización Electoral del INE, de los diseños y especificaciones técnicas de la documentación y materiales electorales, en medios impresos y electrónicos","OPL","CG",null,null,13.2,null,null,"Oficio"]
["Documentación y material electoral","Validación de los documentos y materiales electorales y especificaciones técnicas, con las observaciones subsanadas","INE","DEOE",null,null,13.3,null,null,"Oficio"]
["Documentación y material electoral","Aprobación de la documentación y material electoral","OPL","CG",null,null,13.4,null,null,"Acuerdo"]
["Documentación y material electoral","Entrega a la Dirección Ejecutiva de Organización Electoral del INE, del Reporte con los resultados de las verificaciones de las medidas de seguridad en la documentación electoral y líquido indeleble","OPL","CG",null,null,13.5,null,null,"Oficio"]
["Documentación y material electoral","Supervisiones respecto de los procedimientos de impresión y producción de la documentación y materiales electorales","INE","DEOE",null,null,13.6,null,null,"Formato"]
["Documentación y material electoral","Designación de la persona responsable de llevar el control sobre la asignación de los folios de las boletas que se distribuirán en cada mesa directiva de casilla","OPL","OD",null,null,13.7,null,null,"Acuerdo"]
["Documentación y material electoral","Aprobación de SE y CAE, así como de personal que auxiliará en el procedimiento de conteo, sellado y agrupamiento de las boletas electorales; así como la integración de documentación que será entregada a las presidencias de mesa directiva de casilla","OPL","OD",null,null,13.8]
["Documentación y material electoral","Recepción de las boletas electorales por el órgano competente que realizará el conteo, sellado y agrupamiento","OPL","OD",null,null,13.9,null,null,"Formato"]
["Documentación y material electoral","Conteo, sellado y agrupamiento de boletas e integración de la caja paquete electoral","OPL","OD",null,null,13.1]
["Documentación y material electoral","Distribución de la documentación y materiales electorales a las Presidencias de mesa directiva de casilla","OPL","OD",null,null,13.11]
["Documentación y material electoral","Remisión de los recibos de la entrega de la documentación y materiales electorales al Consejo General del OPL","INE","JLE",null,null,13.12,null,null,"Oficio"]
["Jornada Electoral","Aprobación del Programa de Operación del SIJE 2022","INE","CG",null,null,14.1,null,null,"Acuerdo"]
["Jornada Electoral","Aprobación de las metas del SIJE 2022","INE","CG",null,null,14.2,null,null,"Acuerdo"]
["Jornada Electoral","Presentación del Manual de Operación del SIJE 2022","INE","COTSPEL",null,null,14.3]
["Jornada Electoral","Realización de pruebas del SIJE 2022","INE","DEOE",null,null,14.4,null,null,"Formato"]
["Jornada Electoral","Desarrollo del primer simulacro del SIJE","INE/OPL","DEOE/OD",null,null,14.5,null,null,"Formato"]
["Jornada Electoral","Desarrollo del segundo simulacro del SIJE","INE/OPL","DEOE/OD",null,null,14.6,null,null,"Formato"]
["Jornada Electoral","Desarrollo del tercer simulacro del SIJE","INE/OPL","DEOE/OD",null,null,14.7,null,null,"Formato"]
["Jornada Electoral","Jornada Electoral","OPL","CG/OD",null,null,14.8,null,null,"Plazo legal"]
["Bodegas electorales","Determinación de los lugares que ocuparán las bodegas electorales para el resguardo de la documentación electoral","OPL","CG",null,null,15.1,null,null,"Acuerdo"]
["Bodegas electorales","Verificación por parte de los órganos desconcentrados del INE de las condiciones y equipamiento de las bodegas electorales del OPL","INE/OPL","JLE/JDE/OD",null,null,15.2]
["Bodegas electorales","Informe que rinden las y los Presidentes sobre las condiciones de equipamiento, mecanismos de operación y medidas de seguridad de las bodegas electorales","OPL","OD",null,null,15.3,null,null,"Oficio"]
["Bodegas electorales","Designación, por parte del órgano competente del OPL, del personal que tendrá acceso a la bodega electoral","OPL","CG/OD",null,null,15.4,null,null,"Acuerdo"]
["Bodegas electorales","Envío del informe presentado ante el Consejo General, sobre las condiciones que guardan las bodegas electorales del Órgano Central y desconcentrados del OPL","OPL","CG",null,null,15.5,null,null,"Oficio"]
["Mecanismos de recolección","Entrega de estudios de factibilidad al OPL","INE","CL",null,null,16.100000000000001,null,null,"Oficio"]
["Mecanismos de recolección","Entrega de observaciones a los estudios de factibilidad","OPL","CG",null,null,16.2]
["Mecanismos de recolección","Recorridos para verificar las propuestas de los mecanismos de recolección","INE/OPL","CD/OD",null,null,16.3,null,null,"Formato"]
["Mecanismos de recolección","Aprobación de los mecanismos de recolección","INE","CD",null,null,16.399999999999999]
["Mecanismos de recolección","Traslado y recolección de los paquetes electorales","INE","CD",null,null,16.5,null,null,"Formato"]
["Mecanismos de recolección","Acreditación de representantes de partidos políticos y candidaturas independientes ante los mecanismos de recolección","INE","CL/CD",null,null,16.600000000000001,null,null,"Formato"]
["Mecanismos de recolección","Sustitución de representantes de partidos políticos y candidaturas independientes ante los mecanismos de recolección","INE","CL/CD",null,null,16.7,null,null,"Formato"]
["Mecanismos de recolección","Entrega a la JLE del informe sobre la recepción de paquetes electorales en los órganos competentes","INE","CD",null,null,16.8,null,null,"Informe"]
["Cómputos","Aprobación de los lineamientos de cómputo y del cuadernillo de consulta sobre votos válidos y votos nulos","OPL","CG",null,null,17.100000000000001,null,null,"Acuerdo"]
["Cómputos","Remisión a la JLE en la entidad, de las propuestas de escenarios de cómputos, para la dictaminación de viabilidad","OPL","CG",null,null,17.2,null,null,"Oficio"]
["Cómputos","Remisión de las observaciones a los escenarios de Cómputos al OPL y a su vez informar de las mismas a la UTVOPL","INE","JLE",null,null,17.3,null,null,"Oficio"]
["Cómputos","Asignación de las y los SE y CAE contratados por el INE para los OD del OPL a fin de que apoyen en los cómputos de las elecciones locales","INE","CD",null,null,17.399999999999999]
["Cómputos","Aprobación por parte del órgano competente del OPL, del acuerdo mediante el cual se designa al personal que participará en las tareas de apoyo a los Cómputos Municipales","OPL","CG/OD",null,null,17.5,null,null,"Acuerdo"]
["Cómputos","Aprobación por parte del órgano competente del OPL, del acuerdo mediante el cual se designa al personal que participará en las tareas de apoyo a los Cómputos Distritales","OPL","CG/OD",null,null,17.600000000000001]
["Cómputos","Aprobación por parte de los órganos competentes del OPL, de los distintos escenarios de cómputos","OPL","OD",null,null,17.7,null,null,"Acuerdo"]
["Cómputos","El OPL informará el inicio de la creación del programa, sistema o herramienta informática a la UTVOPL y a la Junta Local del INE, así como de sus características y avances","OPL","CG",null,null,17.8,null,null,"Formato"]
["Cómputos","El OPL remitirá por conducto de la UTVOPL a la DEOE, y en forma directa a la Junta Local del INE, la dirección electrónica en la que se ubicará la aplicación, así como las claves y accesos necesarios para hacer pruebas y simulacros de captura.","OPL","CG",null,null,17.899999999999999,null,null,"Formato"]
["Cómputos","Liberación de la herramienta informática de Cómputos","OPL","CG",null,null,17.100000000000001]
["Cómputos","Realización de dos simulacros en los órganos competentes del OPL sobre el desarrollo de los cómputos en los OD con el uso de la herramienta informática","OPL","CD",null,null,17.11]
["Cómputos","Aprobación por parte del órgano competente del OPL, del acuerdo por el que se habilitarán espacios para la instalación de grupos de trabajo y, en su caso, puntos de recuento","OPL","CG/OD",null,null,17.12]
["Cómputos","Cómputos Distritales","OPL","OD",null,null,17.13,null,null,"Formato"]
["Cómputos","Cómputos Municipales","OPL","OD",null,null,17.14,null,null,"Formato"]
["Cómputos","Cómputo Estatal para la Gubernatura","OPL","CG",null,null,17.149999999999999,null,null,"Formato"]
["Cómputos","Cómputo Estatal para la asignación diputaciones de Representación Proporcional","OPL","CG",null,null,17.16,null,null,"Formato"]
["PREP","Documento por el que se informe la instalación de la Comisión en la que se reporten los trabajos de implementación y operación del PREP.","OPL","CG",null,null,18.100000000000001]
["PREP","Aprobación del Acuerdo por el que se designa o ratifica a la instancia interna responsable de coordinar el PREP","OPL","CG",null,null,18.2,null,null,"Acuerdo"]
["PREP","Aprobación del Acuerdo de Integración del COTAPREP","OPL","CG",null,null,18.3,null,null,"Acuerdo"]
["PREP","Documento por el que se determina la implementación del PREP por el OPL o con el apoyo de un Tercero","OPL","CG",null,null,18.399999999999999,null,null,"Acuerdo"]
["PREP","Aprobación del acuerdo por el que se determina el Proceso Técnico Operativo","OPL","CG",null,null,18.5]
["PREP","Aprobación del Acuerdo por el que se determina la ubicación, instalación y habilitación de los CATD y, en su caso, CCV","OPL","CG",null,null,18.600000000000001,null,null,"Acuerdo"]
["PREP","Documento de Designación del Ente Auditor","OPL","CG",null,null,18.7]
["PREP","Instrumento jurídico celebrado entre el OPL y el ente auditor","OPL","CG",null,null,18.8,null,null,"Oficio"]
["PREP","Realización de prueba de funcionalidad del PREP","OPL","CG",null,null,18.899999999999999]
["PREP","Realización del primer simulacro del PREP","OPL","CG",null,null,18.100000000000001,null,null,"Formato"]
["PREP","Realización del segundo simulacro del PREP","OPL","CG",null,null,18.11,null,null,"Formato"]
["PREP","Realización del tercer simulacro del PREP","OPL","CG",null,null,18.12,null,null,"Formato"]
["PREP","Operación del PREP","OPL","CG",null,null,18.13,null,null,"Formato"]
["Conteo Rápido","Aprobación del Acuerdo de Integración del COTECORA","OPL","CG",null,null,19.100000000000001,null,null,"Acuerdo"]
["Conteo Rápido","Realización de pruebas de captura","OPL","CG",null,null,19.2,null,null,"Formato"]
["Conteo Rápido","Realización de primer simulacro del Conteo Rápido","OPL","CG",null,null,19.3,null,null,"Formato"]
["Conteo Rápido","Realización de segundo simulacro del Conteo Rápido","OPL","CG",null,null,19.399999999999999,null,null,"Formato"]
["Conteo Rápido","Selección de la Muestra para el Conteo Rápido","OPL","CG",null,null,19.5,null,null,"Formato"]
["Voto de los ciudadanos residentes en el extranjero","Elaboración y aprobación de los Lineamientos para la Conformación de la Lista Nominal de Electores Residentes en el Extranjero para los Procesos Electorales Locales 2021-2022, así como de los Lineamientos para la organización y emisión del Voto de los Mexicanos Residentes en el Extranjero, para los Procesos Electorales Locales 2021-2022","INE","CG/DERFE/UNICOM",null,null,20.100000000000001]
["Voto de los ciudadanos residentes en el extranjero","Elaboración y aprobación del Programa de Mesas de Escrutinio y Cómputo, Capacitación Electoral y Seguimiento del Voto de las y los Mexicanos Residentes en el Extranjero para el Proceso Electoral Local 2021-2022, como parte de la Estrategia de Capacitación y Asistencia Electoral","INE","CG",null,null,20.2]
["Voto de los ciudadanos residentes en el extranjero","Puesta a disposición de envío de la Solicitud individual de Inscripción a la Lista Nominal de Electores Residentes en el extranjero para procesos electorales locales (SIILNERE), y de la Solicitud Individual para Votar desde el Extranjero (SIVE)","INE","DERFE",null,null,20.3,null,null,"Formato"]
["Voto de los ciudadanos residentes en el extranjero","Recepción, procesamiento y determinación de procedencia o improcedencia de las Solicitudes de Inscripción a la Lista Nominal de Electores Residentes en el Extranjero","INE","DERFE",null,null,20.399999999999999]
["Voto de los ciudadanos residentes en el extranjero","Presentación ante Comisión para aprobación de materiales didácticos y de apoyo de Primera Etapa de Capacitación Electoral del VMRE","INE","DECEYEC",null,null,20.5]
["Voto de los ciudadanos residentes en el extranjero","Aprobación del número de mesas de escrutinio y cómputo a instalar","INE","CL",null,null,20.6,null,null,"Formato"]
["Voto de los ciudadanos residentes en el extranjero","Seguimiento a la Primera Insaculación del VMRE","INE","DECEYEC",null,null,20.7]
["Voto de los ciudadanos residentes en el extranjero","Seguimiento a la Primera Etapa de Capacitación a las personas insaculadas para VMRE","INE","DECEYEC",null,null,20.8]
["Voto de los ciudadanos residentes en el extranjero","Control de calidad a la instrumentación del procedimiento de integración de Mesas de Escrutinio y Cómputo, en la Primera Etapa de Capacitación por Oficinas Centrales","INE","DECEYEC",null,null,20.9]
["Voto de los ciudadanos residentes en el extranjero","Presentación ante Comisión para aprobación de los materiales didácticos y de apoyo del VMRE de Segunda Etapa de Capacitación Electoral","INE","DECEYEC",null,null,20.100000000000001]
["Voto de los ciudadanos residentes en el extranjero","Seguimiento a la Segunda Insaculación y designación de funcionarios para Mesas de Escrutinio y Cómputo del VMRE.","INE","DECEYEC",null,null,20.11]
["Voto de los ciudadanos residentes en el extranjero","Seguimiento a la Segunda Etapa de capacitación a funcionarios de Mesas de Escrutinio y Cómputo del VMRE; realización de prácticas de la Jornada Electoral y simulacros","INE","DECEYEC",null,null,20.12]
["Voto de los ciudadanos residentes en el extranjero","Integración de la Lista Nominal de Electores Residentes en el Extranjero para Revisión y observaciones de partidos políticos","INE","DERFE",null,null,20.13]
["Voto de los ciudadanos residentes en el extranjero","Entrega de la documentación y materiales electorales para el VMRE de los OPL a la DEOE y a la DERFE tratándose del PEP","OPL","CG",null,null,20.14]
["Voto de los ciudadanos residentes en el extranjero","Declaración de validez de la Lista Nominal de Electores Residentes en el Extranjero Definitiva","INE","DERFE/DEOE",null,null,20.149999999999999]
["Voto de los ciudadanos residentes en el extranjero","Diseño, preparación y envío de la documentación y materiales electorales a la ciudadanía residente en el extranjero para el ejercicio de su voto","INE","DERFE/DEOE/UNICOM/DECEYEC/CG",null,null,20.16]
["Voto de los ciudadanos residentes en el extranjero","Promoción del Voto de los Mexicanos Residentes en el Extranjero (Difusión, Comunicación, Vinculación y Plataformas Digitales)","INE/OPL","DECEYEC/CNCS/DERFE/CG",null,null,20.170000000000002,null,null,"Formato"]
["Voto de los ciudadanos residentes en el extranjero","Recepción de Sobres Voto y resguardo","INE","JLE",null,null,20.18,null,null,"Formato"]
["Voto de los ciudadanos residentes en el extranjero","Integración y aprobación del Listado del personal que realizará las suplencias en las Mesas de Escrutinio y Cómputo","INE","CL",null,null,20.190000000000001,null,null,"Formato"]
["Voto de los ciudadanos residentes en el extranjero","Periodo de Socialización del SIVEI (Sistema de Voto Electrónico por Internet)","INE","DERFE/DEOE/DECEYEC/UNICOM",null,null,20.2]
["Voto de los ciudadanos residentes en el extranjero","Control de calidad en la Instrumentación del procedimiento de integración de Mesas de Escrutinio y Cómputo, en la Segunda Etapa de Capacitación por Oficinas Centrales","INE","DECEYEC",null,null,20.21]
["Voto de los ciudadanos residentes en el extranjero","Determinación del Local Único para el escrutinio y cómputo de los votos de las y los mexicanos residentes en el extranjero","INE","CL",null,null,20.22]
["Voto de los ciudadanos residentes en el extranjero","Periodo de Votación del SIVEI (Sistema de Voto Electrónico por Internet)","INE","DERFE/DEOE/DECEYEC/UNICOM",null,null,20.23]
["Voto de los ciudadanos residentes en el extranjero","Recepción de los votos por la modalidad respectiva","INE","DERFE/DEOE/UNICOM",null,null,20.239999999999998]
["Voto de los ciudadanos residentes en el extranjero","Preparación, aprobación e implementación de la logística para escrutinio y cómputo de los votos de las y los mexicanos residentes en el extranjero","INE","JLE/DEOE/DERFE/DECEYEC/UNICOM",null,null,20.25]
["Voto de los ciudadanos residentes en el extranjero","Escrutinio y Cómputo, y resultados de los votos de los mexicanos residentes en el extranjero","INE/OPL","JLE/JD/DERFE/DECEYEC/DEOE/UTSI/CG",null,null,20.260000000000002]
["Visitantes extranjeros","Emisión de la Convocatoria para visitantes extranjeros","INE","CG/CAI",null,null,21.1,null,null,"Acuerdo"]
["Visitantes extranjeros","Difusión de la Convocatoria para visitantes extranjeros","INE","CG/CAI",null,null,21.2,null,null,"Formato"]
["Visitantes extranjeros","Recepción de solicitudes de acreditación como visitantes extranjeros","INE","CG/CAI",null,null,21.3,null,null,"Formato"]
["Visitantes extranjeros","Resolución de solicitudes de acreditación como visitantes extranjeros","INE","CG/CAI",null,null,21.4,null,null,"Formato"]
["Visitantes extranjeros","Entrega de acreditaciones a los visitantes extranjeros","INE","CG/CAI",null,null,21.5,null,null,"Formato"]

{"sheet":"Concentrado","index":2,"n_rows":1105,"n_cols":9,"rows_kept":1105,"cut":false,"hidden":false,"merged":[[1,2,1,8],[2,2,2,8],[3,2,3,8],[4,2,4,8]]}
[]
[]
[]
[]
[]
["ID_Ent","Entidad","Subproceso","ID Actividad","Actividad","Adscripción","UR","Inicio","Término"]
[1,"Aguascalientes","Mecanismos de coordinación",1.1000000000000001,"Aprobar Calendarios y Planes Integrales de los Procesos Electorales Locales","INE","CG","2021-08-05","2021-08-11"]
[1,"Aguascalientes","Mecanismos de coordinación",1.2,"Elaborar un plan de trabajo conjunto para la promoción de la participación ciudadana","INE/OPL","DECEYEC/JLE/OPL","2021-11-03","2021-12-15"]
[1,"Aguascalientes","Mecanismos de coordinación",1.3,"Sesión para dar inicio al PEL","OPL","CG","2021-10-03","2021-10-09"]
[1,"Aguascalientes","Mecanismos de coordinación",1.4,"Implementar un plan de trabajo conjunto para la promoción de la participación ciudadana","INE/OPL","DECEYEC/JLE/OPL","2022-02-01","2022-06-04"]
[1,"Aguascalientes","Mecanismos de coordinación",1.5,"Presentar un informe parcial de Programa de Promoción de la Participación Ciudadana a la comisión correspondiente","INE/OPL","DECEYEC/JLE/OPL","2022-02-01","2022-04-30"]
[1,"Aguascalientes","Mecanismos de coordinación",1.6,"Presentar un informe final de Programa de Promoción de la Participación Ciudadana a la comisión correspondiente","INE/OPL","DECEYEC/JLE/OPL","2022-05-01","2022-09-04"]
[1,"Aguascalientes","Integración de órganos desconcentrados",2.1,"Convocatoria para la integración de los Órganos Distritales","OPL","CG","2021-11-07","2021-11-13"]
[1,"Aguascalientes","Integración de órganos desconcentrados",2.2000000000000002,"Sesión en la que se designan e integran los Órganos Distritales","OPL","CG","2021-12-15","2021-12-31"]
[1,"Aguascalientes","Integración de órganos desconcentrados",2.2999999999999998,"Instalación de los Órganos Distritales","OPL","OD","2022-02-06","2022-02-12"]
[1,"Aguascalientes","Integración de órganos desconcentrados",2.7,"Designación y/o ratificación de las y los Consejeros Electorales del Consejo Local","INE","CG","2021-07-01","2021-08-31"]
[1,"Aguascalientes","Integración de órganos desconcentrados",2.8,"Instalación del Consejo Local","INE","CL","2021-09-30","2021-09-30"]
[1,"Aguascalientes","Integración de órganos desconcentrados",2.9,"Designación y/o ratificación de las y los Consejeros Electorales de los Consejos Distritales","INE","CL","2021-10-01","2021-11-29"]
[1,"Aguascalientes","Integración de órganos desconcentrados",2.1,"Instalación de los Consejos Distritales","INE","CD","2021-11-30","2021-11-30"]
[1,"Aguascalientes","Integración de órganos desconcentrados",2.11,"Publicación de la integración de los Consejos Locales y Distritales del INE","INE","CL","2022-01-17","2022-01-31"]
[1,"Aguascalientes","Lista Nominal de Electores",3.1,"Entrega del catálogo cartográfico","INE","DERFE","2022-01-15","2022-02-28"]
[1,"Aguascalientes","Lista Nominal de Electores",3.2,"Generación y entrega de la Lista Nominal de Electores para Revisión en medios ópticos a los representantes de los partidos políticos","INE","DERFE","2022-02-15","2022-02-15"]
[1,"Aguascalientes","Lista Nominal de Electores",3.3,"Elaborar los archivos de conformación de casillas extraordinarias y asignación de registros sin soporte cartográfico para la impresión del Listado Nominal para el Proceso Electoral","INE","DERFE","2022-03-01","2022-05-31"]
[1,"Aguascalientes","Lista Nominal de Electores",3.4,"Recepción de observaciones de los partidos políticos y en su caso, candidatos independientes, a la Lista Nominal de Electores para revisión","INE/OPL","DERFE","2022-03-14","2022-03-14"]
[1,"Aguascalientes","Lista Nominal de Electores",3.5,"Entrega en formato digital el informe respecto de la atención a las observaciones formuladas a la Lista Nominal de Electores para Revisión","INE","DERFE","2022-04-18","2022-04-18"]
[1,"Aguascalientes","Lista Nominal de Electores",3.6,"Entrega de la Lista Nominal de Electores Definitiva con fotografía","INE","DERFE","2022-05-05","2022-05-05"]
[1,"Aguascalientes","Lista Nominal de Electores",3.7,"Entrega de la Lista Nominal de Electores con fotografía Producto de Instancias Administrativas y Resoluciones del Tribunal (ADENDA)","INE","DERFE","2022-05-24","2022-05-24"]
[1,"Aguascalientes","Gestión de credencial para votar",4.0999999999999996,"Atender los trámites de la ciudadanía que acude a los Módulos de Atención Ciudadana a inscribirse y a actualizar su situación registral en el Padrón Electoral","INE","DERFE","2021-09-01","2022-01-31"]
[1,"Aguascalientes","Gestión de credencial para votar",4.2,"Atender los trámites de la ciudadanía que acude a los Módulos de Atención Ciudadana a solicitar la reposición de su CPV por robo, extravío o deterioro grave","INE","DERFE","2021-09-01","2022-02-07"]
[1,"Aguascalientes","Gestión de credencial para votar",4.3,"Entregar la Credencial para Votar con Fotografía a los ciudadanos en las Oficinas o Módulos de Atención Ciudadana que determine el INE","INE","DERFE","2021-09-01","2022-04-11"]
[1,"Aguascalientes","Gestión de credencial para votar",4.4000000000000004,"Atender solicitudes de reimpresión de Credencial para Votar por extravío o robo","INE","DERFE","2022-02-08","2022-05-20"]
[1,"Aguascalientes","Gestión de credencial para votar",4.5,"Resguardar las Credenciales para Votar que no fueron recogidas por sus titulares hasta el 11 de abril y hasta el 03 de junio de 2022, derivadas de Instancias Administrativas, Demandas de Juicio o de solicitudes de reimpresión","INE","DERFE","2022-04-24","2022-06-04"]
[1,"Aguascalientes","Observación Electoral",5.0999999999999996,"Emisión de la convocatoria para la ciudadanía que desee participar en la observación electoral","OPL","CG","2021-10-03","2021-10-09"]
[1,"Aguascalientes","Observación Electoral",5.2,"Recepción de solicitudes de la ciudadanía que desee participar en la observación electoral","INE/OPL","OPL/JL/JD","2021-10-03","2022-05-07"]
[1,"Aguascalientes","Observación Electoral",5.3,"Impartición de los cursos de capacitación, preparación o información","INE/OPL","OPL/JL/JD","2021-10-03","2022-05-16"]
[1,"Aguascalientes","Observación Electoral",5.4,"Acreditación de la ciudadanía como observadores u observadoras electorales","INE","CL/CD","2021-10-03","2022-06-04"]
[1,"Aguascalientes","Observación Electoral",5.5,"Seguimiento a los informes mensuales de acreditación de Observadores Electores","INE","CG","2021-10-03","2022-07-31"]
[1,"Aguascalientes","Observación Electoral",5.6,"Remisión de materiales de capacitación a la JLE para revisión","OPL","CG/DECEYEC","2021-08-30","2021-08-30"]
[1,"Aguascalientes","Observación Electoral",5.7,"Revisión, corrección, verificación y validación de materiales de capacitación para observadores electorales","INE","JLE/ DECEYEC","2021-08-30","2021-10-03"]
[1,"Aguascalientes","Ubicación de casillas",6.1,"Recorridos por las secciones de los distritos para localizar los lugares donde se ubicarán las casillas","INE","JDE","2022-01-15","2022-02-15"]
[1,"Aguascalientes","Ubicación de casillas",6.2,"Presentación a los Consejos Distritales del listado de lugares propuestos para ubicar casillas","INE","JDE","2022-02-24","2022-02-24"]
[1,"Aguascalientes","Ubicación de casillas",6.3,"Visitas de examinación en los lugares propuestos para ubicar casillas básicas, contiguas, especiales y extraordinarias","INE","CD","2022-02-25","2022-03-15"]
[1,"Aguascalientes","Ubicación de casillas",6.4,"Aprobación del número y ubicación de casillas extraordinarias y especiales","INE","CD","2022-03-15","2022-03-15"]
[1,"Aguascalientes","Ubicación de casillas",6.5,"Aprobación del número y ubicación de casillas básicas y contiguas","INE","CD","2022-03-28","2022-03-28"]
[1,"Aguascalientes","Ubicación de casillas",6.6,"Entrega de la base de datos de la Lista Nominal Definitiva a UNICOM con corte al 11 de abril","INE","DERFE","2022-04-18","2022-04-18"]
[1,"Aguascalientes","Ubicación de casillas",6.7,"Realizar la primera publicación de la lista de ubicación de casillas en los lugares más concurridos del distrito electoral y en los medios electrónicos del Instituto","INE","CD","2022-04-15","2022-04-15"]
[1,"Aguascalientes","Ubicación de casillas",6.8,"En su caso, segunda publicación de la lista de ubicación de casillas por causas supervenientes en los lugares más concurridos del distrito y en los medios electrónicos del Instituto","INE","CD","2022-05-15","2022-05-25"]
[1,"Aguascalientes","Ubicación de casillas",6.9,"Publicación de los encartes y difusión en medios electrónicos del Instituto","INE/OPL","DEOE/CG","2022-06-04","2022-06-05"]
[1,"Aguascalientes","Ubicación de casillas",6.1,"Registro de representantes generales y ante mesas directivas de casilla","INE","CD","2022-04-16","2022-05-23"]
[1,"Aguascalientes","Ubicación de casillas",6.11,"Sustitución de representantes generales y ante mesas directivas de casilla","INE","CD","2022-04-16","2022-05-26"]
[1,"Aguascalientes","Ubicación de casillas",6.12,"Entrega de listados de representantes generales y ante casilla al OPL","INE","CD","2022-05-28","2022-05-29"]
[1,"Aguascalientes","Ubicación de casillas",6.13,"Avisos domiciliarios para ubicación de casillas en secciones electorales involucradas en Actualizaciones del Marco Geográfico Electoral","INE/OPL","DERFE/OPL","2022-04-01","2022-06-16"]
[1,"Aguascalientes","Ubicación de casillas",6.14,"Notificación de la casilla en que votará la ciudadanía residente en secciones en las que el Consejo Distrital determinó no instalar casillas por las causales previstas en el artículo 234 del RE","INE","CD","2022-05-01","2022-05-31"]
[1,"Aguascalientes","Integración de las Mesas Directivas de Casilla",7.1,"Aprobación de la Estrategia de Capacitación y Asistencia Electoral","INE","CG/DECEYEC","2021-08-01","2021-08-31"]
[1,"Aguascalientes","Integración de las Mesas Directivas de Casilla",7.2,"Sorteo del mes del calendario como base para la insaculación de las y los ciudadanos que integrarán las mesas directivas de casilla","INE","CG/DECEYEC","2021-12-01","2021-12-31"]
[1,"Aguascalientes","Integración de las Mesas Directivas de Casilla",7.3,"Entrega de modelos para que los OPL elaboren materiales didácticos para la ciudadanía sorteada y para las y los funcionarios de casilla","INE","DECEYEC/JLE","2021-10-04","2021-11-30"]
[1,"Aguascalientes","Integración de las Mesas Directivas de Casilla",7.4,"Revisión, corrección y validación de los materiales didácticos para la ciudadanía sorteada y para las y los funcionarios de casilla","OPL/INE","OPL/JLE/\nDECEYEC","2021-11-11","2022-03-14"]
[1,"Aguascalientes","Integración de las Mesas Directivas de Casilla",7.5,"Entrega a la JLE de los materiales didácticos impresos para la primera y segunda etapa elaborados por parte de los OPL","INE/OPL","JLE/CG","2022-01-20","2022-03-28"]
[1,"Aguascalientes","Integración de las Mesas Directivas de Casilla",7.6,"Reclutamiento Selección y contratación de SE y CAE","INE/OPL","INE/OPL","2021-10-18","2022-01-19"]
[1,"Aguascalientes","Integración de las Mesas Directivas de Casilla",7.7,"Seguimiento a la aplicación de procediemientos de reclutamiento, selección y contratacion de SE y CAE","INE","DECEYEC/JLE/JD","2021-10-18","2022-01-19"]
[1,"Aguascalientes","Integración de las Mesas Directivas de Casilla",7.8,"Sorteo de la letra a partir de la cual, con base en el apellido paterno, se seleccionará a las y los ciudadanos que integrarán las mesas directivas de casilla","INE","CG","2022-02-01","2022-02-28"]
[1,"Aguascalientes","Integración de las Mesas Directivas de Casilla",7.9,"Entrega de la Lista Nominal de Electores para el Procedimiento de la Primera insaculación","INE","DERFE/UNICOM","2022-01-21","2022-01-25"]
[1,"Aguascalientes","Integración de las Mesas Directivas de Casilla",7.1,"Procesar los archivos de conformación de secciones electorales\ncon casilla extraordinaria para la primera insaculación","INE","DERFE","2022-01-21","2022-01-25"]
[1,"Aguascalientes","Integración de las Mesas Directivas de Casilla",7.11,"Primera insaculación","INE","DECEYEC","2022-02-01","2022-02-07"]
[1,"Aguascalientes","Integración de las Mesas Directivas de Casilla",7.12,"Primera etapa de capacitación a las personas insaculadas","INE","CD","2022-02-09","2022-03-31"]
[1,"Aguascalientes","Integración de las Mesas Directivas de Casilla",7.13,"Seguimiento a la aplicación de procediemientos de la primera etapa de capacitacion electoral","INE","DECEYEC/JLE/JD","2022-02-09","2022-03-31"]
[1,"Aguascalientes","Integración de las Mesas Directivas de Casilla",7.14,"Segunda insaculación y designación de funcionarios para mesas directivas de casilla","INE","DECEYEC","2022-04-01","2022-04-08"]
[1,"Aguascalientes","Integración de las Mesas Directivas de Casilla",7.15,"Segunda estapa de capacitación a funcionarios de mesa directiva de casilla y simulacros","INE","CD","2022-04-09","2022-06-04"]
[1,"Aguascalientes","Integración de las Mesas Directivas de Casilla",7.16,"Seguimiento a la aplicación de procediemientos de la segunda etapa de capacitacion electoral","INE","DECEYEC/JLE/JD","2022-04-10","2022-06-04"]
[1,"Aguascalientes","Integración de las Mesas Directivas de Casilla",7.17,"Entrega de reconocimientos a funcionarios de mesas directivas de casilla","INE","CD","2022-06-06","2022-06-12"]
[1,"Aguascalientes","Fiscalización",8.1,"Planeación de la Fiscalización","INE","UTF","2021-07-26","2022-02-28"]
[1,"Aguascalientes","Fiscalización",8.1999999999999993,"Fiscalización del periodo de precampaña y obtención del apoyo de la ciudadanía","INE","UTF","2021-11-22","2022-05-16"]
[1,"Aguascalientes","Fiscalización",8.3000000000000007,"Fiscalización del periodo de campaña","INE","UTF","2022-03-04","2022-08-01"]
[1,"Aguascalientes","Obligaciones y prerrogativas financieras de los partidos, candidaturas y candidaturas independientes.",9.1,"Aprobación de topes de gastos de precampaña Gubernatura","OPL","CG","2021-11-01","2021-11-30"]
[1,"Aguascalientes","Obligaciones y prerrogativas financieras de los partidos, candidaturas y candidaturas independientes.",9.4,"Aprobación de los límites de financiamiento privado, aportaciones de militantes, simpatizantes y precandidaturas o candidaturas; así como el límite individual de aportaciones para Gubernatura","OPL","CG","2022-01-01","2022-01-15"]
[1,"Aguascalientes","Obligaciones y prerrogativas financieras de los partidos, candidaturas y candidaturas independientes.",9.6999999999999993,"Aprobación de topes de gastos para el periodo de obtención del apoyo ciudadano para Gubernatura","OPL","CG","2021-11-01","2021-11-30"]
[1,"Aguascalientes","Obligaciones y prerrogativas financieras de los partidos, candidaturas y candidaturas independientes.",9.1,"Aprobación de topes de gastos de campaña para Gubernatura","OPL","CG","2022-01-15","2022-01-15"]
[1,"Aguascalientes","Candidaturas Independientes",10.1,"Emisión de la convocatoria para la ciudadanía interesada en participar a una Candidatura Independiente.","OPL","CG","2021-10-07","2022-01-15"]
[1,"Aguascalientes","Candidaturas Independientes",10.199999999999999,"Recepción de escrito de intención y documentación anexa de las y los ciudadanos que aspiren a la candidatura independiente para Gubernatura","OPL","OD","2021-12-01","2021-12-07"]
[1,"Aguascalientes","Candidaturas Independientes",10.5,"Resolución sobre procedencia de manifestación de intención de las y los aspirantes a candidaturas independientes para Gubernatura","OPL","CG","2021-12-15","2021-12-15"]
[1,"Aguascalientes","Candidaturas Independientes",10.8,"Plazo para obtener el apoyo ciudadano de las candidaturas independientes para Gubernatura","OPL","OD","2022-01-02","2022-02-10"]
[1,"Aguascalientes","Candidaturas Independientes",10.11,"Verificar la situación registral de las y los ciudadanos inscritos en la Lista Nominal, que presenten las y los Aspirantes a Candidaturas Independientes para los diversos cargos de elección popular a nivel local.","INE/OPL","DERFE","2022-01-02","2022-02-15"]
[1,"Aguascalientes","Candidaturas Independientes",10.119999999999999,"Plazo para otorgar las constancias de porcentaje a favor de la o el aspirante a la candidatura independiente para Gubernatura","OPL","CG","2021-10-01","2022-03-20"]
[1,"Aguascalientes","Candidaturas",11.1,"Registro de plataformas electorales","OPL","CG","2021-10-07","2021-12-15"]
[1,"Aguascalientes","Candidaturas",11.2,"Solicitud de registro de convenio de coalición para Gubernatura","OPL","CG","2021-10-07","2022-01-02"]
[1,"Aguascalientes","Candidaturas",11.5,"Resolución sobre Convenio de Coalición para Gubernatura","OPL","CG","2021-10-17","2022-01-12"]
[1,"Aguascalientes","Candidaturas",11.8,"Precampaña para Gubernatura","OPL","CG","2022-01-02","2022-02-10"]
[1,"Aguascalientes","Candidaturas",11.14,"Solicitud de registro de Candidaturas para Gubernatura","OPL","CG/OD","2022-03-15","2022-03-20"]
[1,"Aguascalientes","Candidaturas",11.18,"Resolución para aprobar las candidaturas para Gubernatura","OPL","CG","2022-03-21","2022-03-25"]
[1,"Aguascalientes","Candidaturas",11.22,"Solicitud de registro de candidaturas comunes para Gubernatura","OPL","CG","2021-10-07","2021-12-03"]
[1,"Aguascalientes","Candidaturas",11.25,"Resolución para aprobar las candidaturas comunes para Gubernatura","OPL","CG","2021-10-12","2021-12-08"]
[1,"Aguascalientes","Candidaturas",11.28,"Campaña para Gubernatura","OPL","CG","2022-04-03","2022-06-01"]
[1,"Aguascalientes","Candidaturas",11.34,"Aprobación de la distribución de financiamiento público para partidos políticos","OPL","CG","2022-01-01","2022-01-15"]
[1,"Aguascalientes","Debates",12.1,"Aprobación de las fechas en que se celebrarán los debates para gubernatura","OPL","CG","2021-12-01","2022-04-02"]
[1,"Aguascalientes","Debates",12.2,"Realización del primer debate para gubernatura","OPL","CG","2022-04-03","2022-06-01"]
[1,"Aguascalientes","Debates",12.3,"Realización del segundo debate para gubernatura","OPL","CG","2022-04-03","2022-06-01"]
[1,"Aguascalientes","Documentación y material electoral",13.1,"Aprobación de los formatos únicos con los diseños y especificaciones técnicas de la documentación y materiales electorales","INE","COTSPEL","2021-08-15","2021-09-06"]
[1,"Aguascalientes","Documentación y material electoral",13.2,"Entrega a la Dirección Ejecutiva de Organización Electoral del INE, de los diseños y especificaciones técnicas de la documentación y materiales electorales, en medios impresos y electrónicos","OPL","CG","2021-09-01","2021-11-10"]
[1,"Aguascalientes","Documentación y material electoral",13.3,"Validación de los documentos y materiales electorales y especificaciones técnicas, con las observaciones subsanadas","INE","DEOE","2021-11-01","2021-12-15"]
[1,"Aguascalientes","Documentación y material electoral",13.4,"Aprobación de la documentación y material electoral","OPL","CG","2021-11-15","2021-12-31"]
[1,"Aguascalientes","Documentación y material electoral",13.5,"Entrega a la Dirección Ejecutiva de Organización Electoral del INE, del Reporte con los resultados de las verificaciones de las medidas de seguridad en la documentación electoral y líquido indeleble","OPL","CG","2022-05-25","2022-06-17"]
[1,"Aguascalientes","Documentación y material electoral",13.6,"Supervisiones respecto de los procedimientos de impresión y producción de la documentación y materiales electorales","INE","DEOE","2022-03-16","2022-05-31"]
[1,"Aguascalientes","Documentación y material electoral",13.7,"Designación de la persona responsable de llevar el control sobre la asignación de los folios de las boletas que se distribuirán en cada mesa directiva de casilla","OPL","OD","2022-03-01","2022-03-30"]
[1,"Aguascalientes","Documentación y material electoral",13.8,"Aprobación de SE y CAE, así como de personal que auxiliará en el procedimiento de conteo, sellado y agrupamiento de las boletas electorales; así como la integración de documentación que será entregada a las presidencias de mesa directiva de casilla","OPL","OD","2022-04-24","2022-05-11"]
[1,"Aguascalientes","Documentación y material electoral",13.9,"Recepción de las boletas electorales por el órgano competente que realizará el conteo, sellado y agrupamiento","OPL","OD","2022-05-18","2022-05-21"]
[1,"Aguascalientes","Documentación y material electoral",13.1,"Conteo, sellado y agrupamiento de boletas e integración de la caja paquete electoral","OPL","OD","2022-05-18","2022-05-27"]
[1,"Aguascalientes","Documentación y material electoral",13.11,"Distribución de la documentación y materiales electorales a las Presidencias de mesa directiva de casilla","OPL","OD","2022-05-30","2022-06-03"]
[1,"Aguascalientes","Documentación y material electoral",13.12,"Remisión de los recibos de la entrega de la documentación y materiales electorales al Consejo General del OPL","INE","JLE","2022-06-26","2022-07-02"]
[1,"Aguascalientes","Jornada Electoral",14.1,"Aprobación del Programa de Operación del SIJE 2022","INE","CG","2021-07-01","2021-07-31"]
[1,"Aguascalientes","Jornada Electoral",14.2,"Aprobación de las metas del SIJE 2022","INE","CG","2022-03-01","2022-03-31"]
[1,"Aguascalientes","Jornada Electoral",14.3,"Presentación del Manual de Operación del SIJE 2022","INE","COTSPEL","2022-03-01","2022-03-31"]
[1,"Aguascalientes","Jornada Electoral",14.4,"Realización de pruebas del SIJE 2022","INE","DEOE","2022-04-04","2022-04-15"]
[1,"Aguascalientes","Jornada Electoral",14.5,"Desarrollo del primer simulacro del SIJE","INE/OPL","DEOE/OD","2022-04-28","2022-04-28"]
[1,"Aguascalientes","Jornada Electoral",14.6,"Desarrollo del segundo simulacro del SIJE","INE/OPL","DEOE/OD","2022-05-08","2022-05-08"]
[1,"Aguascalientes","Jornada Electoral",14.7,"Desarrollo del tercer simulacro del SIJE","INE/OPL","DEOE/OD","2022-05-22","2022-05-22"]
[1,"Aguascalientes","Jornada Electoral",14.8,"Jornada Electoral","OPL","CG/OD","2022-06-05","2022-06-05"]
[1,"Aguascalientes","Bodegas electorales",15.1,"Determinación de los lugares que ocuparán las bodegas electorales para el resguardo de la documentación electoral","OPL","CG","2022-02-01","2022-02-28"]
[1,"Aguascalientes","Bodegas electorales",15.2,"Verificación por parte de los órganos desconcentrados del INE de las condiciones y equipamiento de las bodegas electorales del OPL","INE/OPL","JLE/JDE/OD","2022-03-01","2022-03-31"]
[1,"Aguascalientes","Bodegas electorales",15.3,"Informe que rinden las y los Presidentes sobre las condiciones de equipamiento, mecanismos de operación y medidas de seguridad de las bodegas electorales","OPL","OD","2022-03-01","2022-03-31"]
[1,"Aguascalientes","Bodegas electorales",15.4,"Designación, por parte del órgano competente del OPL, del personal que tendrá acceso a la bodega electoral","OPL","CG/OD","2022-03-01","2022-03-30"]
[1,"Aguascalientes","Bodegas electorales",15.5,"Envío del informe presentado ante el Consejo General, sobre las condiciones que guardan las bodegas electorales del Órgano Central y desconcentrados del OPL","OPL","CG","2022-04-03","2022-04-09"]
[1,"Aguascalientes","Mecanismos de recolección",16.100000000000001,"Entrega de estudios de factibilidad al OPL","INE","CL","2022-03-16","2022-03-31"]
[1,"Aguascalientes","Mecanismos de recolección",16.2,"Entrega de observaciones a los estudios de factibilidad","OPL","CG","2022-04-17","2022-04-23"]
[1,"Aguascalientes","Mecanismos de recolección",16.3,"Recorridos para verificar las propuestas de los mecanismos de recolección","INE/OPL","CD/OD","2022-03-17","2022-04-23"]
[1,"Aguascalientes","Mecanismos de recolección",16.399999999999999,"Aprobación de los mecanismos de recolección","INE","CD","2022-04-24","2022-04-30"]
[1,"Aguascalientes","Mecanismos de recolección",16.5,"Traslado y recolección de los paquetes electorales","INE","CD","2022-06-05","2022-06-06"]
[1,"Aguascalientes","Mecanismos de recolección",16.600000000000001,"Acreditación de representantes de partidos políticos y candidaturas independientes ante los mecanismos de recolección","INE","CL/CD","2022-04-25","2022-06-02"]
[1,"Aguascalientes","Mecanismos de recolección",16.7,"Sustitución de representantes de partidos políticos y candidaturas independientes ante los mecanismos de recolección","INE","CL/CD","2022-04-26","2022-06-03"]
[1,"Aguascalientes","Mecanismos de recolección",16.8,"Entrega a la JLE del informe sobre la recepción de paquetes electorales en los órganos competentes","INE","CD","2022-06-05","2022-06-17"]
[1,"Aguascalientes","Cómputos",17.100000000000001,"Aprobación de los lineamientos de cómputo y del cuadernillo de consulta sobre votos válidos y votos nulos","OPL","CG","2022-01-01","2022-02-28"]
[1,"Aguascalientes","Cómputos",17.2,"Remisión a la JLE en la entidad, de las propuestas de escenarios de cómputos, para la dictaminación de viabilidad","OPL","CG","2022-03-06","2022-03-13"]
[1,"Aguascalientes","Cómputos",17.3,"Remisión de las observaciones a los escenarios de Cómputos al OPL y a su vez informar de las mismas a la UTVOPL","INE","JLE","2022-03-14","2022-03-26"]
[1,"Aguascalientes","Cómputos",17.399999999999999,"Asignación de las y los SE y CAE contratados por el INE para los OD del OPL a fin de que apoyen en los cómputos de las elecciones locales","INE","CD","2022-05-01","2022-05-15"]
[1,"Aguascalientes","Cómputos",17.600000000000001,"Aprobación por parte del órgano competente del OPL, del acuerdo mediante el cual se designa al personal que participará en las tareas de apoyo a los Cómputos Distritales","OPL","CG/OD","2022-05-01","2022-05-31"]
[1,"Aguascalientes","Cómputos",17.7,"Aprobación por parte de los órganos competentes del OPL, de los distintos escenarios de cómputos","OPL","OD","2022-04-01","2022-04-15"]
[1,"Aguascalientes","Cómputos",17.8,"El OPL informará el inicio de la creación del programa, sistema o herramienta informática a la UTVOPL y a la Junta Local del INE, así como de sus características y avances","OPL","CG","2022-02-01","2022-02-15"]
[1,"Aguascalientes","Cómputos",17.899999999999999,"El OPL remitirá por conducto de la UTVOPL a la DEOE, y en forma directa a la Junta Local del INE, la dirección electrónica en la que se ubicará la aplicación, así como las claves y accesos necesarios para hacer pruebas y simulacros de captura.","OPL","CG","2022-04-01","2022-04-07"]
[1,"Aguascalientes","Cómputos",17.100000000000001,"Liberación de la herramienta informática de Cómputos","OPL","CG","2022-04-16","2022-04-30"]
[1,"Aguascalientes","Cómputos",17.11,"Realización de dos simulacros en los órganos competentes del OPL sobre el desarrollo de los cómputos en los OD con el uso de la herramienta informática","OPL","CD","2022-05-01","2022-06-03"]
[1,"Aguascalientes","Cómputos",17.12,"Aprobación por parte del órgano competente del OPL, del acuerdo por el que se habilitarán espacios para la instalación de grupos de trabajo y, en su caso, puntos de recuento","OPL","CG/OD","2022-06-07","2022-06-07"]
[1,"Aguascalientes","Cómputos",17.13,"Cómputos Distritales","OPL","OD","2022-06-08","2022-06-11"]
[1,"Aguascalientes","Cómputos",17.149999999999999,"Cómputo Estatal para la Gubernatura","OPL","CG","2022-06-12","2022-06-12"]
[1,"Aguascalientes","PREP",18.100000000000001,"Documento por el que se informe la instalación de la Comisión en la que se reporten los trabajos de implementación y operación del PREP.","OPL","CG","2021-09-10","2021-09-10"]
[1,"Aguascalientes","PREP",18.2,"Aprobación del Acuerdo por el que se designa o ratifica a la instancia interna responsable de coordinar el PREP","OPL","CG","2021-09-05","2021-09-05"]
[1,"Aguascalientes","PREP",18.3,"Aprobación del Acuerdo de Integración del COTAPREP","OPL","CG","2021-11-05","2021-11-05"]
[1,"Aguascalientes","PREP",18.399999999999999,"Documento por el que se determina la implementación del PREP por el OPL o con el apoyo de un Tercero","OPL","CG","2021-12-05","2021-12-05"]
[1,"Aguascalientes","PREP",18.5,"Aprobación del acuerdo por el que se determina el Proceso Técnico Operativo","OPL","CG","2022-01-05","2022-01-05"]
[1,"Aguascalientes","PREP",18.600000000000001,"Aprobación del Acuerdo por el que se determina la ubicación, instalación y habilitación de los CATD y, en su caso, CCV","OPL","CG","2022-02-05","2022-02-05"]
[1,"Aguascalientes","PREP",18.7,"Documento de Designación del Ente Auditor","OPL","CG","2022-02-05","2022-02-05"]
[1,"Aguascalientes","PREP",18.8,"Instrumento jurídico celebrado entre el OPL y el ente auditor","OPL","CG","2022-03-05","2022-03-05"]
[1,"Aguascalientes","PREP",18.899999999999999,"Realización de prueba de funcionalidad del PREP","OPL","CG","2022-04-20","2022-04-20"]
[1,"Aguascalientes","PREP",18.100000000000001,"Realización del primer simulacro del PREP","OPL","CG","2022-05-15","2022-05-15"]
[1,"Aguascalientes","PREP",18.11,"Realización del segundo simulacro del PREP","OPL","CG","2022-05-22","2022-05-22"]
[1,"Aguascalientes","PREP",18.12,"Realización del tercer simulacro del PREP","OPL","CG","2022-05-29","2022-05-29"]
[1,"Aguascalientes","PREP",18.13,"Operación del PREP","OPL","CG","2022-06-05","2022-06-06"]
[1,"Aguascalientes","Conteo Rápido",19.100000000000001,"Aprobación del Acuerdo de Integración del COTECORA","INE","CG","2022-02-01","2022-02-04"]
[1,"Aguascalientes","Conteo Rápido",19.2,"Realización de pruebas de captura","INE","DERFE/DEOE/UNICOM","2022-04-14","2022-05-05"]
[1,"Aguascalientes","Conteo Rápido",19.3,"Realización de primer simulacro del Conteo Rápido","INE","DERFE/DEOE/UNICOM","2022-05-06","2022-05-22"]
[1,"Aguascalientes","Conteo Rápido",19.399999999999999,"Realización de segundo simulacro del Conteo Rápido","INE","DERFE/DEOE/UNICOM","2022-05-06","2022-06-04"]
[1,"Aguascalientes","Conteo Rápido",19.5,"Selección de la Muestra para el Conteo Rápido","INE","COTECORA","2022-06-01","2022-06-03"]
[1,"Aguascalientes","Voto de los ciudadanos residentes en el extranjero",20.100000000000001,"Elaboración y aprobación de los Lineamientos para la Conformación de la Lista Nominal de Electores Residentes en el Extranjero para los Procesos Electorales Locales 2021-2022, así como de los Lineamientos para la organización y emisión del Voto de los Mexicanos Residentes en el Extranjero, para los Procesos Electorales Locales 2021-2022","INE","CG/DERFE/UNICOM","2021-07-01","2021-08-31"]
[1,"Aguascalientes","Voto de los ciudadanos residentes en el extranjero",20.2,"Elaboración y aprobación del Programa de Mesas de Escrutinio y Cómputo, Capacitación Electoral y Seguimiento del Voto de las y los Mexicanos Residentes en el Extranjero para el Proceso Electoral Local 2021-2022, como parte de la Estrategia de Capacitación y Asistencia Electoral","INE","CG","2021-08-01","2021-08-05"]
[1,"Aguascalientes","Voto de los ciudadanos residentes en el extranjero",20.3,"Puesta a disposición de envío de la Solicitud individual de Inscripción a la Lista Nominal de Electores Residentes en el extranjero para procesos electorales locales (SIILNERE), y de la Solicitud Individual para Votar desde el Extranjero (SIVE)","INE","DERFE","2021-09-01","2022-03-10"]
[1,"Aguascalientes","Voto de los ciudadanos residentes en el extranjero",20.399999999999999,"Recepción, procesamiento y determinación de procedencia o improcedencia de las Solicitudes de Inscripción a la Lista Nominal de Electores Residentes en el Extranjero","INE","DERFE","2021-09-01","2022-03-18"]
[1,"Aguascalientes","Voto de los ciudadanos residentes en el extranjero",20.5,"Presentación ante Comisión para aprobación de materiales didácticos y de apoyo de Primera Etapa de Capacitación Electoral del VMRE","INE","DECEYEC","2021-11-01","2021-12-17"]
[1,"Aguascalientes","Voto de los ciudadanos residentes en el extranjero",20.6,"Aprobación del número de mesas de escrutinio y cómputo a instalar","INE","CL","2022-03-31","2022-04-07"]
[1,"Aguascalientes","Voto de los ciudadanos residentes en el extranjero",20.7,"Seguimiento a la Primera Insaculación del VMRE","INE","DECEYEC","2022-02-01","2022-02-07"]
[1,"Aguascalientes","Voto de los ciudadanos residentes en el extranjero",20.8,"Seguimiento a la Primera Etapa de Capacitación a las personas insaculadas para VMRE","INE","DECEYEC","2022-02-09","2022-03-31"]
[1,"Aguascalientes","Voto de los ciudadanos residentes en el extranjero",20.9,"Control de calidad a la instrumentación del procedimiento de integración de Mesas de Escrutinio y Cómputo, en la Primera Etapa de Capacitación por Oficinas Centrales","INE","DECEYEC","2022-03-15","2022-03-31"]
[1,"Aguascalientes","Voto de los ciudadanos residentes en el extranjero",20.100000000000001,"Presentación ante Comisión para aprobación de los materiales didácticos y de apoyo del VMRE de Segunda Etapa de Capacitación Electoral","INE","DECEYEC","2022-02-15","2022-03-31"]
[1,"Aguascalientes","Voto de los ciudadanos residentes en el extranjero",20.11,"Seguimiento a la Segunda Insaculación y designación de funcionarios para Mesas de Escrutinio y Cómputo del VMRE.","INE","DECEYEC","2022-04-01","2022-04-08"]
[1,"Aguascalientes","Voto de los ciudadanos residentes en el extranjero",20.12,"Seguimiento a la Segunda Etapa de capacitación a funcionarios de Mesas de Escrutinio y Cómputo del VMRE; realización de prácticas de la Jornada Electoral y simulacros","INE","DECEYEC","2022-04-10","2022-06-04"]
[1,"Aguascalientes","Voto de los ciudadanos residentes en el extranjero",20.13,"Integración de la Lista Nominal de Electores Residentes en el Extranjero para Revisión y observaciones de partidos políticos","INE","DERFE","2022-03-18","2022-04-30"]
[1,"Aguascalientes","Voto de los ciudadanos residentes en el extranjero",20.14,"Entrega de la documentación y materiales electorales para el VMRE de los OPL a la DEOE y a la DERFE tratándose del PEP","OPL","CG","2022-04-01","2022-04-30"]
[1,"Aguascalientes","Voto de los ciudadanos residentes en el extranjero",20.149999999999999,"Declaración de validez de la Lista Nominal de Electores Residentes en el Extranjero Definitiva","INE","DERFE/DEOE","2022-04-15","2022-04-30"]
[1,"Aguascalientes","Voto de los ciudadanos residentes en el extranjero",20.16,"Diseño, preparación y envío de la documentación y materiales electorales a la ciudadanía residente en el extranjero para el ejercicio de su voto","INE","DERFE/DEOE/UNICOM/DECEYEC/CG","2021-11-01","2022-05-31"]
[1,"Aguascalientes","Voto de los ciudadanos residentes en el extranjero",20.170000000000002,"Promoción del Voto de los Mexicanos Residentes en el Extranjero (Difusión, Comunicación, Vinculación y Plataformas Digitales)","INE/OPL","DECEYEC/CNCS/DERFE/CG","2021-08-01","2022-06-30"]
[1,"Aguascalientes","Voto de los ciudadanos residentes en el extranjero",20.18,"Recepción de Sobres Voto y resguardo","INE","JLE","2022-04-29","2022-06-04"]
[1,"Aguascalientes","Voto de los ciudadanos residentes en el extranjero",20.190000000000001,"Integración y aprobación del Listado del personal que realizará las suplencias en las Mesas de Escrutinio y Cómputo","INE","CL","2022-05-16","2022-05-31"]
[1,"Aguascalientes","Voto de los ciudadanos residentes en el extranjero",20.2,"Periodo de Socialización del SIVEI (Sistema de Voto Electrónico por Internet)","INE","DERFE/DEOE/DECEYEC/UNICOM","2022-05-07","2022-05-18"]
[1,"Aguascalientes","Voto de los ciudadanos residentes en el extranjero",20.21,"Control de calidad en la Instrumentación del procedimiento de integración de Mesas de Escrutinio y Cómputo, en la Segunda Etapa de Capacitación por Oficinas Centrales","INE","DECEYEC","2022-05-15","2022-05-30"]
[1,"Aguascalientes","Voto de los ciudadanos residentes en el extranjero",20.22,"Determinación del Local Único para el escrutinio y cómputo de los votos de las y los mexicanos residentes en el extranjero","INE","CL","2022-01-01","2022-04-30"]
[1,"Aguascalientes","Voto de los ciudadanos residentes en el extranjero",20.23,"Periodo de Votación del SIVEI (Sistema de Voto Electrónico por Internet)","INE","DERFE/DEOE/DECEYEC/UNICOM","2022-05-21","2022-06-05"]
[1,"Aguascalientes","Voto de los ciudadanos residentes en el extranjero",20.239999999999998,"Recepción de los votos por la modalidad respectiva","INE","DERFE/DEOE/UNICOM","2022-05-21","2022-06-05"]
[1,"Aguascalientes","Voto de los ciudadanos residentes en el extranjero",20.25,"Preparación, aprobación e implementación de la logística para escrutinio y cómputo de los votos de las y los mexicanos residentes en el extranjero","INE","JLE/DEOE/DERFE/DECEYEC/UNICOM","2022-03-01","2022-06-05"]
[1,"Aguascalientes","Voto de los ciudadanos residentes en el extranjero",20.260000000000002,"Escrutinio y Cómputo, y resultados de los votos de los mexicanos residentes en el extranjero","INE/OPL","JLE/JD/DERFE/DECEYEC/DEOE/UTSI/CG","2022-06-05","2022-06-05"]
[1,"Aguascalientes","Visitantes extranjeros",21.1,"Emisión de la Convocatoria para visitantes extranjeros","INE","CG/CAI","2021-09-06","2021-09-30"]
[1,"Aguascalientes","Visitantes extranjeros",21.2,"Difusión de la Convocatoria para visitantes extranjeros","INE","CG/CAI","2021-09-06","2022-05-25"]
[1,"Aguascalientes","Visitantes extranjeros",21.3,"Recepción de solicitudes de acreditación como visitantes extranjeros","INE","CG/CAI","2021-09-06","2022-05-25"]
[1,"Aguascalientes","Visitantes extranjeros",21.4,"Resolución de solicitudes de acreditación como visitantes extranjeros","INE","CG/CAI","2021-09-07","2022-05-30"]
[1,"Aguascalientes","Visitantes extranjeros",21.5,"Entrega de acreditaciones a los visitantes extranjeros","INE","CG/CAI","2022-05-27","2022-06-04"]
[2,"Durango","Mecanismos de coordinación",1.1000000000000001,"Aprobar Calendarios y Planes Integrales de los Procesos Electorales Locales","INE","CG","2021-08-05","2021-08-11"]
[2,"Durango","Mecanismos de coordinación",1.2,"Elaborar un plan de trabajo conjunto para la promoción de la participación ciudadana","INE/OPL","DECEYEC/JLE/OPL","2021-11-03","2021-12-15"]
[2,"Durango","Mecanismos de coordinación",1.3,"Sesión para dar inicio al PEL","OPL","CG","2021-11-01","2021-11-01"]
[2,"Durango","Mecanismos de coordinación",1.4,"Implementar un plan de trabajo conjunto para la promoción de la participación ciudadana","INE/OPL","DECEYEC/JLE/OPL","2022-02-01","2022-06-04"]
[2,"Durango","Mecanismos de coordinación",1.5,"Presentar un informe parcial de Programa de Promoción de la Participación Ciudadana a la comisión correspondiente","INE/OPL","DECEYEC/JLE/OPL","2022-02-01","2022-04-30"]
[2,"Durango","Mecanismos de coordinación",1.6,"Presentar un informe final de Programa de Promoción de la Participación Ciudadana a la comisión correspondiente","INE/OPL","DECEYEC/JLE/OPL","2022-05-01","2022-09-04"]
[2,"Durango","Integración de órganos desconcentrados",2.4,"Convocatoria para la integración de los Órganos Municipales","OPL","CG","2021-09-27","2021-10-03"]
[2,"Durango","Integración de órganos desconcentrados",2.5,"Sesión en la que se designan e integran los Órganos Municipales","OPL","CG","2021-12-01","2021-12-31"]
[2,"Durango","Integración de órganos desconcentrados",2.6,"Instalación de los Órganos Municipales","OPL","OD","2022-01-01","2022-01-07"]
[2,"Durango","Integración de órganos desconcentrados",2.7,"Designación y/o ratificación de las y los Consejeros Electorales del Consejo Local","INE","CG","2021-07-01","2021-08-31"]
[2,"Durango","Integración de órganos desconcentrados",2.8,"Instalación del Consejo Local","INE","CL","2021-09-30","2021-09-30"]
[2,"Durango","Integración de órganos desconcentrados",2.9,"Designación y/o ratificación de las y los Consejeros Electorales de los Consejos Distritales","INE","CL","2021-10-01","2021-11-29"]
[2,"Durango","Integración de órganos desconcentrados",2.1,"Instalación de los Consejos Distritales","INE","CD","2021-11-30","2021-11-30"]
[2,"Durango","Integración de órganos desconcentrados",2.11,"Publicación de la integración de los Consejos Locales y Distritales del INE","INE","CL","2022-01-17","2022-01-31"]
[2,"Durango","Lista Nominal de Electores",3.1,"Entrega del catálogo cartográfico","INE","DERFE","2022-01-15","2022-02-28"]
[2,"Durango","Lista Nominal de Electores",3.2,"Generación y entrega de la Lista Nominal de Electores para Revisión en medios ópticos a los representantes de los partidos políticos","INE","DERFE","2022-02-15","2022-02-15"]
[2,"Durango","Lista Nominal de Electores",3.3,"Elaborar los archivos de conformación de casillas extraordinarias y asignación de registros sin soporte cartográfico para la impresión del Listado Nominal para el Proceso Electoral","INE","DERFE","2022-03-01","2022-05-31"]
[2,"Durango","Lista Nominal de Electores",3.4,"Recepción de observaciones de los partidos políticos y en su caso, candidatos independientes, a la Lista Nominal de Electores para revisión","INE/OPL","DERFE","2022-03-14","2022-03-14"]
[2,"Durango","Lista Nominal de Electores",3.5,"Entrega en formato digital el informe respecto de la atención a las observaciones formuladas a la Lista Nominal de Electores para Revisión","INE","DERFE","2022-04-18","2022-04-18"]
[2,"Durango","Lista Nominal de Electores",3.6,"Entrega de la Lista Nominal de Electores Definitiva con fotografía","INE","DERFE","2022-05-05","2022-05-05"]
[2,"Durango","Lista Nominal de Electores",3.7,"Entrega de la Lista Nominal de Electores con fotografía Producto de Instancias Administrativas y Resoluciones del Tribunal (ADENDA)","INE","DERFE","2022-05-24","2022-05-24"]
[2,"Durango","Gestión de credencial para votar",4.0999999999999996,"Atender los trámites de la ciudadanía que acude a los Módulos de Atención Ciudadana a inscribirse y a actualizar su situación registral en el Padrón Electoral","INE","DERFE","2021-09-01","2022-01-31"]
[2,"Durango","Gestión de credencial para votar",4.2,"Atender los trámites de la ciudadanía que acude a los Módulos de Atención Ciudadana a solicitar la reposición de su CPV por robo, extravío o deterioro grave","INE","DERFE","2021-09-01","2022-02-07"]
[2,"Durango","Gestión de credencial para votar",4.3,"Entregar la Credencial para Votar con Fotografía a los ciudadanos en las Oficinas o Módulos de Atención Ciudadana que determine el INE","INE","DERFE","2021-09-01","2022-04-11"]
[2,"Durango","Gestión de credencial para votar",4.4000000000000004,"Atender solicitudes de reimpresión de Credencial para Votar por extravío o robo","INE","DERFE","2022-02-08","2022-05-20"]
[2,"Durango","Gestión de credencial para votar",4.5,"Resguardar las Credenciales para Votar que no fueron recogidas por sus titulares hasta el 11 de abril y hasta el 03 de junio de 2022, derivadas de Instancias Administrativas, Demandas de Juicio o de solicitudes de reimpresión","INE","DERFE","2022-04-24","2022-06-04"]
[2,"Durango","Observación Electoral",5.0999999999999996,"Emisión de la convocatoria para la ciudadanía que desee participar en la observación electoral","OPL","CG","2021-11-01","2021-11-01"]
[2,"Durango","Observación Electoral",5.2,"Recepción de solicitudes de la ciudadanía que desee participar en la observación electoral","INE/OPL","OPL/JL/JD","2021-11-01","2022-05-07"]
[2,"Durango","Observación Electoral",5.3,"Impartición de los cursos de capacitación, preparación o información","INE/OPL","OPL/JL/JD","2021-11-01","2022-05-16"]
[2,"Durango","Observación Electoral",5.4,"Acreditación de la ciudadanía como observadores u observadoras electorales","INE","CL/CD","2021-11-01","2022-06-04"]
[2,"Durango","Observación Electoral",5.5,"Seguimiento a los informes mensuales de acreditación de Observadores Electores","INE","CG","2021-11-01","2022-07-31"]
[2,"Durango","Observación Electoral",5.6,"Remisión de materiales de capacitación a la JLE para revisión","OPL","CG/DECEYEC","2021-09-27","2021-09-27"]
[2,"Durango","Observación Electoral",5.7,"Revisión, corrección, verificación y validación de materiales de capacitación para observadores electorales","INE","JLE/ DECEYEC","2021-09-27","2021-10-20"]
[2,"Durango","Ubicación de casillas",6.1,"Recorridos por las secciones de los distritos para localizar los lugares donde se ubicarán las casillas","INE","JDE","2022-01-15","2022-02-15"]
[2,"Durango","Ubicación de casillas",6.2,"Presentación a los Consejos Distritales del listado de lugares propuestos para ubicar casillas","INE","JDE","2022-02-24","2022-02-24"]
[2,"Durango","Ubicación de casillas",6.3,"Visitas de examinación en los lugares propuestos para ubicar casillas básicas, contiguas, especiales y extraordinarias","INE","CD","2022-02-25","2022-03-15"]
[2,"Durango","Ubicación de casillas",6.4,"Aprobación del número y ubicación de casillas extraordinarias y especiales","INE","CD","2022-03-15","2022-03-15"]
[2,"Durango","Ubicación de casillas",6.5,"Aprobación del número y ubicación de casillas básicas y contiguas","INE","CD","2022-03-28","2022-03-28"]
[2,"Durango","Ubicación de casillas",6.6,"Entrega de la base de datos de la Lista Nominal Definitiva a UNICOM con corte al 11 de abril","INE","DERFE","2022-04-18","2022-04-18"]
[2,"Durango","Ubicación de casillas",6.7,"Realizar la primera publicación de la lista de ubicación de casillas en los lugares más concurridos del distrito electoral y en los medios electrónicos del Instituto","INE","CD","2022-04-15","2022-04-15"]
[2,"Durango","Ubicación de casillas",6.8,"En su caso, segunda publicación de la lista de ubicación de casillas por causas supervenientes en los lugares más concurridos del distrito y en los medios electrónicos del Instituto","INE","CD","2022-05-15","2022-05-25"]
[2,"Durango","Ubicación de casillas",6.9,"Publicación de los encartes y difusión en medios electrónicos del Instituto","INE/OPL","DEOE/CG","2022-06-04","2022-06-05"]
[2,"Durango","Ubicación de casillas",6.1,"Registro de representantes generales y ante mesas directivas de casilla","INE","CD","2022-04-16","2022-05-23"]
[2,"Durango","Ubicación de casillas",6.11,"Sustitución de representantes generales y ante mesas directivas de casilla","INE","CD","2022-04-16","2022-05-26"]
[2,"Durango","Ubicación de casillas",6.12,"Entrega de listados de representantes generales y ante casilla al OPL","INE","CD","2022-05-28","2022-05-29"]
[2,"Durango","Ubicación de casillas",6.13,"Avisos domiciliarios para ubicación de casillas en secciones electorales involucradas en Actualizaciones del Marco Geográfico Electoral","INE/OPL","DERFE/OPL","2022-04-01","2022-06-16"]
[2,"Durango","Ubicación de casillas",6.14,"Notificación de la casilla en que votará la ciudadanía residente en secciones en las que el Consejo Distrital determinó no instalar casillas por las causales previstas en el artículo 234 del RE","INE","CD","2022-05-01","2022-05-31"]
[2,"Durango","Integración de las Mesas Directivas de Casilla",7.1,"Aprobación de la Estrategia de Capacitación y Asistencia Electoral","INE","CG/DECEYEC","2021-08-01","2021-08-31"]
[2,"Durango","Integración de las Mesas Directivas de Casilla",7.2,"Sorteo del mes del calendario como base para la insaculación de las y los ciudadanos que integrarán las mesas directivas de casilla","INE","CG/DECEYEC","2021-12-01","2021-12-31"]
[2,"Durango","Integración de las Mesas Directivas de Casilla",7.3,"Entrega de modelos para que los OPL elaboren materiales didácticos para la ciudadanía sorteada y para las y los funcionarios de casilla","INE","DECEYEC/JLE","2021-10-04","2021-11-30"]
[2,"Durango","Integración de las Mesas Directivas de Casilla",7.4,"Revisión, corrección y validación de los materiales didácticos para la ciudadanía sorteada y para las y los funcionarios de casilla","INE/OPL","JLE/\nDECEYEC/OPL","2021-11-11","2022-03-14"]
[2,"Durango","Integración de las Mesas Directivas de Casilla",7.5,"Entrega a la JLE de los materiales didácticos impresos para la primera y segunda etapa elaborados por parte de los OPL","INE/OPL","JLE/CG","2022-01-20","2022-03-28"]
[2,"Durango","Integración de las Mesas Directivas de Casilla",7.6,"Reclutamiento Selección y contratación de SE y CAE","INE","DECEYEC","2021-10-18","2022-01-19"]
[2,"Durango","Integración de las Mesas Directivas de Casilla",7.7,"Seguimiento a la aplicación de procediemientos de reclutamiento, selección y contratacion de SE y CAE","INE","DECEYEC/JLE/JD","2021-10-18","2022-01-19"]
[2,"Durango","Integración de las Mesas Directivas de Casilla",7.8,"Sorteo de la letra a partir de la cual, con base en el apellido paterno, se seleccionará a las y los ciudadanos que integrarán las mesas directivas de casilla","INE","CG","2022-02-01","2022-02-28"]
[2,"Durango","Integración de las Mesas Directivas de Casilla",7.9,"Entrega de la Lista Nominal de Electores para el Procedimiento de la Primera insaculación","INE","DERFE/UNICOM","2022-01-21","2022-01-25"]
[2,"Durango","Integración de las Mesas Directivas de Casilla",7.1,"Procesar los archivos de conformación de secciones electorales\ncon casilla extraordinaria para la primera insaculación","INE","DERFE","2022-01-21","2022-01-25"]
[2,"Durango","Integración de las Mesas Directivas de Casilla",7.11,"Primera insaculación","INE","DECEYEC","2022-02-01","2022-02-07"]
[2,"Durango","Integración de las Mesas Directivas de Casilla",7.12,"Primera etapa de capacitación a las personas insaculadas","INE","CD","2022-02-09","2022-03-31"]
[2,"Durango","Integración de las Mesas Directivas de Casilla",7.13,"Seguimiento a la aplicación de procediemientos de la primera etapa de capacitacion electoral","INE","DECEYEC/JLE/JD","2022-02-09","2022-03-31"]
[2,"Durango","Integración de las Mesas Directivas de Casilla",7.14,"Segunda insaculación y designación de funcionarios para mesas directivas de casilla","INE","DECEYEC","2022-04-01","2022-04-08"]
[2,"Durango","Integración de las Mesas Directivas de Casilla",7.15,"Segunda estapa de capacitación a funcionarios de mesa directiva de casilla y simulacros","INE","CD","2022-04-09","2022-06-04"]
[2,"Durango","Integración de las Mesas Directivas de Casilla",7.16,"Seguimiento a la aplicación de procediemientos de la segunda etapa de capacitacion electoral","INE","DECEYEC/JLE/JD","2022-04-10","2022-06-04"]
[2,"Durango","Integración de las Mesas Directivas de Casilla",7.17,"Entrega de reconocimientos a funcionarios de mesas directivas de casilla","INE","CD","2022-06-06","2022-06-12"]
[2,"Durango","Fiscalización",8.1,"Planeación de la Fiscalización","INE","UTF","2021-07-26","2022-02-28"]
[2,"Durango","Fiscalización",8.1999999999999993,"Fiscalización del periodo de precampaña y obtención del apoyo de la ciudadanía","INE","UTF","2021-11-22","2022-05-16"]
[2,"Durango","Fiscalización",8.3000000000000007,"Fiscalización del periodo de campaña","INE","UTF","2022-03-04","2022-08-01"]
[2,"Durango","Obligaciones y prerrogativas financieras de los partidos, candidaturas y candidaturas independientes.",9.1,"Aprobación de topes de gastos de precampaña Gubernatura","OPL","CG","2021-11-01","2021-11-30"]
[2,"Durango","Obligaciones y prerrogativas financieras de los partidos, candidaturas y candidaturas independientes.",9.3000000000000007,"Aprobación de topes de gastos de precampaña Ayuntamientos","OPL","CG","2021-11-01","2021-11-30"]
[2,"Durango","Obligaciones y prerrogativas financieras de los partidos, candidaturas y candidaturas independientes.",9.4,"Aprobación de los límites de financiamiento privado, aportaciones de militantes, simpatizantes y precandidaturas o candidaturas; así como el límite individual de aportaciones para Gubernatura","OPL","CG","2021-11-01","2021-12-31"]
[2,"Durango","Obligaciones y prerrogativas financieras de los partidos, candidaturas y candidaturas independientes.",9.6,"Aprobación de los límites de financiamiento privado, aportaciones de militantes, simpatizantes y precandidaturas o candidaturas; así como el límite individual de aportaciones para Ayuntamientos","OPL","CG","2021-11-01","2021-12-31"]
[2,"Durango","Obligaciones y prerrogativas financieras de los partidos, candidaturas y candidaturas independientes.",9.6999999999999993,"Aprobación de topes de gastos para el periodo de obtención del apoyo ciudadano para Gubernatura","OPL","CG","2021-11-01","2021-12-31"]
[2,"Durango","Obligaciones y prerrogativas financieras de los partidos, candidaturas y candidaturas independientes.",9.9,"Aprobación de topes de gastos para el periodo de obtención del apoyo ciudadano para Ayuntamientos","OPL","CG","2021-11-01","2021-12-31"]
[2,"Durango","Obligaciones y prerrogativas financieras de los partidos, candidaturas y candidaturas independientes.",9.1,"Aprobación de topes de gastos de campaña para Gubernatura","OPL","CG","2022-01-15","2022-02-28"]
[2,"Durango","Obligaciones y prerrogativas financieras de los partidos, candidaturas y candidaturas independientes.",9.1199999999999992,"Aprobación de topes de gastos de campaña para Ayuntamientos","OPL","CG","2022-01-15","2022-02-28"]
[2,"Durango","Candidaturas Independientes",10.1,"Emisión de la convocatoria para la ciudadanía interesada en participar a una Candidatura Independiente.","OPL","CG","2021-11-01","2021-11-21"]
[2,"Durango","Candidaturas Independientes",10.199999999999999,"Recepción de escrito de intención y documentación anexa de las y los ciudadanos que aspiren a la candidatura independiente para Gubernatura","OPL","OD","2021-11-22","2021-12-22"]
[2,"Durango","Candidaturas Independientes",10.4,"Recepción de escrito de intención y documentación anexa de las y los ciudadanos que aspiren a la candidatura independiente para Ayuntamientos","OPL","SE/OD","2021-11-22","2021-12-22"]
[2,"Durango","Candidaturas Independientes",10.5,"Resolución sobre procedencia de manifestación de intención de las y los aspirantes a candidaturas independientes para Gubernatura","OPL","CG","2021-12-23","2021-12-29"]
[2,"Durango","Candidaturas Independientes",10.7,"Resolución sobre procedencia de manifestación de intención de las y los aspirantes a candidaturas independientes para Ayuntamientos","OPL","CG","2021-12-23","2021-12-29"]
[2,"Durango","Candidaturas Independientes",10.8,"Plazo para obtener el apoyo ciudadano de las candidaturas independientes para Gubernatura","OPL","OD","2022-01-02","2022-02-10"]
[2,"Durango","Candidaturas Independientes",10.1,"Plazo para obtener el apoyo ciudadano de las candidaturas independientes para Ayuntamientos","OPL","OD","2022-01-12","2022-02-10"]
[2,"Durango","Candidaturas Independientes",10.11,"Verificar la situación registral de las y los ciudadanos inscritos en la Lista Nominal, que presenten las y los Aspirantes a Candidaturas Independientes para los diversos cargos de elección popular a nivel local.","INE/OPL","DERFE","2022-01-02","2022-02-14"]
[2,"Durango","Candidaturas Independientes",10.119999999999999,"Plazo para otorgar las constancias de porcentaje a favor de la o el aspirante a la candidatura independiente para Gubernatura","OPL","CG","2022-02-11","2022-02-14"]
[2,"Durango","Candidaturas Independientes",10.14,"Plazo para otorgar las constancias de porcentaje a favor de la o el aspirante a la candidatura independiente para Ayuntamientos","OPL","CG/OD","2022-02-11","2022-03-21"]
[2,"Durango","Candidaturas",11.1,"Registro de plataformas electorales","OPL","CG","2022-01-01","2022-01-15"]
[2,"Durango","Candidaturas",11.2,"Solicitud de registro de convenio de coalición para Gubernatura","OPL","CG","2021-11-01","2022-01-02"]
[2,"Durango","Candidaturas",11.4,"Solicitud de registro de convenio de coalición para Ayuntamientos","OPL","CG","2021-11-01","2022-01-09"]
[2,"Durango","Candidaturas",11.5,"Resolución sobre Convenio de Coalición para Gubernatura","OPL","CG","2022-01-03","2022-01-12"]
[2,"Durango","Candidaturas",11.7,"Resolución sobre Convenio de Coalición para Ayuntamientos","OPL","CG","2022-01-10","2022-01-19"]
[2,"Durango","Candidaturas",11.8,"Precampaña para Gubernatura","OPL","CG","2022-01-02","2022-02-10"]
[2,"Durango","Candidaturas",11.11,"Precampaña para Ayuntamientos: Durango, Gómez Palacio y Lerdo","OPL","CG","2022-01-09","2022-02-10"]
[2,"Durango","Candidaturas",11.12,"Precampaña para Ayuntamientos: Canatlán, Cuencamé, Guadalupe Victoria, Mapimí, Mezquital, Nombre de Dios, Nuevo Ideal, Poanas, Pueblo Nuevo, San Dimas, Santiago Papasquiaro, El Oro, Tamazula, Tlahualilo y Vicente Guerrero","OPL","CG","2022-01-16","2022-02-10"]
[2,"Durango","Candidaturas",11.13,"Precampaña para el resto de Ayuntamientos","OPL","CG","2022-01-22","2022-02-10"]
[2,"Durango","Candidaturas",11.14,"Solicitud de registro de Candidaturas para Gubernatura","OPL","CG/OD","2022-02-15","2022-02-22"]
[2,"Durango","Candidaturas",11.17,"Solicitud de registro de Candidaturas para Ayuntamientos","OPL","CG/OD","2022-03-22","2022-03-29"]
[2,"Durango","Candidaturas",11.18,"Resolución para aprobar las candidaturas para Gubernatura","OPL","CG","2022-02-23","2022-02-28"]
[2,"Durango","Candidaturas",11.21,"Resolución para aprobar las candidaturas para Ayuntamientos","OPL","CG/OD","2022-03-30","2022-04-04"]
[2,"Durango","Candidaturas",11.22,"Solicitud de registro de candidaturas comunes para Gubernatura","OPL","CG","2021-11-01","2022-02-09"]
[2,"Durango","Candidaturas",11.24,"Solicitud de registro de candidaturas comunes para Ayuntamientos","OPL","CG/OD","2021-11-01","2022-03-16"]
[2,"Durango","Candidaturas",11.25,"Resolución para aprobar las candidaturas comunes para Gubernatura","OPL","CG","2022-02-10","2022-02-14"]
[2,"Durango","Candidaturas",11.27,"Resolución para aprobar las candidaturas comunes para Ayuntamientos","OPL","CG/OD","2022-03-17","2022-03-21"]
[2,"Durango","Candidaturas",11.28,"Campaña para Gubernatura","OPL","CG","2022-04-03","2022-06-01"]
[2,"Durango","Candidaturas",11.31,"Campaña para Ayuntamientos Durango, Gómez Palacio y Lerdo","OPL","CG","2022-04-13","2022-06-01"]
[2,"Durango","Candidaturas",11.32,"Campaña para Ayuntamientos Canatlán, Cuencamé, Guadalupe Victoria, Mapimí, Mezquital, Nombre de Dios, Nuevo Ideal, Poanas, Pueblo Nuevo, San Dimas, Santiago Papasquiaro, El Oro, Tamazula, Tlahualilo y Vicente Guerrero","OPL","CG","2022-04-23","2022-06-01"]
[2,"Durango","Candidaturas",11.33,"Campaña para resto de Ayuntamientos","OPL","CG","2022-05-03","2022-06-01"]
[2,"Durango","Candidaturas",11.34,"Aprobación de la distribución de financiamiento público para partidos políticos","OPL","CG","2021-11-01","2021-12-31"]
[2,"Durango","Debates",12.1,"Aprobación de las fechas en que se celebrarán los debates para gubernatura","OPL","CG","2021-12-15","2022-04-03"]
[2,"Durango","Debates",12.2,"Realización del primer debate para gubernatura","OPL","CG","2022-04-03","2022-06-01"]
[2,"Durango","Debates",12.3,"Realización del segundo debate para gubernatura","OPL","CG","2022-04-03","2022-06-01"]
[2,"Durango","Documentación y material electoral",13.1,"Aprobación de los formatos únicos con los diseños y especificaciones técnicas de la documentación y materiales electorales","INE","COTSPEL","2021-08-15","2021-09-06"]
[2,"Durango","Documentación y material electoral",13.2,"Entrega a la Dirección Ejecutiva de Organización Electoral del INE, de los diseños y especificaciones técnicas de la documentación y materiales electorales, en medios impresos y electrónicos","OPL","CG","2021-09-01","2021-11-10"]
[2,"Durango","Documentación y material electoral",13.3,"Validación de los documentos y materiales electorales y especificaciones técnicas, con las observaciones subsanadas","INE","DEOE","2021-11-01","2021-12-15"]
[2,"Durango","Documentación y material electoral",13.4,"Aprobación de la documentación y material electoral","OPL","CG","2021-11-15","2021-12-31"]
[2,"Durango","Documentación y material electoral",13.5,"Entrega a la Dirección Ejecutiva de Organización Electoral del INE, del Reporte con los resultados de las verificaciones de las medidas de seguridad en la documentación electoral y líquido indeleble","OPL","CG","2022-05-25","2022-06-17"]
[2,"Durango","Documentación y material electoral",13.6,"Supervisiones respecto de los procedimientos de impresión y producción de la documentación y materiales electorales","INE","DEOE","2022-03-16","2022-05-31"]
[2,"Durango","Documentación y material electoral",13.7,"Designación de la persona responsable de llevar el control sobre la asignación de los folios de las boletas que se distribuirán en cada mesa directiva de casilla","OPL","OD","2022-03-01","2022-03-30"]
[2,"Durango","Documentación y material electoral",13.8,"Aprobación de SE y CAE, así como de personal que auxiliará en el procedimiento de conteo, sellado y agrupamiento de las boletas electorales; así como la integración de documentación que será entregada a las presidencias de mesa directiva de casilla","OPL","OD","2022-04-24","2022-05-11"]
[2,"Durango","Documentación y material electoral",13.9,"Recepción de las boletas electorales por el órgano competente que realizará el conteo, sellado y agrupamiento","OPL","OD","2022-05-18","2022-05-21"]
[2,"Durango","Documentación y material electoral",13.1,"Conteo, sellado y agrupamiento de boletas e integración de la caja paquete electoral","OPL","OD","2022-05-18","2022-05-27"]
[2,"Durango","Documentación y material electoral",13.11,"Distribución de la documentación y materiales electorales a las Presidencias de mesa directiva de casilla","OPL","OD","2022-05-30","2022-06-03"]
[2,"Durango","Documentación y material electoral",13.12,"Remisión de los recibos de la entrega de la documentación y materiales electorales al Consejo General del OPL","INE","JLE","2022-06-26","2022-07-02"]
[2,"Durango","Jornada Electoral",14.1,"Aprobación del Programa de Operación del SIJE 2022","INE","CG","2021-07-01","2021-07-31"]
[2,"Durango","Jornada Electoral",14.2,"Aprobación de las metas del SIJE 2022","INE","CG","2022-03-01","2022-03-31"]
[2,"Durango","Jornada Electoral",14.3,"Presentación del Manual de Operación del SIJE 2022","INE","COTSPEL","2022-03-01","2022-03-31"]
[2,"Durango","Jornada Electoral",14.4,"Realización de pruebas del SIJE 2022","INE","DEOE","2022-04-04","2022-04-15"]
[2,"Durango","Jornada Electoral",14.5,"Desarrollo del primer simulacro del SIJE","INE/OPL","DEOE/OD","2022-04-28","2022-04-28"]
[2,"Durango","Jornada Electoral",14.6,"Desarrollo del segundo simulacro del SIJE","INE/OPL","DEOE/OD","2022-05-08","2022-05-08"]
[2,"Durango","Jornada Electoral",14.7,"Desarrollo del tercer simulacro del SIJE","INE/OPL","DEOE/OD","2022-05-22","2022-05-22"]
[2,"Durango","Jornada Electoral",14.8,"Jornada Electoral","OPL","CG/OD","2022-06-05","2022-06-05"]
[2,"Durango","Bodegas electorales",15.1,"Determinación de los lugares que ocuparán las bodegas electorales para el resguardo de la documentación electoral","OPL","CG","2022-02-01","2022-02-28"]
[2,"Durango","Bodegas electorales",15.2,"Verificación por parte de los órganos desconcentrados del INE de las condiciones y equipamiento de las bodegas electorales del OPL","INE/OPL","JLE/JDE/OD","2022-03-01","2022-03-31"]
[2,"Durango","Bodegas electorales",15.3,"Informe que rinden las y los Presidentes sobre las condiciones de equipamiento, mecanismos de operación y medidas de seguridad de las bodegas electorales","OPL","OD","2022-03-01","2022-03-31"]
[2,"Durango","Bodegas electorales",15.4,"Designación, por parte del órgano competente del OPL, del personal que tendrá acceso a la bodega electoral","OPL","CG/OD","2022-03-01","2022-03-30"]
[2,"Durango","Bodegas electorales",15.5,"Envío del informe presentado ante el Consejo General, sobre las condiciones que guardan las bodegas electorales del Órgano Central y desconcentrados del OPL","OPL","CG","2022-04-03","2022-04-09"]
[2,"Durango","Mecanismos de recolección",16.100000000000001,"Entrega de estudios de factibilidad al OPL","INE","CL","2022-03-16","2022-03-31"]
[2,"Durango","Mecanismos de recolección",16.2,"Entrega de observaciones a los estudios de factibilidad","OPL","CG","2022-04-17","2022-04-23"]
[2,"Durango","Mecanismos de recolección",16.3,"Recorridos para verificar las propuestas de los mecanismos de recolección","INE/OPL","CD/OD","2022-03-17","2022-04-23"]
[2,"Durango","Mecanismos de recolección",16.399999999999999,"Aprobación de los mecanismos de recolección","INE","CD","2022-04-24","2022-04-30"]
[2,"Durango","Mecanismos de recolección",16.5,"Traslado y recolección de los paquetes electorales","INE","CD","2022-06-05","2022-06-06"]
[2,"Durango","Mecanismos de recolección",16.600000000000001,"Acreditación de representantes de partidos políticos y candidaturas independientes ante los mecanismos de recolección","INE","CL/CD","2022-04-25","2022-06-02"]
[2,"Durango","Mecanismos de recolección",16.7,"Sustitución de representantes de partidos políticos y candidaturas independientes ante los mecanismos de recolección","INE","CL/CD","2022-04-26","2022-06-03"]
[2,"Durango","Mecanismos de recolección",16.8,"Entrega a la JLE del informe sobre la recepción de paquetes electorales en los órganos competentes","INE","CD","2022-06-05","2022-06-17"]
[2,"Durango","Cómputos",17.100000000000001,"Aprobación de los lineamientos de cómputo y del cuadernillo de consulta sobre votos válidos y votos nulos","OPL","CG","2022-01-01","2022-02-28"]
[2,"Durango","Cómputos",17.2,"Remisión a la JLE en la entidad, de las propuestas de escenarios de cómputos, para la dictaminación de viabilidad","OPL","CG","2022-03-06","2022-03-13"]
[2,"Durango","Cómputos",17.3,"Remisión de las observaciones a los escenarios de Cómputos al OPL y a su vez informar de las mismas a la UTVOPL","INE","JLE","2022-03-14","2022-03-26"]
[2,"Durango","Cómputos",17.399999999999999,"Asignación de las y los SE y CAE contratados por el INE para los OD del OPL a fin de que apoyen en los cómputos de las elecciones locales","INE","CD","2022-05-01","2022-05-15"]
[2,"Durango","Cómputos",17.5,"Aprobación por parte del órgano competente del OPL, del acuerdo mediante el cual se designa al personal que participará en las tareas de apoyo a los Cómputos Municipales","OPL","CG/OD","2022-05-01","2022-05-31"]
[2,"Durango","Cómputos",17.600000000000001,"Aprobación por parte del órgano competente del OPL, del acuerdo mediante el cual se designa al personal que participará en las tareas de apoyo a los Cómputos Distritales","OPL","CG/OD","2022-05-01","2022-05-31"]
[2,"Durango","Cómputos",17.7,"Aprobación por parte de los órganos competentes del OPL, de los distintos escenarios de cómputos","OPL","OD","2022-04-01","2022-04-15"]
[2,"Durango","Cómputos",17.8,"El OPL informará el inicio de la creación del programa, sistema o herramienta informática a la UTVOPL y a la Junta Local del INE, así como de sus características y avances","OPL","CG","2022-02-01","2022-02-15"]
[2,"Durango","Cómputos",17.899999999999999,"El OPL remitirá por conducto de la UTVOPL a la DEOE, y en forma directa a la Junta Local del INE, la dirección electrónica en la que se ubicará la aplicación, así como las claves y accesos necesarios para hacer pruebas y simulacros de captura.","OPL","CG","2022-04-01","2022-04-07"]
[2,"Durango","Cómputos",17.100000000000001,"Liberación de la herramienta informática de Cómputos","OPL","CG","2022-04-16","2022-04-30"]
[2,"Durango","Cómputos",17.11,"Realización de dos simulacros en los órganos competentes del OPL sobre el desarrollo de los cómputos en los OD con el uso de la herramienta informática","OPL","CD","2022-05-01","2022-06-03"]
[2,"Durango","Cómputos",17.12,"Aprobación por parte del órgano competente del OPL, del acuerdo por el que se habilitarán espacios para la instalación de grupos de trabajo y, en su caso, puntos de recuento","OPL","CG/OD","2022-06-07","2022-06-11"]
[2,"Durango","Cómputos",17.13,"Cómputos Distritales","OPL","OD","2022-06-12","2022-06-14"]
[2,"Durango","Cómputos",17.14,"Cómputos Municipales","OPL","OD","2022-06-08","2022-06-11"]
[2,"Durango","Cómputos",17.149999999999999,"Cómputo Estatal para la Gubernatura","OPL","CG","2022-06-15","2022-06-19"]
[2,"Durango","PREP",18.100000000000001,"Documento por el que se informe la instalación de la Comisión en la que se reporten los trabajos de implementación y operación del PREP.","OPL","CG","2021-09-10","2021-09-10"]
[2,"Durango","PREP",18.2,"Aprobación del Acuerdo por el que se designa o ratifica a la instancia interna responsable de coordinar el PREP","OPL","CG","2021-09-05","2021-09-05"]
[2,"Durango","PREP",18.3,"Aprobación del Acuerdo de Integración del COTAPREP","OPL","CG","2021-11-05","2021-11-05"]
[2,"Durango","PREP",18.399999999999999,"Documento por el que se determina la implementación del PREP por el OPL o con el apoyo de un Tercero","OPL","CG","2021-12-05","2021-12-05"]
[2,"Durango","PREP",18.5,"Aprobación del acuerdo por el que se determina el Proceso Técnico Operativo","OPL","CG","2022-01-05","2022-01-05"]
[2,"Durango","PREP",18.600000000000001,"Aprobación del Acuerdo por el que se determina la ubicación, instalación y habilitación de los CATD y, en su caso, CCV","OPL","CG","2022-02-05","2022-02-05"]
[2,"Durango","PREP",18.7,"Documento de Designación del Ente Auditor","OPL","CG","2022-02-05","2022-02-05"]
[2,"Durango","PREP",18.8,"Instrumento jurídico celebrado entre el OPL y el ente auditor","OPL","CG","2022-03-05","2022-03-05"]
[2,"Durango","PREP",18.899999999999999,"Realización de prueba de funcionalidad del PREP","OPL","CG","2022-04-20","2022-04-20"]
[2,"Durango","PREP",18.100000000000001,"Realización del primer simulacro del PREP","OPL","CG","2022-05-15","2022-05-15"]
[2,"Durango","PREP",18.11,"Realización del segundo simulacro del PREP","OPL","CG","2022-05-22","2022-05-22"]
[2,"Durango","PREP",18.12,"Realización del tercer simulacro del PREP","OPL","CG","2022-05-29","2022-05-29"]
[2,"Durango","PREP",18.13,"Operación del PREP","OPL","CG","2022-06-05","2022-06-06"]
[2,"Durango","Conteo Rápido",19.100000000000001,"Aprobación del Acuerdo de Integración del COTECORA","INE","CG","2022-02-01","2022-02-04"]
[2,"Durango","Conteo Rápido",19.2,"Realización de pruebas de captura","INE","DERFE/DEOE/UNICOM","2022-04-14","2022-05-05"]
[2,"Durango","Conteo Rápido",19.3,"Realización de primer simulacro del Conteo Rápido","INE","DERFE/DEOE/UNICOM","2022-05-06","2022-05-22"]
[2,"Durango","Conteo Rápido",19.399999999999999,"Realización de segundo simulacro del Conteo Rápido","INE","DERFE/DEOE/UNICOM","2022-05-06","2022-06-04"]
[2,"Durango","Conteo Rápido",19.5,"Selección de la Muestra para el Conteo Rápido","INE","COTECORA","2022-06-01","2022-06-03"]
[2,"Durango","Voto de los ciudadanos residentes en el extranjero",20.100000000000001,"Elaboración y aprobación de los Lineamientos para la Conformación de la Lista Nominal de Electores Residentes en el Extranjero para los Procesos Electorales Locales 2021-2022, así como de los Lineamientos para la organización y emisión del Voto de los Mexicanos Residentes en el Extranjero, para los Procesos Electorales Locales 2021-2022","INE","CG/DERFE/UNICOM","2021-07-01","2021-08-31"]
[2,"Durango","Voto de los ciudadanos residentes en el extranjero",20.2,"Elaboración y aprobación del Programa de Mesas de Escrutinio y Cómputo, Capacitación Electoral y Seguimiento del Voto de las y los Mexicanos Residentes en el Extranjero para el Proceso Electoral Local 2021-2022, como parte de la Estrategia de Capacitación y Asistencia Electoral","INE","CG","2021-08-01","2021-08-05"]
[2,"Durango","Voto de los ciudadanos residentes en el extranjero",20.3,"Puesta a disposición de envío de la Solicitud individual de Inscripción a la Lista Nominal de Electores Residentes en el extranjero para procesos electorales locales (SIILNERE), y de la Solicitud Individual para Votar desde el Extranjero (SIVE)","INE","DERFE","2021-09-01","2022-03-10"]
[2,"Durango","Voto de los ciudadanos residentes en el extranjero",20.399999999999999,"Recepción, procesamiento y determinación de procedencia o improcedencia de las Solicitudes de Inscripción a la Lista Nominal de Electores Residentes en el Extranjero","INE","DERFE","2021-09-01","2022-03-18"]
[2,"Durango","Voto de los ciudadanos residentes en el extranjero",20.5,"Presentación ante Comisión para aprobación de materiales didácticos y de apoyo de Primera Etapa de Capacitación Electoral del VMRE","INE","DECEYEC","2021-11-01","2021-12-17"]
[2,"Durango","Voto de los ciudadanos residentes en el extranjero",20.6,"Aprobación del número de mesas de escrutinio y cómputo a instalar","INE","CL","2022-03-31","2022-04-07"]
[2,"Durango","Voto de los ciudadanos residentes en el extranjero",20.7,"Seguimiento a la Primera Insaculación del VMRE","INE","DECEYEC","2022-02-01","2022-02-07"]
[2,"Durango","Voto de los ciudadanos residentes en el extranjero",20.8,"Seguimiento a la Primera Etapa de Capacitación a las personas insaculadas para VMRE","INE","DECEYEC","2022-02-09","2022-03-31"]
[2,"Durango","Voto de los ciudadanos residentes en el extranjero",20.9,"Control de calidad a la instrumentación del procedimiento de integración de Mesas de Escrutinio y Cómputo, en la Primera Etapa de Capacitación por Oficinas Centrales","INE","DECEYEC","2022-03-15","2022-03-31"]
[2,"Durango","Voto de los ciudadanos residentes en el extranjero",20.100000000000001,"Presentación ante Comisión para aprobación de los materiales didácticos y de apoyo del VMRE de Segunda Etapa de Capacitación Electoral","INE","DECEYEC","2022-02-15","2022-03-31"]
[2,"Durango","Voto de los ciudadanos residentes en el extranjero",20.11,"Seguimiento a la Segunda Insaculación y designación de funcionarios para Mesas de Escrutinio y Cómputo del VMRE.","INE","DECEYEC","2022-04-01","2022-04-08"]
[2,"Durango","Voto de los ciudadanos residentes en el extranjero",20.12,"Seguimiento a la Segunda Etapa de capacitación a funcionarios de Mesas de Escrutinio y Cómputo del VMRE; realización de prácticas de la Jornada Electoral y simulacros","INE","DECEYEC","2022-04-10","2022-06-04"]
[2,"Durango","Voto de los ciudadanos residentes en el extranjero",20.13,"Integración de la Lista Nominal de Electores Residentes en el Extranjero para Revisión y observaciones de partidos políticos","INE","DERFE","2022-03-18","2022-04-30"]
[2,"Durango","Voto de los ciudadanos residentes en el extranjero",20.14,"Entrega de la documentación y materiales electorales para el VMRE de los OPL a la DEOE y a la DERFE tratándose del PEP","OPL","CG","2022-04-01","2022-04-30"]
[2,"Durango","Voto de los ciudadanos residentes en el extranjero",20.149999999999999,"Declaración de validez de la Lista Nominal de Electores Residentes en el Extranjero Definitiva","INE","DERFE/DEOE","2022-04-15","2022-04-30"]
[2,"Durango","Voto de los ciudadanos residentes en el extranjero",20.16,"Diseño, preparación y envío de la documentación y materiales electorales a la ciudadanía residente en el extranjero para el ejercicio de su voto","INE","DERFE/DEOE/UNICOM/DECEYEC/CG","2021-11-01","2022-05-31"]
[2,"Durango","Voto de los ciudadanos residentes en el extranjero",20.170000000000002,"Promoción del Voto de los Mexicanos Residentes en el Extranjero (Difusión, Comunicación, Vinculación y Plataformas Digitales)","INE/OPL","DECEYEC/CNCS/DERFE/CG","2021-08-01","2022-06-30"]
[2,"Durango","Voto de los ciudadanos residentes en el extranjero",20.18,"Recepción de Sobres Voto y resguardo","INE","JLE","2022-04-29","2022-06-04"]
[2,"Durango","Voto de los ciudadanos residentes en el extranjero",20.190000000000001,"Integración y aprobación del Listado del personal que realizará las suplencias en las Mesas de Escrutinio y Cómputo","INE","CL","2022-05-16","2022-05-31"]
[2,"Durango","Voto de los ciudadanos residentes en el extranjero",20.2,"Periodo de Socialización del SIVEI (Sistema de Voto Electrónico por Internet)","INE","DERFE/DEOE/DECEYEC/UNICOM","2022-05-07","2022-05-18"]
[2,"Durango","Voto de los ciudadanos residentes en el extranjero",20.21,"Control de calidad en la Instrumentación del procedimiento de integración de Mesas de Escrutinio y Cómputo, en la Segunda Etapa de Capacitación por Oficinas Centrales","INE","DECEYEC","2022-05-15","2022-05-30"]
[2,"Durango","Voto de los ciudadanos residentes en el extranjero",20.22,"Determinación del Local Único para el escrutinio y cómputo de los votos de las y los mexicanos residentes en el extranjero","INE","CL","2022-01-01","2022-04-30"]
[2,"Durango","Voto de los ciudadanos residentes en el extranjero",20.23,"Periodo de Votación del SIVEI (Sistema de Voto Electrónico por Internet)","INE","DERFE/DEOE/DECEYEC/UNICOM","2022-05-21","2022-06-05"]
[2,"Durango","Voto de los ciudadanos residentes en el extranjero",20.239999999999998,"Recepción de los votos por la modalidad respectiva","INE","DERFE/DEOE/UNICOM","2022-05-21","2022-06-05"]
[2,"Durango","Voto de los ciudadanos residentes en el extranjero",20.25,"Preparación, aprobación e implementación de la logística para escrutinio y cómputo de los votos de las y los mexicanos residentes en el extranjero","INE","JLE/DEOE/DERFE/DECEYEC/UNICOM","2022-03-01","2022-06-05"]
[2,"Durango","Voto de los ciudadanos residentes en el extranjero",20.260000000000002,"Escrutinio y Cómputo, y resultados de los votos de los mexicanos residentes en el extranjero","INE/OPL","JLE/JD/DERFE/DECEYEC/DEOE/UTSI/CG","2022-06-05","2022-06-05"]
[2,"Durango","Visitantes extranjeros",21.1,"Emisión de la Convocatoria para visitantes extranjeros","INE","CG/CAI","2021-09-06","2021-09-30"]
[2,"Durango","Visitantes extranjeros",21.2,"Difusión de la Convocatoria para visitantes extranjeros","INE","CG/CAI","2021-09-06","2022-05-25"]
[2,"Durango","Visitantes extranjeros",21.3,"Recepción de solicitudes de acreditación como visitantes extranjeros","INE","CG/CAI","2021-09-06","2022-05-25"]
[2,"Durango","Visitantes extranjeros",21.4,"Resolución de solicitudes de acreditación como visitantes extranjeros","INE","CG/CAI","2021-09-07","2022-05-30"]
[2,"Durango","Visitantes extranjeros",21.5,"Entrega de acreditaciones a los visitantes extranjeros","INE","CG/CAI","2022-05-27","2022-06-04"]
[3,"Hidalgo","Mecanismos de coordinación",1.1000000000000001,"Aprobar Calendarios y Planes Integrales de los Procesos Electorales Locales","INE","CG","2021-08-05","2021-08-11"]
[3,"Hidalgo","Mecanismos de coordinación",1.2,"Elaborar un plan de trabajo conjunto para la promoción de la participación ciudadana","INE/OPL","DECEYEC/JLE/OPL","2021-11-03","2021-12-15"]
[3,"Hidalgo","Mecanismos de coordinación",1.3,"Sesión para dar inicio al PEL","OPL","CG","2021-12-15","2021-12-15"]
[3,"Hidalgo","Mecanismos de coordinación",1.4,"Implementar un plan de trabajo conjunto para la promoción de la participación ciudadana","INE/OPL","DECEYEC/JLE/OPL","2022-02-01","2022-06-04"]
[3,"Hidalgo","Mecanismos de coordinación",1.5,"Presentar un informe parcial de Programa de Promoción de la Participación Ciudadana a la comisión correspondiente","INE/OPL","DECEYEC/JLE/OPL","2022-02-01","2022-04-30"]
[3,"Hidalgo","Mecanismos de coordinación",1.6,"Presentar un informe final de Programa de Promoción de la Participación Ciudadana a la comisión correspondiente","INE/OPL","DECEYEC/JLE/OPL","2022-05-01","2022-09-04"]
[3,"Hidalgo","Integración de órganos desconcentrados",2.1,"Convocatoria para la integración de los Órganos Distritales","OPL","CG","2021-08-01","2021-08-31"]
[3,"Hidalgo","Integración de órganos desconcentrados",2.2000000000000002,"Sesión en la que se designan e integran los Órganos Distritales","OPL","CG","2021-12-01","2021-12-31"]
[3,"Hidalgo","Integración de órganos desconcentrados",2.2999999999999998,"Instalación de los Órganos Distritales","OPL","OD","2022-01-01","2022-01-10"]
[3,"Hidalgo","Integración de órganos desconcentrados",2.7,"Designación y/o ratificación de las y los Consejeros Electorales del Consejo Local","INE","CG","2021-07-01","2021-08-31"]
[3,"Hidalgo","Integración de órganos desconcentrados",2.8,"Instalación del Consejo Local","INE","CL","2021-09-30","2021-09-30"]
[3,"Hidalgo","Integración de órganos desconcentrados",2.9,"Designación y/o ratificación de las y los Consejeros Electorales de los Consejos Distritales","INE","CL","2021-10-01","2021-11-29"]
[3,"Hidalgo","Integración de órganos desconcentrados",2.1,"Instalación de los Consejos Distritales","INE","CD","2021-11-30","2021-11-30"]
[3,"Hidalgo","Integración de órganos desconcentrados",2.11,"Publicación de la integración de los Consejos Locales y Distritales del INE","INE","CL","2022-01-17","2022-01-31"]
[3,"Hidalgo","Lista Nominal de Electores",3.1,"Entrega del catálogo cartográfico","INE","DERFE","2022-01-15","2022-02-28"]
[3,"Hidalgo","Lista Nominal de Electores",3.2,"Generación y entrega de la Lista Nominal de Electores para Revisión en medios ópticos a los representantes de los partidos políticos","INE","DERFE","2022-02-15","2022-02-15"]
[3,"Hidalgo","Lista Nominal de Electores",3.3,"Elaborar los archivos de conformación de casillas extraordinarias y asignación de registros sin soporte cartográfico para la impresión del Listado Nominal para el Proceso Electoral","INE","DERFE","2022-03-01","2022-05-31"]
[3,"Hidalgo","Lista Nominal de Electores",3.4,"Recepción de observaciones de los partidos políticos y en su caso, candidatos independientes, a la Lista Nominal de Electores para revisión","INE/OPL","DERFE","2022-03-14","2022-03-14"]
[3,"Hidalgo","Lista Nominal de Electores",3.5,"Entrega en formato digital el informe respecto de la atención a las observaciones formuladas a la Lista Nominal de Electores para Revisión","INE","DERFE","2022-04-18","2022-04-18"]
[3,"Hidalgo","Lista Nominal de Electores",3.6,"Entrega de la Lista Nominal de Electores Definitiva con fotografía","INE","DERFE","2022-05-05","2022-05-05"]
[3,"Hidalgo","Lista Nominal de Electores",3.7,"Entrega de la Lista Nominal de Electores con fotografía Producto de Instancias Administrativas y Resoluciones del Tribunal (ADENDA)","INE","DERFE","2022-05-24","2022-05-24"]
[3,"Hidalgo","Gestión de credencial para votar",4.0999999999999996,"Atender los trámites de la ciudadanía que acude a los Módulos de Atención Ciudadana a inscribirse y a actualizar su situación registral en el Padrón Electoral","INE","DERFE","2021-09-01","2022-01-31"]
[3,"Hidalgo","Gestión de credencial para votar",4.2,"Atender los trámites de la ciudadanía que acude a los Módulos de Atención Ciudadana a solicitar la reposición de su CPV por robo, extravío o deterioro grave","INE","DERFE","2021-09-01","2022-02-07"]
[3,"Hidalgo","Gestión de credencial para votar",4.3,"Entregar la Credencial para Votar con Fotografía a los ciudadanos en las Oficinas o Módulos de Atención Ciudadana que determine el INE","INE","DERFE","2021-09-01","2022-04-11"]
[3,"Hidalgo","Gestión de credencial para votar",4.4000000000000004,"Atender solicitudes de reimpresión de Credencial para Votar por extravío o robo","INE","DERFE","2022-02-08","2022-05-20"]
[3,"Hidalgo","Gestión de credencial para votar",4.5,"Resguardar las Credenciales para Votar que no fueron recogidas por sus titulares hasta el 11 de abril y hasta el 03 de junio de 2022, derivadas de Instancias Administrativas, Demandas de Juicio o de solicitudes de reimpresión","INE","DERFE","2022-04-24","2022-06-04"]
[3,"Hidalgo","Observación Electoral",5.0999999999999996,"Emisión de la convocatoria para la ciudadanía que desee participar en la observación electoral","OPL","CG","2021-12-15","2021-12-15"]
[3,"Hidalgo","Observación Electoral",5.2,"Recepción de solicitudes de la ciudadanía que desee participar en la observación electoral","INE/OPL","OPL/JL/JD","2021-12-15","2022-05-07"]
[3,"Hidalgo","Observación Electoral",5.3,"Impartición de los cursos de capacitación, preparación o información","INE/OPL","OPL/JL/JD","2021-12-15","2022-05-16"]
[3,"Hidalgo","Observación Electoral",5.4,"Acreditación de la ciudadanía como observadores u observadoras electorales","INE","CL/CD","2021-08-28","2022-06-04"]
[3,"Hidalgo","Observación Electoral",5.5,"Seguimiento a los informes mensuales de acreditación de Observadores Electores","INE","CG","2021-08-21","2022-07-31"]
[3,"Hidalgo","Observación Electoral",5.6,"Remisión de materiales de capacitación a la JLE para revisión","OPL","CG","2021-10-15","2021-10-15"]
[3,"Hidalgo","Observación Electoral",5.7,"Revisión, corrección, verificación y validación de materiales de capacitación para observadores electorales","INE","JLE/DECEYEC","2021-10-15","2021-11-18"]
[3,"Hidalgo","Ubicación de casillas",6.1,"Recorridos por las secciones de los distritos para localizar los lugares donde se ubicarán las casillas","INE","JDE","2022-01-15","2022-02-15"]
[3,"Hidalgo","Ubicación de casillas",6.2,"Presentación a los Consejos Distritales del listado de lugares propuestos para ubicar casillas","INE","JDE","2022-02-24","2022-02-24"]
[3,"Hidalgo","Ubicación de casillas",6.3,"Visitas de examinación en los lugares propuestos para ubicar casillas básicas, contiguas, especiales y extraordinarias","INE","CD","2022-02-25","2022-03-15"]
[3,"Hidalgo","Ubicación de casillas",6.4,"Aprobación del número y ubicación de casillas extraordinarias y especiales","INE","CD","2022-03-15","2022-03-15"]
[3,"Hidalgo","Ubicación de casillas",6.5,"Aprobación del número y ubicación de casillas básicas y contiguas","INE","CD","2022-03-28","2022-03-28"]
[3,"Hidalgo","Ubicación de casillas",6.6,"Entrega de la base de datos de la Lista Nominal Definitiva a UNICOM con corte al 11 de abril","INE","DERFE","2022-04-18","2022-04-18"]
[3,"Hidalgo","Ubicación de casillas",6.7,"Realizar la primera publicación de la lista de ubicación de casillas en los lugares más concurridos del distrito electoral y en los medios electrónicos del Instituto","INE","CD","2022-04-15","2022-04-15"]
[3,"Hidalgo","Ubicación de casillas",6.8,"En su caso, segunda publicación de la lista de ubicación de casillas por causas supervenientes en los lugares más concurridos del distrito y en los medios electrónicos del Instituto","INE","CD","2022-05-15","2022-05-25"]
[3,"Hidalgo","Ubicación de casillas",6.9,"Publicación de los encartes y difusión en medios electrónicos del Instituto","INE/OPL","DEOE/CG","2022-06-04","2022-06-05"]
[3,"Hidalgo","Ubicación de casillas",6.1,"Registro de representantes generales y ante mesas directivas de casilla","INE","CD","2022-04-16","2022-05-23"]
[3,"Hidalgo","Ubicación de casillas",6.11,"Sustitución de representantes generales y ante mesas directivas de casilla","INE","CD","2022-04-16","2022-05-26"]
[3,"Hidalgo","Ubicación de casillas",6.12,"Entrega de listados de representantes generales y ante casilla al OPL","INE","CD","2022-05-28","2022-05-29"]
[3,"Hidalgo","Ubicación de casillas",6.13,"Avisos domiciliarios para ubicación de casillas en secciones electorales involucradas en Actualizaciones del Marco Geográfico Electoral","INE/OPL","DERFE/OPL","2022-04-01","2022-06-16"]
[3,"Hidalgo","Ubicación de casillas",6.14,"Notificación de la casilla en que votará la ciudadanía residente en secciones en las que el Consejo Distrital determinó no instalar casillas por las causales previstas en el artículo 234 del RE","INE","CD","2022-05-01","2022-05-31"]
[3,"Hidalgo","Integración de las Mesas Directivas de Casilla",7.1,"Aprobación de la Estrategia de Capacitación y Asistencia Electoral","INE","CG/DECEYEC","2021-08-01","2021-08-31"]
[3,"Hidalgo","Integración de las Mesas Directivas de Casilla",7.2,"Sorteo del mes del calendario como base para la insaculación de las y los ciudadanos que integrarán las mesas directivas de casilla","INE","CG/DECEYEC","2021-12-01","2021-12-31"]
[3,"Hidalgo","Integración de las Mesas Directivas de Casilla",7.3,"Entrega de modelos para que los OPL elaboren materiales didácticos para la ciudadanía sorteada y para las y los funcionarios de casilla","INE","CG/DECEYEC","2021-10-04","2021-11-30"]
[3,"Hidalgo","Integración de las Mesas Directivas de Casilla",7.4,"Revisión, corrección y validación de los materiales didácticos para la ciudadanía sorteada y para las y los funcionarios de casilla","INE/OPL","JLE/\nDECEYEC/OPL","2021-11-11","2022-03-14"]
[3,"Hidalgo","Integración de las Mesas Directivas de Casilla",7.5,"Entrega a la JLE de los materiales didácticos impresos para la primera y segunda etapa elaborados por parte de los OPL","INE/OPL","JLE/CG","2022-01-20","2022-03-28"]
[3,"Hidalgo","Integración de las Mesas Directivas de Casilla",7.6,"Reclutamiento Selección y contratación de SE y CAE","INE","DECEYEC","2021-10-18","2022-01-19"]
[3,"Hidalgo","Integración de las Mesas Directivas de Casilla",7.7,"Seguimiento a la aplicación de procediemientos de reclutamiento, selección y contratacion de SE y CAE","INE","DECEYEC/JLE/JD","2021-10-18","2022-01-19"]
[3,"Hidalgo","Integración de las Mesas Directivas de Casilla",7.8,"Sorteo de la letra a partir de la cual, con base en el apellido paterno, se seleccionará a las y los ciudadanos que integrarán las mesas directivas de casilla","INE","CG","2022-02-01","2022-02-28"]
[3,"Hidalgo","Integración de las Mesas Directivas de Casilla",7.9,"Entrega de la Lista Nominal de Electores para el Procedimiento de la Primera insaculación","INE","DERFE/UNICOM","2022-01-21","2022-01-25"]
[3,"Hidalgo","Integración de las Mesas Directivas de Casilla",7.1,"Procesar los archivos de conformación de secciones electorales\ncon casilla extraordinaria para la primera insaculación","INE","DERFE","2022-01-21","2022-01-25"]
[3,"Hidalgo","Integración de las Mesas Directivas de Casilla",7.11,"Primera insaculación","INE","DECEYEC","2022-02-01","2022-02-07"]
[3,"Hidalgo","Integración de las Mesas Directivas de Casilla",7.12,"Primera etapa de capacitación a las personas insaculadas","INE","CD","2022-02-09","2022-03-31"]
[3,"Hidalgo","Integración de las Mesas Directivas de Casilla",7.13,"Seguimiento a la aplicación de procediemientos de la primera etapa de capacitacion electoral","INE","DECEYEC/JLE/JD","2022-02-09","2022-03-31"]
[3,"Hidalgo","Integración de las Mesas Directivas de Casilla",7.14,"Segunda insaculación y designación de funcionarios para mesas directivas de casilla","INE","DECEYEC","2022-04-01","2022-04-08"]
[3,"Hidalgo","Integración de las Mesas Directivas de Casilla",7.15,"Segunda estapa de capacitación a funcionarios de mesa directiva de casilla y simulacros","INE","CD","2022-04-09","2022-06-04"]
[3,"Hidalgo","Integración de las Mesas Directivas de Casilla",7.16,"Seguimiento a la aplicación de procediemientos de la segunda etapa de capacitacion electoral","INE","DECEYEC/JLE/JD","2022-04-10","2022-06-04"]
[3,"Hidalgo","Integración de las Mesas Directivas de Casilla",7.17,"Entrega de reconocimientos a funcionarios de mesas directivas de casilla","INE","CD","2022-06-06","2022-06-12"]
[3,"Hidalgo","Fiscalización",8.1,"Planeación de la Fiscalización","INE","UTF","2021-07-26","2022-02-28"]
[3,"Hidalgo","Fiscalización",8.1999999999999993,"Fiscalización del periodo de precampaña y obtención del apoyo de la ciudadanía","INE","UTF","2021-11-22","2022-05-16"]
[3,"Hidalgo","Fiscalización",8.3000000000000007,"Fiscalización del periodo de campaña","INE","UTF","2022-03-04","2022-08-01"]
[3,"Hidalgo","Obligaciones y prerrogativas financieras de los partidos, candidaturas y candidaturas independientes.",9.1,"Aprobación de topes de gastos de precampaña Gubernatura","OPL","CG","2021-09-01","2021-09-30"]
[3,"Hidalgo","Obligaciones y prerrogativas financieras de los partidos, candidaturas y candidaturas independientes.",9.4,"Aprobación de los límites de financiamiento privado, aportaciones de militantes, simpatizantes y precandidaturas o candidaturas; así como el límite individual de aportaciones para Gubernatura","OPL","CG","2021-10-01","2021-10-31"]
[3,"Hidalgo","Obligaciones y prerrogativas financieras de los partidos, candidaturas y candidaturas independientes.",9.6999999999999993,"Aprobación de topes de gastos para el periodo de obtención del apoyo ciudadano para Gubernatura","OPL","CG","2021-10-01","2021-10-31"]
[3,"Hidalgo","Obligaciones y prerrogativas financieras de los partidos, candidaturas y candidaturas independientes.",9.1,"Aprobación de topes de gastos de campaña para Gubernatura","OPL","CG","2022-01-01","2022-03-19"]
[3,"Hidalgo","Candidaturas Independientes",10.1,"Emisión de la convocatoria para la ciudadanía interesada en participar a una Candidatura Independiente.","OPL","CG","2021-10-01","2021-10-31"]
[3,"Hidalgo","Candidaturas Independientes",10.199999999999999,"Recepción de escrito de intención y documentación anexa de las y los ciudadanos que aspiren a la candidatura independiente para Gubernatura","OPL","OD","2021-10-30","2021-12-12"]
[3,"Hidalgo","Candidaturas Independientes",10.5,"Resolución sobre procedencia de manifestación de intención de las y los aspirantes a candidaturas independientes para Gubernatura","OPL","CG","2021-12-12","2021-12-12"]
[3,"Hidalgo","Candidaturas Independientes",10.8,"Plazo para obtener el apoyo ciudadano de las candidaturas independientes para Gubernatura","OPL","OD","2021-12-13","2022-02-10"]
[3,"Hidalgo","Candidaturas Independientes",10.11,"Verificar la situación registral de las y los ciudadanos inscritos en la Lista Nominal, que presenten las y los Aspirantes a Candidaturas Independientes para los diversos cargos de elección popular a nivel local.","INE/OPL","DERFE","2022-02-11","2022-02-17"]
[3,"Hidalgo","Candidaturas Independientes",10.119999999999999,"Plazo para otorgar las constancias de porcentaje a favor de la o el aspirante a la candidatura independiente para Gubernatura","OPL","CG","2022-02-28","2022-03-18"]
[3,"Hidalgo","Candidaturas",11.1,"Registro de plataformas electorales","OPL","CG","2021-12-16","2021-12-30"]
[3,"Hidalgo","Candidaturas",11.2,"Solicitud de registro de convenio de coalición para Gubernatura","OPL","CG","2021-12-15","2022-01-02"]
[3,"Hidalgo","Candidaturas",11.5,"Resolución sobre Convenio de Coalición para Gubernatura","OPL","CG","2021-12-25","2022-01-12"]
[3,"Hidalgo","Candidaturas",11.8,"Precampaña para Gubernatura","OPL","CG","2022-01-02","2022-02-10"]
[3,"Hidalgo","Candidaturas",11.14,"Solicitud de registro de Candidaturas para Gubernatura","OPL","CG/OD","2022-03-19","2022-03-23"]
[3,"Hidalgo","Candidaturas",11.18,"Resolución para aprobar las candidaturas para Gubernatura","OPL","CG","2022-03-31","2022-03-31"]
[3,"Hidalgo","Candidaturas",11.22,"Solicitud de registro de candidaturas comunes para Gubernatura","OPL","CG","2022-02-01","2022-03-06"]
[3,"Hidalgo","Candidaturas",11.25,"Resolución para aprobar las candidaturas comunes para Gubernatura","OPL","CG","2022-02-06","2022-03-14"]
[3,"Hidalgo","Candidaturas",11.28,"Campaña para Gubernatura","OPL","CG","2022-04-03","2022-06-01"]
[3,"Hidalgo","Candidaturas",11.34,"Aprobación de la distribución de financiamiento público para partidos políticos","OPL","CG","2021-10-01","2021-10-31"]
[3,"Hidalgo","Debates",12.1,"Aprobación de las fechas en que se celebrarán los debates para gubernatura","OPL","CG","2021-12-15","2022-04-03"]
[3,"Hidalgo","Debates",12.2,"Realización del primer debate para gubernatura","OPL","CG","2022-04-21","2022-04-21"]
[3,"Hidalgo","Debates",12.3,"Realización del segundo debate para gubernatura","OPL","CG","2022-05-04","2022-05-04"]
[3,"Hidalgo","Debates",12.4,"Realización del tercer debate para gubernatura","OPL","CG","2022-05-24","2022-05-24"]
[3,"Hidalgo","Documentación y material electoral",13.1,"Aprobación de los formatos únicos con los diseños y especificaciones técnicas de la documentación y materiales electorales","INE","COTSPEL","2021-08-15","2021-09-06"]
[3,"Hidalgo","Documentación y material electoral",13.2,"Entrega a la Dirección Ejecutiva de Organización Electoral del INE, de los diseños y especificaciones técnicas de la documentación y materiales electorales, en medios impresos y electrónicos","OPL","CG","2021-09-01","2021-11-10"]
[3,"Hidalgo","Documentación y material electoral",13.3,"Validación de los documentos y materiales electorales y especificaciones técnicas, con las observaciones subsanadas","INE","DEOE","2021-11-01","2021-12-15"]
[3,"Hidalgo","Documentación y material electoral",13.4,"Aprobación de la documentación y material electoral","OPL","CG","2021-11-15","2021-12-31"]
[3,"Hidalgo","Documentación y material electoral",13.5,"Entrega a la Dirección Ejecutiva de Organización Electoral del INE, del Reporte con los resultados de las verificaciones de las medidas de seguridad en la documentación electoral y líquido indeleble","OPL","CG","2022-05-25","2022-06-17"]
[3,"Hidalgo","Documentación y material electoral",13.6,"Supervisiones respecto de los procedimientos de impresión y producción de la documentación y materiales electorales","INE","DEOE","2022-03-16","2022-05-31"]
[3,"Hidalgo","Documentación y material electoral",13.7,"Designación de la persona responsable de llevar el control sobre la asignación de los folios de las boletas que se distribuirán en cada mesa directiva de casilla","OPL","OD","2022-03-01","2022-03-30"]
[3,"Hidalgo","Documentación y material electoral",13.8,"Aprobación de SE y CAE, así como de personal que auxiliará en el procedimiento de conteo, sellado y agrupamiento de las boletas electorales; así como la integración de documentación que será entregada a las presidencias de mesa directiva de casilla","OPL","OD","2022-04-24","2022-05-11"]
[3,"Hidalgo","Documentación y material electoral",13.9,"Recepción de las boletas electorales por el órgano competente que realizará el conteo, sellado y agrupamiento","OPL","OD","2022-05-18","2022-05-21"]
[3,"Hidalgo","Documentación y material electoral",13.1,"Conteo, sellado y agrupamiento de boletas e integración de la caja paquete electoral","OPL","OD","2022-05-18","2022-05-27"]
[3,"Hidalgo","Documentación y material electoral",13.11,"Distribución de la documentación y materiales electorales a las Presidencias de mesa directiva de casilla","OPL","OD","2022-05-30","2022-06-03"]
[3,"Hidalgo","Documentación y material electoral",13.12,"Remisión de los recibos de la entrega de la documentación y materiales electorales al Consejo General del OPL","INE","JLE","2022-06-26","2022-07-02"]
[3,"Hidalgo","Jornada Electoral",14.1,"Aprobación del Programa de Operación del SIJE 2022","INE","CG","2021-07-01","2021-07-31"]
[3,"Hidalgo","Jornada Electoral",14.2,"Aprobación de las metas del SIJE 2022","INE","CG","2022-03-01","2022-03-31"]
[3,"Hidalgo","Jornada Electoral",14.3,"Presentación del Manual de Operación del SIJE 2022","INE","COTSPEL","2022-03-01","2022-03-31"]
[3,"Hidalgo","Jornada Electoral",14.4,"Realización de pruebas del SIJE 2022","INE","DEOE","2022-04-04","2022-04-15"]
[3,"Hidalgo","Jornada Electoral",14.5,"Desarrollo del primer simulacro del SIJE","INE/OPL","DEOE/OD","2022-04-28","2022-04-28"]
[3,"Hidalgo","Jornada Electoral",14.6,"Desarrollo del segundo simulacro del SIJE","INE/OPL","DEOE/OD","2022-05-08","2022-05-08"]
[3,"Hidalgo","Jornada Electoral",14.7,"Desarrollo del tercer simulacro del SIJE","INE/OPL","DEOE/OD","2022-05-22","2022-05-22"]
[3,"Hidalgo","Jornada Electoral",14.8,"Jornada Electoral","OPL","CG/OD","2022-06-05","2022-06-05"]
[3,"Hidalgo","Bodegas electorales",15.1,"Determinación de los lugares que ocuparán las bodegas electorales para el resguardo de la documentación electoral","OPL","CG","2022-02-01","2022-02-28"]
[3,"Hidalgo","Bodegas electorales",15.3,"Informe que rinden las y los Presidentes sobre las condiciones de equipamiento, mecanismos de operación y medidas de seguridad de las bodegas electorales","OPL","OD","2022-03-01","2022-03-31"]
[3,"Hidalgo","Bodegas electorales",15.2,"Verificación por parte de los órganos desconcentrados del INE de las condiciones y equipamiento de las bodegas electorales del OPL","INE/OPL","JLE/JDE/OD","2022-03-01","2022-03-31"]
[3,"Hidalgo","Bodegas electorales",15.4,"Designación, por parte del órgano competente del OPL, del personal que tendrá acceso a la bodega electoral","OPL","CG/OD","2022-03-01","2022-03-30"]
[3,"Hidalgo","Bodegas electorales",15.5,"Envío del informe presentado ante el Consejo General, sobre las condiciones que guardan las bodegas electorales del Órgano Central y desconcentrados del OPL","OPL","CG","2022-04-03","2022-04-09"]
[3,"Hidalgo","Mecanismos de recolección",16.100000000000001,"Entrega de estudios de factibilidad al OPL","INE","CL","2022-03-16","2022-03-31"]
[3,"Hidalgo","Mecanismos de recolección",16.2,"Entrega de observaciones a los estudios de factibilidad","OPL","CG","2022-04-17","2022-04-23"]
[3,"Hidalgo","Mecanismos de recolección",16.3,"Recorridos para verificar las propuestas de los mecanismos de recolección","INE/OPL","CD/OD","2022-03-17","2022-04-23"]
[3,"Hidalgo","Mecanismos de recolección",16.399999999999999,"Aprobación de los mecanismos de recolección","INE","CD","2022-04-24","2022-04-30"]
[3,"Hidalgo","Mecanismos de recolección",16.5,"Traslado y recolección de los paquetes electorales","INE","CD","2022-06-05","2022-06-06"]
[3,"Hidalgo","Mecanismos de recolección",16.600000000000001,"Acreditación de representantes de partidos políticos y candidaturas independientes ante los mecanismos de recolección","INE","CL/CD","2022-04-25","2022-06-02"]
[3,"Hidalgo","Mecanismos de recolección",16.7,"Sustitución de representantes de partidos políticos y candidaturas independientes ante los mecanismos de recolección","INE","CL/CD","2022-04-26","2022-06-03"]
[3,"Hidalgo","Mecanismos de recolección",16.8,"Entrega a la JLE del informe sobre la recepción de paquetes electorales en los órganos competentes","INE","CD","2022-06-05","2022-06-17"]
[3,"Hidalgo","Cómputos",17.100000000000001,"Aprobación de los lineamientos de cómputo y del cuadernillo de consulta sobre votos válidos y votos nulos","OPL","CG","2022-01-01","2022-02-28"]
[3,"Hidalgo","Cómputos",17.2,"Remisión a la JLE en la entidad, de las propuestas de escenarios de cómputos, para la dictaminación de viabilidad","OPL","CG","2022-03-06","2022-03-13"]
[3,"Hidalgo","Cómputos",17.3,"Remisión de las observaciones a los escenarios de Cómputos al OPL y a su vez informar de las mismas a la UTVOPL","INE","JLE","2022-03-14","2022-03-26"]
[3,"Hidalgo","Cómputos",17.399999999999999,"Asignación de las y los SE y CAE contratados por el INE para los OD del OPL a fin de que apoyen en los cómputos de las elecciones locales","INE","CD","2022-05-01","2022-05-15"]
[3,"Hidalgo","Cómputos",17.600000000000001,"Aprobación por parte del órgano competente del OPL, del acuerdo mediante el cual se designa al personal que participará en las tareas de apoyo a los Cómputos Distritales","OPL","OD","2022-05-01","2022-05-31"]
[3,"Hidalgo","Cómputos",17.7,"Aprobación por parte de los órganos competentes del OPL, de los distintos escenarios de cómputos","OPL","OD","2022-04-01","2022-04-15"]
[3,"Hidalgo","Cómputos",17.8,"El OPL informará el inicio de la creación del programa, sistema o herramienta informática a la UTVOPL y a la Junta Local del INE, así como de sus características y avances","OPL","CG","2022-02-01","2022-02-15"]
[3,"Hidalgo","Cómputos",17.899999999999999,"El OPL remitirá por conducto de la UTVOPL a la DEOE, y en forma directa a la Junta Local del INE, la dirección electrónica en la que se ubicará la aplicación, así como las claves y accesos necesarios para hacer pruebas y simulacros de captura.","OPL","CG","2022-04-01","2022-04-07"]
[3,"Hidalgo","Cómputos",17.100000000000001,"Liberación de la herramienta informática de Cómputos","OPL","CG","2022-04-16","2022-04-30"]
[3,"Hidalgo","Cómputos",17.11,"Realización de dos simulacros en los órganos competentes del OPL sobre el desarrollo de los cómputos en los OD con el uso de la herramienta informática","OPL","CD","2022-05-01","2022-06-03"]
[3,"Hidalgo","Cómputos",17.12,"Aprobación por parte del órgano competente del OPL, del acuerdo por el que se habilitarán espacios para la instalación de grupos de trabajo y, en su caso, puntos de recuento","OPL","CG/OD","2022-06-07","2022-06-07"]
[3,"Hidalgo","Cómputos",17.13,"Cómputos Distritales","OPL","OD","2022-06-08","2022-06-11"]
[3,"Hidalgo","Cómputos",17.149999999999999,"Cómputo Estatal para la Gubernatura","OPL","CG","2022-06-12","2022-06-12"]
[3,"Hidalgo","PREP",18.100000000000001,"Documento por el que se informe la instalación de la Comisión en la que se reporten los trabajos de implementación y operación del PREP.","OPL","CG","2021-09-10","2021-09-10"]
[3,"Hidalgo","PREP",18.2,"Aprobación del Acuerdo por el que se designa o ratifica a la instancia interna responsable de coordinar el PREP","OPL","CG","2021-09-05","2021-09-05"]
[3,"Hidalgo","PREP",18.3,"Aprobación del Acuerdo de Integración del COTAPREP","OPL","CG","2021-11-05","2021-11-05"]
[3,"Hidalgo","PREP",18.399999999999999,"Documento por el que se determina la implementación del PREP por el OPL o con el apoyo de un Tercero","OPL","CG","2021-12-05","2021-12-05"]
[3,"Hidalgo","PREP",18.5,"Aprobación del acuerdo por el que se determina el Proceso Técnico Operativo","OPL","CG","2022-01-05","2022-01-05"]
[3,"Hidalgo","PREP",18.600000000000001,"Aprobación del Acuerdo por el que se determina la ubicación, instalación y habilitación de los CATD y, en su caso, CCV","OPL","CG","2022-02-05","2022-02-05"]
[3,"Hidalgo","PREP",18.7,"Documento de Designación del Ente Auditor","OPL","CG","2022-02-05","2022-02-05"]
[3,"Hidalgo","PREP",18.8,"Instrumento jurídico celebrado entre el OPL y el ente auditor","OPL","CG","2022-03-05","2022-03-05"]
[3,"Hidalgo","PREP",18.899999999999999,"Realización de prueba de funcionalidad del PREP","OPL","CG","2022-04-20","2022-04-20"]
[3,"Hidalgo","PREP",18.100000000000001,"Realización del primer simulacro del PREP","OPL","CG","2022-05-15","2022-05-15"]
[3,"Hidalgo","PREP",18.11,"Realización del segundo simulacro del PREP","OPL","CG","2022-05-22","2022-05-22"]
[3,"Hidalgo","PREP",18.12,"Realización del tercer simulacro del PREP","OPL","CG","2022-05-29","2022-05-29"]
[3,"Hidalgo","PREP",18.13,"Operación del PREP","OPL","CG","2022-06-05","2022-06-06"]
[3,"Hidalgo","Conteo Rápido",19.100000000000001,"Aprobación del Acuerdo de Integración del COTECORA","INE","CG","2022-02-01","2022-02-04"]
[3,"Hidalgo","Conteo Rápido",19.2,"Realización de pruebas de captura","INE","DERFE/DEOE/UNICOM","2022-04-14","2022-05-05"]
[3,"Hidalgo","Conteo Rápido",19.3,"Realización de primer simulacro del Conteo Rápido","INE","DERFE/DEOE/UNICOM","2022-05-06","2022-05-22"]
[3,"Hidalgo","Conteo Rápido",19.399999999999999,"Realización de segundo simulacro del Conteo Rápido","INE","DERFE/DEOE/UNICOM","2022-05-06","2022-06-04"]
[3,"Hidalgo","Conteo Rápido",19.5,"Selección de la Muestra para el Conteo Rápido","INE","COTECORA","2022-06-01","2022-06-03"]
[3,"Hidalgo","Visitantes extranjeros",21.1,"Emisión de la Convocatoria para visitantes extranjeros","INE","CG","2021-09-06","2021-09-30"]
[3,"Hidalgo","Visitantes extranjeros",21.2,"Difusión de la Convocatoria para visitantes extranjeros","INE","CG","2021-09-06","2022-05-25"]
[3,"Hidalgo","Visitantes extranjeros",21.3,"Recepción de solicitudes de acreditación como visitantes extranjeros","INE","CG","2021-09-06","2022-05-25"]
[3,"Hidalgo","Visitantes extranjeros",21.4,"Resolución de solicitudes de acreditación como visitantes extranjeros","INE","CG","2021-09-07","2022-05-30"]
[3,"Hidalgo","Visitantes extranjeros",21.5,"Entrega de acreditaciones a los visitantes extranjeros","INE","CG","2022-05-27","2022-06-04"]
[4,"Oaxaca","Mecanismos de coordinación",1.1000000000000001,"Aprobar Calendarios y Planes Integrales de los Procesos Electorales Locales","INE","CG","2021-08-05","2021-08-11"]
[4,"Oaxaca","Mecanismos de coordinación",1.2,"Elaborar un plan de trabajo conjunto para la promoción de la participación ciudadana","INE/OPL","DECEYEC/JLE/OPL","2021-11-03","2021-12-15"]
[4,"Oaxaca","Mecanismos de coordinación",1.3,"Sesión para dar inicio al PEL","OPL","CG","2021-09-05","2021-09-11"]
[4,"Oaxaca","Mecanismos de coordinación",1.4,"Implementar un plan de trabajo conjunto para la promoción de la participación ciudadana","INE/OPL","DECEYEC/JLE/OPL","2022-02-01","2022-06-04"]
[4,"Oaxaca","Mecanismos de coordinación",1.5,"Presentar un informe parcial de Programa de Promoción de la Participación Ciudadana a la comisión correspondiente","INE/OPL","DECEYEC/JLE/OPL","2022-02-01","2022-04-30"]
[4,"Oaxaca","Mecanismos de coordinación",1.6,"Presentar un informe final de Programa de Promoción de la Participación Ciudadana a la comisión correspondiente","INE/OPL","DECEYEC/JLE/OPL","2022-05-01","2022-09-04"]
[4,"Oaxaca","Integración de órganos desconcentrados",2.1,"Convocatoria para la integración de los Órganos Distritales","OPL","CG","2021-09-05","2021-09-11"]
[4,"Oaxaca","Integración de órganos desconcentrados",2.2000000000000002,"Sesión en la que se designan e integran los Órganos Distritales","OPL","CG","2021-11-01","2021-11-29"]
[4,"Oaxaca","Integración de órganos desconcentrados",2.2999999999999998,"Instalación de los Órganos Distritales","OPL","OD","2021-11-30","2021-11-30"]
[4,"Oaxaca","Integración de órganos desconcentrados",2.7,"Designación y/o ratificación de las y los Consejeros Electorales del Consejo Local","INE","CG","2021-07-01","2021-08-31"]
[4,"Oaxaca","Integración de órganos desconcentrados",2.8,"Instalación del Consejo Local","INE","CL","2021-09-30","2021-09-30"]
[4,"Oaxaca","Integración de órganos desconcentrados",2.9,"Designación y/o ratificación de las y los Consejeros Electorales de los Consejos Distritales","INE","CL","2021-10-01","2021-11-29"]
[4,"Oaxaca","Integración de órganos desconcentrados",2.1,"Instalación de los Consejos Distritales","INE","CD","2021-11-30","2021-11-30"]
[4,"Oaxaca","Integración de órganos desconcentrados",2.11,"Publicación de la integración de los Consejos Locales y Distritales del INE","INE","CL","2022-01-17","2022-01-31"]
[4,"Oaxaca","Lista Nominal de Electores",3.1,"Entrega del catálogo cartográfico","INE","DERFE","2022-01-15","2022-02-28"]
[4,"Oaxaca","Lista Nominal de Electores",3.2,"Generación y entrega de la Lista Nominal de Electores para Revisión en medios ópticos a los representantes de los partidos políticos","INE","DERFE","2022-02-15","2022-02-15"]
[4,"Oaxaca","Lista Nominal de Electores",3.3,"Elaborar los archivos de conformación de casillas extraordinarias y asignación de registros sin soporte cartográfico para la impresión del Listado Nominal para el Proceso Electoral","INE","DERFE","2022-03-01","2022-05-31"]
[4,"Oaxaca","Lista Nominal de Electores",3.4,"Recepción de observaciones de los partidos políticos y en su caso, candidatos independientes, a la Lista Nominal de Electores para revisión","INE/OPL","DERFE","2022-03-14","2022-03-14"]
[4,"Oaxaca","Lista Nominal de Electores",3.5,"Entrega en formato digital el informe respecto de la atención a las observaciones formuladas a la Lista Nominal de Electores para Revisión","INE","DERFE","2022-04-18","2022-04-18"]
[4,"Oaxaca","Lista Nominal de Electores",3.6,"Entrega de la Lista Nominal de Electores Definitiva con fotografía","INE","DERFE","2022-05-05","2022-05-05"]
[4,"Oaxaca","Lista Nominal de Electores",3.7,"Entrega de la Lista Nominal de Electores con fotografía Producto de Instancias Administrativas y Resoluciones del Tribunal (ADENDA)","INE","DERFE","2022-05-24","2022-05-24"]
[4,"Oaxaca","Gestión de credencial para votar",4.0999999999999996,"Atender los trámites de la ciudadanía que acude a los Módulos de Atención Ciudadana a inscribirse y a actualizar su situación registral en el Padrón Electoral","INE","DERFE","2021-09-01","2022-01-31"]
[4,"Oaxaca","Gestión de credencial para votar",4.2,"Atender los trámites de la ciudadanía que acude a los Módulos de Atención Ciudadana a solicitar la reposición de su CPV por robo, extravío o deterioro grave","INE","DERFE","2021-09-01","2022-02-07"]
[4,"Oaxaca","Gestión de credencial para votar",4.3,"Entregar la Credencial para Votar con Fotografía a los ciudadanos en las Oficinas o Módulos de Atención Ciudadana que determine el INE","INE","DERFE","2021-09-01","2022-04-11"]
[4,"Oaxaca","Gestión de credencial para votar",4.4000000000000004,"Atender solicitudes de reimpresión de Credencial para Votar por extravío o robo","INE","DERFE","2022-02-08","2022-05-20"]
[4,"Oaxaca","Gestión de credencial para votar",4.5,"Resguardar las Credenciales para Votar que no fueron recogidas por sus titulares hasta el 11 de abril y hasta el 03 de junio de 2022, derivadas de Instancias Administrativas, Demandas de Juicio o de solicitudes de reimpresión","INE","DERFE","2022-04-24","2022-06-04"]
[4,"Oaxaca","Observación Electoral",5.0999999999999996,"Emisión de la convocatoria para la ciudadanía que desee participar en la observación electoral","OPL","CG","2021-09-05","2021-09-11"]
[4,"Oaxaca","Observación Electoral",5.2,"Recepción de solicitudes de la ciudadanía que desee participar en la observación electoral","INE/OPL","OPL/JL/JD","2021-09-05","2022-05-07"]
[4,"Oaxaca","Observación Electoral",5.3,"Impartición de los cursos de capacitación, preparación o información","INE/OPL","OPL/JL/JD","2021-09-05","2022-05-16"]
[4,"Oaxaca","Observación Electoral",5.4,"Acreditación de la ciudadanía como observadores u observadoras electorales","INE","CL/CD","2021-09-05","2022-06-04"]
[4,"Oaxaca","Observación Electoral",5.5,"Seguimiento a los informes mensuales de acreditación de Observadores Electores","INE","CG","2021-09-05","2022-07-31"]
[4,"Oaxaca","Observación Electoral",5.6,"Remisión de materiales de capacitación a la JLE para revisión","OPL","CG/DECEYEC","2021-08-30","2021-08-30"]
[4,"Oaxaca","Observación Electoral",5.7,"Revisión, corrección, verificación y validación de materiales de capacitación para observadores electorales","INE","JLE/ DECEYEC","2021-08-30","2021-09-30"]
[4,"Oaxaca","Ubicación de casillas",6.1,"Recorridos por las secciones de los distritos para localizar los lugares donde se ubicarán las casillas","INE","JDE","2022-01-15","2022-02-15"]
[4,"Oaxaca","Ubicación de casillas",6.2,"Presentación a los Consejos Distritales del listado de lugares propuestos para ubicar casillas","INE","JDE","2022-02-24","2022-02-24"]
[4,"Oaxaca","Ubicación de casillas",6.3,"Visitas de examinación en los lugares propuestos para ubicar casillas básicas, contiguas, especiales y extraordinarias","INE","CD","2022-02-25","2022-03-15"]
[4,"Oaxaca","Ubicación de casillas",6.4,"Aprobación del número y ubicación de casillas extraordinarias y especiales","INE","CD","2022-03-15","2022-03-15"]
[4,"Oaxaca","Ubicación de casillas",6.5,"Aprobación del número y ubicación de casillas básicas y contiguas","INE","CD","2022-03-28","2022-03-28"]
[4,"Oaxaca","Ubicación de casillas",6.6,"Entrega de la base de datos de la Lista Nominal Definitiva a UNICOM con corte al 11 de abril","INE","DERFE","2022-04-18","2022-04-18"]
[4,"Oaxaca","Ubicación de casillas",6.7,"Realizar la primera publicación de la lista de ubicación de casillas en los lugares más concurridos del distrito electoral y en los medios electrónicos del Instituto","INE","CD","2022-04-15","2022-04-15"]
[4,"Oaxaca","Ubicación de casillas",6.8,"En su caso, segunda publicación de la lista de ubicación de casillas por causas supervenientes en los lugares más concurridos del distrito y en los medios electrónicos del Instituto","INE","CD","2022-05-15","2022-05-25"]
[4,"Oaxaca","Ubicación de casillas",6.9,"Publicación de los encartes y difusión en medios electrónicos del Instituto","INE/OPL","DEOE/CG","2022-06-04","2022-06-05"]
[4,"Oaxaca","Ubicación de casillas",6.1,"Registro de representantes generales y ante mesas directivas de casilla","INE","CD","2022-04-16","2022-05-23"]
[4,"Oaxaca","Ubicación de casillas",6.11,"Sustitución de representantes generales y ante mesas directivas de casilla","INE","CD","2022-04-16","2022-05-26"]
[4,"Oaxaca","Ubicación de casillas",6.12,"Entrega de listados de representantes generales y ante casilla al OPL","INE","CD","2022-05-28","2022-05-29"]
[4,"Oaxaca","Ubicación de casillas",6.13,"Avisos domiciliarios para ubicación de casillas en secciones electorales involucradas en Actualizaciones del Marco Geográfico Electoral","INE/OPL","DERFE/OPL","2022-04-01","2022-06-16"]
[4,"Oaxaca","Ubicación de casillas",6.14,"Notificación de la casilla en que votará la ciudadanía residente en secciones en las que el Consejo Distrital determinó no instalar casillas por las causales previstas en el artículo 234 del RE","INE","CD","2022-05-01","2022-05-31"]
[4,"Oaxaca","Integración de las Mesas Directivas de Casilla",7.1,"Aprobación de la Estrategia de Capacitación y Asistencia Electoral","INE","CG/DECEYEC","2021-08-01","2021-08-31"]
[4,"Oaxaca","Integración de las Mesas Directivas de Casilla",7.2,"Sorteo del mes del calendario como base para la insaculación de las y los ciudadanos que integrarán las mesas directivas de casilla","INE","CG/DECEYEC","2021-12-01","2021-12-31"]
[4,"Oaxaca","Integración de las Mesas Directivas de Casilla",7.3,"Entrega de modelos para que los OPL elaboren materiales didácticos para la ciudadanía sorteada y para las y los funcionarios de casilla","INE","DECEYEC/JLE","2021-10-04","2021-11-30"]
[4,"Oaxaca","Integración de las Mesas Directivas de Casilla",7.4,"Revisión, corrección y validación de los materiales didácticos para la ciudadanía sorteada y para las y los funcionarios de casilla","OPL/INE","OPL/JLE/\nDECEYEC","2021-11-11","2022-03-14"]
[4,"Oaxaca","Integración de las Mesas Directivas de Casilla",7.5,"Entrega a la JLE de los materiales didácticos impresos para la primera y segunda etapa elaborados por parte de los OPL","INE/OPL","JLE/CG","2022-01-20","2022-03-28"]
[4,"Oaxaca","Integración de las Mesas Directivas de Casilla",7.6,"Reclutamiento Selección y contratación de SE y CAE","INE/OPL","INE/OPL","2021-10-18","2022-01-19"]
[4,"Oaxaca","Integración de las Mesas Directivas de Casilla",7.7,"Seguimiento a la aplicación de procediemientos de reclutamiento, selección y contratacion de SE y CAE","INE","DECEYEC/JLE/JD","2021-10-18","2022-01-19"]
[4,"Oaxaca","Integración de las Mesas Directivas de Casilla",7.8,"Sorteo de la letra a partir de la cual, con base en el apellido paterno, se seleccionará a las y los ciudadanos que integrarán las mesas directivas de casilla","INE","CG","2022-02-01","2022-02-28"]
[4,"Oaxaca","Integración de las Mesas Directivas de Casilla",7.9,"Entrega de la Lista Nominal de Electores para el Procedimiento de la Primera insaculación","INE","DERFE/UNICOM","2022-01-21","2022-01-25"]
[4,"Oaxaca","Integración de las Mesas Directivas de Casilla",7.1,"Procesar los archivos de conformación de secciones electorales\ncon casilla extraordinaria para la primera insaculación","INE","DERFE","2022-01-21","2022-01-25"]
[4,"Oaxaca","Integración de las Mesas Directivas de Casilla",7.11,"Primera insaculación","INE","DECEYEC","2022-02-01","2022-02-07"]
[4,"Oaxaca","Integración de las Mesas Directivas de Casilla",7.12,"Primera etapa de capacitación a las personas insaculadas","INE","CD","2022-02-09","2022-03-31"]
[4,"Oaxaca","Integración de las Mesas Directivas de Casilla",7.13,"Seguimiento a la aplicación de procediemientos de la primera etapa de capacitacion electoral","INE","DECEYEC/JLE/JD","2022-02-09","2022-03-31"]
[4,"Oaxaca","Integración de las Mesas Directivas de Casilla",7.14,"Segunda insaculación y designación de funcionarios para mesas directivas de casilla","INE","DECEYEC","2022-04-01","2022-04-08"]
[4,"Oaxaca","Integración de las Mesas Directivas de Casilla",7.15,"Segunda estapa de capacitación a funcionarios de mesa directiva de casilla y simulacros","INE","CD","2022-04-09","2022-06-04"]
[4,"Oaxaca","Integración de las Mesas Directivas de Casilla",7.16,"Seguimiento a la aplicación de procediemientos de la segunda etapa de capacitacion electoral","INE","DECEYEC/JLE/JD","2022-04-10","2022-06-04"]
[4,"Oaxaca","Integración de las Mesas Directivas de Casilla",7.17,"Entrega de reconocimientos a funcionarios de mesas directivas de casilla","INE","CD","2022-06-06","2022-06-12"]
[4,"Oaxaca","Fiscalización",8.1,"Planeación de la Fiscalización","INE","UTF","2021-07-26","2022-02-28"]
[4,"Oaxaca","Fiscalización",8.1999999999999993,"Fiscalización del periodo de precampaña y obtención del apoyo de la ciudadanía","INE","UTF","2021-11-22","2022-05-16"]
[4,"Oaxaca","Fiscalización",8.3000000000000007,"Fiscalización del periodo de campaña","INE","UTF","2022-03-04","2022-08-01"]
[4,"Oaxaca","Obligaciones y prerrogativas financieras de los partidos, candidaturas y candidaturas independientes.",9.1,"Aprobación de topes de gastos de precampaña Gubernatura","OPL","CG","2021-11-01","2021-11-30"]
[4,"Oaxaca","Obligaciones y prerrogativas financieras de los partidos, candidaturas y candidaturas independientes.",9.4,"Aprobación de los límites de financiamiento privado, aportaciones de militantes, simpatizantes y precandidaturas o candidaturas; así como el límite individual de aportaciones para Gubernatura","OPL","CG","2022-01-01","2022-01-15"]
[4,"Oaxaca","Obligaciones y prerrogativas financieras de los partidos, candidaturas y candidaturas independientes.",9.6999999999999993,"Aprobación de topes de gastos para el periodo de obtención del apoyo ciudadano para Gubernatura","OPL","CG","2021-11-01","2021-11-30"]
[4,"Oaxaca","Obligaciones y prerrogativas financieras de los partidos, candidaturas y candidaturas independientes.",9.1,"Aprobación de topes de gastos de campaña para Gubernatura","OPL","CG","2022-01-01","2022-01-31"]
[4,"Oaxaca","Candidaturas Independientes",10.1,"Emisión de la convocatoria para la ciudadanía interesada en participar a una Candidatura Independiente.","OPL","CG","2021-09-05","2021-09-11"]
[4,"Oaxaca","Candidaturas Independientes",10.199999999999999,"Recepción de escrito de intención y documentación anexa de las y los ciudadanos que aspiren a la candidatura independiente para Gubernatura","OPL","OD","2021-09-12","2021-12-12"]
[4,"Oaxaca","Candidaturas Independientes",10.5,"Resolución sobre procedencia de manifestación de intención de las y los aspirantes a candidaturas independientes para Gubernatura","OPL","CG","2021-12-12","2021-12-12"]
[4,"Oaxaca","Candidaturas Independientes",10.8,"Plazo para obtener el apoyo ciudadano de las candidaturas independientes para Gubernatura","OPL","OD","2021-12-13","2022-02-10"]
[4,"Oaxaca","Candidaturas Independientes",10.11,"Verificar la situación registral de las y los ciudadanos inscritos en la Lista Nominal, que presenten las y los Aspirantes a Candidaturas Independientes para los diversos cargos de elección popular a nivel local.","INE/OPL","DERFE","2022-02-15","2022-03-30"]
[4,"Oaxaca","Candidaturas Independientes",10.119999999999999,"Plazo para otorgar las constancias de porcentaje a favor de la o el aspirante a la candidatura independiente para Gubernatura","OPL","CG","2022-02-11","2022-02-28"]
[4,"Oaxaca","Candidaturas",11.1,"Registro de plataformas electorales","OPL","CG","2021-11-16","2021-11-30"]
[4,"Oaxaca","Candidaturas",11.2,"Solicitud de registro de convenio de coalición para Gubernatura","OPL","CG","2021-12-01","2022-01-02"]
[4,"Oaxaca","Candidaturas",11.5,"Resolución sobre Convenio de Coalición para Gubernatura","OPL","CG","2022-01-02","2022-02-10"]
[4,"Oaxaca","Candidaturas",11.8,"Precampaña para Gubernatura","OPL","CG","2022-01-02","2022-02-10"]
[4,"Oaxaca","Candidaturas",11.14,"Solicitud de registro de Candidaturas para Gubernatura","OPL","CG/OD","2022-03-01","2022-03-15"]
[4,"Oaxaca","Candidaturas",11.18,"Resolución para aprobar las candidaturas para Gubernatura","OPL","CG","2022-03-16","2022-04-02"]
[4,"Oaxaca","Candidaturas",11.22,"Solicitud de registro de candidaturas comunes para Gubernatura","OPL","CG","2022-03-01","2022-03-15"]
[4,"Oaxaca","Candidaturas",11.25,"Resolución para aprobar las candidaturas comunes para Gubernatura","OPL","CG","2022-03-16","2022-04-02"]
[4,"Oaxaca","Candidaturas",11.28,"Campaña para Gubernatura","OPL","CG","2022-04-03","2022-06-01"]
[4,"Oaxaca","Candidaturas",11.34,"Aprobación de la distribución de financiamiento público para partidos políticos","OPL","CG","2022-01-01","2022-01-31"]
[4,"Oaxaca","Debates",12.1,"Aprobación de las fechas en que se celebrarán los debates para gubernatura","OPL","CG","2022-03-03","2022-04-02"]
[4,"Oaxaca","Debates",12.2,"Realización del primer debate para gubernatura","OPL","CG","2022-04-03","2022-06-01"]
[4,"Oaxaca","Debates",12.3,"Realización del segundo debate para gubernatura","OPL","CG","2022-04-03","2022-06-01"]
[4,"Oaxaca","Documentación y material electoral",13.1,"Aprobación de los formatos únicos con los diseños y especificaciones técnicas de la documentación y materiales electorales","INE","COTSPEL","2021-08-15","2021-09-06"]
[4,"Oaxaca","Documentación y material electoral",13.2,"Entrega a la Dirección Ejecutiva de Organización Electoral del INE, de los diseños y especificaciones técnicas de la documentación y materiales electorales, en medios impresos y electrónicos","OPL","CG","2021-09-01","2021-11-10"]
[4,"Oaxaca","Documentación y material electoral",13.3,"Validación de los documentos y materiales electorales y especificaciones técnicas, con las observaciones subsanadas","INE","DEOE","2021-11-01","2021-12-15"]
[4,"Oaxaca","Documentación y material electoral",13.4,"Aprobación de la documentación y material electoral","OPL","CG","2021-11-15","2021-12-31"]
[4,"Oaxaca","Documentación y material electoral",13.5,"Entrega a la Dirección Ejecutiva de Organización Electoral del INE, del Reporte con los resultados de las verificaciones de las medidas de seguridad en la documentación electoral y líquido indeleble","OPL","CG","2022-05-25","2022-06-17"]
[4,"Oaxaca","Documentación y material electoral",13.6,"Supervisiones respecto de los procedimientos de impresión y producción de la documentación y materiales electorales","INE","DEOE","2022-03-16","2022-05-31"]
[4,"Oaxaca","Documentación y material electoral",13.7,"Designación de la persona responsable de llevar el control sobre la asignación de los folios de las boletas que se distribuirán en cada mesa directiva de casilla","OPL","OD","2022-03-01","2022-03-30"]
[4,"Oaxaca","Documentación y material electoral",13.8,"Aprobación de SE y CAE, así como de personal que auxiliará en el procedimiento de conteo, sellado y agrupamiento de las boletas electorales; así como la integración de documentación que será entregada a las presidencias de mesa directiva de casilla","OPL","OD","2022-04-24","2022-05-11"]
[4,"Oaxaca","Documentación y material electoral",13.9,"Recepción de las boletas electorales por el órgano competente que realizará el conteo, sellado y agrupamiento","OPL","OD","2022-05-18","2022-05-21"]
[4,"Oaxaca","Documentación y material electoral",13.1,"Conteo, sellado y agrupamiento de boletas e integración de la caja paquete electoral","OPL","OD","2022-05-18","2022-05-27"]
[4,"Oaxaca","Documentación y material electoral",13.11,"Distribución de la documentación y materiales electorales a las Presidencias de mesa directiva de casilla","OPL","OD","2022-05-30","2022-06-03"]
[4,"Oaxaca","Documentación y material electoral",13.12,"Remisión de los recibos de la entrega de la documentación y materiales electorales al Consejo General del OPL","INE","JLE","2022-06-26","2022-07-02"]
[4,"Oaxaca","Jornada Electoral",14.1,"Aprobación del Programa de Operación del SIJE 2022","INE","CG","2021-07-01","2021-07-31"]
[4,"Oaxaca","Jornada Electoral",14.2,"Aprobación de las metas del SIJE 2022","INE","CG","2022-03-01","2022-03-31"]
[4,"Oaxaca","Jornada Electoral",14.3,"Presentación del Manual de Operación del SIJE 2022","INE","COTSPEL","2022-03-01","2022-03-31"]
[4,"Oaxaca","Jornada Electoral",14.4,"Realización de pruebas del SIJE 2022","INE","DEOE","2022-04-04","2022-04-15"]
[4,"Oaxaca","Jornada Electoral",14.5,"Desarrollo del primer simulacro del SIJE","INE/OPL","DEOE/OD","2022-04-28","2022-04-28"]
[4,"Oaxaca","Jornada Electoral",14.6,"Desarrollo del segundo simulacro del SIJE","INE/OPL","DEOE/OD","2022-05-08","2022-05-08"]
[4,"Oaxaca","Jornada Electoral",14.7,"Desarrollo del tercer simulacro del SIJE","INE/OPL","DEOE/OD","2022-05-22","2022-05-22"]
[4,"Oaxaca","Jornada Electoral",14.8,"Jornada Electoral","OPL","CG/OD","2022-06-05","2022-06-05"]
[4,"Oaxaca","Bodegas electorales",15.1,"Determinación de los lugares que ocuparán las bodegas electorales para el resguardo de la documentación electoral","OPL","CG","2022-02-01","2022-02-28"]
[4,"Oaxaca","Bodegas electorales",15.2,"Verificación por parte de los órganos desconcentrados del INE de las condiciones y equipamiento de las bodegas electorales del OPL","INE/OPL","JLE/JDE/OD","2022-03-01","2022-03-31"]
[4,"Oaxaca","Bodegas electorales",15.3,"Informe que rinden las y los Presidentes sobre las condiciones de equipamiento, mecanismos de operación y medidas de seguridad de las bodegas electorales","OPL","OD","2022-03-01","2022-03-31"]
[4,"Oaxaca","Bodegas electorales",15.4,"Designación, por parte del órgano competente del OPL, del personal que tendrá acceso a la bodega electoral","OPL","CG/OD","2022-03-01","2022-03-30"]
[4,"Oaxaca","Bodegas electorales",15.5,"Envío del informe presentado ante el Consejo General, sobre las condiciones que guardan las bodegas electorales del Órgano Central y desconcentrados del OPL","OPL","CG","2022-04-03","2022-04-09"]
[4,"Oaxaca","Mecanismos de recolección",16.100000000000001,"Entrega de estudios de factibilidad al OPL","INE","CL","2022-03-16","2022-03-31"]
[4,"Oaxaca","Mecanismos de recolección",16.2,"Entrega de observaciones a los estudios de factibilidad","OPL","CG","2022-04-17","2022-04-23"]
[4,"Oaxaca","Mecanismos de recolección",16.3,"Recorridos para verificar las propuestas de los mecanismos de recolección","INE/OPL","CD/OD","2022-03-17","2022-04-23"]
[4,"Oaxaca","Mecanismos de recolección",16.399999999999999,"Aprobación de los mecanismos de recolección","INE","CD","2022-04-24","2022-04-30"]
[4,"Oaxaca","Mecanismos de recolección",16.5,"Traslado y recolección de los paquetes electorales","INE","CD","2022-06-05","2022-06-06"]
[4,"Oaxaca","Mecanismos de recolección",16.600000000000001,"Acreditación de representantes de partidos políticos y candidaturas independientes ante los mecanismos de recolección","INE","CL/CD","2022-04-25","2022-06-02"]
[4,"Oaxaca","Mecanismos de recolección",16.7,"Sustitución de representantes de partidos políticos y candidaturas independientes ante los mecanismos de recolección","INE","CL/CD","2022-04-26","2022-06-03"]
[4,"Oaxaca","Mecanismos de recolección",16.8,"Entrega a la JLE del informe sobre la recepción de paquetes electorales en los órganos competentes","INE","CD","2022-06-05","2022-06-17"]
[4,"Oaxaca","Cómputos",17.100000000000001,"Aprobación de los lineamientos de cómputo y del cuadernillo de consulta sobre votos válidos y votos nulos","OPL","CG","2022-01-01","2022-02-28"]
[4,"Oaxaca","Cómputos",17.2,"Remisión a la JLE en la entidad, de las propuestas de escenarios de cómputos, para la dictaminación de viabilidad","OPL","CG","2022-03-06","2022-03-13"]
[4,"Oaxaca","Cómputos",17.3,"Remisión de las observaciones a los escenarios de Cómputos al OPL y a su vez informar de las mismas a la UTVOPL","INE","JLE","2022-03-14","2022-03-26"]
[4,"Oaxaca","Cómputos",17.399999999999999,"Asignación de las y los SE y CAE contratados por el INE para los OD del OPL a fin de que apoyen en los cómputos de las elecciones locales","INE","CD","2022-05-01","2022-05-15"]
[4,"Oaxaca","Cómputos",17.7,"Aprobación por parte de los órganos competentes del OPL, de los distintos escenarios de cómputos","OPL","OD","2022-04-01","2022-04-15"]
[4,"Oaxaca","Cómputos",17.8,"El OPL informará el inicio de la creación del programa, sistema o herramienta informática a la UTVOPL y a la Junta Local del INE, así como de sus características y avances","OPL","CG","2022-02-01","2022-02-15"]
[4,"Oaxaca","Cómputos",17.899999999999999,"El OPL remitirá por conducto de la UTVOPL a la DEOE, y en forma directa a la Junta Local del INE, la dirección electrónica en la que se ubicará la aplicación, así como las claves y accesos necesarios para hacer pruebas y simulacros de captura.","OPL","CG","2022-04-01","2022-04-07"]
[4,"Oaxaca","Cómputos",17.100000000000001,"Liberación de la herramienta informática de Cómputos","OPL","CG","2022-04-16","2022-04-30"]
[4,"Oaxaca","Cómputos",17.11,"Realización de dos simulacros en los órganos competentes del OPL sobre el desarrollo de los cómputos en los OD con el uso de la herramienta informática","OPL","CD","2022-05-01","2022-06-03"]
[4,"Oaxaca","Cómputos",17.12,"Aprobación por parte del órgano competente del OPL, del acuerdo por el que se habilitarán espacios para la instalación de grupos de trabajo y, en su caso, puntos de recuento","OPL","CG","2022-06-07","2022-06-07"]
[4,"Oaxaca","Cómputos",17.13,"Cómputos Distritales","OPL","OD","2022-06-08","2022-06-11"]
[4,"Oaxaca","Cómputos",17.149999999999999,"Cómputo Estatal para la Gubernatura","OPL","CG","2022-06-12","2022-06-12"]
[4,"Oaxaca","PREP",18.100000000000001,"Documento por el que se informe la instalación de la Comisión en la que se reporten los trabajos de implementación y operación del PREP.","OPL","CG","2021-10-11","2021-10-15"]
[4,"Oaxaca","PREP",18.2,"Aprobación del Acuerdo por el que se designa o ratifica a la instancia interna responsable de coordinar el PREP","OPL","CG","2021-09-05","2021-09-05"]
[4,"Oaxaca","PREP",18.3,"Aprobación del Acuerdo de Integración del COTAPREP","OPL","CG","2021-11-05","2021-11-05"]
[4,"Oaxaca","PREP",18.399999999999999,"Documento por el que se determina la implementación del PREP por el OPL o con el apoyo de un Tercero","OPL","CG","2021-12-05","2021-12-05"]
[4,"Oaxaca","PREP",18.5,"Aprobación del acuerdo por el que se determina el Proceso Técnico Operativo","OPL","CG","2022-01-05","2022-01-05"]
[4,"Oaxaca","PREP",18.600000000000001,"Aprobación del Acuerdo por el que se determina la ubicación, instalación y habilitación de los CATD y, en su caso, CCV","OPL","CG","2022-02-05","2022-02-05"]
[4,"Oaxaca","PREP",18.7,"Documento de Designación del Ente Auditor","OPL","CG","2022-02-05","2022-02-05"]
[4,"Oaxaca","PREP",18.8,"Instrumento jurídico celebrado entre el OPL y el ente auditor","OPL","CG","2022-03-05","2022-03-05"]
[4,"Oaxaca","PREP",18.899999999999999,"Realización de prueba de funcionalidad del PREP","OPL","CG","2022-04-20","2022-04-20"]
[4,"Oaxaca","PREP",18.100000000000001,"Realización del primer simulacro del PREP","OPL","CG","2022-05-15","2022-05-15"]
[4,"Oaxaca","PREP",18.11,"Realización del segundo simulacro del PREP","OPL","CG","2022-05-22","2022-05-22"]
[4,"Oaxaca","PREP",18.12,"Realización del tercer simulacro del PREP","OPL","CG","2022-05-29","2022-05-29"]
[4,"Oaxaca","PREP",18.13,"Operación del PREP","OPL","CG","2022-06-05","2022-06-06"]
[4,"Oaxaca","Conteo Rápido",19.100000000000001,"Aprobación del Acuerdo de Integración del COTECORA","INE","CG","2022-02-01","2022-02-04"]
[4,"Oaxaca","Conteo Rápido",19.2,"Realización de pruebas de captura","INE","DERFE/DEOE/UNICOM","2022-04-14","2022-05-05"]
[4,"Oaxaca","Conteo Rápido",19.3,"Realización de primer simulacro del Conteo Rápido","INE","DERFE/DEOE/UNICOM","2022-05-06","2022-05-22"]
[4,"Oaxaca","Conteo Rápido",19.399999999999999,"Realización de segundo simulacro del Conteo Rápido","INE","DERFE/DEOE/UNICOM","2022-05-06","2022-06-04"]
[4,"Oaxaca","Conteo Rápido",19.5,"Selección de la Muestra para el Conteo Rápido","INE","COTECORA","2022-06-01","2022-06-03"]
[4,"Oaxaca","Voto de los ciudadanos residentes en el extranjero",20.100000000000001,"Elaboración y aprobación de los Lineamientos para la Conformación de la Lista Nominal de Electores Residentes en el Extranjero para los Procesos Electorales Locales 2021-2022, así como de los Lineamientos para la organización y emisión del Voto de los Mexicanos Residentes en el Extranjero, para los Procesos Electorales Locales 2021-2022","INE","CG/DERFE/UNICOM","2021-07-01","2021-08-31"]
[4,"Oaxaca","Voto de los ciudadanos residentes en el extranjero",20.2,"Elaboración y aprobación del Programa de Mesas de Escrutinio y Cómputo, Capacitación Electoral y Seguimiento del Voto de las y los Mexicanos Residentes en el Extranjero para el Proceso Electoral Local 2021-2022, como parte de la Estrategia de Capacitación y Asistencia Electoral","INE","CG","2021-08-01","2021-08-05"]
[4,"Oaxaca","Voto de los ciudadanos residentes en el extranjero",20.3,"Puesta a disposición de envío de la Solicitud individual de Inscripción a la Lista Nominal de Electores Residentes en el extranjero para procesos electorales locales (SIILNERE), y de la Solicitud Individual para Votar desde el Extranjero (SIVE)","INE","DERFE","2021-09-01","2022-03-10"]
[4,"Oaxaca","Voto de los ciudadanos residentes en el extranjero",20.399999999999999,"Recepción, procesamiento y determinación de procedencia o improcedencia de las Solicitudes de Inscripción a la Lista Nominal de Electores Residentes en el Extranjero","INE","DERFE","2021-09-01","2022-03-18"]
[4,"Oaxaca","Voto de los ciudadanos residentes en el extranjero",20.5,"Presentación ante Comisión para aprobación de materiales didácticos y de apoyo de Primera Etapa de Capacitación Electoral del VMRE","INE","DECEYEC","2021-11-01","2021-12-17"]
[4,"Oaxaca","Voto de los ciudadanos residentes en el extranjero",20.6,"Aprobación del número de mesas de escrutinio y cómputo a instalar","INE","CL","2022-03-31","2022-04-07"]
[4,"Oaxaca","Voto de los ciudadanos residentes en el extranjero",20.7,"Seguimiento a la Primera Insaculación del VMRE","INE","DECEYEC","2022-02-01","2022-02-07"]
[4,"Oaxaca","Voto de los ciudadanos residentes en el extranjero",20.8,"Seguimiento a la Primera Etapa de Capacitación a las personas insaculadas para VMRE","INE","DECEYEC","2022-02-09","2022-03-31"]
[4,"Oaxaca","Voto de los ciudadanos residentes en el extranjero",20.9,"Control de calidad a la instrumentación del procedimiento de integración de Mesas de Escrutinio y Cómputo, en la Primera Etapa de Capacitación por Oficinas Centrales","INE","DECEYEC","2022-03-15","2022-03-31"]
[4,"Oaxaca","Voto de los ciudadanos residentes en el extranjero",20.100000000000001,"Presentación ante Comisión para aprobación de los materiales didácticos y de apoyo del VMRE de Segunda Etapa de Capacitación Electoral","INE","DECEYEC","2022-02-15","2022-03-31"]
[4,"Oaxaca","Voto de los ciudadanos residentes en el extranjero",20.11,"Seguimiento a la Segunda Insaculación y designación de funcionarios para Mesas de Escrutinio y Cómputo del VMRE.","INE","DECEYEC","2022-04-01","2022-04-08"]
[4,"Oaxaca","Voto de los ciudadanos residentes en el extranjero",20.12,"Seguimiento a la Segunda Etapa de capacitación a funcionarios de Mesas de Escrutinio y Cómputo del VMRE; realización de prácticas de la Jornada Electoral y simulacros","INE","DECEYEC","2022-04-10","2022-06-04"]
[4,"Oaxaca","Voto de los ciudadanos residentes en el extranjero",20.13,"Integración de la Lista Nominal de Electores Residentes en el Extranjero para Revisión y observaciones de partidos políticos","INE","DERFE","2022-03-18","2022-04-30"]
[4,"Oaxaca","Voto de los ciudadanos residentes en el extranjero",20.14,"Entrega de la documentación y materiales electorales para el VMRE de los OPL a la DEOE y a la DERFE tratándose del PEP","OPL","CG","2022-04-01","2022-04-30"]
[4,"Oaxaca","Voto de los ciudadanos residentes en el extranjero",20.149999999999999,"Declaración de validez de la Lista Nominal de Electores Residentes en el Extranjero Definitiva","INE","DERFE/DEOE","2022-04-15","2022-04-30"]
[4,"Oaxaca","Voto de los ciudadanos residentes en el extranjero",20.16,"Diseño, preparación y envío de la documentación y materiales electorales a la ciudadanía residente en el extranjero para el ejercicio de su voto","INE","DERFE/DEOE/UNICOM/DECEYEC/CG","2021-11-01","2022-05-31"]
[4,"Oaxaca","Voto de los ciudadanos residentes en el extranjero",20.170000000000002,"Promoción del Voto de los Mexicanos Residentes en el Extranjero (Difusión, Comunicación, Vinculación y Plataformas Digitales)","INE/OPL","DECEYEC/CNCS/DERFE/CG","2021-08-01","2022-06-30"]
[4,"Oaxaca","Voto de los ciudadanos residentes en el extranjero",20.18,"Recepción de Sobres Voto y resguardo","INE","JLE","2022-04-29","2022-06-04"]
[4,"Oaxaca","Voto de los ciudadanos residentes en el extranjero",20.190000000000001,"Integración y aprobación del Listado del personal que realizará las suplencias en las Mesas de Escrutinio y Cómputo","INE","CL","2022-05-16","2022-05-31"]
[4,"Oaxaca","Voto de los ciudadanos residentes en el extranjero",20.2,"Periodo de Socialización del SIVEI (Sistema de Voto Electrónico por Internet)","INE","DERFE/DEOE/DECEYEC/UNICOM","2022-05-07","2022-05-18"]
[4,"Oaxaca","Voto de los ciudadanos residentes en el extranjero",20.21,"Control de calidad en la Instrumentación del procedimiento de integración de Mesas de Escrutinio y Cómputo, en la Segunda Etapa de Capacitación por Oficinas Centrales","INE","DECEYEC","2022-05-15","2022-05-30"]
[4,"Oaxaca","Voto de los ciudadanos residentes en el extranjero",20.22,"Determinación del Local Único para el escrutinio y cómputo de los votos de las y los mexicanos residentes en el extranjero","INE","CL","2022-01-01","2022-04-30"]
[4,"Oaxaca","Voto de los ciudadanos residentes en el extranjero",20.23,"Periodo de Votación del SIVEI (Sistema de Voto Electrónico por Internet)","INE","DERFE/DEOE/DECEYEC/UNICOM","2022-05-21","2022-06-05"]
[4,"Oaxaca","Voto de los ciudadanos residentes en el extranjero",20.239999999999998,"Recepción de los votos por la modalidad respectiva","INE","DERFE/DEOE/UNICOM","2022-05-21","2022-06-05"]
[4,"Oaxaca","Voto de los ciudadanos residentes en el extranjero",20.25,"Preparación, aprobación e implementación de la logística para escrutinio y cómputo de los votos de las y los mexicanos residentes en el extranjero","INE","JLE/DEOE/DERFE/DECEYEC/UNICOM","2022-03-01","2022-06-05"]
[4,"Oaxaca","Voto de los ciudadanos residentes en el extranjero",20.260000000000002,"Escrutinio y Cómputo, y resultados de los votos de los mexicanos residentes en el extranjero","INE/OPL","JLE/JD/DERFE/DECEYEC/DEOE/UTSI/CG","2022-06-05","2022-06-05"]
[4,"Oaxaca","Visitantes extranjeros",21.1,"Emisión de la Convocatoria para visitantes extranjeros","INE","CG/CAI","2021-09-06","2021-09-30"]
[4,"Oaxaca","Visitantes extranjeros",21.2,"Difusión de la Convocatoria para visitantes extranjeros","INE","CG/CAI","2021-09-06","2022-05-25"]
[4,"Oaxaca","Visitantes extranjeros",21.3,"Recepción de solicitudes de acreditación como visitantes extranjeros","INE","CG/CAI","2021-09-06","2022-05-25"]
[4,"Oaxaca","Visitantes extranjeros",21.4,"Resolución de solicitudes de acreditación como visitantes extranjeros","INE","CG/CAI","2021-09-07","2022-05-30"]
[4,"Oaxaca","Visitantes extranjeros",21.5,"Entrega de acreditaciones a los visitantes extranjeros","INE","CG/CAI","2022-05-27","2022-06-04"]
[5,"Quintana Roo","Mecanismos de coordinación",1.1000000000000001,"Aprobar Calendarios y Planes Integrales de los Procesos Electorales Locales","INE","CG","2021-08-05","2021-08-11"]
[5,"Quintana Roo","Mecanismos de coordinación",1.2,"Elaborar un plan de trabajo conjunto para la promoción de la participación ciudadana","INE/OPL","DECEYEC/JLE/OPL","2021-11-03","2021-12-15"]
[5,"Quintana Roo","Mecanismos de coordinación",1.3,"Sesión para dar inicio al PEL","OPL","CG","2022-01-02","2022-01-08"]
[5,"Quintana Roo","Mecanismos de coordinación",1.4,"Implementar un plan de trabajo conjunto para la promoción de la participación ciudadana","INE/OPL","DECEYEC/JLE/OPL","2022-02-01","2022-06-04"]
[5,"Quintana Roo","Mecanismos de coordinación",1.5,"Presentar un informe parcial de Programa de Promoción de la Participación Ciudadana a la comisión correspondiente","INE/OPL","DECEYEC/JLE/OPL","2022-02-01","2022-04-30"]
[5,"Quintana Roo","Mecanismos de coordinación",1.6,"Presentar un informe final de Programa de Promoción de la Participación Ciudadana a la comisión correspondiente","INE/OPL","DECEYEC/JLE/OPL","2022-05-01","2022-09-04"]
[5,"Quintana Roo","Integración de órganos desconcentrados",2.1,"Convocatoria para la integración de los Órganos Distritales","OPL","CG","2021-10-01","2021-10-30"]
[5,"Quintana Roo","Integración de órganos desconcentrados",2.2000000000000002,"Sesión en la que se designan e integran los Órganos Distritales","OPL","CG","2022-01-28","2022-02-01"]
[5,"Quintana Roo","Integración de órganos desconcentrados",2.2999999999999998,"Instalación de los Órganos Distritales","OPL","OD","2022-02-02","2022-02-07"]
[5,"Quintana Roo","Integración de órganos desconcentrados",2.7,"Designación y/o ratificación de las y los Consejeros Electorales del Consejo Local","INE","CG","2021-07-01","2021-08-31"]
[5,"Quintana Roo","Integración de órganos desconcentrados",2.8,"Instalación del Consejo Local","INE","CL","2021-09-30","2021-09-30"]
[5,"Quintana Roo","Integración de órganos desconcentrados",2.9,"Designación y/o ratificación de las y los Consejeros Electorales de los Consejos Distritales","INE","CL","2021-10-01","2021-11-29"]
[5,"Quintana Roo","Integración de órganos desconcentrados",2.1,"Instalación de los Consejos Distritales","INE","CD","2021-11-30","2021-11-30"]
[5,"Quintana Roo","Integración de órganos desconcentrados",2.11,"Publicación de la integración de los Consejos Locales y Distritales del INE","INE","CL","2022-01-17","2022-01-31"]
[5,"Quintana Roo","Lista Nominal de Electores",3.1,"Entrega del catálogo cartográfico","INE","DERFE","2022-01-15","2022-02-28"]
[5,"Quintana Roo","Lista Nominal de Electores",3.2,"Generación y entrega de la Lista Nominal de Electores para Revisión en medios ópticos a los representantes de los partidos políticos","INE","DERFE","2022-02-15","2022-02-15"]
[5,"Quintana Roo","Lista Nominal de Electores",3.3,"Elaborar los archivos de conformación de casillas extraordinarias y asignación de registros sin soporte cartográfico para la impresión del Listado Nominal para el Proceso Electoral","INE","DERFE","2022-03-01","2022-05-31"]
[5,"Quintana Roo","Lista Nominal de Electores",3.4,"Recepción de observaciones de los partidos políticos y en su caso, candidatos independientes, a la Lista Nominal de Electores para revisión","INE/OPL","DERFE","2022-03-14","2022-03-14"]
[5,"Quintana Roo","Lista Nominal de Electores",3.5,"Entrega en formato digital el informe respecto de la atención a las observaciones formuladas a la Lista Nominal de Electores para Revisión","INE","DERFE","2022-04-18","2022-04-18"]
[5,"Quintana Roo","Lista Nominal de Electores",3.6,"Entrega de la Lista Nominal de Electores Definitiva con fotografía","INE","DERFE","2022-05-05","2022-05-05"]
[5,"Quintana Roo","Lista Nominal de Electores",3.7,"Entrega de la Lista Nominal de Electores con fotografía Producto de Instancias Administrativas y Resoluciones del Tribunal (ADENDA)","INE","DERFE","2022-05-24","2022-05-24"]
[5,"Quintana Roo","Gestión de credencial para votar",4.0999999999999996,"Atender los trámites de la ciudadanía que acude a los Módulos de Atención Ciudadana a inscribirse y a actualizar su situación registral en el Padrón Electoral","INE","DERFE","2021-09-01","2022-01-31"]
[5,"Quintana Roo","Gestión de credencial para votar",4.2,"Atender los trámites de la ciudadanía que acude a los Módulos de Atención Ciudadana a solicitar la reposición de su CPV por robo, extravío o deterioro grave","INE","DERFE","2021-09-01","2022-02-07"]
[5,"Quintana Roo","Gestión de credencial para votar",4.3,"Entregar la Credencial para Votar con Fotografía a los ciudadanos en las Oficinas o Módulos de Atención Ciudadana que determine el INE","INE","DERFE","2021-09-01","2022-04-11"]
[5,"Quintana Roo","Gestión de credencial para votar",4.4000000000000004,"Atender solicitudes de reimpresión de Credencial para Votar por extravío o robo","INE","DERFE","2022-02-08","2022-05-20"]
[5,"Quintana Roo","Gestión de credencial para votar",4.5,"Resguardar las Credenciales para Votar que no fueron recogidas por sus titulares hasta el 11 de abril y hasta el 03 de junio de 2022, derivadas de Instancias Administrativas, Demandas de Juicio o de solicitudes de reimpresión","INE","DERFE","2022-04-24","2022-06-04"]
[5,"Quintana Roo","Observación Electoral",5.0999999999999996,"Emisión de la convocatoria para la ciudadanía que desee participar en la observación electoral","OPL","CG","2022-01-02","2022-01-09"]
[5,"Quintana Roo","Observación Electoral",5.2,"Recepción de solicitudes de la ciudadanía que desee participar en la observación electoral","INE/OPL","OPL/JL/JD","2022-01-02","2022-05-07"]
[5,"Quintana Roo","Observación Electoral",5.3,"Impartición de los cursos de capacitación, preparación o información","INE/OPL","OPL/JL/JD","2022-01-02","2022-05-16"]
[5,"Quintana Roo","Observación Electoral",5.4,"Acreditación de la ciudadanía como observadores u observadoras electorales","INE","CL/CD","2022-01-02","2022-06-04"]
[5,"Quintana Roo","Observación Electoral",5.5,"Seguimiento a los informes mensuales de acreditación de Observadores Electores","INE","CG","2022-01-02","2022-07-31"]
[5,"Quintana Roo","Observación Electoral",5.6,"Remisión de materiales de capacitación a la JLE para revisión","OPL","CG/DECEYEC","2021-10-15","2021-10-15"]
[5,"Quintana Roo","Observación Electoral",5.7,"Revisión, corrección, verificación y validación de materiales de capacitación para observadores electorales","INE","JLE/ DECEYEC","2021-10-15","2021-11-18"]
[5,"Quintana Roo","Ubicación de casillas",6.1,"Recorridos por las secciones de los distritos para localizar los lugares donde se ubicarán las casillas","INE","JDE","2022-01-15","2022-02-15"]
[5,"Quintana Roo","Ubicación de casillas",6.2,"Presentación a los Consejos Distritales del listado de lugares propuestos para ubicar casillas","INE","JDE","2022-02-24","2022-02-24"]
[5,"Quintana Roo","Ubicación de casillas",6.3,"Visitas de examinación en los lugares propuestos para ubicar casillas básicas, contiguas, especiales y extraordinarias","INE","CD","2022-02-25","2022-03-15"]
[5,"Quintana Roo","Ubicación de casillas",6.4,"Aprobación del número y ubicación de casillas extraordinarias y especiales","INE","CD","2022-03-15","2022-03-15"]
[5,"Quintana Roo","Ubicación de casillas",6.5,"Aprobación del número y ubicación de casillas básicas y contiguas","INE","CD","2022-03-28","2022-03-28"]
[5,"Quintana Roo","Ubicación de casillas",6.6,"Entrega de la base de datos de la Lista Nominal Definitiva a UNICOM con corte al 11 de abril","INE","DERFE","2022-04-18","2022-04-18"]
[5,"Quintana Roo","Ubicación de casillas",6.7,"Realizar la primera publicación de la lista de ubicación de casillas en los lugares más concurridos del distrito electoral y en los medios electrónicos del Instituto","INE","CD","2022-04-15","2022-04-15"]
[5,"Quintana Roo","Ubicación de casillas",6.8,"En su caso, segunda publicación de la lista de ubicación de casillas por causas supervenientes en los lugares más concurridos del distrito y en los medios electrónicos del Instituto","INE","CD","2022-05-15","2022-05-25"]
[5,"Quintana Roo","Ubicación de casillas",6.9,"Publicación de los encartes y difusión en medios electrónicos del Instituto","INE/OPL","DEOE/CG","2022-06-04","2022-06-05"]
[5,"Quintana Roo","Ubicación de casillas",6.1,"Registro de representantes generales y ante mesas directivas de casilla","INE","CD","2022-04-16","2022-05-23"]
[5,"Quintana Roo","Ubicación de casillas",6.11,"Sustitución de representantes generales y ante mesas directivas de casilla","INE","CD","2022-04-16","2022-05-26"]
[5,"Quintana Roo","Ubicación de casillas",6.12,"Entrega de listados de representantes generales y ante casilla al OPL","INE","CD","2022-05-28","2022-05-29"]
[5,"Quintana Roo","Ubicación de casillas",6.13,"Avisos domiciliarios para ubicación de casillas en secciones electorales involucradas en Actualizaciones del Marco Geográfico Electoral","INE/OPL","DERFE/OPL","2022-04-01","2022-06-16"]
[5,"Quintana Roo","Ubicación de casillas",6.14,"Notificación de la casilla en que votará la ciudadanía residente en secciones en las que el Consejo Distrital determinó no instalar casillas por las causales previstas en el artículo 234 del RE","INE","CD","2022-05-01","2022-05-31"]
[5,"Quintana Roo","Integración de las Mesas Directivas de Casilla",7.1,"Aprobación de la Estrategia de Capacitación y Asistencia Electoral","INE","CG/DECEYEC","2021-08-01","2021-08-31"]
[5,"Quintana Roo","Integración de las Mesas Directivas de Casilla",7.2,"Sorteo del mes del calendario como base para la insaculación de las y los ciudadanos que integrarán las mesas directivas de casilla","INE","CG/DECEYEC","2021-12-01","2021-12-31"]
[5,"Quintana Roo","Integración de las Mesas Directivas de Casilla",7.3,"Entrega de modelos para que los OPL elaboren materiales didácticos para la ciudadanía sorteada y para las y los funcionarios de casilla","INE","DECEYEC/JLE","2021-10-04","2021-11-30"]
[5,"Quintana Roo","Integración de las Mesas Directivas de Casilla",7.4,"Revisión, corrección y validación de los materiales didácticos para la ciudadanía sorteada y para las y los funcionarios de casilla","OPL/INE","OPL/JLE/\nDECEYEC","2021-11-11","2022-03-14"]
[5,"Quintana Roo","Integración de las Mesas Directivas de Casilla",7.5,"Entrega a la JLE de los materiales didácticos impresos para la primera y segunda etapa elaborados por parte de los OPL","INE/OPL","JLE/CG","2022-01-20","2022-03-28"]
[5,"Quintana Roo","Integración de las Mesas Directivas de Casilla",7.6,"Reclutamiento Selección y contratación de SE y CAE","INE/OPL","INE/OPL","2021-10-18","2022-01-19"]
[5,"Quintana Roo","Integración de las Mesas Directivas de Casilla",7.7,"Seguimiento a la aplicación de procediemientos de reclutamiento, selección y contratacion de SE y CAE","INE","DECEYEC/JLE/JD","2021-10-18","2022-01-19"]
[5,"Quintana Roo","Integración de las Mesas Directivas de Casilla",7.8,"Sorteo de la letra a partir de la cual, con base en el apellido paterno, se seleccionará a las y los ciudadanos que integrarán las mesas directivas de casilla","INE","CG","2022-02-01","2022-02-28"]
[5,"Quintana Roo","Integración de las Mesas Directivas de Casilla",7.9,"Entrega de la Lista Nominal de Electores para el Procedimiento de la Primera insaculación","INE","DERFE/UNICOM","2022-01-21","2022-01-25"]
[5,"Quintana Roo","Integración de las Mesas Directivas de Casilla",7.1,"Procesar los archivos de conformación de secciones electorales\ncon casilla extraordinaria para la primera insaculación","INE","DERFE","2022-01-21","2022-01-25"]
[5,"Quintana Roo","Integración de las Mesas Directivas de Casilla",7.11,"Primera insaculación","INE","DECEYEC","2022-02-01","2022-02-07"]
[5,"Quintana Roo","Integración de las Mesas Directivas de Casilla",7.12,"Primera etapa de capacitación a las personas insaculadas","INE","CD","2022-02-09","2022-03-31"]
[5,"Quintana Roo","Integración de las Mesas Directivas de Casilla",7.13,"Seguimiento a la aplicación de procediemientos de la primera etapa de capacitacion electoral","INE","DECEYEC/JLE/JD","2022-02-09","2022-03-31"]
[5,"Quintana Roo","Integración de las Mesas Directivas de Casilla",7.14,"Segunda insaculación y designación de funcionarios para mesas directivas de casilla","INE","DECEYEC","2022-04-01","2022-04-08"]
[5,"Quintana Roo","Integración de las Mesas Directivas de Casilla",7.15,"Segunda estapa de capacitación a funcionarios de mesa directiva de casilla y simulacros","INE","CD","2022-04-09","2022-06-04"]
[5,"Quintana Roo","Integración de las Mesas Directivas de Casilla",7.16,"Seguimiento a la aplicación de procediemientos de la segunda etapa de capacitacion electoral","INE","DECEYEC/JLE/JD","2022-04-10","2022-06-04"]
[5,"Quintana Roo","Integración de las Mesas Directivas de Casilla",7.17,"Entrega de reconocimientos a funcionarios de mesas directivas de casilla","INE","CD","2022-06-06","2022-06-12"]
[5,"Quintana Roo","Fiscalización",8.1,"Planeación de la Fiscalización","INE","UTF","2021-07-26","2022-02-28"]
[5,"Quintana Roo","Fiscalización",8.1999999999999993,"Fiscalización del periodo de precampaña y obtención del apoyo de la ciudadanía","INE","UTF","2021-11-22","2022-05-16"]
[5,"Quintana Roo","Fiscalización",8.3000000000000007,"Fiscalización del periodo de campaña","INE","UTF","2022-03-04","2022-08-01"]
[5,"Quintana Roo","Obligaciones y prerrogativas financieras de los partidos, candidaturas y candidaturas independientes.",9.1,"Aprobación de topes de gastos de precampaña Gubernatura","OPL","CG","2021-09-01","2021-09-30"]
[5,"Quintana Roo","Obligaciones y prerrogativas financieras de los partidos, candidaturas y candidaturas independientes.",9.1999999999999993,"Aprobación de topes de gastos de precampaña Diputaciones","OPL","CG","2021-09-01","2021-09-30"]
[5,"Quintana Roo","Obligaciones y prerrogativas financieras de los partidos, candidaturas y candidaturas independientes.",9.4,"Aprobación de los límites de financiamiento privado, aportaciones de militantes, simpatizantes y precandidaturas o candidaturas; así como el límite individual de aportaciones para Gubernatura","OPL","CG","2021-10-01","2021-12-31"]
[5,"Quintana Roo","Obligaciones y prerrogativas financieras de los partidos, candidaturas y candidaturas independientes.",9.5,"Aprobación de los límites de financiamiento privado, aportaciones de militantes, simpatizantes y precandidaturas o candidaturas; así como el límite individual de aportaciones para Diputaciones","OPL","CG","2021-10-01","2021-12-31"]
[5,"Quintana Roo","Obligaciones y prerrogativas financieras de los partidos, candidaturas y candidaturas independientes.",9.6999999999999993,"Aprobación de topes de gastos para el periodo de obtención del apoyo ciudadano para Gubernatura","OPL","CG","2021-09-01","2021-09-30"]
[5,"Quintana Roo","Obligaciones y prerrogativas financieras de los partidos, candidaturas y candidaturas independientes.",9.8000000000000007,"Aprobación de topes de gastos para el periodo de obtención del apoyo ciudadano para Diputaciones","OPL","CG","2021-09-01","2021-09-30"]
[5,"Quintana Roo","Obligaciones y prerrogativas financieras de los partidos, candidaturas y candidaturas independientes.",9.1,"Aprobación de topes de gastos de campaña para Gubernatura","OPL","CG","2021-09-01","2021-09-30"]
[5,"Quintana Roo","Obligaciones y prerrogativas financieras de los partidos, candidaturas y candidaturas independientes.",9.11,"Aprobación de topes de gastos de campaña para Diputaciones","OPL","CG","2021-09-01","2021-09-30"]
[5,"Quintana Roo","Candidaturas Independientes",10.1,"Emisión de la convocatoria para la ciudadanía interesada en participar a una Candidatura Independiente.","OPL","CG","2021-11-16","2021-11-28"]
[5,"Quintana Roo","Candidaturas Independientes",10.199999999999999,"Recepción de escrito de intención y documentación anexa de las y los ciudadanos que aspiren a la candidatura independiente para Gubernatura","OPL","OD","2021-11-29","2021-12-03"]
[5,"Quintana Roo","Candidaturas Independientes",10.3,"Recepción de escrito de intención y documentación anexa de las y los ciudadanos que aspiren a la candidatura independiente para Diputaciones","OPL","OD","2021-11-29","2021-12-03"]
[5,"Quintana Roo","Candidaturas Independientes",10.5,"Resolución sobre procedencia de manifestación de intención de las y los aspirantes a candidaturas independientes para Gubernatura","OPL","CG","2021-12-04","2021-12-08"]
[5,"Quintana Roo","Candidaturas Independientes",10.6,"Resolución sobre procedencia de manifestación de intención de las y los aspirantes a candidaturas independientes para Diputaciones","OPL","CG","2021-12-04","2021-12-08"]
[5,"Quintana Roo","Candidaturas Independientes",10.8,"Plazo para obtener el apoyo ciudadano de las candidaturas independientes para Gubernatura","OPL","OD","2022-01-07","2022-02-10"]
[5,"Quintana Roo","Candidaturas Independientes",10.9,"Plazo para obtener el apoyo ciudadano de las candidaturas independientes para Diputaciones","OPL","OD","2022-01-12","2022-02-10"]
[5,"Quintana Roo","Candidaturas Independientes",10.11,"Verificar la situación registral de las y los ciudadanos inscritos en la Lista Nominal, que presenten las y los Aspirantes a Candidaturas Independientes para los diversos cargos de elección popular a nivel local.","INE/OPL","DERFE","2022-02-11","2022-02-16"]
[5,"Quintana Roo","Candidaturas Independientes",10.119999999999999,"Plazo para otorgar las constancias de porcentaje a favor de la o el aspirante a la candidatura independiente para Gubernatura","OPL","CG","2022-02-11","2022-02-17"]
[5,"Quintana Roo","Candidaturas Independientes",10.130000000000001,"Plazo para otorgar las constancias de porcentaje a favor de la o el aspirante a la candidatura independiente para Diputaciones","OPL","CG/OD","2022-02-11","2022-02-17"]
[5,"Quintana Roo","Candidaturas",11.1,"Registro de plataformas electorales","OPL","CG","2022-02-01","2022-02-05"]
[5,"Quintana Roo","Candidaturas",11.2,"Solicitud de registro de convenio de coalición para Gubernatura","OPL","CG","2022-01-02","2022-01-04"]
[5,"Quintana Roo","Candidaturas",11.3,"Solicitud de registro de convenio de coalición para Diputaciones","OPL","CG","2022-01-02","2022-01-04"]
[5,"Quintana Roo","Candidaturas",11.5,"Resolución sobre Convenio de Coalición para Gubernatura","OPL","CG","2022-01-05","2022-01-13"]
[5,"Quintana Roo","Candidaturas",11.6,"Resolución sobre Convenio de Coalición para Diputaciones","OPL","CG","2022-01-05","2022-01-13"]
[5,"Quintana Roo","Candidaturas",11.8,"Precampaña para Gubernatura","OPL","CG","2022-01-07","2022-02-10"]
[5,"Quintana Roo","Candidaturas",11.9,"Precampaña para Diputaciones","OPL","CG","2022-01-12","2022-02-10"]
[5,"Quintana Roo","Candidaturas",11.14,"Solicitud de registro de Candidaturas para Gubernatura","OPL","CG/OD","2022-02-18","2022-02-22"]
[5,"Quintana Roo","Candidaturas",11.15,"Solicitud de registro de Candidaturas para Diputaciones","OPL","CG/OD","2022-03-09","2022-03-13"]
[5,"Quintana Roo","Candidaturas",11.16,"Solicitud de registro de Candidaturas para Diputaciones de Representación Proporcional","OPL","CG/OD","2022-03-15","2022-03-20"]
[5,"Quintana Roo","Candidaturas",11.18,"Resolución para aprobar las candidaturas para Gubernatura","OPL","CG","2022-02-23","2022-03-28"]
[5,"Quintana Roo","Candidaturas",11.19,"Resolución para aprobar las candidaturas para Diputaciones","OPL","CG","2022-03-14","2022-04-12"]
[5,"Quintana Roo","Candidaturas",11.2,"Resolución para aprobar las candidaturas para Diputaciones de Representación Proporcional","OPL","CG","2022-03-21","2022-04-12"]
[5,"Quintana Roo","Candidaturas",11.22,"Solicitud de registro de candidaturas comunes para Gubernatura","OPL","CG","2022-01-02","2022-01-06"]
[5,"Quintana Roo","Candidaturas",11.23,"Solicitud de registro de candidaturas comunes para Diputaciones","OPL","CG/OD","2022-01-02","2022-01-06"]
[5,"Quintana Roo","Candidaturas",11.25,"Resolución para aprobar las candidaturas comunes para Gubernatura","OPL","CG","2022-01-07","2022-01-17"]
[5,"Quintana Roo","Candidaturas",11.26,"Resolución para aprobar las candidaturas comunes para Diputaciones","OPL","CG/OD","2022-01-07","2022-01-17"]
[5,"Quintana Roo","Candidaturas",11.28,"Campaña para Gubernatura","OPL","CG","2022-04-03","2022-06-01"]
[5,"Quintana Roo","Candidaturas",11.29,"Campaña para Diputaciones","OPL","CG","2022-04-18","2022-06-01"]
[5,"Quintana Roo","Candidaturas",11.34,"Aprobación de la distribución de financiamiento público para partidos políticos","OPL","CG","2021-09-01","2021-09-30"]
[5,"Quintana Roo","Debates",12.1,"Aprobación de las fechas en que se celebrarán los debates para gubernatura","OPL","CG","2022-01-09","2022-01-13"]
[5,"Quintana Roo","Debates",12.2,"Realización del primer debate para gubernatura","OPL","CG","2022-01-10","2022-06-01"]
[5,"Quintana Roo","Debates",12.3,"Realización del segundo debate para gubernatura","OPL","CG","2022-04-29","2022-06-01"]
[5,"Quintana Roo","Documentación y material electoral",13.1,"Aprobación de los formatos únicos con los diseños y especificaciones técnicas de la documentación y materiales electorales","INE","COTSPEL","2021-08-15","2021-09-06"]
[5,"Quintana Roo","Documentación y material electoral",13.2,"Entrega a la Dirección Ejecutiva de Organización Electoral del INE, de los diseños y especificaciones técnicas de la documentación y materiales electorales, en medios impresos y electrónicos","OPL","CG","2021-09-01","2021-11-10"]
[5,"Quintana Roo","Documentación y material electoral",13.3,"Validación de los documentos y materiales electorales y especificaciones técnicas, con las observaciones subsanadas","INE","DEOE","2021-11-01","2021-12-15"]
[5,"Quintana Roo","Documentación y material electoral",13.4,"Aprobación de la documentación y material electoral","OPL","CG","2021-11-15","2021-12-31"]
[5,"Quintana Roo","Documentación y material electoral",13.5,"Entrega a la Dirección Ejecutiva de Organización Electoral del INE, del Reporte con los resultados de las verificaciones de las medidas de seguridad en la documentación electoral y líquido indeleble","OPL","CG","2022-05-25","2022-06-17"]
[5,"Quintana Roo","Documentación y material electoral",13.6,"Supervisiones respecto de los procedimientos de impresión y producción de la documentación y materiales electorales","INE","DEOE","2022-03-16","2022-05-31"]
[5,"Quintana Roo","Documentación y material electoral",13.7,"Designación de la persona responsable de llevar el control sobre la asignación de los folios de las boletas que se distribuirán en cada mesa directiva de casilla","OPL","OD","2022-03-01","2022-03-30"]
[5,"Quintana Roo","Documentación y material electoral",13.8,"Aprobación de SE y CAE, así como de personal que auxiliará en el procedimiento de conteo, sellado y agrupamiento de las boletas electorales; así como la integración de documentación que será entregada a las presidencias de mesa directiva de casilla","OPL","OD","2022-04-24","2022-05-11"]
[5,"Quintana Roo","Documentación y material electoral",13.9,"Recepción de las boletas electorales por el órgano competente que realizará el conteo, sellado y agrupamiento","OPL","OD","2022-05-18","2022-05-21"]
[5,"Quintana Roo","Documentación y material electoral",13.1,"Conteo, sellado y agrupamiento de boletas e integración de la caja paquete electoral","OPL","OD","2022-05-18","2022-05-27"]
[5,"Quintana Roo","Documentación y material electoral",13.11,"Distribución de la documentación y materiales electorales a las Presidencias de mesa directiva de casilla","OPL","OD","2022-05-30","2022-06-03"]
[5,"Quintana Roo","Documentación y material electoral",13.12,"Remisión de los recibos de la entrega de la documentación y materiales electorales al Consejo General del OPL","INE","JLE","2022-06-26","2022-07-02"]
[5,"Quintana Roo","Jornada Electoral",14.1,"Aprobación del Programa de Operación del SIJE 2022","INE","CG","2021-07-01","2021-07-31"]
[5,"Quintana Roo","Jornada Electoral",14.2,"Aprobación de las metas del SIJE 2022","INE","CG","2022-03-01","2022-03-31"]
[5,"Quintana Roo","Jornada Electoral",14.3,"Presentación del Manual de Operación del SIJE 2022","INE","COTSPEL","2022-03-01","2022-03-31"]
[5,"Quintana Roo","Jornada Electoral",14.4,"Realización de pruebas del SIJE 2022","INE","DEOE","2022-04-04","2022-04-15"]
[5,"Quintana Roo","Jornada Electoral",14.5,"Desarrollo del primer simulacro del SIJE","INE/OPL","DEOE/OD","2022-04-28","2022-04-28"]
[5,"Quintana Roo","Jornada Electoral",14.6,"Desarrollo del segundo simulacro del SIJE","INE/OPL","DEOE/OD","2022-05-08","2022-05-08"]
[5,"Quintana Roo","Jornada Electoral",14.7,"Desarrollo del tercer simulacro del SIJE","INE/OPL","DEOE/OD","2022-05-22","2022-05-22"]
[5,"Quintana Roo","Jornada Electoral",14.8,"Jornada Electoral","OPL","CG/OD","2022-06-05","2022-06-05"]
[5,"Quintana Roo","Bodegas electorales",15.1,"Determinación de los lugares que ocuparán las bodegas electorales para el resguardo de la documentación electoral","OPL","CG","2022-02-01","2022-02-28"]
[5,"Quintana Roo","Bodegas electorales",15.2,"Verificación por parte de los órganos desconcentrados del INE de las condiciones y equipamiento de las bodegas electorales del OPL","INE/OPL","JLE/JDE/OD","2022-03-01","2022-03-31"]
[5,"Quintana Roo","Bodegas electorales",15.3,"Informe que rinden las y los Presidentes sobre las condiciones de equipamiento, mecanismos de operación y medidas de seguridad de las bodegas electorales","OPL","OD","2022-03-01","2022-03-31"]
[5,"Quintana Roo","Bodegas electorales",15.4,"Designación, por parte del órgano competente del OPL, del personal que tendrá acceso a la bodega electoral","OPL","CG/OD","2022-03-01","2022-03-30"]
[5,"Quintana Roo","Bodegas electorales",15.5,"Envío del informe presentado ante el Consejo General, sobre las condiciones que guardan las bodegas electorales del Órgano Central y desconcentrados del OPL","OPL","CG","2022-04-03","2022-04-09"]
[5,"Quintana Roo","Mecanismos de recolección",16.100000000000001,"Entrega de estudios de factibilidad al OPL","INE","CL","2022-03-16","2022-03-31"]
[5,"Quintana Roo","Mecanismos de recolección",16.2,"Entrega de observaciones a los estudios de factibilidad","OPL","CG","2022-04-17","2022-04-23"]
[5,"Quintana Roo","Mecanismos de recolección",16.3,"Recorridos para verificar las propuestas de los mecanismos de recolección","INE/OPL","CD/OD","2022-03-17","2022-04-23"]
[5,"Quintana Roo","Mecanismos de recolección",16.399999999999999,"Aprobación de los mecanismos de recolección","INE","CD","2022-04-24","2022-04-30"]
[5,"Quintana Roo","Mecanismos de recolección",16.5,"Traslado y recolección de los paquetes electorales","INE","CD","2022-06-05","2022-06-06"]
[5,"Quintana Roo","Mecanismos de recolección",16.600000000000001,"Acreditación de representantes de partidos políticos y candidaturas independientes ante los mecanismos de recolección","INE","CL/CD","2022-04-25","2022-06-02"]
[5,"Quintana Roo","Mecanismos de recolección",16.7,"Sustitución de representantes de partidos políticos y candidaturas independientes ante los mecanismos de recolección","INE","CL/CD","2022-04-26","2022-06-03"]
[5,"Quintana Roo","Mecanismos de recolección",16.8,"Entrega a la JLE del informe sobre la recepción de paquetes electorales en los órganos competentes","INE","CD","2022-06-05","2022-06-17"]
[5,"Quintana Roo","Cómputos",17.100000000000001,"Aprobación de los lineamientos de cómputo y del cuadernillo de consulta sobre votos válidos y votos nulos","OPL","CG","2022-01-01","2022-02-28"]
[5,"Quintana Roo","Cómputos",17.2,"Remisión a la JLE en la entidad, de las propuestas de escenarios de cómputos, para la dictaminación de viabilidad","OPL","CG","2022-03-06","2022-03-13"]
[5,"Quintana Roo","Cómputos",17.3,"Remisión de las observaciones a los escenarios de Cómputos al OPL y a su vez informar de las mismas a la UTVOPL","INE","JLE","2022-03-14","2022-03-26"]
[5,"Quintana Roo","Cómputos",17.399999999999999,"Asignación de las y los SE y CAE contratados por el INE para los OD del OPL a fin de que apoyen en los cómputos de las elecciones locales","INE","CD","2022-05-01","2022-05-15"]
[5,"Quintana Roo","Cómputos",17.5,"Aprobación por parte del órgano competente del OPL, del acuerdo mediante el cual se designa al personal que participará en las tareas de apoyo a los Cómputos Municipales","OPL","CG/OD","2022-05-01","2022-05-31"]
[5,"Quintana Roo","Cómputos",17.600000000000001,"Aprobación por parte del órgano competente del OPL, del acuerdo mediante el cual se designa al personal que participará en las tareas de apoyo a los Cómputos Distritales","OPL","CG/OD","2022-05-01","2022-05-31"]
[5,"Quintana Roo","Cómputos",17.7,"Aprobación por parte de los órganos competentes del OPL, de los distintos escenarios de cómputos","OPL","OD","2022-04-01","2022-04-15"]
[5,"Quintana Roo","Cómputos",17.8,"El OPL informará el inicio de la creación del programa, sistema o herramienta informática a la UTVOPL y a la Junta Local del INE, así como de sus características y avances","OPL","CG","2022-02-01","2022-02-15"]
[5,"Quintana Roo","Cómputos",17.899999999999999,"El OPL remitirá por conducto de la UTVOPL a la DEOE, y en forma directa a la Junta Local del INE, la dirección electrónica en la que se ubicará la aplicación, así como las claves y accesos necesarios para hacer pruebas y simulacros de captura.","OPL","CG","2022-01-21","2022-01-25"]
[5,"Quintana Roo","Cómputos",17.100000000000001,"Liberación de la herramienta informática de Cómputos","OPL","CG","2022-04-16","2022-04-30"]
[5,"Quintana Roo","Cómputos",17.11,"Realización de dos simulacros en los órganos competentes del OPL sobre el desarrollo de los cómputos en los OD con el uso de la herramienta informática","OPL","CD","2022-05-01","2022-06-03"]
[5,"Quintana Roo","Cómputos",17.12,"Aprobación por parte del órgano competente del OPL, del acuerdo por el que se habilitarán espacios para la instalación de grupos de trabajo y, en su caso, puntos de recuento","OPL","CG/OD","2022-06-07","2022-06-07"]
[5,"Quintana Roo","Cómputos",17.13,"Cómputos Distritales","OPL","OD","2022-06-08","2022-06-11"]
[5,"Quintana Roo","Cómputos",17.149999999999999,"Cómputo Estatal para la Gubernatura","OPL","CG","2022-06-12","2022-06-25"]
[5,"Quintana Roo","Cómputos",17.16,"Cómputo Estatal para la asignación diputaciones de Representación Proporcional","OPL","CG","2022-06-12","2022-06-15"]
[5,"Quintana Roo","PREP",18.100000000000001,"Documento por el que se informe la instalación de la Comisión en la que se reporten los trabajos de implementación y operación del PREP.","OPL","CG","2021-09-10","2021-09-10"]
[5,"Quintana Roo","PREP",18.2,"Aprobación del Acuerdo por el que se designa o ratifica a la instancia interna responsable de coordinar el PREP","OPL","CG","2021-09-05","2021-09-05"]
[5,"Quintana Roo","PREP",18.3,"Aprobación del Acuerdo de Integración del COTAPREP","OPL","CG","2021-11-05","2021-11-05"]
[5,"Quintana Roo","PREP",18.399999999999999,"Documento por el que se determina la implementación del PREP por el OPL o con el apoyo de un Tercero","OPL","CG","2021-12-05","2021-12-05"]
[5,"Quintana Roo","PREP",18.5,"Aprobación del acuerdo por el que se determina el Proceso Técnico Operativo","OPL","CG","2022-01-05","2022-01-05"]
[5,"Quintana Roo","PREP",18.600000000000001,"Aprobación del Acuerdo por el que se determina la ubicación, instalación y habilitación de los CATD y, en su caso, CCV","OPL","CG","2022-02-05","2022-02-05"]
[5,"Quintana Roo","PREP",18.7,"Documento de Designación del Ente Auditor","OPL","CG","2022-02-05","2022-02-05"]
[5,"Quintana Roo","PREP",18.8,"Instrumento jurídico celebrado entre el OPL y el ente auditor","OPL","CG","2022-03-05","2022-03-05"]
[5,"Quintana Roo","PREP",18.899999999999999,"Realización de prueba de funcionalidad del PREP","OPL","CG","2022-04-20","2022-04-20"]
[5,"Quintana Roo","PREP",18.100000000000001,"Realización del primer simulacro del PREP","OPL","CG","2022-05-15","2022-05-15"]
[5,"Quintana Roo","PREP",18.11,"Realización del segundo simulacro del PREP","OPL","CG","2022-05-22","2022-05-22"]
[5,"Quintana Roo","PREP",18.12,"Realización del tercer simulacro del PREP","OPL","CG","2022-05-29","2022-05-29"]
[5,"Quintana Roo","PREP",18.13,"Operación del PREP","OPL","CG","2022-06-05","2022-06-06"]
[5,"Quintana Roo","Conteo Rápido",19.100000000000001,"Aprobación del Acuerdo de Integración del COTECORA","INE","CG","2022-02-01","2022-02-04"]
[5,"Quintana Roo","Conteo Rápido",19.2,"Realización de pruebas de captura","INE","DERFE/DEOE/UNICOM","2022-04-14","2022-05-05"]
[5,"Quintana Roo","Conteo Rápido",19.3,"Realización de primer simulacro del Conteo Rápido","INE","DERFE/DEOE/UNICOM","2022-05-06","2022-05-22"]
[5,"Quintana Roo","Conteo Rápido",19.399999999999999,"Realización de segundo simulacro del Conteo Rápido","INE","DERFE/DEOE/UNICOM","2022-05-06","2022-06-04"]
[5,"Quintana Roo","Conteo Rápido",19.5,"Selección de la Muestra para el Conteo Rápido","INE","COTECORA","2022-06-01","2022-06-03"]
[5,"Quintana Roo","Visitantes extranjeros",21.1,"Emisión de la Convocatoria para visitantes extranjeros","INE","CG/CAI","2021-09-06","2021-09-30"]
[5,"Quintana Roo","Visitantes extranjeros",21.2,"Difusión de la Convocatoria para visitantes extranjeros","INE","CG/CAI","2021-09-06","2022-05-25"]
[5,"Quintana Roo","Visitantes extranjeros",21.3,"Recepción de solicitudes de acreditación como visitantes extranjeros","INE","CG/CAI","2021-09-06","2022-05-25"]
[5,"Quintana Roo","Visitantes extranjeros",21.4,"Resolución de solicitudes de acreditación como visitantes extranjeros","INE","CG/CAI","2021-09-07","2022-05-30"]
[5,"Quintana Roo","Visitantes extranjeros",21.5,"Entrega de acreditaciones a los visitantes extranjeros","INE","CG/CAI","2022-05-27","2022-06-04"]
[6,"Tamaulipas","Mecanismos de coordinación",1.1000000000000001,"Aprobar Calendarios y Planes Integrales de los Procesos Electorales Locales","INE","CG","2021-08-05","2021-08-11"]
[6,"Tamaulipas","Mecanismos de coordinación",1.2,"Elaborar un plan de trabajo conjunto para la promoción de la participación ciudadana","INE/OPL","DECEYEC/JLE/OPL","2021-11-03","2021-12-15"]
[6,"Tamaulipas","Mecanismos de coordinación",1.3,"Sesión para dar inicio al PEL","OPL","CG","2021-09-12","2021-09-12"]
[6,"Tamaulipas","Mecanismos de coordinación",1.4,"Implementar un plan de trabajo conjunto para la promoción de la participación ciudadana","INE/OPL","DECEYEC/JLE/OPL","2022-02-01","2022-06-04"]
[6,"Tamaulipas","Mecanismos de coordinación",1.5,"Presentar un informe parcial de Programa de Promoción de la Participación Ciudadana a la comisión correspondiente","INE/OPL","DECEYEC/JLE/OPL","2022-02-01","2022-04-30"]
[6,"Tamaulipas","Mecanismos de coordinación",1.6,"Presentar un informe final de Programa de Promoción de la Participación Ciudadana a la comisión correspondiente","INE/OPL","DECEYEC/JLE/OPL","2022-05-01","2022-09-04"]
[6,"Tamaulipas","Integración de órganos desconcentrados",2.1,"Convocatoria para la integración de los Órganos Distritales","OPL","CG","2021-07-16","2021-08-10"]
[6,"Tamaulipas","Integración de órganos desconcentrados",2.2000000000000002,"Sesión en la que se designan e integran los Órganos Distritales","OPL","CG","2021-12-01","2021-12-31"]
[6,"Tamaulipas","Integración de órganos desconcentrados",2.2999999999999998,"Instalación de los Órganos Distritales","OPL","OD","2022-02-06","2022-02-12"]
[6,"Tamaulipas","Integración de órganos desconcentrados",2.7,"Designación y/o ratificación de las y los Consejeros Electorales del Consejo Local","INE","CG","2021-07-01","2021-08-31"]
[6,"Tamaulipas","Integración de órganos desconcentrados",2.8,"Instalación del Consejo Local","INE","CL","2021-09-30","2021-09-30"]
[6,"Tamaulipas","Integración de órganos desconcentrados",2.9,"Designación y/o ratificación de las y los Consejeros Electorales de los Consejos Distritales","INE","CL","2021-10-01","2021-11-29"]
[6,"Tamaulipas","Integración de órganos desconcentrados",2.1,"Instalación de los Consejos Distritales","INE","CD","2021-11-30","2021-11-30"]
[6,"Tamaulipas","Integración de órganos desconcentrados",2.11,"Publicación de la integración de los Consejos Locales y Distritales del INE","INE","CL","2022-01-17","2022-01-31"]
[6,"Tamaulipas","Lista Nominal de Electores",3.1,"Entrega del catálogo cartográfico","INE","DERFE","2022-01-15","2022-02-28"]
[6,"Tamaulipas","Lista Nominal de Electores",3.2,"Generación y entrega de la Lista Nominal de Electores para Revisión en medios ópticos a los representantes de los partidos políticos","INE","DERFE","2022-02-15","2022-02-15"]
[6,"Tamaulipas","Lista Nominal de Electores",3.3,"Elaborar los archivos de conformación de casillas extraordinarias y asignación de registros sin soporte cartográfico para la impresión del Listado Nominal para el Proceso Electoral","INE","DERFE","2022-03-01","2022-05-31"]
[6,"Tamaulipas","Lista Nominal de Electores",3.4,"Recepción de observaciones de los partidos políticos y en su caso, candidatos independientes, a la Lista Nominal de Electores para revisión","INE/OPL","DERFE","2022-03-14","2022-03-14"]
[6,"Tamaulipas","Lista Nominal de Electores",3.5,"Entrega en formato digital el informe respecto de la atención a las observaciones formuladas a la Lista Nominal de Electores para Revisión","INE","DERFE","2022-04-18","2022-04-18"]
[6,"Tamaulipas","Lista Nominal de Electores",3.6,"Entrega de la Lista Nominal de Electores Definitiva con fotografía","INE","DERFE","2022-05-05","2022-05-05"]
[6,"Tamaulipas","Lista Nominal de Electores",3.7,"Entrega de la Lista Nominal de Electores con fotografía Producto de Instancias Administrativas y Resoluciones del Tribunal (ADENDA)","INE","DERFE","2022-05-24","2022-05-24"]
[6,"Tamaulipas","Gestión de credencial para votar",4.0999999999999996,"Atender los trámites de la ciudadanía que acude a los Módulos de Atención Ciudadana a inscribirse y a actualizar su situación registral en el Padrón Electoral","INE","DERFE","2021-09-01","2022-01-31"]
[6,"Tamaulipas","Gestión de credencial para votar",4.2,"Atender los trámites de la ciudadanía que acude a los Módulos de Atención Ciudadana a solicitar la reposición de su CPV por robo, extravío o deterioro grave","INE","DERFE","2021-09-01","2022-02-07"]
[6,"Tamaulipas","Gestión de credencial para votar",4.3,"Entregar la Credencial para Votar con Fotografía a los ciudadanos en las Oficinas o Módulos de Atención Ciudadana que determine el INE","INE","DERFE","2021-09-01","2022-04-11"]
[6,"Tamaulipas","Gestión de credencial para votar",4.4000000000000004,"Atender solicitudes de reimpresión de Credencial para Votar por extravío o robo","INE","DERFE","2022-02-08","2022-05-20"]
[6,"Tamaulipas","Gestión de credencial para votar",4.5,"Resguardar las Credenciales para Votar que no fueron recogidas por sus titulares hasta el 11 de abril y hasta el 03 de junio de 2022, derivadas de Instancias Administrativas, Demandas de Juicio o de solicitudes de reimpresión","INE","DERFE","2022-04-24","2022-06-04"]
[6,"Tamaulipas","Observación Electoral",5.0999999999999996,"Emisión de la convocatoria para la ciudadanía que desee participar en la observación electoral","OPL","CG","2021-09-12","2021-09-12"]
[6,"Tamaulipas","Observación Electoral",5.2,"Recepción de solicitudes de la ciudadanía que desee participar en la observación electoral","INE/OPL","OPL/JL/JD","2021-09-12","2022-05-07"]
[6,"Tamaulipas","Observación Electoral",5.3,"Impartición de los cursos de capacitación, preparación o información","INE/OPL","OPL/JL/JD","2021-09-12","2022-05-16"]
[6,"Tamaulipas","Observación Electoral",5.4,"Acreditación de la ciudadanía como observadores u observadoras electorales","INE","CL/CD","2021-09-12","2022-06-04"]
[6,"Tamaulipas","Observación Electoral",5.5,"Seguimiento a los informes mensuales de acreditación de Observadores Electores","INE","CG","2021-09-12","2022-07-31"]
[6,"Tamaulipas","Observación Electoral",5.6,"Remisión de materiales de capacitación a la JLE para revisión","OPL","CG","2021-08-30","2021-08-30"]
[6,"Tamaulipas","Observación Electoral",5.7,"Revisión, corrección, verificación y validación de materiales de capacitación para observadores electorales","INE","JLE","2021-08-30","2021-09-30"]
[6,"Tamaulipas","Ubicación de casillas",6.1,"Recorridos por las secciones de los distritos para localizar los lugares donde se ubicarán las casillas","INE","JDE","2022-01-15","2022-02-15"]
[6,"Tamaulipas","Ubicación de casillas",6.2,"Presentación a los Consejos Distritales del listado de lugares propuestos para ubicar casillas","INE","JDE","2022-02-24","2022-02-24"]
[6,"Tamaulipas","Ubicación de casillas",6.3,"Visitas de examinación en los lugares propuestos para ubicar casillas básicas, contiguas, especiales y extraordinarias","INE","CD","2022-02-25","2022-03-15"]
[6,"Tamaulipas","Ubicación de casillas",6.4,"Aprobación del número y ubicación de casillas extraordinarias y especiales","INE","CD","2022-03-15","2022-03-15"]
[6,"Tamaulipas","Ubicación de casillas",6.5,"Aprobación del número y ubicación de casillas básicas y contiguas","INE","CD","2022-03-28","2022-03-28"]
[6,"Tamaulipas","Ubicación de casillas",6.6,"Entrega de la base de datos de la Lista Nominal Definitiva a UNICOM con corte al 11 de abril","INE","DERFE","2022-04-18","2022-04-18"]
[6,"Tamaulipas","Ubicación de casillas",6.7,"Realizar la primera publicación de la lista de ubicación de casillas en los lugares más concurridos del distrito electoral y en los medios electrónicos del Instituto","INE","CD","2022-04-15","2022-04-15"]
[6,"Tamaulipas","Ubicación de casillas",6.8,"En su caso, segunda publicación de la lista de ubicación de casillas por causas supervenientes en los lugares más concurridos del distrito y en los medios electrónicos del Instituto","INE","CD","2022-05-15","2022-05-25"]
[6,"Tamaulipas","Ubicación de casillas",6.9,"Publicación de los encartes y difusión en medios electrónicos del Instituto","INE/OPL","DEOE/CG","2022-06-04","2022-06-05"]
[6,"Tamaulipas","Ubicación de casillas",6.1,"Registro de representantes generales y ante mesas directivas de casilla","INE","CD","2022-04-16","2022-05-23"]
[6,"Tamaulipas","Ubicación de casillas",6.11,"Sustitución de representantes generales y ante mesas directivas de casilla","INE","CD","2022-04-16","2022-05-26"]
[6,"Tamaulipas","Ubicación de casillas",6.12,"Entrega de listados de representantes generales y ante casilla al OPL","INE","CD","2022-05-28","2022-05-29"]
[6,"Tamaulipas","Ubicación de casillas",6.13,"Avisos domiciliarios para ubicación de casillas en secciones electorales involucradas en Actualizaciones del Marco Geográfico Electoral","INE/OPL","DERFE/OPL","2022-04-01","2022-06-16"]
[6,"Tamaulipas","Ubicación de casillas",6.14,"Notificación de la casilla en que votará la ciudadanía residente en secciones en las que el Consejo Distrital determinó no instalar casillas por las causales previstas en el artículo 234 del RE","INE","CD","2022-05-01","2022-05-31"]
[6,"Tamaulipas","Integración de las Mesas Directivas de Casilla",7.1,"Aprobación de la Estrategia de Capacitación y Asistencia Electoral","INE","CG","2021-08-01","2021-08-31"]
[6,"Tamaulipas","Integración de las Mesas Directivas de Casilla",7.2,"Sorteo del mes del calendario como base para la insaculación de las y los ciudadanos que integrarán las mesas directivas de casilla","INE","CG","2021-12-01","2021-12-31"]
[6,"Tamaulipas","Integración de las Mesas Directivas de Casilla",7.3,"Entrega de modelos para que los OPL elaboren materiales didácticos para la ciudadanía sorteada y para las y los funcionarios de casilla","INE","CG/DECEYEC","2021-10-04","2021-11-30"]
[6,"Tamaulipas","Integración de las Mesas Directivas de Casilla",7.4,"Revisión, corrección y validación de los materiales didácticos para la ciudadanía sorteada y para las y los funcionarios de casilla","INE/OPL","JLE/\nDECEYEC/OPL","2021-11-11","2022-03-14"]
[6,"Tamaulipas","Integración de las Mesas Directivas de Casilla",7.5,"Entrega a la JLE de los materiales didácticos impresos para la primera y segunda etapa elaborados por parte de los OPL","INE/OPL","JLE/CG","2022-01-20","2022-03-28"]
[6,"Tamaulipas","Integración de las Mesas Directivas de Casilla",7.6,"Reclutamiento Selección y contratación de SE y CAE","INE","DECEYEC","2021-10-18","2022-01-19"]
[6,"Tamaulipas","Integración de las Mesas Directivas de Casilla",7.7,"Seguimiento a la aplicación de procediemientos de reclutamiento, selección y contratacion de SE y CAE","INE","DECEYEC/JLE/JD","2021-10-18","2022-01-19"]
[6,"Tamaulipas","Integración de las Mesas Directivas de Casilla",7.8,"Sorteo de la letra a partir de la cual, con base en el apellido paterno, se seleccionará a las y los ciudadanos que integrarán las mesas directivas de casilla","INE","CG","2022-02-01","2022-02-28"]
[6,"Tamaulipas","Integración de las Mesas Directivas de Casilla",7.9,"Entrega de la Lista Nominal de Electores para el Procedimiento de la Primera insaculación","INE","DERFE/UNICOM","2022-01-21","2022-01-25"]
[6,"Tamaulipas","Integración de las Mesas Directivas de Casilla",7.1,"Procesar los archivos de conformación de secciones electorales\ncon casilla extraordinaria para la primera insaculación","INE","DERFE","2022-01-21","2022-01-25"]
[6,"Tamaulipas","Integración de las Mesas Directivas de Casilla",7.11,"Primera insaculación","INE","JDE","2022-02-01","2022-02-07"]
[6,"Tamaulipas","Integración de las Mesas Directivas de Casilla",7.12,"Primera etapa de capacitación a las personas insaculadas","INE","CD","2022-02-09","2022-03-31"]
[6,"Tamaulipas","Integración de las Mesas Directivas de Casilla",7.13,"Seguimiento a la aplicación de procediemientos de la primera etapa de capacitacion electoral","INE","DECEYEC/JLE/JD","2022-02-09","2022-03-31"]
[6,"Tamaulipas","Integración de las Mesas Directivas de Casilla",7.14,"Segunda insaculación y designación de funcionarios para mesas directivas de casilla","INE","CD","2022-04-01","2022-04-08"]
[6,"Tamaulipas","Integración de las Mesas Directivas de Casilla",7.15,"Segunda estapa de capacitación a funcionarios de mesa directiva de casilla y simulacros","INE","CD","2022-04-09","2022-06-04"]
[6,"Tamaulipas","Integración de las Mesas Directivas de Casilla",7.16,"Seguimiento a la aplicación de procediemientos de la segunda etapa de capacitacion electoral","INE","DECEYEC/JLE/JD","2022-04-10","2022-06-04"]
[6,"Tamaulipas","Integración de las Mesas Directivas de Casilla",7.17,"Entrega de reconocimientos a funcionarios de mesas directivas de casilla","INE","CD","2022-06-06","2022-06-12"]
[6,"Tamaulipas","Fiscalización",8.1,"Planeación de la Fiscalización","INE","UTF","2021-07-26","2022-02-28"]
[6,"Tamaulipas","Fiscalización",8.1999999999999993,"Fiscalización del periodo de precampaña y obtención del apoyo de la ciudadanía","INE","UTF","2021-11-22","2022-05-16"]
[6,"Tamaulipas","Fiscalización",8.3000000000000007,"Fiscalización del periodo de campaña","INE","UTF","2022-03-04","2022-08-01"]
[6,"Tamaulipas","Obligaciones y prerrogativas financieras de los partidos, candidaturas y candidaturas independientes.",9.1,"Aprobación de topes de gastos de precampaña Gubernatura","OPL","CG","2021-11-01","2021-11-30"]
[6,"Tamaulipas","Obligaciones y prerrogativas financieras de los partidos, candidaturas y candidaturas independientes.",9.4,"Aprobación de los límites de financiamiento privado, aportaciones de militantes, simpatizantes y precandidaturas o candidaturas; así como el límite individual de aportaciones para Gubernatura","OPL","CG","2021-12-15","2022-01-31"]
[6,"Tamaulipas","Obligaciones y prerrogativas financieras de los partidos, candidaturas y candidaturas independientes.",9.6999999999999993,"Aprobación de topes de gastos para el periodo de obtención del apoyo ciudadano para Gubernatura","OPL","CG","2021-09-12","2021-11-30"]
[6,"Tamaulipas","Obligaciones y prerrogativas financieras de los partidos, candidaturas y candidaturas independientes.",9.1,"Aprobación de topes de gastos de campaña para Gubernatura","OPL","CG","2022-03-01","2022-03-31"]
[6,"Tamaulipas","Candidaturas Independientes",10.1,"Emisión de la convocatoria para la ciudadanía interesada en participar a una Candidatura Independiente.","OPL","CG","2021-09-12","2021-09-30"]
[6,"Tamaulipas","Candidaturas Independientes",10.199999999999999,"Recepción de escrito de intención y documentación anexa de las y los ciudadanos que aspiren a la candidatura independiente para Gubernatura","OPL","OD","2021-09-13","2021-12-01"]
[6,"Tamaulipas","Candidaturas Independientes",10.5,"Resolución sobre procedencia de manifestación de intención de las y los aspirantes a candidaturas independientes para Gubernatura","OPL","CG","2021-12-02","2021-12-15"]
[6,"Tamaulipas","Candidaturas Independientes",10.8,"Plazo para obtener el apoyo ciudadano de las candidaturas independientes para Gubernatura","OPL","OD","2022-01-02","2022-02-10"]
[6,"Tamaulipas","Candidaturas Independientes",10.11,"Verificar la situación registral de las y los ciudadanos inscritos en la Lista Nominal, que presenten las y los Aspirantes a Candidaturas Independientes para los diversos cargos de elección popular a nivel local.","INE/OPL","DERFE","2021-12-01","2022-03-30"]
[6,"Tamaulipas","Candidaturas Independientes",10.119999999999999,"Plazo para otorgar las constancias de porcentaje a favor de la o el aspirante a la candidatura independiente para Gubernatura","OPL","CG","2022-02-11","2022-03-22"]
[6,"Tamaulipas","Candidaturas",11.1,"Registro de plataformas electorales","OPL","CG","2021-09-12","2021-12-10"]
[6,"Tamaulipas","Candidaturas",11.2,"Solicitud de registro de convenio de coalición para Gubernatura","OPL","CG","2021-09-13","2022-01-12"]
[6,"Tamaulipas","Candidaturas",11.5,"Resolución sobre Convenio de Coalición para Gubernatura","OPL","CG","2021-09-13","2022-01-30"]
[6,"Tamaulipas","Candidaturas",11.8,"Precampaña para Gubernatura","OPL","CG","2022-01-02","2022-02-10"]
[6,"Tamaulipas","Candidaturas",11.14,"Solicitud de registro de Candidaturas para Gubernatura","OPL","CG/OD","2022-03-23","2022-03-27"]
[6,"Tamaulipas","Candidaturas",11.18,"Resolución para aprobar las candidaturas para Gubernatura","OPL","CG","2022-03-28","2022-04-02"]
[6,"Tamaulipas","Candidaturas",11.22,"Solicitud de registro de candidaturas comunes para Gubernatura","OPL","CG","2021-09-12","2022-01-02"]
[6,"Tamaulipas","Candidaturas",11.25,"Resolución para aprobar las candidaturas comunes para Gubernatura","OPL","CG","2021-09-13","2022-01-12"]
[6,"Tamaulipas","Candidaturas",11.28,"Campaña para Gubernatura","OPL","CG","2022-04-03","2022-06-01"]
[6,"Tamaulipas","Candidaturas",11.34,"Aprobación de la distribución de financiamiento público para partidos políticos","OPL","CG","2021-12-15","2022-01-31"]
[6,"Tamaulipas","Debates",12.1,"Aprobación de las fechas en que se celebrarán los debates para gubernatura","OPL","CG","2021-12-15","2022-03-31"]
[6,"Tamaulipas","Debates",12.2,"Realización del primer debate para gubernatura","OPL","CG","2022-04-03","2022-06-01"]
[6,"Tamaulipas","Debates",12.3,"Realización del segundo debate para gubernatura","OPL","CG","2022-04-03","2022-06-01"]
[6,"Tamaulipas","Documentación y material electoral",13.1,"Aprobación de los formatos únicos con los diseños y especificaciones técnicas de la documentación y materiales electorales","INE","COTSPEL","2021-08-15","2021-09-06"]
[6,"Tamaulipas","Documentación y material electoral",13.2,"Entrega a la Dirección Ejecutiva de Organización Electoral del INE, de los diseños y especificaciones técnicas de la documentación y materiales electorales, en medios impresos y electrónicos","OPL","CG","2021-09-01","2021-11-10"]
[6,"Tamaulipas","Documentación y material electoral",13.3,"Validación de los documentos y materiales electorales y especificaciones técnicas, con las observaciones subsanadas","INE","DEOE","2021-11-01","2021-12-15"]
[6,"Tamaulipas","Documentación y material electoral",13.4,"Aprobación de la documentación y material electoral","OPL","CG","2021-11-15","2021-12-31"]
[6,"Tamaulipas","Documentación y material electoral",13.5,"Entrega a la Dirección Ejecutiva de Organización Electoral del INE, del Reporte con los resultados de las verificaciones de las medidas de seguridad en la documentación electoral y líquido indeleble","OPL","CG","2022-05-25","2022-06-17"]
[6,"Tamaulipas","Documentación y material electoral",13.6,"Supervisiones respecto de los procedimientos de impresión y producción de la documentación y materiales electorales","INE","DEOE","2022-03-16","2022-05-31"]
[6,"Tamaulipas","Documentación y material electoral",13.7,"Designación de la persona responsable de llevar el control sobre la asignación de los folios de las boletas que se distribuirán en cada mesa directiva de casilla","OPL","OD","2022-03-01","2022-03-30"]
[6,"Tamaulipas","Documentación y material electoral",13.8,"Aprobación de SE y CAE, así como de personal que auxiliará en el procedimiento de conteo, sellado y agrupamiento de las boletas electorales; así como la integración de documentación que será entregada a las presidencias de mesa directiva de casilla","OPL","OD","2022-04-24","2022-05-11"]
[6,"Tamaulipas","Documentación y material electoral",13.9,"Recepción de las boletas electorales por el órgano competente que realizará el conteo, sellado y agrupamiento","OPL","OD","2022-05-18","2022-05-21"]
[6,"Tamaulipas","Documentación y material electoral",13.1,"Conteo, sellado y agrupamiento de boletas e integración de la caja paquete electoral","OPL","OD","2022-05-18","2022-05-27"]
[6,"Tamaulipas","Documentación y material electoral",13.11,"Distribución de la documentación y materiales electorales a las Presidencias de mesa directiva de casilla","OPL","OD","2022-05-30","2022-06-03"]
[6,"Tamaulipas","Documentación y material electoral",13.12,"Remisión de los recibos de la entrega de la documentación y materiales electorales al Consejo General del OPL","INE","JLE","2022-06-26","2022-07-02"]
[6,"Tamaulipas","Jornada Electoral",14.1,"Aprobación del Programa de Operación del SIJE 2022","INE","CG","2021-07-01","2021-07-31"]
[6,"Tamaulipas","Jornada Electoral",14.2,"Aprobación de las metas del SIJE 2022","INE","CG","2022-03-01","2022-03-31"]
[6,"Tamaulipas","Jornada Electoral",14.3,"Presentación del Manual de Operación del SIJE 2022","INE","COTSPEL","2022-03-01","2022-03-31"]
[6,"Tamaulipas","Jornada Electoral",14.4,"Realización de pruebas del SIJE 2022","INE","DEOE","2022-04-04","2022-04-15"]
[6,"Tamaulipas","Jornada Electoral",14.5,"Desarrollo del primer simulacro del SIJE","INE/OPL","DEOE/OD","2022-04-28","2022-04-28"]
[6,"Tamaulipas","Jornada Electoral",14.6,"Desarrollo del segundo simulacro del SIJE","INE/OPL","DEOE/OD","2022-05-08","2022-05-08"]
[6,"Tamaulipas","Jornada Electoral",14.7,"Desarrollo del tercer simulacro del SIJE","INE/OPL","DEOE/OD","2022-05-22","2022-05-22"]
[6,"Tamaulipas","Jornada Electoral",14.8,"Jornada Electoral","OPL","CG/OD","2022-06-05","2022-06-05"]
[6,"Tamaulipas","Bodegas electorales",15.1,"Determinación de los lugares que ocuparán las bodegas electorales para el resguardo de la documentación electoral","OPL","CG","2022-02-01","2022-02-28"]
[6,"Tamaulipas","Bodegas electorales",15.2,"Verificación por parte de los órganos desconcentrados del INE de las condiciones y equipamiento de las bodegas electorales del OPL","INE/OPL","JLE/JDE/OD","2022-03-01","2022-03-31"]
[6,"Tamaulipas","Bodegas electorales",15.3,"Informe que rinden las y los Presidentes sobre las condiciones de equipamiento, mecanismos de operación y medidas de seguridad de las bodegas electorales","OPL","OD","2022-03-01","2022-03-31"]
[6,"Tamaulipas","Bodegas electorales",15.4,"Designación, por parte del órgano competente del OPL, del personal que tendrá acceso a la bodega electoral","OPL","CG/OD","2022-03-01","2022-03-30"]
[6,"Tamaulipas","Bodegas electorales",15.5,"Envío del informe presentado ante el Consejo General, sobre las condiciones que guardan las bodegas electorales del Órgano Central y desconcentrados del OPL","OPL","CG","2022-04-03","2022-04-09"]
[6,"Tamaulipas","Mecanismos de recolección",16.100000000000001,"Entrega de estudios de factibilidad al OPL","INE","CL","2022-03-16","2022-03-31"]
[6,"Tamaulipas","Mecanismos de recolección",16.2,"Entrega de observaciones a los estudios de factibilidad","OPL","CG","2022-04-17","2022-04-23"]
[6,"Tamaulipas","Mecanismos de recolección",16.3,"Recorridos para verificar las propuestas de los mecanismos de recolección","INE/OPL","CD/OD","2022-03-17","2022-04-23"]
[6,"Tamaulipas","Mecanismos de recolección",16.399999999999999,"Aprobación de los mecanismos de recolección","INE","CD","2022-04-24","2022-04-30"]
[6,"Tamaulipas","Mecanismos de recolección",16.5,"Traslado y recolección de los paquetes electorales","INE","CD","2022-06-05","2022-06-06"]
[6,"Tamaulipas","Mecanismos de recolección",16.600000000000001,"Acreditación de representantes de partidos políticos y candidaturas independientes ante los mecanismos de recolección","INE","CL/CD","2022-04-25","2022-06-02"]
[6,"Tamaulipas","Mecanismos de recolección",16.7,"Sustitución de representantes de partidos políticos y candidaturas independientes ante los mecanismos de recolección","INE","CL/CD","2022-04-26","2022-06-03"]
[6,"Tamaulipas","Mecanismos de recolección",16.8,"Entrega a la JLE del informe sobre la recepción de paquetes electorales en los órganos competentes","INE","CD","2022-06-05","2022-06-17"]
[6,"Tamaulipas","Cómputos",17.100000000000001,"Aprobación de los lineamientos de cómputo y del cuadernillo de consulta sobre votos válidos y votos nulos","OPL","CG","2022-01-01","2022-02-28"]
[6,"Tamaulipas","Cómputos",17.2,"Remisión a la JLE en la entidad, de las propuestas de escenarios de cómputos, para la dictaminación de viabilidad","OPL","CG","2022-03-06","2022-03-13"]
[6,"Tamaulipas","Cómputos",17.3,"Remisión de las observaciones a los escenarios de Cómputos al OPL y a su vez informar de las mismas a la UTVOPL","INE","JLE","2022-03-14","2022-03-26"]
[6,"Tamaulipas","Cómputos",17.399999999999999,"Asignación de las y los SE y CAE contratados por el INE para los OD del OPL a fin de que apoyen en los cómputos de las elecciones locales","INE","CD","2022-05-01","2022-05-15"]
[6,"Tamaulipas","Cómputos",17.600000000000001,"Aprobación por parte del órgano competente del OPL, del acuerdo mediante el cual se designa al personal que participará en las tareas de apoyo a los Cómputos Distritales","OPL","CG/OD","2022-05-01","2022-05-31"]
[6,"Tamaulipas","Cómputos",17.7,"Aprobación por parte de los órganos competentes del OPL, de los distintos escenarios de cómputos","OPL","OD","2022-04-01","2022-04-15"]
[6,"Tamaulipas","Cómputos",17.8,"El OPL informará el inicio de la creación del programa, sistema o herramienta informática a la UTVOPL y a la Junta Local del INE, así como de sus características y avances","OPL","CG","2022-02-01","2022-02-15"]
[6,"Tamaulipas","Cómputos",17.899999999999999,"El OPL remitirá por conducto de la UTVOPL a la DEOE, y en forma directa a la Junta Local del INE, la dirección electrónica en la que se ubicará la aplicación, así como las claves y accesos necesarios para hacer pruebas y simulacros de captura.","OPL","CG","2022-04-01","2022-04-07"]
[6,"Tamaulipas","Cómputos",17.100000000000001,"Liberación de la herramienta informática de Cómputos","OPL","CG","2022-04-16","2022-04-30"]
[6,"Tamaulipas","Cómputos",17.11,"Realización de dos simulacros en los órganos competentes del OPL sobre el desarrollo de los cómputos en los OD con el uso de la herramienta informática","OPL","CD","2022-05-01","2022-06-03"]
[6,"Tamaulipas","Cómputos",17.12,"Aprobación por parte del órgano competente del OPL, del acuerdo por el que se habilitarán espacios para la instalación de grupos de trabajo y, en su caso, puntos de recuento","OPL","CG/OD","2022-06-07","2022-06-07"]
[6,"Tamaulipas","Cómputos",17.149999999999999,"Cómputo Estatal para la Gubernatura","OPL","CG","2022-06-11","2022-06-11"]
[6,"Tamaulipas","PREP",18.100000000000001,"Documento por el que se informe la instalación de la Comisión en la que se reporten los trabajos de implementación y operación del PREP.","OPL","CG","2021-09-10","2021-09-10"]
[6,"Tamaulipas","PREP",18.2,"Aprobación del Acuerdo por el que se designa o ratifica a la instancia interna responsable de coordinar el PREP","OPL","CG","2021-09-05","2021-09-05"]
[6,"Tamaulipas","PREP",18.3,"Aprobación del Acuerdo de Integración del COTAPREP","OPL","CG","2021-11-05","2021-11-05"]
[6,"Tamaulipas","PREP",18.399999999999999,"Documento por el que se determina la implementación del PREP por el OPL o con el apoyo de un Tercero","OPL","CG","2021-12-05","2021-12-05"]
[6,"Tamaulipas","PREP",18.5,"Aprobación del acuerdo por el que se determina el Proceso Técnico Operativo","OPL","CG","2022-01-05","2022-01-05"]
[6,"Tamaulipas","PREP",18.600000000000001,"Aprobación del Acuerdo por el que se determina la ubicación, instalación y habilitación de los CATD y, en su caso, CCV","OPL","CG","2022-02-05","2022-02-05"]
[6,"Tamaulipas","PREP",18.7,"Documento de Designación del Ente Auditor","OPL","CG","2022-02-05","2022-02-05"]
[6,"Tamaulipas","PREP",18.8,"Instrumento jurídico celebrado entre el OPL y el ente auditor","OPL","CG","2022-03-05","2022-03-05"]
[6,"Tamaulipas","PREP",18.899999999999999,"Realización de prueba de funcionalidad del PREP","OPL","CG","2022-04-20","2022-04-20"]
[6,"Tamaulipas","PREP",18.100000000000001,"Realización del primer simulacro del PREP","OPL","CG","2022-05-15","2022-05-15"]
[6,"Tamaulipas","PREP",18.11,"Realización del segundo simulacro del PREP","OPL","CG","2022-05-22","2022-05-22"]
[6,"Tamaulipas","PREP",18.12,"Realización del tercer simulacro del PREP","OPL","CG","2022-05-29","2022-05-29"]
[6,"Tamaulipas","PREP",18.13,"Operación del PREP","OPL","CG","2022-06-05","2022-06-06"]
[6,"Tamaulipas","Conteo Rápido",19.100000000000001,"Aprobación del Acuerdo de Integración del COTECORA","INE","CG","2022-02-01","2022-02-04"]
[6,"Tamaulipas","Conteo Rápido",19.2,"Realización de pruebas de captura","INE","DERFE/DEOE/UNICOM","2022-04-14","2022-05-05"]
[6,"Tamaulipas","Conteo Rápido",19.3,"Realización de primer simulacro del Conteo Rápido","INE","DERFE/DEOE/UNICOM","2022-05-06","2022-05-22"]
[6,"Tamaulipas","Conteo Rápido",19.399999999999999,"Realización de segundo simulacro del Conteo Rápido","INE","DERFE/DEOE/UNICOM","2022-05-06","2022-06-04"]
[6,"Tamaulipas","Conteo Rápido",19.5,"Selección de la Muestra para el Conteo Rápido","INE","COTECORA","2022-06-01","2022-06-03"]
[6,"Tamaulipas","Voto de los ciudadanos residentes en el extranjero",20.100000000000001,"Elaboración y aprobación de los Lineamientos para la Conformación de la Lista Nominal de Electores Residentes en el Extranjero para los Procesos Electorales Locales 2021-2022, así como de los Lineamientos para la organización y emisión del Voto de los Mexicanos Residentes en el Extranjero, para los Procesos Electorales Locales 2021-2022","INE","CG/DERFE/UNICOM","2021-07-01","2021-08-31"]
[6,"Tamaulipas","Voto de los ciudadanos residentes en el extranjero",20.2,"Elaboración y aprobación del Programa de Mesas de Escrutinio y Cómputo, Capacitación Electoral y Seguimiento del Voto de las y los Mexicanos Residentes en el Extranjero para el Proceso Electoral Local 2021-2022, como parte de la Estrategia de Capacitación y Asistencia Electoral","INE","CG","2021-08-01","2021-08-05"]
[6,"Tamaulipas","Voto de los ciudadanos residentes en el extranjero",20.3,"Puesta a disposición de envío de la Solicitud individual de Inscripción a la Lista Nominal de Electores Residentes en el extranjero para procesos electorales locales (SIILNERE), y de la Solicitud Individual para Votar desde el Extranjero (SIVE)","INE","DERFE","2021-09-01","2022-03-10"]
[6,"Tamaulipas","Voto de los ciudadanos residentes en el extranjero",20.399999999999999,"Recepción, procesamiento y determinación de procedencia o improcedencia de las Solicitudes de Inscripción a la Lista Nominal de Electores Residentes en el Extranjero","INE","DERFE","2021-09-01","2022-03-18"]
[6,"Tamaulipas","Voto de los ciudadanos residentes en el extranjero",20.5,"Presentación ante Comisión para aprobación de materiales didácticos y de apoyo de Primera Etapa de Capacitación Electoral del VMRE","INE","DECEYEC","2021-11-01","2021-12-17"]
[6,"Tamaulipas","Voto de los ciudadanos residentes en el extranjero",20.6,"Aprobación del número de mesas de escrutinio y cómputo a instalar","INE","CL","2022-03-31","2022-04-07"]
[6,"Tamaulipas","Voto de los ciudadanos residentes en el extranjero",20.7,"Seguimiento a la Primera Insaculación del VMRE","INE","DECEYEC","2022-02-01","2022-02-07"]
[6,"Tamaulipas","Voto de los ciudadanos residentes en el extranjero",20.8,"Seguimiento a la Primera Etapa de Capacitación a las personas insaculadas para VMRE","INE","DECEYEC","2022-02-09","2022-03-31"]
[6,"Tamaulipas","Voto de los ciudadanos residentes en el extranjero",20.9,"Control de calidad a la instrumentación del procedimiento de integración de Mesas de Escrutinio y Cómputo, en la Primera Etapa de Capacitación por Oficinas Centrales","INE","DECEYEC","2022-03-15","2022-03-31"]
[6,"Tamaulipas","Voto de los ciudadanos residentes en el extranjero",20.100000000000001,"Presentación ante Comisión para aprobación de los materiales didácticos y de apoyo del VMRE de Segunda Etapa de Capacitación Electoral","INE","DECEYEC","2022-02-15","2022-03-31"]
[6,"Tamaulipas","Voto de los ciudadanos residentes en el extranjero",20.11,"Seguimiento a la Segunda Insaculación y designación de funcionarios para Mesas de Escrutinio y Cómputo del VMRE.","INE","DECEYEC","2022-04-01","2022-04-08"]
[6,"Tamaulipas","Voto de los ciudadanos residentes en el extranjero",20.12,"Seguimiento a la Segunda Etapa de capacitación a funcionarios de Mesas de Escrutinio y Cómputo del VMRE; realización de prácticas de la Jornada Electoral y simulacros","INE","DECEYEC","2022-04-10","2022-06-04"]
[6,"Tamaulipas","Voto de los ciudadanos residentes en el extranjero",20.13,"Integración de la Lista Nominal de Electores Residentes en el Extranjero para Revisión y observaciones de partidos políticos","INE","DERFE","2022-03-18","2022-04-30"]
[6,"Tamaulipas","Voto de los ciudadanos residentes en el extranjero",20.14,"Entrega de la documentación y materiales electorales para el VMRE de los OPL a la DEOE y a la DERFE tratándose del PEP","OPL","CG","2022-04-01","2022-04-30"]
[6,"Tamaulipas","Voto de los ciudadanos residentes en el extranjero",20.149999999999999,"Declaración de validez de la Lista Nominal de Electores Residentes en el Extranjero Definitiva","INE","DERFE/DEOE","2022-04-15","2022-04-30"]
[6,"Tamaulipas","Voto de los ciudadanos residentes en el extranjero",20.16,"Diseño, preparación y envío de la documentación y materiales electorales a la ciudadanía residente en el extranjero para el ejercicio de su voto","INE","DERFE/DEOE/UNICOM/DECEYEC/CG","2021-11-01","2022-05-31"]
[6,"Tamaulipas","Voto de los ciudadanos residentes en el extranjero",20.170000000000002,"Promoción del Voto de los Mexicanos Residentes en el Extranjero (Difusión, Comunicación, Vinculación y Plataformas Digitales)","INE/OPL","DECEYEC/CNCS/DERFE/CG","2021-08-01","2022-06-30"]
[6,"Tamaulipas","Voto de los ciudadanos residentes en el extranjero",20.18,"Recepción de Sobres Voto y resguardo","INE","JLE","2022-04-29","2022-06-04"]
[6,"Tamaulipas","Voto de los ciudadanos residentes en el extranjero",20.190000000000001,"Integración y aprobación del Listado del personal que realizará las suplencias en las Mesas de Escrutinio y Cómputo","INE","CL","2022-05-16","2022-05-31"]
[6,"Tamaulipas","Voto de los ciudadanos residentes en el extranjero",20.2,"Periodo de Socialización del SIVEI (Sistema de Voto Electrónico por Internet)","INE","DERFE/DEOE/DECEYEC/UNICOM","2022-05-07","2022-05-18"]
[6,"Tamaulipas","Voto de los ciudadanos residentes en el extranjero",20.21,"Control de calidad en la Instrumentación del procedimiento de integración de Mesas de Escrutinio y Cómputo, en la Segunda Etapa de Capacitación por Oficinas Centrales","INE","DECEYEC","2022-05-15","2022-05-30"]
[6,"Tamaulipas","Voto de los ciudadanos residentes en el extranjero",20.22,"Determinación del Local Único para el escrutinio y cómputo de los votos de las y los mexicanos residentes en el extranjero","INE","CL","2022-01-01","2022-04-30"]
[6,"Tamaulipas","Voto de los ciudadanos residentes en el extranjero",20.23,"Periodo de Votación del SIVEI (Sistema de Voto Electrónico por Internet)","INE","DERFE/DEOE/DECEYEC/UNICOM","2022-05-21","2022-06-05"]
[6,"Tamaulipas","Voto de los ciudadanos residentes en el extranjero",20.239999999999998,"Recepción de los votos por la modalidad respectiva","INE","DERFE/DEOE/UNICOM","2022-05-21","2022-06-05"]
[6,"Tamaulipas","Voto de los ciudadanos residentes en el extranjero",20.25,"Preparación, aprobación e implementación de la logística para escrutinio y cómputo de los votos de las y los mexicanos residentes en el extranjero","INE","JLE/DEOE/DERFE/DECEYEC/UNICOM","2022-03-01","2022-06-05"]
[6,"Tamaulipas","Voto de los ciudadanos residentes en el extranjero",20.260000000000002,"Escrutinio y Cómputo, y resultados de los votos de los mexicanos residentes en el extranjero","INE/OPL","JLE/JD/DERFE/DECEYEC/DEOE/UTSI/CG","2022-06-05","2022-06-05"]
[6,"Tamaulipas","Visitantes extranjeros",21.1,"Emisión de la Convocatoria para visitantes extranjeros","INE","CG","2021-09-06","2021-09-30"]
[6,"Tamaulipas","Visitantes extranjeros",21.2,"Difusión de la Convocatoria para visitantes extranjeros","INE","CG","2021-09-06","2022-05-25"]
[6,"Tamaulipas","Visitantes extranjeros",21.3,"Recepción de solicitudes de acreditación como visitantes extranjeros","INE","CG","2021-09-06","2022-05-25"]
[6,"Tamaulipas","Visitantes extranjeros",21.4,"Resolución de solicitudes de acreditación como visitantes extranjeros","INE","CG","2021-09-07","2022-05-30"]
[6,"Tamaulipas","Visitantes extranjeros",21.5,"Entrega de acreditaciones a los visitantes extranjeros","INE","CG","2022-05-27","2022-06-04"]

{"sheet":"Hoja1","index":3,"n_rows":37,"n_cols":10,"rows_kept":37,"cut":false,"hidden":true,"merged":[]}
[]
[]
[]
[null,null,null,null,null,null,null,"entidad","# actividades"]
[null,null,null,null,null,null,null,"Aguascalientes",{"$f":"COUNTIF(Concentrado!#REF!, H5)","v":{"$error":"#REF!"}},162]
[null,null,null,null,null,null,null,"Baja California",{"$f":"COUNTIF(Concentrado!#REF!, H6)","v":{"$error":"#REF!"}},174]
[null,null,null,null,null,null,null,"Baja California Sur",{"$f":"COUNTIF(Concentrado!#REF!, H7)","v":{"$error":"#REF!"}},196]
[null,null,null,null,null,null,null,"Campeche",{"$f":"COUNTIF(Concentrado!#REF!, H8)","v":{"$error":"#REF!"}},188]
[null,null,null,null,null,null,null,"Coahuila",{"$f":"COUNTIF(Concentrado!#REF!, H9)","v":{"$error":"#REF!"}},134]
[null,null,null,null,null,null,null,"Colima",{"$f":"COUNTIF(Concentrado!#REF!, H10)","v":{"$error":"#REF!"}},196]
[null,null,null,null,null,null,null,"Chiapas",{"$f":"COUNTIF(Concentrado!#REF!, H11)","v":{"$error":"#REF!"}},163]
[null,null,null,null,null,null,null,"Chihuahua",{"$f":"COUNTIF(Concentrado!#REF!, H12)","v":{"$error":"#REF!"}},193]
[null,null,null,null,null,null,null,"Ciudad de México",{"$f":"COUNTIF(Concentrado!#REF!, H13)","v":{"$error":"#REF!"}},167]
[null,null,null,null,null,null,null,"Durango",{"$f":"COUNTIF(Concentrado!#REF!, H14)","v":{"$error":"#REF!"}},136]
[null,null,null,null,null,null,null,"Guanajuato",{"$f":"COUNTIF(Concentrado!#REF!, H15)","v":{"$error":"#REF!"}},156]
[null,null,null,null,null,null,null,"Guerrero",{"$f":"COUNTIF(Concentrado!#REF!, H16)","v":{"$error":"#REF!"}},192]
[null,null,null,null,null,null,null,"Hidalgo",{"$f":"COUNTIF(Concentrado!#REF!, H17)","v":{"$error":"#REF!"}},134]
[null,null,null,null,null,null,null,"Jalisco",{"$f":"COUNTIF(Concentrado!#REF!, H18)","v":{"$error":"#REF!"}},167]
[null,null,null,null,null,null,null,"Estado de México",{"$f":"COUNTIF(Concentrado!#REF!, H19)","v":{"$error":"#REF!"}},157]
[null,null,null,null,null,null,null,"Michoacán",{"$f":"COUNTIF(Concentrado!#REF!, H20)","v":{"$error":"#REF!"}},197]
[null,null,null,null,null,null,null,"Morelos",{"$f":"COUNTIF(Concentrado!#REF!, H21)","v":{"$error":"#REF!"}},158]
[null,null,null,null,null,null,null,"Nayarit",{"$f":"COUNTIF(Concentrado!#REF!, H22)","v":{"$error":"#REF!"}},195]
[null,null,null,null,null,null,null,"Nuevo León",{"$f":"COUNTIF(Concentrado!#REF!, H23)","v":{"$error":"#REF!"}},177]
[null,null,null,null,null,null,null,"Oaxaca",{"$f":"COUNTIF(Concentrado!#REF!, H24)","v":{"$error":"#REF!"}},158]
[null,null,null,null,null,null,null,"Puebla",{"$f":"COUNTIF(Concentrado!#REF!, H25)","v":{"$error":"#REF!"}},158]
[null,null,null,null,null,null,null,"Querétaro",{"$f":"COUNTIF(Concentrado!#REF!, H26)","v":{"$error":"#REF!"}},195]
[null,null,null,null,null,null,null,"Quintana Roo",{"$f":"COUNTIF(Concentrado!#REF!, H27)","v":{"$error":"#REF!"}},133]
[null,null,null,null,null,null,null,"San Luis Potosí",{"$f":"COUNTIF(Concentrado!#REF!, H28)","v":{"$error":"#REF!"}},192]
[null,null,null,null,null,null,null,"Sinaloa",{"$f":"COUNTIF(Concentrado!#REF!, H29)","v":{"$error":"#REF!"}},183]
[null,null,null,null,null,null,null,"Sonora",{"$f":"COUNTIF(Concentrado!#REF!, H30)","v":{"$error":"#REF!"}},183]
[null,null,null,null,null,null,null,"Tabasco",{"$f":"COUNTIF(Concentrado!#REF!, H31)","v":{"$error":"#REF!"}},152]
[null,null,null,null,null,null,null,"Tamaulipas",{"$f":"COUNTIF(Concentrado!#REF!, H32)","v":{"$error":"#REF!"}},156]
[null,null,null,null,null,null,null,"Tlaxcala",{"$f":"COUNTIF(Concentrado!#REF!, H33)","v":{"$error":"#REF!"}},189]
[null,null,null,null,null,null,null,"Veracruz",{"$f":"COUNTIF(Concentrado!#REF!, H34)","v":{"$error":"#REF!"}},155]
[null,null,null,null,null,null,null,"Yucatán",{"$f":"COUNTIF(Concentrado!#REF!, H35)","v":{"$error":"#REF!"}},159]
[null,null,null,null,null,null,null,"Zacatecas",{"$f":"COUNTIF(Concentrado!#REF!, H36)","v":{"$error":"#REF!"}},190]
[null,null,null,null,null,null,null,null,{"$f":"SUM(I5:I36)","v":{"$error":"#REF!"}},{"$f":"SUM(J5:J36)","v":5445}]

{"sheet":"Concentrado respaldo","index":4,"n_rows":5454,"n_cols":17,"rows_kept":5454,"cut":false,"hidden":true,"merged":[[1,3,1,16],[2,3,2,16],[3,3,3,16],[4,3,4,16]]}
[]
[null,null,null,"Unidad Técnica de Vinculación con los Organismos Públicos Locales "]
[null,null,null,"Dirección de Vinculación, Coordinación y Normatividad"]
[null,null,null,"Subdirección de Coordinación con los OPL"]
[]
["Consecutivo","ID_Ent","Entidad","ID_SP","Subproceso","ID_Act","N° Act","Actividad","Adscripción","UR","Inicio","Término","Fecha_INI_Real","Fecha_TER_Real","ID_Estatus","Estatus","Nota Cualitativa"]
[1,1,"Aguascalientes",1,"Mecanismos de coordinación","1.1",1,"Aprobar Calendarios y Planes Integrales de los Procesos Electorales Locales","INE","CG","2020-08-01","2020-08-07",null,null,{"$f":"VLOOKUP(P7,Campos!$B$2:$C$7,2,FALSE)","v":0},"Sin información"]
[2,1,"Aguascalientes",1,"Mecanismos de coordinación","1.2",2,"Firma del Convenio General de Coordinación y Colaboración 2020-2021","INE/OPL","INE/OPL","2020-09-01","2020-10-01",null,null,{"$f":"VLOOKUP(P8,Campos!$B$2:$C$7,2,FALSE)","v":0},"Sin información"]
[3,1,"Aguascalientes",1,"Mecanismos de coordinación","1.3",3,"Elaborar un plan de trabajo conjunto para la promoción de la participación ciudadana","INE/OPL","INE/OPL","2020-09-01","2020-12-31",null,null,{"$f":"VLOOKUP(P9,Campos!$B$2:$C$7,2,FALSE)","v":0},"Sin información"]
[4,1,"Aguascalientes",1,"Mecanismos de coordinación","1.4",4,"Sesión para dar inicio al PEL","OPL","CG","2020-11-01","2020-11-07",null,null,{"$f":"VLOOKUP(P10,Campos!$B$2:$C$7,2,FALSE)","v":0},"Sin información"]
[5,1,"Aguascalientes",1,"Mecanismos de coordinación","1.5",5,"Implementar un plan de trabajo conjunto para la promoción de la participación ciudadana","INE/OPL","INE/OPL","2021-02-01","2021-06-06",null,null,{"$f":"VLOOKUP(P11,Campos!$B$2:$C$7,2,FALSE)","v":0},"Sin información"]
[6,1,"Aguascalientes",2,"Integración de órganos desconcentrados","2.1",1,"Convocatoria para la integración de los Órganos Distritales","OPL","CG","2020-11-01","2020-11-07",null,null,{"$f":"VLOOKUP(P12,Campos!$B$2:$C$7,2,FALSE)","v":0},"Sin información"]
[7,1,"Aguascalientes",2,"Integración de órganos desconcentrados","2.2",2,"Sesión en la que se designan e integran los Órganos Distritales ","OPL","CG","2020-12-16","2020-12-31",null,null,{"$f":"VLOOKUP(P13,Campos!$B$2:$C$7,2,FALSE)","v":0},"Sin información"]
[8,1,"Aguascalientes",2,"Integración de órganos desconcentrados","2.3",3,"Instalación de los Órganos Distritales ","OPL","OD","2021-01-03","2021-01-09",null,null,{"$f":"VLOOKUP(P14,Campos!$B$2:$C$7,2,FALSE)","v":0},"Sin información"]
[9,1,"Aguascalientes",2,"Integración de órganos desconcentrados","2.4",4,"Convocatoria para la integración de los Órganos Municipales ","OPL","CG","2020-12-13","2020-12-19",null,null,{"$f":"VLOOKUP(P15,Campos!$B$2:$C$7,2,FALSE)","v":0},"Sin información"]
[10,1,"Aguascalientes",2,"Integración de órganos desconcentrados","2.5",5,"Sesión en la que se designan e integran los Órganos Municipales ","OPL","CG","2021-01-24","2021-01-30",null,null,{"$f":"VLOOKUP(P16,Campos!$B$2:$C$7,2,FALSE)","v":0},"Sin información"]
[11,1,"Aguascalientes",2,"Integración de órganos desconcentrados","2.6",6,"Instalación de los Órganos Municipales ","OPL","OD","2021-02-07","2021-02-13",null,null,{"$f":"VLOOKUP(P17,Campos!$B$2:$C$7,2,FALSE)","v":0},"Sin información"]
[12,1,"Aguascalientes",2,"Integración de órganos desconcentrados","2.7",7,"Designación y/o ratificación de las y los Consejeros Electorales del Consejo Local ","INE","CG","2020-10-01","2020-10-15",null,null,{"$f":"VLOOKUP(P18,Campos!$B$2:$C$7,2,FALSE)","v":0},"Sin información"]
[13,1,"Aguascalientes",2,"Integración de órganos desconcentrados","2.8",8,"Instalación del Consejo Local","INE","CL","2020-11-01","2020-11-30",null,null,{"$f":"VLOOKUP(P19,Campos!$B$2:$C$7,2,FALSE)","v":0},"Sin información"]
[14,1,"Aguascalientes",2,"Integración de órganos desconcentrados","2.9",9,"Designación y/o ratificación de las y los Consejeros Electorales de los Consejos Distritales ","INE","CL","2020-11-01","2020-11-30",null,null,{"$f":"VLOOKUP(P20,Campos!$B$2:$C$7,2,FALSE)","v":0},"Sin información"]
[15,1,"Aguascalientes",2,"Integración de órganos desconcentrados","2.10",10,"Instalación de los Consejos Distritales","INE","CD","2020-12-01","2020-12-15",null,null,{"$f":"VLOOKUP(P21,Campos!$B$2:$C$7,2,FALSE)","v":0},"Sin información"]
[16,1,"Aguascalientes",3,"Lista Nominal de Electores","3.1",1,"Generación y entrega de la Lista Nominal de Electores para Revisión en medios ópticos a los representantes de los partidos políticos, y en su caso a las candidaturas independientes acreditados ante el OPL, para observaciones","INE","DERFE","2021-02-15","2021-02-15",null,null,{"$f":"VLOOKUP(P22,Campos!$B$2:$C$7,2,FALSE)","v":0},"Sin información"]
[17,1,"Aguascalientes",3,"Lista Nominal de Electores","3.2",2,"Recepción de observaciones de los partidos políticos y en su caso, candidatos independientes, a la Lista Nominal de Electores para revisión","INE/OPL","DERFE","2021-03-14","2021-03-14",null,null,{"$f":"VLOOKUP(P23,Campos!$B$2:$C$7,2,FALSE)","v":0},"Sin información"]
[18,1,"Aguascalientes",3,"Lista Nominal de Electores","3.3",3,"Entrega en formato digital el informe respecto de la atención a las observaciones formuladas a la Lista Nominal de Electores para Revisión","INE","DERFE","2021-04-15","2021-04-15",null,null,{"$f":"VLOOKUP(P24,Campos!$B$2:$C$7,2,FALSE)","v":0},"Sin información"]
[19,1,"Aguascalientes",3,"Lista Nominal de Electores","3.4",4,"Entrega de la Lista Nominal de Electores Definitiva con fotografía","INE","DERFE","2021-05-06","2021-05-14",null,null,{"$f":"VLOOKUP(P25,Campos!$B$2:$C$7,2,FALSE)","v":0},"Sin información"]
[20,1,"Aguascalientes",3,"Lista Nominal de Electores","3.5",5,"Fecha de entrega de la Lista Nominal de Electores con fotografía Producto de Instancias Administrativas y Resoluciones del Tribunal (ADENDA)","INE","DERFE","2021-05-19","2021-05-24",null,null,{"$f":"VLOOKUP(P26,Campos!$B$2:$C$7,2,FALSE)","v":0},"Sin información"]
[21,1,"Aguascalientes",4,"Observación Electoral","4.1",1,"Emisión de la convocatoria para la ciudadanía que desee participar en la observación electoral","OPL","CG","2020-11-01","2020-11-07",null,null,{"$f":"VLOOKUP(P27,Campos!$B$2:$C$7,2,FALSE)","v":0},"Sin información"]
[22,1,"Aguascalientes",4,"Observación Electoral","4.2",2,"Recepción de solicitudes de la ciudadanía que desee participar en observación electoral","INE/OPL","OPL/JLE/JDE","2020-11-01","2021-04-30",null,null,{"$f":"VLOOKUP(P28,Campos!$B$2:$C$7,2,FALSE)","v":0},"Sin información"]
[23,1,"Aguascalientes",4,"Observación Electoral","4.3",3,"Impartición de los cursos de capacitación, preparación o información","INE/OPL","OPL/JLE/JDE","2020-11-01","2021-05-17",null,null,{"$f":"VLOOKUP(P29,Campos!$B$2:$C$7,2,FALSE)","v":0},"Sin información"]
[24,1,"Aguascalientes",4,"Observación Electoral","4.4",4,"Acreditación de la ciudadanía como observadores u observadoras electorales","INE","CL/CD","2020-11-01","2021-06-05",null,null,{"$f":"VLOOKUP(P30,Campos!$B$2:$C$7,2,FALSE)","v":0},"Sin información"]
[25,1,"Aguascalientes",4,"Observación Electoral","4.5",5,"Seguimiento a los informes mensuales de acreditación","INE","CG","2020-11-01","2021-07-31",null,null,{"$f":"VLOOKUP(P31,Campos!$B$2:$C$7,2,FALSE)","v":0},"Sin información"]
[26,1,"Aguascalientes",4,"Observación Electoral","4.6",6,"Remisión de materiales de capacitación a la JLE para revisión","OPL","CG","2020-10-08","2020-10-08",null,null,{"$f":"VLOOKUP(P32,Campos!$B$2:$C$7,2,FALSE)","v":0},"Sin información"]
[27,1,"Aguascalientes",4,"Observación Electoral","4.7",7,"Revisión, corrección, verificación y validación de materiales de capacitación para observación electoral ","INE","JLE","2020-10-09","2020-10-30",null,null,{"$f":"VLOOKUP(P33,Campos!$B$2:$C$7,2,FALSE)","v":0},"Sin información"]
[28,1,"Aguascalientes",4,"Observación Electoral","4.8",8,"Entrega de materiales de capacitación para observación electoral entre OPL e INE","INE/OPL","VEL/OPL","2020-11-01","2020-11-23",null,null,{"$f":"VLOOKUP(P34,Campos!$B$2:$C$7,2,FALSE)","v":0},"Sin información"]
[29,1,"Aguascalientes",5,"Ubicación de casillas","5.1",1,"Recorridos por las secciones de los distritos para localizar los lugares donde se ubicarán las casillas","INE/OPL","JDE/OPL","2021-01-15","2021-02-15",null,null,{"$f":"VLOOKUP(P35,Campos!$B$2:$C$7,2,FALSE)","v":0},"Sin información"]
[30,1,"Aguascalientes",5,"Ubicación de casillas","5.2",2,"Presentación a los Consejos Distritales del listado de lugares propuestos para ubicar casillas","INE","JDE","2021-02-24","2021-02-24",null,null,{"$f":"VLOOKUP(P36,Campos!$B$2:$C$7,2,FALSE)","v":0},"Sin información"]
[31,1,"Aguascalientes",5,"Ubicación de casillas","5.3",3,"Visitas de examinación en los lugares propuestos para ubicar casillas básicas, contiguas, especiales y extraordinarias","INE/OPL","CD/OPL","2021-02-25","2021-03-16",null,null,{"$f":"VLOOKUP(P37,Campos!$B$2:$C$7,2,FALSE)","v":0},"Sin información"]
[32,1,"Aguascalientes",5,"Ubicación de casillas","5.4",4,"Aprobación del número y ubicación de casillas extraordinarias y especiales","INE","CD","2021-03-16","2021-03-16",null,null,{"$f":"VLOOKUP(P38,Campos!$B$2:$C$7,2,FALSE)","v":0},"Sin información"]
[33,1,"Aguascalientes",5,"Ubicación de casillas","5.5",5,"Aprobación del número y ubicación de casillas básicas y contiguas","INE","CD","2021-03-25","2021-03-25",null,null,{"$f":"VLOOKUP(P39,Campos!$B$2:$C$7,2,FALSE)","v":0},"Sin información"]
[34,1,"Aguascalientes",5,"Ubicación de casillas","5.6",6,"Entrega de la base de datos de la Lista Nominal Definitiva a UNICOM con corte al 10 de abril","INE","DERFE","2021-04-15","2021-04-16",null,null,{"$f":"VLOOKUP(P40,Campos!$B$2:$C$7,2,FALSE)","v":0},"Sin información"]
[35,1,"Aguascalientes",5,"Ubicación de casillas","5.7",7,"Realizar la primera publicación de la lista de ubicación de casillas en los lugares más concurridos del distrito electoral  y en los medios electrónicos del Instituto","INE","CD","2021-04-15","2021-04-15",null,null,{"$f":"VLOOKUP(P41,Campos!$B$2:$C$7,2,FALSE)","v":0},"Sin información"]
[36,1,"Aguascalientes",5,"Ubicación de casillas","5.8",8,"En su caso, segunda publicación de la lista de ubicación de casillas por causas supervenientes en los lugares más concurridos del distrito y en los medios electrónicos del Instituto","INE","CD","2021-05-15","2021-05-25",null,null,{"$f":"VLOOKUP(P42,Campos!$B$2:$C$7,2,FALSE)","v":0},"Sin información"]
[37,1,"Aguascalientes",5,"Ubicación de casillas","5.9",9,"Publicación de los encartes y difusión en medios electrónicos del Instituto","INE/OPL","DEOE/CG","2021-06-05","2021-06-06",null,null,{"$f":"VLOOKUP(P43,Campos!$B$2:$C$7,2,FALSE)","v":0},"Sin información"]
[38,1,"Aguascalientes",5,"Ubicación de casillas","5.10",10,"Registro de representantes generales y ante mesas directivas de casilla","INE","CD","2021-04-16","2021-05-24",null,null,{"$f":"VLOOKUP(P44,Campos!$B$2:$C$7,2,FALSE)","v":0},"Sin información"]
[39,1,"Aguascalientes",5,"Ubicación de casillas","5.11",11,"Sustitución de representantes generales y ante mesas directivas de casilla","INE","CD","2021-04-16","2021-05-27",null,null,{"$f":"VLOOKUP(P45,Campos!$B$2:$C$7,2,FALSE)","v":0},"Sin información"]
[40,1,"Aguascalientes",5,"Ubicación de casillas","5.12",12,"Entrega de listados de representantes generales y ante casilla al OPL","INE","CD","2021-05-30","2021-05-30",null,null,{"$f":"VLOOKUP(P46,Campos!$B$2:$C$7,2,FALSE)","v":0},"Sin información"]
[41,1,"Aguascalientes",5,"Ubicación de casillas","5.13",13,"Notificación ciudadana de ubicación de casillas en secciones electorales involucradas en la actualización del Marco Geográfico Electoral","INE/OPL","DERFE/OPL","2021-04-01","2021-06-15",null,null,{"$f":"VLOOKUP(P47,Campos!$B$2:$C$7,2,FALSE)","v":0},"Sin información"]
[42,1,"Aguascalientes",6,"Integración de las Mesas Directivas de Casilla","6.1",1,"Aprobación de la Estrategia de Capacitación y Asistencia Electoral","INE","CG","2020-08-01","2020-08-15",null,null,{"$f":"VLOOKUP(P48,Campos!$B$2:$C$7,2,FALSE)","v":0},"Sin información"]
[43,1,"Aguascalientes",6,"Integración de las Mesas Directivas de Casilla","6.2",2,"Entrega para revisión y validación de materiales didácticos de primera etapa","OPL","CG","2020-11-03","2020-11-03",null,null,{"$f":"VLOOKUP(P49,Campos!$B$2:$C$7,2,FALSE)","v":0},"Sin información"]
[44,1,"Aguascalientes",6,"Integración de las Mesas Directivas de Casilla","6.3",3,"Revisión, corrección, verificación y validación de los materiales didácticos de primera etapa","INE/OPL","JLE/DECEYEC/OPL","2020-11-03","2020-12-19",null,null,{"$f":"VLOOKUP(P50,Campos!$B$2:$C$7,2,FALSE)","v":0},"Sin información"]
[45,1,"Aguascalientes",6,"Integración de las Mesas Directivas de Casilla","6.4",4,"Entrega de los materiales impresos de la primera etapa a la JLE","OPL","OPL","2021-02-05","2021-02-05",null,null,{"$f":"VLOOKUP(P51,Campos!$B$2:$C$7,2,FALSE)","v":0},"Sin información"]
[46,1,"Aguascalientes",6,"Integración de las Mesas Directivas de Casilla","6.5",5,"Sorteo del mes del calendario como base para la insaculación de las y los ciudadanos que integrarán las mesas directivas de casilla","INE","CG","2020-12-15","2020-12-19",null,null,{"$f":"VLOOKUP(P52,Campos!$B$2:$C$7,2,FALSE)","v":0},"Sin información"]
[47,1,"Aguascalientes",6,"Integración de las Mesas Directivas de Casilla","6.6",6,"Entrega para revisión y validación de materiales didácticos de segunda etapa","OPL","OPL","2021-02-03","2021-02-03",null,null,{"$f":"VLOOKUP(P53,Campos!$B$2:$C$7,2,FALSE)","v":0},"Sin información"]
[48,1,"Aguascalientes",6,"Integración de las Mesas Directivas de Casilla","6.7",7,"Revisión, corrección, verificación y validación de los materiales didácticos de la segunda etapa","INE/OPL","JLE/DECEYEC/OPL","2021-02-03","2021-03-22",null,null,{"$f":"VLOOKUP(P54,Campos!$B$2:$C$7,2,FALSE)","v":0},"Sin información"]
[49,1,"Aguascalientes",6,"Integración de las Mesas Directivas de Casilla","6.8",8,"Entrega de los materiales impresos de la segunda etapa a la JLE","OPL","OPL","2021-04-05","2021-04-05",null,null,{"$f":"VLOOKUP(P55,Campos!$B$2:$C$7,2,FALSE)","v":0},"Sin información"]
[50,1,"Aguascalientes",6,"Integración de las Mesas Directivas de Casilla","6.9",9,"Sorteo de la letra a partir de la cual, con base en el apellido paterno, se seleccionará a las y los ciudadanos que integrarán las mesas directivas de casilla","INE","CG","2021-02-02","2021-02-02",null,null,{"$f":"VLOOKUP(P56,Campos!$B$2:$C$7,2,FALSE)","v":0},"Sin información"]
[51,1,"Aguascalientes",6,"Integración de las Mesas Directivas de Casilla","6.10",10,"Entrega de la Lista Nominal de Electores para el Procedimiento de la Primera insaculación con corte al 15 de enero de 2021.","INE","DERFE/UNICOM","2021-01-21","2021-01-26",null,null,{"$f":"VLOOKUP(P57,Campos!$B$2:$C$7,2,FALSE)","v":0},"Sin información"]
[52,1,"Aguascalientes",6,"Integración de las Mesas Directivas de Casilla","6.11",11,"Primera insaculación","INE","JDE","2021-02-06","2021-02-06",null,null,{"$f":"VLOOKUP(P58,Campos!$B$2:$C$7,2,FALSE)","v":0},"Sin información"]
[53,1,"Aguascalientes",6,"Integración de las Mesas Directivas de Casilla","6.12",12,"Primera etapa de capacitación a las personas insaculadas","INE","CD","2021-02-09","2021-03-31",null,null,{"$f":"VLOOKUP(P59,Campos!$B$2:$C$7,2,FALSE)","v":0},"Sin información"]
[54,1,"Aguascalientes",6,"Integración de las Mesas Directivas de Casilla","6.13",13,"Integración de la lista de ciudadanos y ciudadanas que cumplen los requisitos legales para integrar las mesas directivas de casilla","INE","CD","2021-02-09","2021-03-31",null,null,{"$f":"VLOOKUP(P60,Campos!$B$2:$C$7,2,FALSE)","v":0},"Sin información"]
[55,1,"Aguascalientes",6,"Integración de las Mesas Directivas de Casilla","6.14",14,"Segunda insaculación y designación de funcionarios para mesas directivas de casilla","INE","CD","2021-04-08","2021-04-08",null,null,{"$f":"VLOOKUP(P61,Campos!$B$2:$C$7,2,FALSE)","v":0},"Sin información"]
[56,1,"Aguascalientes",6,"Integración de las Mesas Directivas de Casilla","6.15",15,"Segunda etapa de capacitación a funcionarios de mesa directiva de casilla y simulacros","INE","CD","2021-04-18","2021-06-05",null,null,{"$f":"VLOOKUP(P62,Campos!$B$2:$C$7,2,FALSE)","v":0},"Sin información"]
[57,1,"Aguascalientes",6,"Integración de las Mesas Directivas de Casilla","6.16",16,"Entrega de reconocimientos a funcionarios de mesas directivas de casilla","INE","CD","2021-06-07","2021-06-12",null,null,{"$f":"VLOOKUP(P63,Campos!$B$2:$C$7,2,FALSE)","v":0},"Sin información"]
[58,1,"Aguascalientes",6,"Integración de las Mesas Directivas de Casilla","6.17",17,"Periodo para contratación de CAE locales","INE/OPL","INE/OPL","Por definir","Por definir",null,null,{"$f":"VLOOKUP(P64,Campos!$B$2:$C$7,2,FALSE)","v":0},"Sin información"]
[59,1,"Aguascalientes",6,"Integración de las Mesas Directivas de Casilla","6.18",18,"Reclutamiento y selección de CAE locales","INE/OPL","INE/OPL","Por definir","Por definir",null,null,{"$f":"VLOOKUP(P65,Campos!$B$2:$C$7,2,FALSE)","v":0},"Sin información"]
[60,1,"Aguascalientes",7,"Fiscalización de los recursos de los Partidos Políticos y candidaturas independientes","7.2",2,"Aprobación de topes de gastos de precampaña Diputaciones","OPL","CG","2020-11-01","2020-11-30",null,null,{"$f":"VLOOKUP(P66,Campos!$B$2:$C$7,2,FALSE)","v":0},"Sin información"]
[61,1,"Aguascalientes",7,"Fiscalización de los recursos de los Partidos Políticos y candidaturas independientes","7.3",3,"Aprobación de topes de gastos de precampaña Ayuntamientos","OPL","CG","2020-11-01","2020-11-30",null,null,{"$f":"VLOOKUP(P67,Campos!$B$2:$C$7,2,FALSE)","v":0},"Sin información"]
[62,1,"Aguascalientes",7,"Fiscalización de los recursos de los Partidos Políticos y candidaturas independientes","7.5",5,"Aprobación de los límites de financiamiento privado, aportaciones de militantes, simpatizantes y precandidatos o candidatos; así como el límite individual de aportaciones para Diputaciones","OPL","CG","2021-01-01","2021-03-25",null,null,{"$f":"VLOOKUP(P68,Campos!$B$2:$C$7,2,FALSE)","v":0},"Sin información"]
[63,1,"Aguascalientes",7,"Fiscalización de los recursos de los Partidos Políticos y candidaturas independientes","7.6",6,"Aprobación de los límites de financiamiento privado, aportaciones de militantes, simpatizantes y precandidatos o candidatos; así como el límite individual de aportaciones para Ayuntamientos","OPL","CG","2021-01-01","2021-03-25",null,null,{"$f":"VLOOKUP(P69,Campos!$B$2:$C$7,2,FALSE)","v":0},"Sin información"]
[64,1,"Aguascalientes",7,"Fiscalización de los recursos de los Partidos Políticos y candidaturas independientes","7.8",8,"Aprobación de topes de gastos para el periodo de obtención del apoyo ciudadano para Diputaciones","OPL","CG","2021-01-01","2021-01-15",null,null,{"$f":"VLOOKUP(P70,Campos!$B$2:$C$7,2,FALSE)","v":0},"Sin información"]
[65,1,"Aguascalientes",7,"Fiscalización de los recursos de los Partidos Políticos y candidaturas independientes","7.9",9,"Aprobación de topes de gastos para el periodo de obtención del apoyo ciudadano para Ayuntamientos","OPL","CG","2021-01-01","2021-01-15",null,null,{"$f":"VLOOKUP(P71,Campos!$B$2:$C$7,2,FALSE)","v":0},"Sin información"]
[66,1,"Aguascalientes",7,"Fiscalización de los recursos de los Partidos Políticos y candidaturas independientes","7.11",11,"Precampaña para Diputaciones","OPL","CG","2021-02-10","2021-03-11",null,null,{"$f":"VLOOKUP(P72,Campos!$B$2:$C$7,2,FALSE)","v":0},"Sin información"]
[67,1,"Aguascalientes",7,"Fiscalización de los recursos de los Partidos Políticos y candidaturas independientes","7.12",12,"Precampaña para Ayuntamientos","OPL","CG","2021-02-10","2021-03-11",null,null,{"$f":"VLOOKUP(P73,Campos!$B$2:$C$7,2,FALSE)","v":0},"Sin información"]
[68,1,"Aguascalientes",7,"Fiscalización de los recursos de los Partidos Políticos y candidaturas independientes","7.12",12,"Precampaña para Ayuntamientos","OPL","CG","2021-02-10","2021-03-01",null,null,{"$f":"VLOOKUP(P74,Campos!$B$2:$C$7,2,FALSE)","v":0},"Sin información"]
[69,1,"Aguascalientes",7,"Fiscalización de los recursos de los Partidos Políticos y candidaturas independientes","7.14",14,"Aprobación de topes de gastos de campaña para Diputaciones","OPL","CG","2021-01-01","2021-01-31",null,null,{"$f":"VLOOKUP(P75,Campos!$B$2:$C$7,2,FALSE)","v":0},"Sin información"]
[70,1,"Aguascalientes",7,"Fiscalización de los recursos de los Partidos Políticos y candidaturas independientes","7.15",15,"Aprobación de topes de gastos de campaña para Ayuntamientos","OPL","CG","2021-01-01","2021-01-31",null,null,{"$f":"VLOOKUP(P76,Campos!$B$2:$C$7,2,FALSE)","v":0},"Sin información"]
[71,1,"Aguascalientes",7,"Fiscalización de los recursos de los Partidos Políticos y candidaturas independientes","7.17",17,"Campaña para Diputaciones","OPL","CG","2021-04-19","2021-06-02",null,null,{"$f":"VLOOKUP(P77,Campos!$B$2:$C$7,2,FALSE)","v":0},"Sin información"]
[72,1,"Aguascalientes",7,"Fiscalización de los recursos de los Partidos Políticos y candidaturas independientes","7.18",18,"Campaña para Ayuntamientos","OPL","CG","2021-04-19","2021-06-02",null,null,{"$f":"VLOOKUP(P78,Campos!$B$2:$C$7,2,FALSE)","v":0},"Sin información"]
[73,1,"Aguascalientes",7,"Fiscalización de los recursos de los Partidos Políticos y candidaturas independientes","7.18",18,"Campaña para Ayuntamientos","OPL","CG","2021-05-04","2021-06-02",null,null,{"$f":"VLOOKUP(P79,Campos!$B$2:$C$7,2,FALSE)","v":0},"Sin información"]
[74,1,"Aguascalientes",7,"Fiscalización de los recursos de los Partidos Políticos y candidaturas independientes","7.19",19,"Aprobación de la distribución de financiamiento público para partidos políticos","OPL","CG","2021-01-01","2021-01-31",null,null,{"$f":"VLOOKUP(P80,Campos!$B$2:$C$7,2,FALSE)","v":0},"Sin información"]
[75,1,"Aguascalientes",8,"Candidaturas Independientes","8.1",1,"Emisión de la convocatoria para la ciudadanía interesada en participar en Candidaturas Independientes ","OPL","CG","2020-11-01","2021-01-15",null,null,{"$f":"VLOOKUP(P81,Campos!$B$2:$C$7,2,FALSE)","v":0},"Sin información"]
[76,1,"Aguascalientes",8,"Candidaturas Independientes","8.3",3,"Recepción de escrito de intención y documentación anexa de la ciudadanía que aspire a la candidatura independiente para Diputaciones","OPL","OD","2021-01-24","2021-01-30",null,null,{"$f":"VLOOKUP(P82,Campos!$B$2:$C$7,2,FALSE)","v":0},"Sin información"]
[77,1,"Aguascalientes",8,"Candidaturas Independientes","8.4",4,"Recepción de escrito de intención y documentación anexa de la ciudadanía que aspire a la candidatura independiente para Ayuntamientos","OPL","SE/OD","2021-01-24","2021-01-30",null,null,{"$f":"VLOOKUP(P83,Campos!$B$2:$C$7,2,FALSE)","v":0},"Sin información"]
[78,1,"Aguascalientes",8,"Candidaturas Independientes","8.6",6,"Resolución sobre procedencia de manifestación de intención de aspirantes a candidaturas independientes para Diputaciones","OPL","CG","2021-02-04","2021-02-04",null,null,{"$f":"VLOOKUP(P84,Campos!$B$2:$C$7,2,FALSE)","v":0},"Sin información"]
[79,1,"Aguascalientes",8,"Candidaturas Independientes","8.7",7,"Resolución sobre procedencia de manifestación de intención de aspirantes a candidaturas independientes para Ayuntamientos","OPL","CG","2021-02-04","2021-02-04",null,null,{"$f":"VLOOKUP(P85,Campos!$B$2:$C$7,2,FALSE)","v":0},"Sin información"]
[80,1,"Aguascalientes",8,"Candidaturas Independientes","8.9",9,"Plazo para obtener el apoyo ciudadano de las candidaturas independientes para Diputaciones","OPL","OD","2021-02-10","2021-03-10",null,null,{"$f":"VLOOKUP(P86,Campos!$B$2:$C$7,2,FALSE)","v":0},"Sin información"]
[81,1,"Aguascalientes",8,"Candidaturas Independientes","8.10",10,"Plazo para obtener el apoyo ciudadano de las candidaturas independientes para Ayuntamientos","OPL","OD","2021-02-10","2021-03-10",null,null,{"$f":"VLOOKUP(P87,Campos!$B$2:$C$7,2,FALSE)","v":0},"Sin información"]
[82,1,"Aguascalientes",8,"Candidaturas Independientes","8.10",10,"Plazo para obtener el apoyo ciudadano de las candidaturas independientes para Ayuntamientos","OPL","OD","2021-02-10","2021-03-01",null,null,{"$f":"VLOOKUP(P88,Campos!$B$2:$C$7,2,FALSE)","v":0},"Sin información"]
[83,1,"Aguascalientes",8,"Candidaturas Independientes","8.12",12,"Plazo para otorgar las constancias de porcentaje a favor de aspirantes a la candidatura independiente para Diputaciones","OPL","CG","2021-03-11","2021-03-14",null,null,{"$f":"VLOOKUP(P89,Campos!$B$2:$C$7,2,FALSE)","v":0},"Sin información"]
[84,1,"Aguascalientes",8,"Candidaturas Independientes","8.13",13,"Plazo para otorgar las constancias de porcentaje a favor de aspirantes a la candidatura independiente para Ayuntamientos","OPL","CG","2021-03-11","2021-03-14",null,null,{"$f":"VLOOKUP(P90,Campos!$B$2:$C$7,2,FALSE)","v":0},"Sin información"]
[85,1,"Aguascalientes",8,"Candidaturas Independientes","8.13",13,"Plazo para otorgar las constancias de porcentaje a favor de aspirantes a la candidatura independiente para Ayuntamientos","OPL","CG","2021-03-02","2021-03-14",null,null,{"$f":"VLOOKUP(P91,Campos!$B$2:$C$7,2,FALSE)","v":0},"Sin información"]
[86,1,"Aguascalientes",9,"Candidaturas","9.1",1,"Registro de plataformas electorales","OPL","CG","2020-11-01","2020-12-25",null,null,{"$f":"VLOOKUP(P92,Campos!$B$2:$C$7,2,FALSE)","v":0},"Sin información"]
[87,1,"Aguascalientes",9,"Candidaturas","9.3",3,"Solicitud de registro de convenio de coalición para Diputaciones","OPL","CG","2020-11-01","2021-02-10",null,null,{"$f":"VLOOKUP(P93,Campos!$B$2:$C$7,2,FALSE)","v":0},"Sin información"]
[88,1,"Aguascalientes",9,"Candidaturas","9.4",4,"Solicitud de registro de convenio de coalición para Ayuntamientos","OPL","CG","2020-11-01","2021-02-10",null,null,{"$f":"VLOOKUP(P94,Campos!$B$2:$C$7,2,FALSE)","v":0},"Sin información"]
[89,1,"Aguascalientes",9,"Candidaturas","9.6",6,"Resolución sobre Convenio de Coalición para Diputaciones","OPL","CG","2020-11-11","2021-02-20",null,null,{"$f":"VLOOKUP(P95,Campos!$B$2:$C$7,2,FALSE)","v":0},"Sin información"]
[90,1,"Aguascalientes",9,"Candidaturas","9.7",7,"Resolución sobre Convenio de Coalición para Ayuntamientos","OPL","CG","2020-11-11","2021-02-20",null,null,{"$f":"VLOOKUP(P96,Campos!$B$2:$C$7,2,FALSE)","v":0},"Sin información"]
[91,1,"Aguascalientes",9,"Candidaturas","9.9",9,"Solicitud de registro de Candidaturas para Diputaciones","OPL","CG/OD","2021-03-15","2021-03-20",null,null,{"$f":"VLOOKUP(P97,Campos!$B$2:$C$7,2,FALSE)","v":0},"Sin información"]
[92,1,"Aguascalientes",9,"Candidaturas","9.11",11,"Solicitud de registro de Candidaturas para Ayuntamientos","OPL","CG/OD","2021-03-15","2021-03-20",null,null,{"$f":"VLOOKUP(P98,Campos!$B$2:$C$7,2,FALSE)","v":0},"Sin información"]
[93,1,"Aguascalientes",9,"Candidaturas","9.14",14,"Resolución para aprobar las candidaturas para Diputaciones","OPL","CG","2021-03-21","2021-03-25",null,null,{"$f":"VLOOKUP(P99,Campos!$B$2:$C$7,2,FALSE)","v":0},"Sin información"]
[94,1,"Aguascalientes",9,"Candidaturas","9.16",16,"Resolución para aprobar las candidaturas para Ayuntamientos","OPL","CG/OD","2021-03-21","2021-03-25",null,null,{"$f":"VLOOKUP(P100,Campos!$B$2:$C$7,2,FALSE)","v":0},"Sin información"]
[95,1,"Aguascalientes",9,"Candidaturas","9.18",18,"Solicitud de registro de candidaturas comunes para Diputaciones ","OPL","CG/OD","2020-11-01","2021-01-11",null,null,{"$f":"VLOOKUP(P101,Campos!$B$2:$C$7,2,FALSE)","v":0},"Sin información"]
[96,1,"Aguascalientes",9,"Candidaturas","9.19",19,"Solicitud de registro de candidaturas comunes para Ayuntamientos  ","OPL","CG/OD","2020-11-01","2021-01-11",null,null,{"$f":"VLOOKUP(P102,Campos!$B$2:$C$7,2,FALSE)","v":0},"Sin información"]
[97,1,"Aguascalientes",9,"Candidaturas","9.21",21,"Resolución para aprobar las candidaturas comunes para Diputaciones ","OPL","CG/OD","2020-11-06","2021-01-16",null,null,{"$f":"VLOOKUP(P103,Campos!$B$2:$C$7,2,FALSE)","v":0},"Sin información"]
[98,1,"Aguascalientes",9,"Candidaturas","9.22",22,"Resolución para aprobar las candidaturas comunes para Ayuntamientos ","OPL","CG/OD","2020-11-06","2021-01-16",null,null,{"$f":"VLOOKUP(P104,Campos!$B$2:$C$7,2,FALSE)","v":0},"Sin información"]
[99,1,"Aguascalientes",11,"Documentación y material electoral","11.1",1,"Entrega a la Junta Local Ejecutiva del INE, de los diseños y especificaciones técnicas de la documentación y materiales electorales, en medios impresos y electrónicos","OPL","CG","2020-09-01","2020-09-30",null,null,{"$f":"VLOOKUP(P105,Campos!$B$2:$C$7,2,FALSE)","v":0},"Sin información"]
[100,1,"Aguascalientes",11,"Documentación y material electoral","11.2",2,"Revisión de los documentos y materiales electorales y especificaciones técnicas, presentadas por el OPL","INE","JLE","2020-09-15","2020-12-16",null,null,{"$f":"VLOOKUP(P106,Campos!$B$2:$C$7,2,FALSE)","v":0},"Sin información"]
[101,1,"Aguascalientes",11,"Documentación y material electoral","11.3",3,"En su caso, atención y presentación, de los cambios pertinentes, conforme a las observaciones emitidas por la Junta Local Ejecutiva del INE","OPL","CG","2020-09-15","2020-12-16",null,null,{"$f":"VLOOKUP(P107,Campos!$B$2:$C$7,2,FALSE)","v":0},"Sin información"]
[102,1,"Aguascalientes",11,"Documentación y material electoral","11.4",4,"Validación de los documentos y materiales electorales y especificaciones técnicas, con las observaciones subsanadas","INE","DEOE","2020-10-28","2020-12-18",null,null,{"$f":"VLOOKUP(P108,Campos!$B$2:$C$7,2,FALSE)","v":0},"Sin información"]
[103,1,"Aguascalientes",11,"Documentación y material electoral","11.5",5,"Entrega a la Dirección Ejecutiva de Organización Electoral del INE, del Reporte único sobre la aprobación y adjudicación de los documentos y materiales electorales del OPL, en medios electrónicos","OPL","CG","2021-02-01","2021-02-26",null,null,{"$f":"VLOOKUP(P109,Campos!$B$2:$C$7,2,FALSE)","v":0},"Sin información"]
[104,1,"Aguascalientes",11,"Documentación y material electoral","11.6",6,"Revisión y en su caso validación, del Reporte único sobre la aprobación y adjudicación de los documentos y materiales electorales del OPL, en medios electrónicos","INE","DEOE","2021-02-15","2021-03-12",null,null,{"$f":"VLOOKUP(P110,Campos!$B$2:$C$7,2,FALSE)","v":0},"Sin información"]
[105,1,"Aguascalientes",11,"Documentación y material electoral","11.7",7,"Entrega  a la Dirección Ejecutiva de Organización Electoral del INE, del Reporte semanal sobre el avance en la producción de los documentos y materiales electorales del OPL, en medios electrónicos.","OPL","CG","2021-03-15","2021-05-22",null,null,{"$f":"VLOOKUP(P111,Campos!$B$2:$C$7,2,FALSE)","v":0},"Sin información"]
[106,1,"Aguascalientes",11,"Documentación y material electoral","11.8",8,"Aprobación de la documentación y material electoral","OPL","CG","2020-11-11","2020-12-31",null,null,{"$f":"VLOOKUP(P112,Campos!$B$2:$C$7,2,FALSE)","v":0},"Sin información"]
[107,1,"Aguascalientes",11,"Documentación y material electoral","11.9",9,"Entrega a la Dirección Ejecutiva de Organización Electoral del INE, del Reporte con los resultados de las verificaciones de las medidas de seguridad en la documentación electoral","OPL","CG","2021-05-27","2021-06-11",null,null,{"$f":"VLOOKUP(P113,Campos!$B$2:$C$7,2,FALSE)","v":0},"Sin información"]
[108,1,"Aguascalientes",11,"Documentación y material electoral","11.10",10,"Supervisiones respecto de los procedimientos de impresión y producción de la documentación y materiales electorales","INE","DEOE","2021-03-15","2021-05-22",null,null,{"$f":"VLOOKUP(P114,Campos!$B$2:$C$7,2,FALSE)","v":0},"Sin información"]
[109,1,"Aguascalientes",11,"Documentación y material electoral","11.11",11,"Designación de la persona responsable de llevar el control sobre la asignación de los folios de las boletas que se distribuirán en cada mesa directiva de casilla","OPL","CG","2021-03-01","2021-03-30",null,null,{"$f":"VLOOKUP(P115,Campos!$B$2:$C$7,2,FALSE)","v":0},"Sin información"]
[110,1,"Aguascalientes",11,"Documentación y material electoral","11.12",12,"Aprobación de SE y CAE, así como de personal que auxiliará en el procedimiento de conteo, sellado y agrupamiento de las boletas electorales; así como la integración de documentación para las casillas","OPL","CG","2021-04-24","2021-05-11",null,null,{"$f":"VLOOKUP(P116,Campos!$B$2:$C$7,2,FALSE)","v":0},"Sin información"]
[111,1,"Aguascalientes",11,"Documentación y material electoral","11.13",13,"Recepción de las boletas electorales por el órgano competente que realizará el conteo, sellado y agrupamiento","OPL","CG","2021-05-18","2021-05-22",null,null,{"$f":"VLOOKUP(P117,Campos!$B$2:$C$7,2,FALSE)","v":0},"Sin información"]
[112,1,"Aguascalientes",11,"Documentación y material electoral","11.14",14,"Conteo, sellado y agrupamiento de boletas","OPL","CG","2021-05-18","2021-05-28",null,null,{"$f":"VLOOKUP(P118,Campos!$B$2:$C$7,2,FALSE)","v":0},"Sin información"]
[113,1,"Aguascalientes",11,"Documentación y material electoral","11.15",15,"Distribución de la documentación y materiales electorales a las y los Presidentes de mesas directivas de casilla","OPL","OD","2021-05-31","2021-06-04",null,null,{"$f":"VLOOKUP(P119,Campos!$B$2:$C$7,2,FALSE)","v":0},"Sin información"]
[114,1,"Aguascalientes",11,"Documentación y material electoral","11.16",16,"Remisión de los recibos de la entrega de la documentación y materiales electorales al Consejo General del OPL","INE","JLE","2021-06-24","2021-06-30",null,null,{"$f":"VLOOKUP(P120,Campos!$B$2:$C$7,2,FALSE)","v":0},"Sin información"]
[115,1,"Aguascalientes",12,"Jornada Electoral","12.1",1,"Aprobación del Programa de Operación del SIJE 2021","INE","CCOE","2020-07-01","2020-07-31",null,null,{"$f":"VLOOKUP(P121,Campos!$B$2:$C$7,2,FALSE)","v":0},"Sin información"]
[116,1,"Aguascalientes",12,"Jornada Electoral","12.2",2,"Aprobación de las metas del SIJE 2021","INE","CG","2021-03-01","2021-03-31",null,null,{"$f":"VLOOKUP(P122,Campos!$B$2:$C$7,2,FALSE)","v":0},"Sin información"]
[117,1,"Aguascalientes",12,"Jornada Electoral","12.3",3,"Realización de pruebas del SIJE 2021","INE","DEOE","2021-04-01","2021-04-15",null,null,{"$f":"VLOOKUP(P123,Campos!$B$2:$C$7,2,FALSE)","v":0},"Sin información"]
[118,1,"Aguascalientes",12,"Jornada Electoral","12.4",4,"Desarrollo del primer simulacro del SIJE","INE/OPL","DEOE/OD","2021-04-29","2021-04-29",null,null,{"$f":"VLOOKUP(P124,Campos!$B$2:$C$7,2,FALSE)","v":0},"Sin información"]
[119,1,"Aguascalientes",12,"Jornada Electoral","12.5",5,"Desarrollo del segundo simulacro del SIJE","INE/OPL","DEOE/OD","2021-05-09","2021-05-09",null,null,{"$f":"VLOOKUP(P125,Campos!$B$2:$C$7,2,FALSE)","v":0},"Sin información"]
[120,1,"Aguascalientes",12,"Jornada Electoral","12.6",6,"Desarrollo del tercer simulacro del SIJE","INE/OPL","DEOE/OD","2021-05-23","2021-05-23",null,null,{"$f":"VLOOKUP(P126,Campos!$B$2:$C$7,2,FALSE)","v":0},"Sin información"]
[121,1,"Aguascalientes",12,"Jornada Electoral","12.7",7,"Jornada Electoral","OPL","CG/OD","2021-06-06","2021-06-06",null,null,{"$f":"VLOOKUP(P127,Campos!$B$2:$C$7,2,FALSE)","v":0},"Sin información"]
[122,1,"Aguascalientes",13,"Bodegas electorales","13.1",1,"Determinación de los lugares que ocuparán las bodegas electorales para el resguardo de la documentación electoral","OPL","CG","2021-02-01","2021-02-28",null,null,{"$f":"VLOOKUP(P128,Campos!$B$2:$C$7,2,FALSE)","v":0},"Sin información"]
[123,1,"Aguascalientes",13,"Bodegas electorales","13.2",2,"Informe que rinden las y los Presidentes sobre las condiciones de equipamiento, mecanismos de operación y medidas de seguridad de las bodegas electorales","OPL","OD","2021-03-01","2021-03-31",null,null,{"$f":"VLOOKUP(P129,Campos!$B$2:$C$7,2,FALSE)","v":0},"Sin información"]
[124,1,"Aguascalientes",13,"Bodegas electorales","13.3",3,"Designación, por parte del órgano competente del OPL, del personal que tendrá acceso a la bodega electoral","OPL","CG/OD","2021-03-01","2021-03-30",null,null,{"$f":"VLOOKUP(P130,Campos!$B$2:$C$7,2,FALSE)","v":0},"Sin información"]
[125,1,"Aguascalientes",13,"Bodegas electorales","13.4",4,"Envío a la UTVOPL, por conducto de la JLE, el informe sobre las condiciones que guardan las bodegas electorales","OPL","CG","2021-04-04","2021-04-10",null,null,{"$f":"VLOOKUP(P131,Campos!$B$2:$C$7,2,FALSE)","v":0},"Sin información"]
[126,1,"Aguascalientes",14,"Mecanismos de recolección","14.1",1,"Entrega de estudios de factibilidad al OPL","INE","CL","2021-03-15","2021-03-31",null,null,{"$f":"VLOOKUP(P132,Campos!$B$2:$C$7,2,FALSE)","v":0},"Sin información"]
[127,1,"Aguascalientes",14,"Mecanismos de recolección","14.2",2,"Entrega de observaciones a los estudios de factibilidad ","OPL","CG","2021-04-01","2021-04-24",null,null,{"$f":"VLOOKUP(P133,Campos!$B$2:$C$7,2,FALSE)","v":0},"Sin información"]
[128,1,"Aguascalientes",14,"Mecanismos de recolección","14.3",3,"Recorridos para verificar las propuestas de los mecanismos de recolección","INE/OPL","CD/OD","2021-03-16","2021-04-24",null,null,{"$f":"VLOOKUP(P134,Campos!$B$2:$C$7,2,FALSE)","v":0},"Sin información"]
[129,1,"Aguascalientes",14,"Mecanismos de recolección","14.4",4,"Aprobación de los mecanismos de recolección ","INE","CD","2021-04-26","2021-04-30",null,null,{"$f":"VLOOKUP(P135,Campos!$B$2:$C$7,2,FALSE)","v":0},"Sin información"]
[130,1,"Aguascalientes",14,"Mecanismos de recolección","14.5",5,"Traslado y recolección de los paquetes electorales","INE/OPL","CD/OD","2021-06-06","2021-06-07",null,null,{"$f":"VLOOKUP(P136,Campos!$B$2:$C$7,2,FALSE)","v":0},"Sin información"]
[131,1,"Aguascalientes",14,"Mecanismos de recolección","14.6",6,"Acreditación de representantes de partidos políticos y candidaturas independientes ante los mecanismos de recolección","INE","CL/CD","2021-04-27","2021-06-03",null,null,{"$f":"VLOOKUP(P137,Campos!$B$2:$C$7,2,FALSE)","v":0},"Sin información"]
[132,1,"Aguascalientes",14,"Mecanismos de recolección","14.7",7,"Sustitución de representantes de partidos políticos y candidaturas independientes ante los mecanismos de recolección","INE","CL/CD","2021-04-28","2021-06-04",null,null,{"$f":"VLOOKUP(P138,Campos!$B$2:$C$7,2,FALSE)","v":0},"Sin información"]
[133,1,"Aguascalientes",14,"Mecanismos de recolección","14.8",8,"Entrega a la JLE, el informe sobre la recepción de paquetes electorales en los órganos competentes","OPL","CG","2021-06-06","2021-06-28",null,null,{"$f":"VLOOKUP(P139,Campos!$B$2:$C$7,2,FALSE)","v":0},"Sin información"]
[134,1,"Aguascalientes",15,"Cómputos","15.1",1,"Aprobación de los lineamientos de cómputo y del cuadernillo de consulta sobre votos válidos y votos nulos","OPL","CG","2021-01-18","2021-01-29",null,null,{"$f":"VLOOKUP(P140,Campos!$B$2:$C$7,2,FALSE)","v":0},"Sin información"]
[135,1,"Aguascalientes",15,"Cómputos","15.2",2,"Integración por parte de los Órganos Desconcentrados del OPL, de la propuesta para la habilitación de espacios para el recuento de votos con las alternativas para todos los escenarios de cómputo","OPL","OD","2021-03-01","2021-03-07",null,null,{"$f":"VLOOKUP(P141,Campos!$B$2:$C$7,2,FALSE)","v":0},"Sin información"]
[136,1,"Aguascalientes",15,"Cómputos","15.3",3,"Informe de los escenarios de cómputos de la totalidad de sus órganos desconcentrados","OPL","CG","2021-04-01","2021-04-04",null,null,{"$f":"VLOOKUP(P142,Campos!$B$2:$C$7,2,FALSE)","v":0},"Sin información"]
[137,1,"Aguascalientes",15,"Cómputos","15.4",4,"Remisión a la JLE en la entidad, las propuestas de escenarios de cómputos, para la dictaminación de viabilidad","OPL","CG","2021-05-01","2021-05-07",null,null,{"$f":"VLOOKUP(P143,Campos!$B$2:$C$7,2,FALSE)","v":0},"Sin información"]
[138,1,"Aguascalientes",15,"Cómputos","15.5",5,"Remisión de las observaciones a los escenarios de Cómputos al OPL y a su vez informar de las mismas a la UTVOPL","INE","JLE","2021-05-08","2021-05-15",null,null,{"$f":"VLOOKUP(P144,Campos!$B$2:$C$7,2,FALSE)","v":0},"Sin información"]
[139,1,"Aguascalientes",15,"Cómputos","15.6",6,"Aprobación por parte del órgano competente del OPL, del acuerdo mediante el cual se designa al personal que participará en las tareas de apoyo a los Cómputos Municipales","OPL","CG/OD","2021-04-26","2021-05-05",null,null,{"$f":"VLOOKUP(P145,Campos!$B$2:$C$7,2,FALSE)","v":0},"Sin información"]
[140,1,"Aguascalientes",15,"Cómputos","15.7",7,"Aprobación por parte del órgano competente del OPL, del acuerdo mediante el cual se designa al personal que participará en las tareas de apoyo a los Cómputos Distritales ","OPL","CG/OD","2021-04-26","2021-05-05",null,null,{"$f":"VLOOKUP(P146,Campos!$B$2:$C$7,2,FALSE)","v":0},"Sin información"]
[141,1,"Aguascalientes",15,"Cómputos","15.8",8,"Aprobación por parte de los órganos competentes del OPL, de los distintos escenarios de cómputos","OPL","OD","2021-05-08","2021-05-15",null,null,{"$f":"VLOOKUP(P147,Campos!$B$2:$C$7,2,FALSE)","v":0},"Sin información"]
[142,1,"Aguascalientes",15,"Cómputos","15.9",9,"Aprobación por parte del órgano competente del OPL, del acuerdo por el que se habilitarán espacios para la instalación de grupos de trabajo y, en su caso, puntos de recuento","OPL","CG/OD","2021-06-08","2021-06-08",null,null,{"$f":"VLOOKUP(P148,Campos!$B$2:$C$7,2,FALSE)","v":0},"Sin información"]
[143,1,"Aguascalientes",15,"Cómputos","15.10",10,"Cómputos Distritales","OPL","OD","2021-06-09","2021-06-12",null,null,{"$f":"VLOOKUP(P149,Campos!$B$2:$C$7,2,FALSE)","v":0},"Sin información"]
[144,1,"Aguascalientes",15,"Cómputos","15.14",14,"Cómputo Estatal para la asignación diputaciones de Representación Proporcional","OPL","CG","2021-06-13","2021-06-13",null,null,{"$f":"VLOOKUP(P150,Campos!$B$2:$C$7,2,FALSE)","v":0},"Sin información"]
[145,1,"Aguascalientes",15,"Cómputos","15.11",11,"Cómputos Municipales","OPL","OD","2021-06-09","2021-06-12",null,null,{"$f":"VLOOKUP(P151,Campos!$B$2:$C$7,2,FALSE)","v":0},"Sin información"]
[146,1,"Aguascalientes",15,"Cómputos","15.16",16,"Asignación de regidurías por el principio de Representación Proporcional","OPL","CG","2021-06-13","2021-06-13",null,null,{"$f":"VLOOKUP(P152,Campos!$B$2:$C$7,2,FALSE)","v":0},"Sin información"]
[147,1,"Aguascalientes",16,"PREP","16.1",1,"Aprobación del Acuerdo por el que se designa o ratifica a la instancia interna responsable de coordinar el PREP","OPL","CG","2020-09-11","2020-09-11",null,null,{"$f":"VLOOKUP(P153,Campos!$B$2:$C$7,2,FALSE)","v":0},"Sin información"]
[148,1,"Aguascalientes",16,"PREP","16.2",2,"Aprobación del Acuerdo de Integración del COTAPREP","OPL","CG","2020-11-11","2020-11-11",null,null,{"$f":"VLOOKUP(P154,Campos!$B$2:$C$7,2,FALSE)","v":0},"Sin información"]
[149,1,"Aguascalientes",16,"PREP","16.3",3,"Documento por el que se determina la implementación del PREP por el OPL o con el apoyo de un Tercero","OPL","CG","2020-12-11","2020-12-11",null,null,{"$f":"VLOOKUP(P155,Campos!$B$2:$C$7,2,FALSE)","v":0},"Sin información"]
[150,1,"Aguascalientes",16,"PREP","16.4",4,"Aprobación del Acuerdo por el que se determina el Proceso Técnico Operativo ","OPL","CG","2021-01-11","2021-01-11",null,null,{"$f":"VLOOKUP(P156,Campos!$B$2:$C$7,2,FALSE)","v":0},"Sin información"]
[151,1,"Aguascalientes",16,"PREP","16.5",5,"Aprobación del Acuerdo por el que se determina la ubicación, instalación y habilitación de los CATD y, en su caso, CCV","OPL","CG","2021-02-11","2021-02-11",null,null,{"$f":"VLOOKUP(P157,Campos!$B$2:$C$7,2,FALSE)","v":0},"Sin información"]
[152,1,"Aguascalientes",16,"PREP","16.6",6,"Documento de Designación del Ente Auditor ","OPL","CG","2021-02-11","2021-02-11",null,null,{"$f":"VLOOKUP(P158,Campos!$B$2:$C$7,2,FALSE)","v":0},"Sin información"]
[153,1,"Aguascalientes",16,"PREP","16.7",7,"Instrumento jurídico celebrado entre el OPL y el ente auditor","OPL","CG","2021-03-11","2021-03-11",null,null,{"$f":"VLOOKUP(P159,Campos!$B$2:$C$7,2,FALSE)","v":0},"Sin información"]
[154,1,"Aguascalientes",16,"PREP","16.8",8,"Realización del primer simulacro del PREP","OPL","CG","2021-05-16","2021-05-16",null,null,{"$f":"VLOOKUP(P160,Campos!$B$2:$C$7,2,FALSE)","v":0},"Sin información"]
[155,1,"Aguascalientes",16,"PREP","16.9",9,"Realización del segundo simulacro del PREP","OPL","CG","2021-05-23","2021-05-23",null,null,{"$f":"VLOOKUP(P161,Campos!$B$2:$C$7,2,FALSE)","v":0},"Sin información"]
[156,1,"Aguascalientes",16,"PREP","16.10",10,"Realización del tercer simulacro del PREP","OPL","CG","2021-05-30","2021-05-30",null,null,{"$f":"VLOOKUP(P162,Campos!$B$2:$C$7,2,FALSE)","v":0},"Sin información"]
[157,1,"Aguascalientes",16,"PREP","16.11",11,"Operación del PREP","OPL","CG","2021-06-06","2021-06-07",null,null,{"$f":"VLOOKUP(P163,Campos!$B$2:$C$7,2,FALSE)","v":0},"Sin información"]
[158,1,"Aguascalientes",19,"Visitantes extranjeros","19.1",1,"Emisión de la Convocatoria para visitantes extranjeros","INE","CG","2020-08-03","2020-09-30",null,null,{"$f":"VLOOKUP(P164,Campos!$B$2:$C$7,2,FALSE)","v":0},"Sin información"]
[159,1,"Aguascalientes",19,"Visitantes extranjeros","19.2",2,"Difusión de la Convocatoria para visitantes extranjeros","INE","CAI","2020-09-01","2021-05-26",null,null,{"$f":"VLOOKUP(P165,Campos!$B$2:$C$7,2,FALSE)","v":0},"Sin información"]
[160,1,"Aguascalientes",19,"Visitantes extranjeros","19.3",3,"Recepción de solicitudes de acreditación como visitantes extranjeros","INE","CAI","2020-09-01","2021-05-26",null,null,{"$f":"VLOOKUP(P166,Campos!$B$2:$C$7,2,FALSE)","v":0},"Sin información"]
[161,1,"Aguascalientes",19,"Visitantes extranjeros","19.4",4,"Resolución de solicitudes de acreditación como visitantes extranjeros","INE","CAI","2020-09-02","2021-05-30",null,null,{"$f":"VLOOKUP(P167,Campos!$B$2:$C$7,2,FALSE)","v":0},"Sin información"]
[162,1,"Aguascalientes",19,"Visitantes extranjeros","19.5",5,"Entrega de acreditaciones a los visitantes extranjeros","INE","CAI","2020-09-04","2021-06-05",null,null,{"$f":"VLOOKUP(P168,Campos!$B$2:$C$7,2,FALSE)","v":0},"Sin información"]
[163,2,"Baja California",1,"Mecanismos de coordinación","1.1",1,"Aprobar Calendarios y Planes Integrales de los Procesos Electorales Locales","INE","CG","2020-08-01","2020-08-07",null,null,{"$f":"VLOOKUP(P169,Campos!$B$2:$C$7,2,FALSE)","v":0},"Sin información"]
[164,2,"Baja California",1,"Mecanismos de coordinación","1.2",2,"Firma del Convenio General de Coordinación y Colaboración 2020-2021","INE/OPL","INE/OPL","2020-09-01","2020-10-01",null,null,{"$f":"VLOOKUP(P170,Campos!$B$2:$C$7,2,FALSE)","v":0},"Sin información"]
[165,2,"Baja California",1,"Mecanismos de coordinación","1.3",3,"Elaborar un plan de trabajo conjunto para la promoción de la participación ciudadana","INE/OPL","INE/OPL","2020-09-01","2020-12-31",null,null,{"$f":"VLOOKUP(P171,Campos!$B$2:$C$7,2,FALSE)","v":0},"Sin información"]
[166,2,"Baja California",1,"Mecanismos de coordinación","1.4",4,"Sesión para dar inicio al PEL","OPL","CG","2020-12-06","2020-12-06",null,null,{"$f":"VLOOKUP(P172,Campos!$B$2:$C$7,2,FALSE)","v":0},"Sin información"]
[167,2,"Baja California",1,"Mecanismos de coordinación","1.5",5,"Implementar un plan de trabajo conjunto para la promoción de la participación ciudadana","INE/OPL","INE/OPL","2021-02-01","2021-06-06",null,null,{"$f":"VLOOKUP(P173,Campos!$B$2:$C$7,2,FALSE)","v":0},"Sin información"]
[168,2,"Baja California",2,"Integración de órganos desconcentrados","2.1",1,"Convocatoria para la integración de los Órganos Distritales","OPL","CG","2020-12-20","2020-12-26",null,null,{"$f":"VLOOKUP(P174,Campos!$B$2:$C$7,2,FALSE)","v":0},"Sin información"]
[169,2,"Baja California",2,"Integración de órganos desconcentrados","2.2",2,"Sesión en la que se designan e integran los Órganos Distritales ","OPL","CG","2021-03-01","2021-03-07",null,null,{"$f":"VLOOKUP(P175,Campos!$B$2:$C$7,2,FALSE)","v":0},"Sin información"]
[170,2,"Baja California",2,"Integración de órganos desconcentrados","2.3",3,"Instalación de los Órganos Distritales ","OPL","OD","2021-03-15","2021-03-21",null,null,{"$f":"VLOOKUP(P176,Campos!$B$2:$C$7,2,FALSE)","v":0},"Sin información"]
[171,2,"Baja California",2,"Integración de órganos desconcentrados","2.7",7,"Designación y/o ratificación de las y los Consejeros Electorales del Consejo Local ","INE","CG","2020-10-01","2020-10-15",null,null,{"$f":"VLOOKUP(P177,Campos!$B$2:$C$7,2,FALSE)","v":0},"Sin información"]
[172,2,"Baja California",2,"Integración de órganos desconcentrados","2.8",8,"Instalación del Consejo Local","INE","CL","2020-11-01","2020-11-30",null,null,{"$f":"VLOOKUP(P178,Campos!$B$2:$C$7,2,FALSE)","v":0},"Sin información"]
[173,2,"Baja California",2,"Integración de órganos desconcentrados","2.9",9,"Designación y/o ratificación de las y los Consejeros Electorales de los Consejos Distritales ","INE","CL","2020-11-01","2020-11-30",null,null,{"$f":"VLOOKUP(P179,Campos!$B$2:$C$7,2,FALSE)","v":0},"Sin información"]
[174,2,"Baja California",2,"Integración de órganos desconcentrados","2.10",10,"Instalación de los Consejos Distritales","INE","CD","2020-12-01","2020-12-15",null,null,{"$f":"VLOOKUP(P180,Campos!$B$2:$C$7,2,FALSE)","v":0},"Sin información"]
[175,2,"Baja California",3,"Lista Nominal de Electores","3.1",1,"Generación y entrega de la Lista Nominal de Electores para Revisión en medios ópticos a los representantes de los partidos políticos, y en su caso a las candidaturas independientes acreditados ante el OPL, para observaciones","INE","DERFE","2021-02-15","2021-02-15",null,null,{"$f":"VLOOKUP(P181,Campos!$B$2:$C$7,2,FALSE)","v":0},"Sin información"]
[176,2,"Baja California",3,"Lista Nominal de Electores","3.2",2,"Recepción de observaciones de los partidos políticos y en su caso, candidatos independientes, a la Lista Nominal de Electores para revisión","INE/OPL","DERFE","2021-03-14","2021-03-14",null,null,{"$f":"VLOOKUP(P182,Campos!$B$2:$C$7,2,FALSE)","v":0},"Sin información"]
[177,2,"Baja California",3,"Lista Nominal de Electores","3.3",3,"Entrega en formato digital el informe respecto de la atención a las observaciones formuladas a la Lista Nominal de Electores para Revisión","INE","DERFE","2021-04-15","2021-04-15",null,null,{"$f":"VLOOKUP(P183,Campos!$B$2:$C$7,2,FALSE)","v":0},"Sin información"]
[178,2,"Baja California",3,"Lista Nominal de Electores","3.4",4,"Entrega de la Lista Nominal de Electores Definitiva con fotografía","INE","DERFE","2021-05-06","2021-05-14",null,null,{"$f":"VLOOKUP(P184,Campos!$B$2:$C$7,2,FALSE)","v":0},"Sin información"]
[179,2,"Baja California",3,"Lista Nominal de Electores","3.5",5,"Fecha de entrega de la Lista Nominal de Electores con fotografía Producto de Instancias Administrativas y Resoluciones del Tribunal (ADENDA)","INE","DERFE","2021-05-19","2021-05-24",null,null,{"$f":"VLOOKUP(P185,Campos!$B$2:$C$7,2,FALSE)","v":0},"Sin información"]
[180,2,"Baja California",4,"Observación Electoral","4.1",1,"Emisión de la convocatoria para la ciudadanía que desee participar en la observación electoral","OPL","CG","2020-12-06","2020-12-06",null,null,{"$f":"VLOOKUP(P186,Campos!$B$2:$C$7,2,FALSE)","v":0},"Sin información"]
[181,2,"Baja California",4,"Observación Electoral","4.2",2,"Recepción de solicitudes de la ciudadanía que desee participar en observación electoral","INE/OPL","OPL/JLE/JDE","2020-12-06","2021-04-30",null,null,{"$f":"VLOOKUP(P187,Campos!$B$2:$C$7,2,FALSE)","v":0},"Sin información"]
[182,2,"Baja California",4,"Observación Electoral","4.3",3,"Impartición de los cursos de capacitación, preparación o información","INE/OPL","OPL/JLE/JDE","2020-12-06","2021-05-17",null,null,{"$f":"VLOOKUP(P188,Campos!$B$2:$C$7,2,FALSE)","v":0},"Sin información"]
[183,2,"Baja California",4,"Observación Electoral","4.4",4,"Acreditación de la ciudadanía como observadores u observadoras electorales","INE","CL/CD","2020-12-06","2021-06-05",null,null,{"$f":"VLOOKUP(P189,Campos!$B$2:$C$7,2,FALSE)","v":0},"Sin información"]
[184,2,"Baja California",4,"Observación Electoral","4.5",5,"Seguimiento a los informes mensuales de acreditación","INE","CG","2020-12-06","2021-07-31",null,null,{"$f":"VLOOKUP(P190,Campos!$B$2:$C$7,2,FALSE)","v":0},"Sin información"]
[185,2,"Baja California",4,"Observación Electoral","4.6",6,"Remisión de materiales de capacitación a la JLE para revisión","OPL","CG","2020-10-08","2020-10-08",null,null,{"$f":"VLOOKUP(P191,Campos!$B$2:$C$7,2,FALSE)","v":0},"Sin información"]
[186,2,"Baja California",4,"Observación Electoral","4.7",7,"Revisión, corrección, verificación y validación de materiales de capacitación para observación electoral ","INE","JLE","2020-10-09","2020-10-30",null,null,{"$f":"VLOOKUP(P192,Campos!$B$2:$C$7,2,FALSE)","v":0},"Sin información"]
[187,2,"Baja California",4,"Observación Electoral","4.8",8,"Entrega de materiales de capacitación para observación electoral entre OPL e INE","INE/OPL","VEL/OPL","2020-11-01","2020-11-23",null,null,{"$f":"VLOOKUP(P193,Campos!$B$2:$C$7,2,FALSE)","v":0},"Sin información"]
[188,2,"Baja California",5,"Ubicación de casillas","5.1",1,"Recorridos por las secciones de los distritos para localizar los lugares donde se ubicarán las casillas","INE/OPL","JDE/OPL","2021-01-15","2021-02-15",null,null,{"$f":"VLOOKUP(P194,Campos!$B$2:$C$7,2,FALSE)","v":0},"Sin información"]
[189,2,"Baja California",5,"Ubicación de casillas","5.2",2,"Presentación a los Consejos Distritales del listado de lugares propuestos para ubicar casillas","INE","JDE","2021-02-24","2021-02-24",null,null,{"$f":"VLOOKUP(P195,Campos!$B$2:$C$7,2,FALSE)","v":0},"Sin información"]
[190,2,"Baja California",5,"Ubicación de casillas","5.3",3,"Visitas de examinación en los lugares propuestos para ubicar casillas básicas, contiguas, especiales y extraordinarias","INE/OPL","CD/OPL","2021-02-25","2021-03-16",null,null,{"$f":"VLOOKUP(P196,Campos!$B$2:$C$7,2,FALSE)","v":0},"Sin información"]
[191,2,"Baja California",5,"Ubicación de casillas","5.4",4,"Aprobación del número y ubicación de casillas extraordinarias y especiales","INE","CD","2021-03-16","2021-03-16",null,null,{"$f":"VLOOKUP(P197,Campos!$B$2:$C$7,2,FALSE)","v":0},"Sin información"]
[192,2,"Baja California",5,"Ubicación de casillas","5.5",5,"Aprobación del número y ubicación de casillas básicas y contiguas","INE","CD","2021-03-25","2021-03-25",null,null,{"$f":"VLOOKUP(P198,Campos!$B$2:$C$7,2,FALSE)","v":0},"Sin información"]
[193,2,"Baja California",5,"Ubicación de casillas","5.6",6,"Entrega de la base de datos de la Lista Nominal Definitiva a UNICOM con corte al 10 de abril","INE","DERFE","2021-04-15","2021-04-16",null,null,{"$f":"VLOOKUP(P199,Campos!$B$2:$C$7,2,FALSE)","v":0},"Sin información"]
[194,2,"Baja California",5,"Ubicación de casillas","5.7",7,"Realizar la primera publicación de la lista de ubicación de casillas en los lugares más concurridos del distrito electoral  y en los medios electrónicos del Instituto","INE","CD","2021-04-15","2021-04-15",null,null,{"$f":"VLOOKUP(P200,Campos!$B$2:$C$7,2,FALSE)","v":0},"Sin información"]
[195,2,"Baja California",5,"Ubicación de casillas","5.8",8,"En su caso, segunda publicación de la lista de ubicación de casillas por causas supervenientes en los lugares más concurridos del distrito y en los medios electrónicos del Instituto","INE","CD","2021-05-15","2021-05-25",null,null,{"$f":"VLOOKUP(P201,Campos!$B$2:$C$7,2,FALSE)","v":0},"Sin información"]
[196,2,"Baja California",5,"Ubicación de casillas","5.9",9,"Publicación de los encartes y difusión en medios electrónicos del Instituto","INE/OPL","DEOE/CG","2021-06-05","2021-06-06",null,null,{"$f":"VLOOKUP(P202,Campos!$B$2:$C$7,2,FALSE)","v":0},"Sin información"]
[197,2,"Baja California",5,"Ubicación de casillas","5.10",10,"Registro de representantes generales y ante mesas directivas de casilla","INE","CD","2021-04-16","2021-05-24",null,null,{"$f":"VLOOKUP(P203,Campos!$B$2:$C$7,2,FALSE)","v":0},"Sin información"]
[198,2,"Baja California",5,"Ubicación de casillas","5.11",11,"Sustitución de representantes generales y ante mesas directivas de casilla","INE","CD","2021-04-16","2021-05-27",null,null,{"$f":"VLOOKUP(P204,Campos!$B$2:$C$7,2,FALSE)","v":0},"Sin información"]
[199,2,"Baja California",5,"Ubicación de casillas","5.12",12,"Entrega de listados de representantes generales y ante casilla al OPL","INE","CD","2021-05-30","2021-05-30",null,null,{"$f":"VLOOKUP(P205,Campos!$B$2:$C$7,2,FALSE)","v":0},"Sin información"]
[200,2,"Baja California",5,"Ubicación de casillas","5.13",13,"Notificación ciudadana de ubicación de casillas en secciones electorales involucradas en la actualización del Marco Geográfico Electoral","INE/OPL","DERFE/OPL","2021-04-01","2021-06-15",null,null,{"$f":"VLOOKUP(P206,Campos!$B$2:$C$7,2,FALSE)","v":0},"Sin información"]
[201,2,"Baja California",6,"Integración de las Mesas Directivas de Casilla","6.1",1,"Aprobación de la Estrategia de Capacitación y Asistencia Electoral","INE","CG","2020-08-01","2020-08-15",null,null,{"$f":"VLOOKUP(P207,Campos!$B$2:$C$7,2,FALSE)","v":0},"Sin información"]
[202,2,"Baja California",6,"Integración de las Mesas Directivas de Casilla","6.2",2,"Entrega para revisión y validación de materiales didácticos de primera etapa","OPL","CG","2020-11-03","2020-11-03",null,null,{"$f":"VLOOKUP(P208,Campos!$B$2:$C$7,2,FALSE)","v":0},"Sin información"]
[203,2,"Baja California",6,"Integración de las Mesas Directivas de Casilla","6.3",3,"Revisión, corrección, verificación y validación de los materiales didácticos de primera etapa","INE/OPL","JLE/DECEYEC/OPL","2020-11-03","2020-12-19",null,null,{"$f":"VLOOKUP(P209,Campos!$B$2:$C$7,2,FALSE)","v":0},"Sin información"]
[204,2,"Baja California",6,"Integración de las Mesas Directivas de Casilla","6.4",4,"Entrega de los materiales impresos de la primera etapa a la JLE","OPL","OPL","2021-02-05","2021-02-05",null,null,{"$f":"VLOOKUP(P210,Campos!$B$2:$C$7,2,FALSE)","v":0},"Sin información"]
[205,2,"Baja California",6,"Integración de las Mesas Directivas de Casilla","6.5",5,"Sorteo del mes del calendario como base para la insaculación de las y los ciudadanos que integrarán las mesas directivas de casilla","INE","CG","2020-12-15","2020-12-19",null,null,{"$f":"VLOOKUP(P211,Campos!$B$2:$C$7,2,FALSE)","v":0},"Sin información"]
[206,2,"Baja California",6,"Integración de las Mesas Directivas de Casilla","6.6",6,"Entrega para revisión y validación de materiales didácticos de segunda etapa","OPL","OPL","2021-02-03","2021-02-03",null,null,{"$f":"VLOOKUP(P212,Campos!$B$2:$C$7,2,FALSE)","v":0},"Sin información"]
[207,2,"Baja California",6,"Integración de las Mesas Directivas de Casilla","6.7",7,"Revisión, corrección, verificación y validación de los materiales didácticos de la segunda etapa","INE/OPL","JLE/DECEYEC/OPL","2021-02-03","2021-03-22",null,null,{"$f":"VLOOKUP(P213,Campos!$B$2:$C$7,2,FALSE)","v":0},"Sin información"]
[208,2,"Baja California",6,"Integración de las Mesas Directivas de Casilla","6.8",8,"Entrega de los materiales impresos de la segunda etapa a la JLE","OPL","OPL","2021-04-05","2021-04-05",null,null,{"$f":"VLOOKUP(P214,Campos!$B$2:$C$7,2,FALSE)","v":0},"Sin información"]
[209,2,"Baja California",6,"Integración de las Mesas Directivas de Casilla","6.9",9,"Sorteo de la letra a partir de la cual, con base en el apellido paterno, se seleccionará a las y los ciudadanos que integrarán las mesas directivas de casilla","INE","CG","2021-02-02","2021-02-02",null,null,{"$f":"VLOOKUP(P215,Campos!$B$2:$C$7,2,FALSE)","v":0},"Sin información"]
[210,2,"Baja California",6,"Integración de las Mesas Directivas de Casilla","6.10",10,"Entrega de la Lista Nominal de Electores para el Procedimiento de la Primera insaculación con corte al 15 de enero de 2021.","INE","DERFE/UNICOM","2021-01-21","2021-01-26",null,null,{"$f":"VLOOKUP(P216,Campos!$B$2:$C$7,2,FALSE)","v":0},"Sin información"]
[211,2,"Baja California",6,"Integración de las Mesas Directivas de Casilla","6.11",11,"Primera insaculación","INE","JDE","2021-02-06","2021-02-06",null,null,{"$f":"VLOOKUP(P217,Campos!$B$2:$C$7,2,FALSE)","v":0},"Sin información"]
[212,2,"Baja California",6,"Integración de las Mesas Directivas de Casilla","6.12",12,"Primera etapa de capacitación a las personas insaculadas","INE","CD","2021-02-09","2021-03-31",null,null,{"$f":"VLOOKUP(P218,Campos!$B$2:$C$7,2,FALSE)","v":0},"Sin información"]
[213,2,"Baja California",6,"Integración de las Mesas Directivas de Casilla","6.13",13,"Integración de la lista de ciudadanos y ciudadanas que cumplen los requisitos legales para integrar las mesas directivas de casilla","INE","CD","2021-02-09","2021-03-31",null,null,{"$f":"VLOOKUP(P219,Campos!$B$2:$C$7,2,FALSE)","v":0},"Sin información"]
[214,2,"Baja California",6,"Integración de las Mesas Directivas de Casilla","6.14",14,"Segunda insaculación y designación de funcionarios para mesas directivas de casilla","INE","CD","2021-04-08","2021-04-08",null,null,{"$f":"VLOOKUP(P220,Campos!$B$2:$C$7,2,FALSE)","v":0},"Sin información"]
[215,2,"Baja California",6,"Integración de las Mesas Directivas de Casilla","6.15",15,"Segunda etapa de capacitación a funcionarios de mesa directiva de casilla y simulacros","INE","CD","2021-04-18","2021-06-05",null,null,{"$f":"VLOOKUP(P221,Campos!$B$2:$C$7,2,FALSE)","v":0},"Sin información"]
[216,2,"Baja California",6,"Integración de las Mesas Directivas de Casilla","6.16",16,"Entrega de reconocimientos a funcionarios de mesas directivas de casilla","INE","CD","2021-06-07","2021-06-12",null,null,{"$f":"VLOOKUP(P222,Campos!$B$2:$C$7,2,FALSE)","v":0},"Sin información"]
[217,2,"Baja California",6,"Integración de las Mesas Directivas de Casilla","6.17",17,"Periodo para contratación de CAE locales","INE/OPL","INE/OPL","Por definir","Por definir",null,null,{"$f":"VLOOKUP(P223,Campos!$B$2:$C$7,2,FALSE)","v":0},"Sin información"]
[218,2,"Baja California",6,"Integración de las Mesas Directivas de Casilla","6.18",18,"Reclutamiento y selección de CAE locales","INE/OPL","INE/OPL","Por definir","Por definir",null,null,{"$f":"VLOOKUP(P224,Campos!$B$2:$C$7,2,FALSE)","v":0},"Sin información"]
[219,2,"Baja California",7,"Fiscalización de los recursos de los Partidos Políticos y candidaturas independientes","7.1",1,"Aprobación de topes de gastos de precampaña Gubernatura","OPL","CG","2020-12-01","2020-12-15",null,null,{"$f":"VLOOKUP(P225,Campos!$B$2:$C$7,2,FALSE)","v":0},"Sin información"]
[220,2,"Baja California",7,"Fiscalización de los recursos de los Partidos Políticos y candidaturas independientes","7.2",2,"Aprobación de topes de gastos de precampaña Diputaciones","OPL","CG","2020-12-01","2020-12-15",null,null,{"$f":"VLOOKUP(P226,Campos!$B$2:$C$7,2,FALSE)","v":0},"Sin información"]
[221,2,"Baja California",7,"Fiscalización de los recursos de los Partidos Políticos y candidaturas independientes","7.3",3,"Aprobación de topes de gastos de precampaña Ayuntamientos","OPL","CG","2020-12-01","2020-12-15",null,null,{"$f":"VLOOKUP(P227,Campos!$B$2:$C$7,2,FALSE)","v":0},"Sin información"]
[222,2,"Baja California",7,"Fiscalización de los recursos de los Partidos Políticos y candidaturas independientes","7.4",4,"Aprobación de los límites de financiamiento privado, aportaciones de militantes, simpatizantes y precandidatos o candidatos; así como el límite individual de aportaciones para Gubernatura","OPL","CG","2020-10-01","2020-11-20",null,null,{"$f":"VLOOKUP(P228,Campos!$B$2:$C$7,2,FALSE)","v":0},"Sin información"]
[223,2,"Baja California",7,"Fiscalización de los recursos de los Partidos Políticos y candidaturas independientes","7.5",5,"Aprobación de los límites de financiamiento privado, aportaciones de militantes, simpatizantes y precandidatos o candidatos; así como el límite individual de aportaciones para Diputaciones","OPL","CG","2020-10-01","2020-11-20",null,null,{"$f":"VLOOKUP(P229,Campos!$B$2:$C$7,2,FALSE)","v":0},"Sin información"]
[224,2,"Baja California",7,"Fiscalización de los recursos de los Partidos Políticos y candidaturas independientes","7.6",6,"Aprobación de los límites de financiamiento privado, aportaciones de militantes, simpatizantes y precandidatos o candidatos; así como el límite individual de aportaciones para Ayuntamientos","OPL","CG","2020-10-01","2020-11-20",null,null,{"$f":"VLOOKUP(P230,Campos!$B$2:$C$7,2,FALSE)","v":0},"Sin información"]
[225,2,"Baja California",7,"Fiscalización de los recursos de los Partidos Políticos y candidaturas independientes","7.7",7,"Aprobación de topes de gastos para el periodo de obtención del apoyo ciudadano para Gubernatura","OPL","CG","2020-12-06","2020-12-06",null,null,{"$f":"VLOOKUP(P231,Campos!$B$2:$C$7,2,FALSE)","v":0},"Sin información"]
[226,2,"Baja California",7,"Fiscalización de los recursos de los Partidos Políticos y candidaturas independientes","7.8",8,"Aprobación de topes de gastos para el periodo de obtención del apoyo ciudadano para Diputaciones","OPL","CG","2020-12-06","2020-12-06",null,null,{"$f":"VLOOKUP(P232,Campos!$B$2:$C$7,2,FALSE)","v":0},"Sin información"]
[227,2,"Baja California",7,"Fiscalización de los recursos de los Partidos Políticos y candidaturas independientes","7.9",9,"Aprobación de topes de gastos para el periodo de obtención del apoyo ciudadano para Ayuntamientos","OPL","CG","2020-12-06","2020-12-06",null,null,{"$f":"VLOOKUP(P233,Campos!$B$2:$C$7,2,FALSE)","v":0},"Sin información"]
[228,2,"Baja California",7,"Fiscalización de los recursos de los Partidos Políticos y candidaturas independientes","7.10",10,"Precampaña para Gubernatura","OPL","CG","2021-01-22","2021-03-02",null,null,{"$f":"VLOOKUP(P234,Campos!$B$2:$C$7,2,FALSE)","v":0},"Sin información"]
[229,2,"Baja California",7,"Fiscalización de los recursos de los Partidos Políticos y candidaturas independientes","7.11",11,"Precampaña para Diputaciones","OPL","CG","2021-01-22","2021-02-20",null,null,{"$f":"VLOOKUP(P235,Campos!$B$2:$C$7,2,FALSE)","v":0},"Sin información"]
[230,2,"Baja California",7,"Fiscalización de los recursos de los Partidos Políticos y candidaturas independientes","7.12",12,"Precampaña para Ayuntamientos","OPL","CG","2021-01-22","2021-02-20",null,null,{"$f":"VLOOKUP(P236,Campos!$B$2:$C$7,2,FALSE)","v":0},"Sin información"]
[231,2,"Baja California",7,"Fiscalización de los recursos de los Partidos Políticos y candidaturas independientes","7.13",13,"Aprobación de topes de gastos de campaña para Gubernatura","OPL","CG","2021-02-01","2021-02-20",null,null,{"$f":"VLOOKUP(P237,Campos!$B$2:$C$7,2,FALSE)","v":0},"Sin información"]
[232,2,"Baja California",7,"Fiscalización de los recursos de los Partidos Políticos y candidaturas independientes","7.14",14,"Aprobación de topes de gastos de campaña para Diputaciones","OPL","CG","2021-02-01","2021-02-20",null,null,{"$f":"VLOOKUP(P238,Campos!$B$2:$C$7,2,FALSE)","v":0},"Sin información"]
[233,2,"Baja California",7,"Fiscalización de los recursos de los Partidos Políticos y candidaturas independientes","7.15",15,"Aprobación de topes de gastos de campaña para Ayuntamientos","OPL","CG","2021-02-01","2021-02-20",null,null,{"$f":"VLOOKUP(P239,Campos!$B$2:$C$7,2,FALSE)","v":0},"Sin información"]
[234,2,"Baja California",7,"Fiscalización de los recursos de los Partidos Políticos y candidaturas independientes","7.16",16,"Campaña para Gubernatura","OPL","CG","2021-04-04","2021-06-02",null,null,{"$f":"VLOOKUP(P240,Campos!$B$2:$C$7,2,FALSE)","v":0},"Sin información"]
[235,2,"Baja California",7,"Fiscalización de los recursos de los Partidos Políticos y candidaturas independientes","7.17",17,"Campaña para Diputaciones","OPL","CG","2021-04-19","2021-06-02",null,null,{"$f":"VLOOKUP(P241,Campos!$B$2:$C$7,2,FALSE)","v":0},"Sin información"]
[236,2,"Baja California",7,"Fiscalización de los recursos de los Partidos Políticos y candidaturas independientes","7.18",18,"Campaña para Ayuntamientos","OPL","CG","2021-04-19","2021-06-02",null,null,{"$f":"VLOOKUP(P242,Campos!$B$2:$C$7,2,FALSE)","v":0},"Sin información"]
[237,2,"Baja California",7,"Fiscalización de los recursos de los Partidos Políticos y candidaturas independientes","7.19",19,"Aprobación de la distribución de financiamiento público para partidos políticos","OPL","CG","2020-10-01","2020-11-20",null,null,{"$f":"VLOOKUP(P243,Campos!$B$2:$C$7,2,FALSE)","v":0},"Sin información"]
[238,2,"Baja California",8,"Candidaturas Independientes","8.1",1,"Emisión de la convocatoria para la ciudadanía interesada en participar en Candidaturas Independientes ","OPL","CG","2020-12-06","2020-12-06",null,null,{"$f":"VLOOKUP(P244,Campos!$B$2:$C$7,2,FALSE)","v":0},"Sin información"]
[239,2,"Baja California",8,"Candidaturas Independientes","8.2",2,"Recepción de escrito de intención y documentación anexa de la ciudadanía que aspire a la candidatura independiente para Gubernatura","OPL","OD","2020-12-07","2020-12-15",null,null,{"$f":"VLOOKUP(P245,Campos!$B$2:$C$7,2,FALSE)","v":0},"Sin información"]
[240,2,"Baja California",8,"Candidaturas Independientes","8.3",3,"Recepción de escrito de intención y documentación anexa de la ciudadanía que aspire a la candidatura independiente para Diputaciones","OPL","OD","2020-12-07","2021-01-15",null,null,{"$f":"VLOOKUP(P246,Campos!$B$2:$C$7,2,FALSE)","v":0},"Sin información"]
[241,2,"Baja California",8,"Candidaturas Independientes","8.4",4,"Recepción de escrito de intención y documentación anexa de la ciudadanía que aspire a la candidatura independiente para Ayuntamientos","OPL","SE/OD","2020-12-07","2020-12-31",null,null,{"$f":"VLOOKUP(P247,Campos!$B$2:$C$7,2,FALSE)","v":0},"Sin información"]
[242,2,"Baja California",8,"Candidaturas Independientes","8.5",5,"Resolución sobre procedencia de manifestación de intención de aspirantes a candidaturas independientes para Gubernatura","OPL","CG","2020-12-08","2020-12-15",null,null,{"$f":"VLOOKUP(P248,Campos!$B$2:$C$7,2,FALSE)","v":0},"Sin información"]
[243,2,"Baja California",8,"Candidaturas Independientes","8.6",6,"Resolución sobre procedencia de manifestación de intención de aspirantes a candidaturas independientes para Diputaciones","OPL","CG","2020-12-08","2021-01-15",null,null,{"$f":"VLOOKUP(P249,Campos!$B$2:$C$7,2,FALSE)","v":0},"Sin información"]
[244,2,"Baja California",8,"Candidaturas Independientes","8.7",7,"Resolución sobre procedencia de manifestación de intención de aspirantes a candidaturas independientes para Ayuntamientos","OPL","CG","2020-12-08","2020-12-31",null,null,{"$f":"VLOOKUP(P250,Campos!$B$2:$C$7,2,FALSE)","v":0},"Sin información"]
[245,2,"Baja California",8,"Candidaturas Independientes","8.8",8,"Plazo para obtener el apoyo ciudadano de las candidaturas independientes para Gubernatura","OPL","OD","2020-12-16","2021-02-14",null,null,{"$f":"VLOOKUP(P251,Campos!$B$2:$C$7,2,FALSE)","v":0},"Sin información"]
[246,2,"Baja California",8,"Candidaturas Independientes","8.9",9,"Plazo para obtener el apoyo ciudadano de las candidaturas independientes para Diputaciones","OPL","OD","2021-01-16","2021-02-14",null,null,{"$f":"VLOOKUP(P252,Campos!$B$2:$C$7,2,FALSE)","v":0},"Sin información"]
[247,2,"Baja California",8,"Candidaturas Independientes","8.10",10,"Plazo para obtener el apoyo ciudadano de las candidaturas independientes para Ayuntamientos","OPL","OD","2021-01-01","2021-02-14",null,null,{"$f":"VLOOKUP(P253,Campos!$B$2:$C$7,2,FALSE)","v":0},"Sin información"]
[248,2,"Baja California",8,"Candidaturas Independientes","8.11",11,"Plazo para otorgar las constancias de porcentaje a favor de aspirantes a la candidatura independiente para Gubernatura","OPL","CG","2021-02-15","2021-03-18",null,null,{"$f":"VLOOKUP(P254,Campos!$B$2:$C$7,2,FALSE)","v":0},"Sin información"]
[249,2,"Baja California",8,"Candidaturas Independientes","8.12",12,"Plazo para otorgar las constancias de porcentaje a favor de aspirantes a la candidatura independiente para Diputaciones","OPL","CG","2021-02-15","2021-03-29",null,null,{"$f":"VLOOKUP(P255,Campos!$B$2:$C$7,2,FALSE)","v":0},"Sin información"]
[250,2,"Baja California",8,"Candidaturas Independientes","8.13",13,"Plazo para otorgar las constancias de porcentaje a favor de aspirantes a la candidatura independiente para Ayuntamientos","OPL","CG","2021-02-15","2021-03-29",null,null,{"$f":"VLOOKUP(P256,Campos!$B$2:$C$7,2,FALSE)","v":0},"Sin información"]
[251,2,"Baja California",9,"Candidaturas","9.1",1,"Registro de plataformas electorales","OPL","CG","2021-02-01","2021-02-15",null,null,{"$f":"VLOOKUP(P257,Campos!$B$2:$C$7,2,FALSE)","v":0},"Sin información"]
[252,2,"Baja California",9,"Candidaturas","9.2",2,"Solicitud de registro de convenio de coalición para Gubernatura","OPL","CG","2020-12-06","2021-01-22",null,null,{"$f":"VLOOKUP(P258,Campos!$B$2:$C$7,2,FALSE)","v":0},"Sin información"]
[253,2,"Baja California",9,"Candidaturas","9.3",3,"Solicitud de registro de convenio de coalición para Diputaciones","OPL","CG","2020-12-06","2021-01-22",null,null,{"$f":"VLOOKUP(P259,Campos!$B$2:$C$7,2,FALSE)","v":0},"Sin información"]
[254,2,"Baja California",9,"Candidaturas","9.4",4,"Solicitud de registro de convenio de coalición para Ayuntamientos","OPL","CG","2020-12-06","2021-01-22",null,null,{"$f":"VLOOKUP(P260,Campos!$B$2:$C$7,2,FALSE)","v":0},"Sin información"]
[255,2,"Baja California",9,"Candidaturas","9.5",5,"Resolución sobre Convenio de Coalición para Gubernatura","OPL","CG","2020-12-16","2021-02-01",null,null,{"$f":"VLOOKUP(P261,Campos!$B$2:$C$7,2,FALSE)","v":0},"Sin información"]
[256,2,"Baja California",9,"Candidaturas","9.6",6,"Resolución sobre Convenio de Coalición para Diputaciones","OPL","CG","2020-12-16","2021-02-01",null,null,{"$f":"VLOOKUP(P262,Campos!$B$2:$C$7,2,FALSE)","v":0},"Sin información"]
[257,2,"Baja California",9,"Candidaturas","9.7",7,"Resolución sobre Convenio de Coalición para Ayuntamientos","OPL","CG","2020-12-16","2021-02-01",null,null,{"$f":"VLOOKUP(P263,Campos!$B$2:$C$7,2,FALSE)","v":0},"Sin información"]
[258,2,"Baja California",9,"Candidaturas","9.8",8,"Solicitud de registro de Candidaturas para Gubernatura","OPL","CG/OD","2021-03-20","2021-03-27",null,null,{"$f":"VLOOKUP(P264,Campos!$B$2:$C$7,2,FALSE)","v":0},"Sin información"]
[259,2,"Baja California",9,"Candidaturas","9.9",9,"Solicitud de registro de Candidaturas para Diputaciones","OPL","CG/OD","2021-03-31","2021-04-11",null,null,{"$f":"VLOOKUP(P265,Campos!$B$2:$C$7,2,FALSE)","v":0},"Sin información"]
[260,2,"Baja California",9,"Candidaturas","9.11",11,"Solicitud de registro de Candidaturas para Ayuntamientos","OPL","CG/OD","2021-03-31","2021-04-11",null,null,{"$f":"VLOOKUP(P266,Campos!$B$2:$C$7,2,FALSE)","v":0},"Sin información"]
[261,2,"Baja California",9,"Candidaturas","9.13",13,"Resolución para aprobar las candidaturas para Gubernatura","OPL","CG","2021-03-28","2021-03-30",null,null,{"$f":"VLOOKUP(P267,Campos!$B$2:$C$7,2,FALSE)","v":0},"Sin información"]
[262,2,"Baja California",9,"Candidaturas","9.14",14,"Resolución para aprobar las candidaturas para Diputaciones","OPL","CG","2021-04-12","2021-04-14",null,null,{"$f":"VLOOKUP(P268,Campos!$B$2:$C$7,2,FALSE)","v":0},"Sin información"]
[263,2,"Baja California",9,"Candidaturas","9.16",16,"Resolución para aprobar las candidaturas para Ayuntamientos","OPL","CG/OD","2021-04-12","2021-04-14",null,null,{"$f":"VLOOKUP(P269,Campos!$B$2:$C$7,2,FALSE)","v":0},"Sin información"]
[264,2,"Baja California",10,"Debates","10.1",1,"Aprobación de las fechas en que se celebrarán los debates","OPL","CG","2020-09-13","2021-03-29",null,null,{"$f":"VLOOKUP(P270,Campos!$B$2:$C$7,2,FALSE)","v":0},"Sin información"]
[265,2,"Baja California",10,"Debates","10.2",2,"Realización de debate(s)","OPL","CG","2021-04-14","2021-06-02",null,null,{"$f":"VLOOKUP(P271,Campos!$B$2:$C$7,2,FALSE)","v":0},"Sin información"]
[266,2,"Baja California",11,"Documentación y material electoral","11.1",1,"Entrega a la Junta Local Ejecutiva del INE, de los diseños y especificaciones técnicas de la documentación y materiales electorales, en medios impresos y electrónicos","OPL","CG","2020-09-01","2020-09-30",null,null,{"$f":"VLOOKUP(P272,Campos!$B$2:$C$7,2,FALSE)","v":0},"Sin información"]
[267,2,"Baja California",11,"Documentación y material electoral","11.2",2,"Revisión de los documentos y materiales electorales y especificaciones técnicas, presentadas por el OPL","INE","JLE","2020-09-15","2020-12-16",null,null,{"$f":"VLOOKUP(P273,Campos!$B$2:$C$7,2,FALSE)","v":0},"Sin información"]
[268,2,"Baja California",11,"Documentación y material electoral","11.3",3,"En su caso, atención y presentación, de los cambios pertinentes, conforme a las observaciones emitidas por la Junta Local Ejecutiva del INE","OPL","CG","2020-09-15","2020-12-16",null,null,{"$f":"VLOOKUP(P274,Campos!$B$2:$C$7,2,FALSE)","v":0},"Sin información"]
[269,2,"Baja California",11,"Documentación y material electoral","11.4",4,"Validación de los documentos y materiales electorales y especificaciones técnicas, con las observaciones subsanadas","INE","DEOE","2020-10-28","2020-12-18",null,null,{"$f":"VLOOKUP(P275,Campos!$B$2:$C$7,2,FALSE)","v":0},"Sin información"]
[270,2,"Baja California",11,"Documentación y material electoral","11.5",5,"Entrega a la Dirección Ejecutiva de Organización Electoral del INE, del Reporte único sobre la aprobación y adjudicación de los documentos y materiales electorales del OPL, en medios electrónicos","OPL","CG","2021-02-01","2021-02-26",null,null,{"$f":"VLOOKUP(P276,Campos!$B$2:$C$7,2,FALSE)","v":0},"Sin información"]
[271,2,"Baja California",11,"Documentación y material electoral","11.6",6,"Revisión y en su caso validación, del Reporte único sobre la aprobación y adjudicación de los documentos y materiales electorales del OPL, en medios electrónicos","INE","DEOE","2021-02-15","2021-03-12",null,null,{"$f":"VLOOKUP(P277,Campos!$B$2:$C$7,2,FALSE)","v":0},"Sin información"]
[272,2,"Baja California",11,"Documentación y material electoral","11.7",7,"Entrega  a la Dirección Ejecutiva de Organización Electoral del INE, del Reporte semanal sobre el avance en la producción de los documentos y materiales electorales del OPL, en medios electrónicos.","OPL","CG","2021-03-15","2021-05-22",null,null,{"$f":"VLOOKUP(P278,Campos!$B$2:$C$7,2,FALSE)","v":0},"Sin información"]
[273,2,"Baja California",11,"Documentación y material electoral","11.8",8,"Aprobación de la documentación y material electoral","OPL","CG","2020-11-11","2020-12-31",null,null,{"$f":"VLOOKUP(P279,Campos!$B$2:$C$7,2,FALSE)","v":0},"Sin información"]
[274,2,"Baja California",11,"Documentación y material electoral","11.9",9,"Entrega a la Dirección Ejecutiva de Organización Electoral del INE, del Reporte con los resultados de las verificaciones de las medidas de seguridad en la documentación electoral","OPL","CG","2021-05-27","2021-06-11",null,null,{"$f":"VLOOKUP(P280,Campos!$B$2:$C$7,2,FALSE)","v":0},"Sin información"]
[275,2,"Baja California",11,"Documentación y material electoral","11.10",10,"Supervisiones respecto de los procedimientos de impresión y producción de la documentación y materiales electorales","INE","DEOE","2021-03-15","2021-05-22",null,null,{"$f":"VLOOKUP(P281,Campos!$B$2:$C$7,2,FALSE)","v":0},"Sin información"]
[276,2,"Baja California",11,"Documentación y material electoral","11.11",11,"Designación de la persona responsable de llevar el control sobre la asignación de los folios de las boletas que se distribuirán en cada mesa directiva de casilla","OPL","CG","2021-03-01","2021-03-30",null,null,{"$f":"VLOOKUP(P282,Campos!$B$2:$C$7,2,FALSE)","v":0},"Sin información"]
[277,2,"Baja California",11,"Documentación y material electoral","11.12",12,"Aprobación de SE y CAE, así como de personal que auxiliará en el procedimiento de conteo, sellado y agrupamiento de las boletas electorales; así como la integración de documentación para las casillas","OPL","CG","2021-04-24","2021-05-11",null,null,{"$f":"VLOOKUP(P283,Campos!$B$2:$C$7,2,FALSE)","v":0},"Sin información"]
[278,2,"Baja California",11,"Documentación y material electoral","11.13",13,"Recepción de las boletas electorales por el órgano competente que realizará el conteo, sellado y agrupamiento","OPL","CG","2021-05-18","2021-05-22",null,null,{"$f":"VLOOKUP(P284,Campos!$B$2:$C$7,2,FALSE)","v":0},"Sin información"]
[279,2,"Baja California",11,"Documentación y material electoral","11.14",14,"Conteo, sellado y agrupamiento de boletas","OPL","CG","2021-05-18","2021-05-28",null,null,{"$f":"VLOOKUP(P285,Campos!$B$2:$C$7,2,FALSE)","v":0},"Sin información"]
[280,2,"Baja California",11,"Documentación y material electoral","11.15",15,"Distribución de la documentación y materiales electorales a las y los Presidentes de mesas directivas de casilla","OPL","OD","2021-05-31","2021-06-04",null,null,{"$f":"VLOOKUP(P286,Campos!$B$2:$C$7,2,FALSE)","v":0},"Sin información"]
[281,2,"Baja California",11,"Documentación y material electoral","11.16",16,"Remisión de los recibos de la entrega de la documentación y materiales electorales al Consejo General del OPL","INE","JLE","2021-06-24","2021-06-30",null,null,{"$f":"VLOOKUP(P287,Campos!$B$2:$C$7,2,FALSE)","v":0},"Sin información"]
[282,2,"Baja California",12,"Jornada Electoral","12.1",1,"Aprobación del Programa de Operación del SIJE 2021","INE","CCOE","2020-07-01","2020-07-31",null,null,{"$f":"VLOOKUP(P288,Campos!$B$2:$C$7,2,FALSE)","v":0},"Sin información"]
[283,2,"Baja California",12,"Jornada Electoral","12.2",2,"Aprobación de las metas del SIJE 2021","INE","CG","2021-03-01","2021-03-31",null,null,{"$f":"VLOOKUP(P289,Campos!$B$2:$C$7,2,FALSE)","v":0},"Sin información"]
[284,2,"Baja California",12,"Jornada Electoral","12.3",3,"Realización de pruebas del SIJE 2021","INE","DEOE","2021-04-01","2021-04-15",null,null,{"$f":"VLOOKUP(P290,Campos!$B$2:$C$7,2,FALSE)","v":0},"Sin información"]
[285,2,"Baja California",12,"Jornada Electoral","12.4",4,"Desarrollo del primer simulacro del SIJE","INE/OPL","DEOE/OD","2021-04-29","2021-04-29",null,null,{"$f":"VLOOKUP(P291,Campos!$B$2:$C$7,2,FALSE)","v":0},"Sin información"]
[286,2,"Baja California",12,"Jornada Electoral","12.5",5,"Desarrollo del segundo simulacro del SIJE","INE/OPL","DEOE/OD","2021-05-09","2021-05-09",null,null,{"$f":"VLOOKUP(P292,Campos!$B$2:$C$7,2,FALSE)","v":0},"Sin información"]
[287,2,"Baja California",12,"Jornada Electoral","12.6",6,"Desarrollo del tercer simulacro del SIJE","INE/OPL","DEOE/OD","2021-05-23","2021-05-23",null,null,{"$f":"VLOOKUP(P293,Campos!$B$2:$C$7,2,FALSE)","v":0},"Sin información"]
[288,2,"Baja California",12,"Jornada Electoral","12.7",7,"Jornada Electoral","OPL","CG/OD","2021-06-06","2021-06-06",null,null,{"$f":"VLOOKUP(P294,Campos!$B$2:$C$7,2,FALSE)","v":0},"Sin información"]
[289,2,"Baja California",13,"Bodegas electorales","13.1",1,"Determinación de los lugares que ocuparán las bodegas electorales para el resguardo de la documentación electoral","OPL","CG","2021-02-01","2021-02-28",null,null,{"$f":"VLOOKUP(P295,Campos!$B$2:$C$7,2,FALSE)","v":0},"Sin información"]
[290,2,"Baja California",13,"Bodegas electorales","13.2",2,"Informe que rinden las y los Presidentes sobre las condiciones de equipamiento, mecanismos de operación y medidas de seguridad de las bodegas electorales","OPL","OD","2021-03-01","2021-03-31",null,null,{"$f":"VLOOKUP(P296,Campos!$B$2:$C$7,2,FALSE)","v":0},"Sin información"]
[291,2,"Baja California",13,"Bodegas electorales","13.3",3,"Designación, por parte del órgano competente del OPL, del personal que tendrá acceso a la bodega electoral","OPL","CG/OD","2021-03-01","2021-03-30",null,null,{"$f":"VLOOKUP(P297,Campos!$B$2:$C$7,2,FALSE)","v":0},"Sin información"]
[292,2,"Baja California",13,"Bodegas electorales","13.4",4,"Envío a la UTVOPL, por conducto de la JLE, el informe sobre las condiciones que guardan las bodegas electorales","OPL","CG","2021-04-04","2021-04-10",null,null,{"$f":"VLOOKUP(P298,Campos!$B$2:$C$7,2,FALSE)","v":0},"Sin información"]
[293,2,"Baja California",14,"Mecanismos de recolección","14.1",1,"Entrega de estudios de factibilidad al OPL","INE","CL","2021-03-15","2021-03-31",null,null,{"$f":"VLOOKUP(P299,Campos!$B$2:$C$7,2,FALSE)","v":0},"Sin información"]
[294,2,"Baja California",14,"Mecanismos de recolección","14.2",2,"Entrega de observaciones a los estudios de factibilidad ","OPL","CG","2021-04-01","2021-04-24",null,null,{"$f":"VLOOKUP(P300,Campos!$B$2:$C$7,2,FALSE)","v":0},"Sin información"]
[295,2,"Baja California",14,"Mecanismos de recolección","14.3",3,"Recorridos para verificar las propuestas de los mecanismos de recolección","INE/OPL","CD/OD","2021-03-16","2021-04-24",null,null,{"$f":"VLOOKUP(P301,Campos!$B$2:$C$7,2,FALSE)","v":0},"Sin información"]
[296,2,"Baja California",14,"Mecanismos de recolección","14.4",4,"Aprobación de los mecanismos de recolección ","INE","CD","2021-04-26","2021-04-30",null,null,{"$f":"VLOOKUP(P302,Campos!$B$2:$C$7,2,FALSE)","v":0},"Sin información"]
[297,2,"Baja California",14,"Mecanismos de recolección","14.5",5,"Traslado y recolección de los paquetes electorales","INE/OPL","CD/OD","2021-06-06","2021-06-07",null,null,{"$f":"VLOOKUP(P303,Campos!$B$2:$C$7,2,FALSE)","v":0},"Sin información"]
[298,2,"Baja California",14,"Mecanismos de recolección","14.6",6,"Acreditación de representantes de partidos políticos y candidaturas independientes ante los mecanismos de recolección","INE","CL/CD","2021-04-27","2021-06-03",null,null,{"$f":"VLOOKUP(P304,Campos!$B$2:$C$7,2,FALSE)","v":0},"Sin información"]
[299,2,"Baja California",14,"Mecanismos de recolección","14.7",7,"Sustitución de representantes de partidos políticos y candidaturas independientes ante los mecanismos de recolección","INE","CL/CD","2021-04-28","2021-06-04",null,null,{"$f":"VLOOKUP(P305,Campos!$B$2:$C$7,2,FALSE)","v":0},"Sin información"]
[300,2,"Baja California",14,"Mecanismos de recolección","14.8",8,"Entrega a la JLE, el informe sobre la recepción de paquetes electorales en los órganos competentes","OPL","CG","2021-06-06","2021-06-28",null,null,{"$f":"VLOOKUP(P306,Campos!$B$2:$C$7,2,FALSE)","v":0},"Sin información"]
[301,2,"Baja California",15,"Cómputos","15.1",1,"Aprobación de los lineamientos de cómputo y del cuadernillo de consulta sobre votos válidos y votos nulos","OPL","CG","2021-01-18","2021-01-29",null,null,{"$f":"VLOOKUP(P307,Campos!$B$2:$C$7,2,FALSE)","v":0},"Sin información"]
[302,2,"Baja California",15,"Cómputos","15.2",2,"Integración por parte de los Órganos Desconcentrados del OPL, de la propuesta para la habilitación de espacios para el recuento de votos con las alternativas para todos los escenarios de cómputo","OPL","OD","2021-03-01","2021-03-07",null,null,{"$f":"VLOOKUP(P308,Campos!$B$2:$C$7,2,FALSE)","v":0},"Sin información"]
[303,2,"Baja California",15,"Cómputos","15.3",3,"Informe de los escenarios de cómputos de la totalidad de sus órganos desconcentrados","OPL","CG","2021-04-01","2021-04-04",null,null,{"$f":"VLOOKUP(P309,Campos!$B$2:$C$7,2,FALSE)","v":0},"Sin información"]
[304,2,"Baja California",15,"Cómputos","15.4",4,"Remisión a la JLE en la entidad, las propuestas de escenarios de cómputos, para la dictaminación de viabilidad","OPL","CG","2021-05-01","2021-05-07",null,null,{"$f":"VLOOKUP(P310,Campos!$B$2:$C$7,2,FALSE)","v":0},"Sin información"]
[305,2,"Baja California",15,"Cómputos","15.5",5,"Remisión de las observaciones a los escenarios de Cómputos al OPL y a su vez informar de las mismas a la UTVOPL","INE","JLE","2021-05-08","2021-05-15",null,null,{"$f":"VLOOKUP(P311,Campos!$B$2:$C$7,2,FALSE)","v":0},"Sin información"]
[306,2,"Baja California",15,"Cómputos","15.6",6,"Aprobación por parte del órgano competente del OPL, del acuerdo mediante el cual se designa al personal que participará en las tareas de apoyo a los Cómputos Municipales","OPL","CG/OD","2021-04-26","2021-05-05",null,null,{"$f":"VLOOKUP(P312,Campos!$B$2:$C$7,2,FALSE)","v":0},"Sin información"]
[307,2,"Baja California",15,"Cómputos","15.7",7,"Aprobación por parte del órgano competente del OPL, del acuerdo mediante el cual se designa al personal que participará en las tareas de apoyo a los Cómputos Distritales ","OPL","CG/OD","2021-04-26","2021-05-05",null,null,{"$f":"VLOOKUP(P313,Campos!$B$2:$C$7,2,FALSE)","v":0},"Sin información"]
[308,2,"Baja California",15,"Cómputos","15.8",8,"Aprobación por parte de los órganos competentes del OPL, de los distintos escenarios de cómputos","OPL","OD","2021-05-08","2021-05-15",null,null,{"$f":"VLOOKUP(P314,Campos!$B$2:$C$7,2,FALSE)","v":0},"Sin información"]
[309,2,"Baja California",15,"Cómputos","15.9",9,"Aprobación por parte del órgano competente del OPL, del acuerdo por el que se habilitarán espacios para la instalación de grupos de trabajo y, en su caso, puntos de recuento","OPL","CG/OD","2021-06-08","2021-06-08",null,null,{"$f":"VLOOKUP(P315,Campos!$B$2:$C$7,2,FALSE)","v":0},"Sin información"]
[310,2,"Baja California",15,"Cómputos","15.10",10,"Cómputos Distritales","OPL","OD","2021-06-09","2021-06-15",null,null,{"$f":"VLOOKUP(P316,Campos!$B$2:$C$7,2,FALSE)","v":0},"Sin información"]
[311,2,"Baja California",15,"Cómputos","15.14",14,"Cómputo Estatal para la asignación diputaciones de Representación Proporcional","OPL","CG","2021-06-16","2021-07-31",null,null,{"$f":"VLOOKUP(P317,Campos!$B$2:$C$7,2,FALSE)","v":0},"Sin información"]
[312,2,"Baja California",15,"Cómputos","15.13",13,"Cómputo Estatal para la Gubernatura","OPL","CG","2021-06-16","2021-06-21",null,null,{"$f":"VLOOKUP(P318,Campos!$B$2:$C$7,2,FALSE)","v":0},"Sin información"]
[313,2,"Baja California",15,"Cómputos","15.11",11,"Cómputos Municipales","OPL","OD","2021-06-16","2021-06-21",null,null,{"$f":"VLOOKUP(P319,Campos!$B$2:$C$7,2,FALSE)","v":0},"Sin información"]
[314,2,"Baja California",15,"Cómputos","15.16",16,"Asignación de regidurías por el principio de Representación Proporcional","OPL","CG","2021-06-16","2021-09-30",null,null,{"$f":"VLOOKUP(P320,Campos!$B$2:$C$7,2,FALSE)","v":0},"Sin información"]
[315,2,"Baja California",16,"PREP","16.1",1,"Aprobación del Acuerdo por el que se designa o ratifica a la instancia interna responsable de coordinar el PREP","OPL","CG","2020-09-11","2020-09-11",null,null,{"$f":"VLOOKUP(P321,Campos!$B$2:$C$7,2,FALSE)","v":0},"Sin información"]
[316,2,"Baja California",16,"PREP","16.2",2,"Aprobación del Acuerdo de Integración del COTAPREP","OPL","CG","2020-11-11","2020-11-11",null,null,{"$f":"VLOOKUP(P322,Campos!$B$2:$C$7,2,FALSE)","v":0},"Sin información"]
[317,2,"Baja California",16,"PREP","16.3",3,"Documento por el que se determina la implementación del PREP por el OPL o con el apoyo de un Tercero","OPL","CG","2020-12-11","2020-12-11",null,null,{"$f":"VLOOKUP(P323,Campos!$B$2:$C$7,2,FALSE)","v":0},"Sin información"]
[318,2,"Baja California",16,"PREP","16.4",4,"Aprobación del Acuerdo por el que se determina el Proceso Técnico Operativo ","OPL","CG","2021-01-11","2021-01-11",null,null,{"$f":"VLOOKUP(P324,Campos!$B$2:$C$7,2,FALSE)","v":0},"Sin información"]
[319,2,"Baja California",16,"PREP","16.5",5,"Aprobación del Acuerdo por el que se determina la ubicación, instalación y habilitación de los CATD y, en su caso, CCV","OPL","CG","2021-02-11","2021-02-11",null,null,{"$f":"VLOOKUP(P325,Campos!$B$2:$C$7,2,FALSE)","v":0},"Sin información"]
[320,2,"Baja California",16,"PREP","16.6",6,"Documento de Designación del Ente Auditor ","OPL","CG","2021-02-11","2021-02-11",null,null,{"$f":"VLOOKUP(P326,Campos!$B$2:$C$7,2,FALSE)","v":0},"Sin información"]
[321,2,"Baja California",16,"PREP","16.7",7,"Instrumento jurídico celebrado entre el OPL y el ente auditor","OPL","CG","2021-03-11","2021-03-11",null,null,{"$f":"VLOOKUP(P327,Campos!$B$2:$C$7,2,FALSE)","v":0},"Sin información"]
[322,2,"Baja California",16,"PREP","16.8",8,"Realización del primer simulacro del PREP","OPL","CG","2021-05-16","2021-05-16",null,null,{"$f":"VLOOKUP(P328,Campos!$B$2:$C$7,2,FALSE)","v":0},"Sin información"]
[323,2,"Baja California",16,"PREP","16.9",9,"Realización del segundo simulacro del PREP","OPL","CG","2021-05-23","2021-05-23",null,null,{"$f":"VLOOKUP(P329,Campos!$B$2:$C$7,2,FALSE)","v":0},"Sin información"]
[324,2,"Baja California",16,"PREP","16.10",10,"Realización del tercer simulacro del PREP","OPL","CG","2021-05-30","2021-05-30",null,null,{"$f":"VLOOKUP(P330,Campos!$B$2:$C$7,2,FALSE)","v":0},"Sin información"]
[325,2,"Baja California",16,"PREP","16.11",11,"Operación del PREP","OPL","CG","2021-06-06","2021-06-07",null,null,{"$f":"VLOOKUP(P331,Campos!$B$2:$C$7,2,FALSE)","v":0},"Sin información"]
[326,2,"Baja California",17,"Conteo Rápido","17.1",1,"Aprobación del Acuerdo de Integración del COTECORA","Por definir","Por definir","2021-02-01","2021-02-06",null,null,{"$f":"VLOOKUP(P332,Campos!$B$2:$C$7,2,FALSE)","v":0},"Sin información"]
[327,2,"Baja California",17,"Conteo Rápido","17.2",2,"Realización de pruebas de captura","Por definir","Por definir","2021-04-14","2021-04-15",null,null,{"$f":"VLOOKUP(P333,Campos!$B$2:$C$7,2,FALSE)","v":0},"Sin información"]
[328,2,"Baja California",17,"Conteo Rápido","17.3",3,"Realización de primer simulacro del Conteo Rápido","Por definir","Por definir","2021-04-29","2021-04-29",null,null,{"$f":"VLOOKUP(P334,Campos!$B$2:$C$7,2,FALSE)","v":0},"Sin información"]
[329,2,"Baja California",17,"Conteo Rápido","17.4",4,"Realización de segundo simulacro del Conteo Rápido","Por definir","Por definir","2021-05-16","2021-05-16",null,null,{"$f":"VLOOKUP(P335,Campos!$B$2:$C$7,2,FALSE)","v":0},"Sin información"]
[330,2,"Baja California",17,"Conteo Rápido","17.5",5,"Selección de la Muestra para el Conteo Rápido","Por definir","Por definir","2021-06-02","2021-06-04",null,null,{"$f":"VLOOKUP(P336,Campos!$B$2:$C$7,2,FALSE)","v":0},"Sin información"]
[331,2,"Baja California",17,"Conteo Rápido","17.6",6,"Realización de tercer simulacro del Conteo Rápido","Por definir","Por definir","2021-05-23","2021-05-23",null,null,{"$f":"VLOOKUP(P337,Campos!$B$2:$C$7,2,FALSE)","v":0},"Sin información"]
[332,2,"Baja California",19,"Visitantes extranjeros","19.1",1,"Emisión de la Convocatoria para visitantes extranjeros","INE","CG","2020-08-03","2020-09-30",null,null,{"$f":"VLOOKUP(P338,Campos!$B$2:$C$7,2,FALSE)","v":0},"Sin información"]
[333,2,"Baja California",19,"Visitantes extranjeros","19.2",2,"Difusión de la Convocatoria para visitantes extranjeros","INE","CAI","2020-09-01","2021-05-26",null,null,{"$f":"VLOOKUP(P339,Campos!$B$2:$C$7,2,FALSE)","v":0},"Sin información"]
[334,2,"Baja California",19,"Visitantes extranjeros","19.3",3,"Recepción de solicitudes de acreditación como visitantes extranjeros","INE","CAI","2020-09-01","2021-05-26",null,null,{"$f":"VLOOKUP(P340,Campos!$B$2:$C$7,2,FALSE)","v":0},"Sin información"]
[335,2,"Baja California",19,"Visitantes extranjeros","19.4",4,"Resolución de solicitudes de acreditación como visitantes extranjeros","INE","CAI","2020-09-02","2021-05-30",null,null,{"$f":"VLOOKUP(P341,Campos!$B$2:$C$7,2,FALSE)","v":0},"Sin información"]
[336,2,"Baja California",19,"Visitantes extranjeros","19.5",5,"Entrega de acreditaciones a los visitantes extranjeros","INE","CAI","2020-09-04","2021-06-05",null,null,{"$f":"VLOOKUP(P342,Campos!$B$2:$C$7,2,FALSE)","v":0},"Sin información"]
[337,3,"Baja California Sur",1,"Mecanismos de coordinación","1.1",1,"Aprobar Calendarios y Planes Integrales de los Procesos Electorales Locales","INE","CG","2020-08-01","2020-08-07",null,null,{"$f":"VLOOKUP(P343,Campos!$B$2:$C$7,2,FALSE)","v":0},"Sin información"]
[338,3,"Baja California Sur",1,"Mecanismos de coordinación","1.2",2,"Firma del Convenio General de Coordinación y Colaboración 2020-2021","INE/OPL","INE/OPL","2020-09-01","2020-10-01",null,null,{"$f":"VLOOKUP(P344,Campos!$B$2:$C$7,2,FALSE)","v":0},"Sin información"]
[339,3,"Baja California Sur",1,"Mecanismos de coordinación","1.3",3,"Elaborar un plan de trabajo conjunto para la promoción de la participación ciudadana","INE/OPL","INE/OPL","2020-09-01","2020-12-31",null,null,{"$f":"VLOOKUP(P345,Campos!$B$2:$C$7,2,FALSE)","v":0},"Sin información"]
[340,3,"Baja California Sur",1,"Mecanismos de coordinación","1.4",4,"Sesión para dar inicio al PEL","OPL","CG","2020-12-01","2020-12-31",null,null,{"$f":"VLOOKUP(P346,Campos!$B$2:$C$7,2,FALSE)","v":0},"Sin información"]
[341,3,"Baja California Sur",1,"Mecanismos de coordinación","1.5",5,"Implementar un plan de trabajo conjunto para la promoción de la participación ciudadana","INE/OPL","INE/OPL","2021-02-01","2021-06-06",null,null,{"$f":"VLOOKUP(P347,Campos!$B$2:$C$7,2,FALSE)","v":0},"Sin información"]
[342,3,"Baja California Sur",2,"Integración de órganos desconcentrados","2.1",1,"Convocatoria para la integración de los Órganos Distritales","OPL","CG","2020-07-01","2020-09-30",null,null,{"$f":"VLOOKUP(P348,Campos!$B$2:$C$7,2,FALSE)","v":0},"Sin información"]
[343,3,"Baja California Sur",2,"Integración de órganos desconcentrados","2.2",2,"Sesión en la que se designan e integran los Órganos Distritales ","OPL","CG","2020-11-24","2020-11-24",null,null,{"$f":"VLOOKUP(P349,Campos!$B$2:$C$7,2,FALSE)","v":0},"Sin información"]
[344,3,"Baja California Sur",2,"Integración de órganos desconcentrados","2.3",3,"Instalación de los Órganos Distritales ","OPL","OD","2020-12-01","2020-12-31",null,null,{"$f":"VLOOKUP(P350,Campos!$B$2:$C$7,2,FALSE)","v":0},"Sin información"]
[345,3,"Baja California Sur",2,"Integración de órganos desconcentrados","2.4",4,"Convocatoria para la integración de los Órganos Municipales ","OPL","CG","2020-07-01","2020-09-30",null,null,{"$f":"VLOOKUP(P351,Campos!$B$2:$C$7,2,FALSE)","v":0},"Sin información"]
[346,3,"Baja California Sur",2,"Integración de órganos desconcentrados","2.5",5,"Sesión en la que se designan e integran los Órganos Municipales ","OPL","CG","2020-11-24","2020-11-24",null,null,{"$f":"VLOOKUP(P352,Campos!$B$2:$C$7,2,FALSE)","v":0},"Sin información"]
[347,3,"Baja California Sur",2,"Integración de órganos desconcentrados","2.6",6,"Instalación de los Órganos Municipales ","OPL","OD","2020-12-01","2020-12-31",null,null,{"$f":"VLOOKUP(P353,Campos!$B$2:$C$7,2,FALSE)","v":0},"Sin información"]
[348,3,"Baja California Sur",2,"Integración de órganos desconcentrados","2.7",7,"Designación y/o ratificación de las y los Consejeros Electorales del Consejo Local ","INE","CG","2020-10-01","2020-10-15",null,null,{"$f":"VLOOKUP(P354,Campos!$B$2:$C$7,2,FALSE)","v":0},"Sin información"]
[349,3,"Baja California Sur",2,"Integración de órganos desconcentrados","2.8",8,"Instalación del Consejo Local","INE","CL","2020-11-01","2020-11-30",null,null,{"$f":"VLOOKUP(P355,Campos!$B$2:$C$7,2,FALSE)","v":0},"Sin información"]
[350,3,"Baja California Sur",2,"Integración de órganos desconcentrados","2.9",9,"Designación y/o ratificación de las y los Consejeros Electorales de los Consejos Distritales ","INE","CL","2020-11-01","2020-11-30",null,null,{"$f":"VLOOKUP(P356,Campos!$B$2:$C$7,2,FALSE)","v":0},"Sin información"]
[351,3,"Baja California Sur",2,"Integración de órganos desconcentrados","2.10",10,"Instalación de los Consejos Distritales","INE","CD","2020-12-01","2020-12-15",null,null,{"$f":"VLOOKUP(P357,Campos!$B$2:$C$7,2,FALSE)","v":0},"Sin información"]
[352,3,"Baja California Sur",3,"Lista Nominal de Electores","3.1",1,"Generación y entrega de la Lista Nominal de Electores para Revisión en medios ópticos a los representantes de los partidos políticos, y en su caso a las candidaturas independientes acreditados ante el OPL, para observaciones","INE","DERFE","2021-02-15","2021-02-15",null,null,{"$f":"VLOOKUP(P358,Campos!$B$2:$C$7,2,FALSE)","v":0},"Sin información"]
[353,3,"Baja California Sur",3,"Lista Nominal de Electores","3.2",2,"Recepción de observaciones de los partidos políticos y en su caso, candidatos independientes, a la Lista Nominal de Electores para revisión","INE/OPL","DERFE","2021-03-14","2021-03-14",null,null,{"$f":"VLOOKUP(P359,Campos!$B$2:$C$7,2,FALSE)","v":0},"Sin información"]
[354,3,"Baja California Sur",3,"Lista Nominal de Electores","3.3",3,"Entrega en formato digital el informe respecto de la atención a las observaciones formuladas a la Lista Nominal de Electores para Revisión","INE","DERFE","2021-04-15","2021-04-15",null,null,{"$f":"VLOOKUP(P360,Campos!$B$2:$C$7,2,FALSE)","v":0},"Sin información"]
[355,3,"Baja California Sur",3,"Lista Nominal de Electores","3.4",4,"Entrega de la Lista Nominal de Electores Definitiva con fotografía","INE","DERFE","2021-05-06","2021-05-14",null,null,{"$f":"VLOOKUP(P361,Campos!$B$2:$C$7,2,FALSE)","v":0},"Sin información"]
[356,3,"Baja California Sur",3,"Lista Nominal de Electores","3.5",5,"Fecha de entrega de la Lista Nominal de Electores con fotografía Producto de Instancias Administrativas y Resoluciones del Tribunal (ADENDA)","INE","DERFE","2021-05-19","2021-05-24",null,null,{"$f":"VLOOKUP(P362,Campos!$B$2:$C$7,2,FALSE)","v":0},"Sin información"]
[357,3,"Baja California Sur",4,"Observación Electoral","4.1",1,"Emisión de la convocatoria para la ciudadanía que desee participar en la observación electoral","OPL","CG","2020-12-01","2020-12-31",null,null,{"$f":"VLOOKUP(P363,Campos!$B$2:$C$7,2,FALSE)","v":0},"Sin información"]
[358,3,"Baja California Sur",4,"Observación Electoral","4.2",2,"Recepción de solicitudes de la ciudadanía que desee participar en observación electoral","INE/OPL","OPL/JLE/JDE","2020-12-01","2021-04-30",null,null,{"$f":"VLOOKUP(P364,Campos!$B$2:$C$7,2,FALSE)","v":0},"Sin información"]
[359,3,"Baja California Sur",4,"Observación Electoral","4.3",3,"Impartición de los cursos de capacitación, preparación o información","INE/OPL","OPL/JLE/JDE","2020-12-01","2021-05-17",null,null,{"$f":"VLOOKUP(P365,Campos!$B$2:$C$7,2,FALSE)","v":0},"Sin información"]
[360,3,"Baja California Sur",4,"Observación Electoral","4.4",4,"Acreditación de la ciudadanía como observadores u observadoras electorales","INE","CL/CD","2020-12-01","2021-06-05",null,null,{"$f":"VLOOKUP(P366,Campos!$B$2:$C$7,2,FALSE)","v":0},"Sin información"]
[361,3,"Baja California Sur",4,"Observación Electoral","4.5",5,"Seguimiento a los informes mensuales de acreditación","INE","CG","2020-12-01","2021-07-31",null,null,{"$f":"VLOOKUP(P367,Campos!$B$2:$C$7,2,FALSE)","v":0},"Sin información"]
[362,3,"Baja California Sur",4,"Observación Electoral","4.6",6,"Remisión de materiales de capacitación a la JLE para revisión","OPL","CG","2020-10-08","2020-10-08",null,null,{"$f":"VLOOKUP(P368,Campos!$B$2:$C$7,2,FALSE)","v":0},"Sin información"]
[363,3,"Baja California Sur",4,"Observación Electoral","4.7",7,"Revisión, corrección, verificación y validación de materiales de capacitación para observación electoral ","INE","JLE","2020-10-09","2020-10-30",null,null,{"$f":"VLOOKUP(P369,Campos!$B$2:$C$7,2,FALSE)","v":0},"Sin información"]
[364,3,"Baja California Sur",4,"Observación Electoral","4.8",8,"Entrega de materiales de capacitación para observación electoral entre OPL e INE","INE/OPL","VEL/OPL","2020-11-01","2020-11-23",null,null,{"$f":"VLOOKUP(P370,Campos!$B$2:$C$7,2,FALSE)","v":0},"Sin información"]
[365,3,"Baja California Sur",5,"Ubicación de casillas","5.1",1,"Recorridos por las secciones de los distritos para localizar los lugares donde se ubicarán las casillas","INE/OPL","JDE/OPL","2021-01-15","2021-02-15",null,null,{"$f":"VLOOKUP(P371,Campos!$B$2:$C$7,2,FALSE)","v":0},"Sin información"]
[366,3,"Baja California Sur",5,"Ubicación de casillas","5.2",2,"Presentación a los Consejos Distritales del listado de lugares propuestos para ubicar casillas","INE","JDE","2021-02-24","2021-02-24",null,null,{"$f":"VLOOKUP(P372,Campos!$B$2:$C$7,2,FALSE)","v":0},"Sin información"]
[367,3,"Baja California Sur",5,"Ubicación de casillas","5.3",3,"Visitas de examinación en los lugares propuestos para ubicar casillas básicas, contiguas, especiales y extraordinarias","INE/OPL","CD/OPL","2021-02-25","2021-03-16",null,null,{"$f":"VLOOKUP(P373,Campos!$B$2:$C$7,2,FALSE)","v":0},"Sin información"]
[368,3,"Baja California Sur",5,"Ubicación de casillas","5.4",4,"Aprobación del número y ubicación de casillas extraordinarias y especiales","INE","CD","2021-03-16","2021-03-16",null,null,{"$f":"VLOOKUP(P374,Campos!$B$2:$C$7,2,FALSE)","v":0},"Sin información"]
[369,3,"Baja California Sur",5,"Ubicación de casillas","5.5",5,"Aprobación del número y ubicación de casillas básicas y contiguas","INE","CD","2021-03-25","2021-03-25",null,null,{"$f":"VLOOKUP(P375,Campos!$B$2:$C$7,2,FALSE)","v":0},"Sin información"]
[370,3,"Baja California Sur",5,"Ubicación de casillas","5.6",6,"Entrega de la base de datos de la Lista Nominal Definitiva a UNICOM con corte al 10 de abril","INE","DERFE","2021-04-15","2021-04-16",null,null,{"$f":"VLOOKUP(P376,Campos!$B$2:$C$7,2,FALSE)","v":0},"Sin información"]
[371,3,"Baja California Sur",5,"Ubicación de casillas","5.7",7,"Realizar la primera publicación de la lista de ubicación de casillas en los lugares más concurridos del distrito electoral  y en los medios electrónicos del Instituto","INE","CD","2021-04-15","2021-04-15",null,null,{"$f":"VLOOKUP(P377,Campos!$B$2:$C$7,2,FALSE)","v":0},"Sin información"]
[372,3,"Baja California Sur",5,"Ubicación de casillas","5.8",8,"En su caso, segunda publicación de la lista de ubicación de casillas por causas supervenientes en los lugares más concurridos del distrito y en los medios electrónicos del Instituto","INE","CD","2021-05-15","2021-05-25",null,null,{"$f":"VLOOKUP(P378,Campos!$B$2:$C$7,2,FALSE)","v":0},"Sin información"]
[373,3,"Baja California Sur",5,"Ubicación de casillas","5.9",9,"Publicación de los encartes y difusión en medios electrónicos del Instituto","INE/OPL","DEOE/CG","2021-06-05","2021-06-06",null,null,{"$f":"VLOOKUP(P379,Campos!$B$2:$C$7,2,FALSE)","v":0},"Sin información"]
[374,3,"Baja California Sur",5,"Ubicación de casillas","5.10",10,"Registro de representantes generales y ante mesas directivas de casilla","INE","CD","2021-04-16","2021-05-24",null,null,{"$f":"VLOOKUP(P380,Campos!$B$2:$C$7,2,FALSE)","v":0},"Sin información"]
[375,3,"Baja California Sur",5,"Ubicación de casillas","5.11",11,"Sustitución de representantes generales y ante mesas directivas de casilla","INE","CD","2021-04-16","2021-05-27",null,null,{"$f":"VLOOKUP(P381,Campos!$B$2:$C$7,2,FALSE)","v":0},"Sin información"]
[376,3,"Baja California Sur",5,"Ubicación de casillas","5.12",12,"Entrega de listados de representantes generales y ante casilla al OPL","INE","CD","2021-05-30","2021-05-30",null,null,{"$f":"VLOOKUP(P382,Campos!$B$2:$C$7,2,FALSE)","v":0},"Sin información"]
[377,3,"Baja California Sur",5,"Ubicación de casillas","5.13",13,"Notificación ciudadana de ubicación de casillas en secciones electorales involucradas en la actualización del Marco Geográfico Electoral","INE/OPL","DERFE/OPL","2021-04-01","2021-06-15",null,null,{"$f":"VLOOKUP(P383,Campos!$B$2:$C$7,2,FALSE)","v":0},"Sin información"]
[378,3,"Baja California Sur",6,"Integración de las Mesas Directivas de Casilla","6.1",1,"Aprobación de la Estrategia de Capacitación y Asistencia Electoral","INE","CG","2020-08-01","2020-08-15",null,null,{"$f":"VLOOKUP(P384,Campos!$B$2:$C$7,2,FALSE)","v":0},"Sin información"]
[379,3,"Baja California Sur",6,"Integración de las Mesas Directivas de Casilla","6.2",2,"Entrega para revisión y validación de materiales didácticos de primera etapa","OPL","CG","2020-11-03","2020-11-03",null,null,{"$f":"VLOOKUP(P385,Campos!$B$2:$C$7,2,FALSE)","v":0},"Sin información"]
[380,3,"Baja California Sur",6,"Integración de las Mesas Directivas de Casilla","6.3",3,"Revisión, corrección, verificación y validación de los materiales didácticos de primera etapa","INE/OPL","JLE/DECEYEC/OPL","2020-11-03","2020-12-19",null,null,{"$f":"VLOOKUP(P386,Campos!$B$2:$C$7,2,FALSE)","v":0},"Sin información"]
[381,3,"Baja California Sur",6,"Integración de las Mesas Directivas de Casilla","6.4",4,"Entrega de los materiales impresos de la primera etapa a la JLE","OPL","OPL","2021-02-05","2021-02-05",null,null,{"$f":"VLOOKUP(P387,Campos!$B$2:$C$7,2,FALSE)","v":0},"Sin información"]
[382,3,"Baja California Sur",6,"Integración de las Mesas Directivas de Casilla","6.5",5,"Sorteo del mes del calendario como base para la insaculación de las y los ciudadanos que integrarán las mesas directivas de casilla","INE","CG","2020-12-15","2020-12-19",null,null,{"$f":"VLOOKUP(P388,Campos!$B$2:$C$7,2,FALSE)","v":0},"Sin información"]
[383,3,"Baja California Sur",6,"Integración de las Mesas Directivas de Casilla","6.6",6,"Entrega para revisión y validación de materiales didácticos de segunda etapa","OPL","OPL","2021-02-03","2021-02-03",null,null,{"$f":"VLOOKUP(P389,Campos!$B$2:$C$7,2,FALSE)","v":0},"Sin información"]
[384,3,"Baja California Sur",6,"Integración de las Mesas Directivas de Casilla","6.7",7,"Revisión, corrección, verificación y validación de los materiales didácticos de la segunda etapa","INE/OPL","JLE/DECEYEC/OPL","2021-02-03","2021-03-22",null,null,{"$f":"VLOOKUP(P390,Campos!$B$2:$C$7,2,FALSE)","v":0},"Sin información"]
[385,3,"Baja California Sur",6,"Integración de las Mesas Directivas de Casilla","6.8",8,"Entrega de los materiales impresos de la segunda etapa a la JLE","OPL","OPL","2021-04-05","2021-04-05",null,null,{"$f":"VLOOKUP(P391,Campos!$B$2:$C$7,2,FALSE)","v":0},"Sin información"]
[386,3,"Baja California Sur",6,"Integración de las Mesas Directivas de Casilla","6.9",9,"Sorteo de la letra a partir de la cual, con base en el apellido paterno, se seleccionará a las y los ciudadanos que integrarán las mesas directivas de casilla","INE","CG","2021-02-02","2021-02-02",null,null,{"$f":"VLOOKUP(P392,Campos!$B$2:$C$7,2,FALSE)","v":0},"Sin información"]
[387,3,"Baja California Sur",6,"Integración de las Mesas Directivas de Casilla","6.10",10,"Entrega de la Lista Nominal de Electores para el Procedimiento de la Primera insaculación con corte al 15 de enero de 2021.","INE","DERFE/UNICOM","2021-01-21","2021-01-26",null,null,{"$f":"VLOOKUP(P393,Campos!$B$2:$C$7,2,FALSE)","v":0},"Sin información"]
[388,3,"Baja California Sur",6,"Integración de las Mesas Directivas de Casilla","6.11",11,"Primera insaculación","INE","JDE","2021-02-06","2021-02-06",null,null,{"$f":"VLOOKUP(P394,Campos!$B$2:$C$7,2,FALSE)","v":0},"Sin información"]
[389,3,"Baja California Sur",6,"Integración de las Mesas Directivas de Casilla","6.12",12,"Primera etapa de capacitación a las personas insaculadas","INE","CD","2021-02-09","2021-03-31",null,null,{"$f":"VLOOKUP(P395,Campos!$B$2:$C$7,2,FALSE)","v":0},"Sin información"]
[390,3,"Baja California Sur",6,"Integración de las Mesas Directivas de Casilla","6.13",13,"Integración de la lista de ciudadanos y ciudadanas que cumplen los requisitos legales para integrar las mesas directivas de casilla","INE","CD","2021-02-09","2021-03-31",null,null,{"$f":"VLOOKUP(P396,Campos!$B$2:$C$7,2,FALSE)","v":0},"Sin información"]
[391,3,"Baja California Sur",6,"Integración de las Mesas Directivas de Casilla","6.14",14,"Segunda insaculación y designación de funcionarios para mesas directivas de casilla","INE","CD","2021-04-08","2021-04-08",null,null,{"$f":"VLOOKUP(P397,Campos!$B$2:$C$7,2,FALSE)","v":0},"Sin información"]
[392,3,"Baja California Sur",6,"Integración de las Mesas Directivas de Casilla","6.15",15,"Segunda etapa de capacitación a funcionarios de mesa directiva de casilla y simulacros","INE","CD","2021-04-18","2021-06-05",null,null,{"$f":"VLOOKUP(P398,Campos!$B$2:$C$7,2,FALSE)","v":0},"Sin información"]
[393,3,"Baja California Sur",6,"Integración de las Mesas Directivas de Casilla","6.16",16,"Entrega de reconocimientos a funcionarios de mesas directivas de casilla","INE","CD","2021-06-07","2021-06-12",null,null,{"$f":"VLOOKUP(P399,Campos!$B$2:$C$7,2,FALSE)","v":0},"Sin información"]
[394,3,"Baja California Sur",6,"Integración de las Mesas Directivas de Casilla","6.17",17,"Periodo para contratación de CAE locales","INE/OPL","INE/OPL","Por definir","Por definir",null,null,{"$f":"VLOOKUP(P400,Campos!$B$2:$C$7,2,FALSE)","v":0},"Sin información"]
[395,3,"Baja California Sur",6,"Integración de las Mesas Directivas de Casilla","6.18",18,"Reclutamiento y selección de CAE locales","INE/OPL","INE/OPL","Por definir","Por definir",null,null,{"$f":"VLOOKUP(P401,Campos!$B$2:$C$7,2,FALSE)","v":0},"Sin información"]
[396,3,"Baja California Sur",7,"Fiscalización de los recursos de los Partidos Políticos y candidaturas independientes","7.1",1,"Aprobación de topes de gastos de precampaña Gubernatura","OPL","CG","2020-10-01","2020-10-31",null,null,{"$f":"VLOOKUP(P402,Campos!$B$2:$C$7,2,FALSE)","v":0},"Sin información"]
[397,3,"Baja California Sur",7,"Fiscalización de los recursos de los Partidos Políticos y candidaturas independientes","7.2",2,"Aprobación de topes de gastos de precampaña Diputaciones","OPL","CG","2020-10-01","2020-10-31",null,null,{"$f":"VLOOKUP(P403,Campos!$B$2:$C$7,2,FALSE)","v":0},"Sin información"]
[398,3,"Baja California Sur",7,"Fiscalización de los recursos de los Partidos Políticos y candidaturas independientes","7.3",3,"Aprobación de topes de gastos de precampaña Ayuntamientos","OPL","CG","2020-10-01","2020-10-31",null,null,{"$f":"VLOOKUP(P404,Campos!$B$2:$C$7,2,FALSE)","v":0},"Sin información"]
[399,3,"Baja California Sur",7,"Fiscalización de los recursos de los Partidos Políticos y candidaturas independientes","7.4",4,"Aprobación de los límites de financiamiento privado, aportaciones de militantes, simpatizantes y precandidatos o candidatos; así como el límite individual de aportaciones para Gubernatura","OPL","CG","2020-12-01","2021-01-31",null,null,{"$f":"VLOOKUP(P405,Campos!$B$2:$C$7,2,FALSE)","v":0},"Sin información"]
[400,3,"Baja California Sur",7,"Fiscalización de los recursos de los Partidos Políticos y candidaturas independientes","7.5",5,"Aprobación de los límites de financiamiento privado, aportaciones de militantes, simpatizantes y precandidatos o candidatos; así como el límite individual de aportaciones para Diputaciones","OPL","CG","2020-12-01","2021-01-31",null,null,{"$f":"VLOOKUP(P406,Campos!$B$2:$C$7,2,FALSE)","v":0},"Sin información"]
[401,3,"Baja California Sur",7,"Fiscalización de los recursos de los Partidos Políticos y candidaturas independientes","7.6",6,"Aprobación de los límites de financiamiento privado, aportaciones de militantes, simpatizantes y precandidatos o candidatos; así como el límite individual de aportaciones para Ayuntamientos","OPL","CG","2020-12-01","2021-01-31",null,null,{"$f":"VLOOKUP(P407,Campos!$B$2:$C$7,2,FALSE)","v":0},"Sin información"]
[402,3,"Baja California Sur",7,"Fiscalización de los recursos de los Partidos Políticos y candidaturas independientes","7.7",7,"Aprobación de topes de gastos para el periodo de obtención del apoyo ciudadano para Gubernatura","OPL","CG","2020-10-01","2020-11-23",null,null,{"$f":"VLOOKUP(P408,Campos!$B$2:$C$7,2,FALSE)","v":0},"Sin información"]
[403,3,"Baja California Sur",7,"Fiscalización de los recursos de los Partidos Políticos y candidaturas independientes","7.8",8,"Aprobación de topes de gastos para el periodo de obtención del apoyo ciudadano para Diputaciones","OPL","CG","2020-10-01","2020-11-23",null,null,{"$f":"VLOOKUP(P409,Campos!$B$2:$C$7,2,FALSE)","v":0},"Sin información"]
[404,3,"Baja California Sur",7,"Fiscalización de los recursos de los Partidos Políticos y candidaturas independientes","7.9",9,"Aprobación de topes de gastos para el periodo de obtención del apoyo ciudadano para Ayuntamientos","OPL","CG","2020-10-01","2020-11-23",null,null,{"$f":"VLOOKUP(P410,Campos!$B$2:$C$7,2,FALSE)","v":0},"Sin información"]
[405,3,"Baja California Sur",7,"Fiscalización de los recursos de los Partidos Políticos y candidaturas independientes","7.10",10,"Precampaña para Gubernatura","OPL","CG","2021-01-07","2021-02-15",null,null,{"$f":"VLOOKUP(P411,Campos!$B$2:$C$7,2,FALSE)","v":0},"Sin información"]
[406,3,"Baja California Sur",7,"Fiscalización de los recursos de los Partidos Políticos y candidaturas independientes","7.11",11,"Precampaña para Diputaciones","OPL","CG","2021-01-07","2021-02-15",null,null,{"$f":"VLOOKUP(P412,Campos!$B$2:$C$7,2,FALSE)","v":0},"Sin información"]
[407,3,"Baja California Sur",7,"Fiscalización de los recursos de los Partidos Políticos y candidaturas independientes","7.12",12,"Precampaña para Ayuntamientos","OPL","CG","2021-01-07","2021-02-15",null,null,{"$f":"VLOOKUP(P413,Campos!$B$2:$C$7,2,FALSE)","v":0},"Sin información"]
[408,3,"Baja California Sur",7,"Fiscalización de los recursos de los Partidos Políticos y candidaturas independientes","7.13",13,"Aprobación de topes de gastos de campaña para Gubernatura","OPL","CG","2020-10-01","2020-10-31",null,null,{"$f":"VLOOKUP(P414,Campos!$B$2:$C$7,2,FALSE)","v":0},"Sin información"]
[409,3,"Baja California Sur",7,"Fiscalización de los recursos de los Partidos Políticos y candidaturas independientes","7.14",14,"Aprobación de topes de gastos de campaña para Diputaciones","OPL","CG","2020-10-01","2020-12-31",null,null,{"$f":"VLOOKUP(P415,Campos!$B$2:$C$7,2,FALSE)","v":0},"Sin información"]
[410,3,"Baja California Sur",7,"Fiscalización de los recursos de los Partidos Políticos y candidaturas independientes","7.15",15,"Aprobación de topes de gastos de campaña para Ayuntamientos","OPL","CG","2020-10-01","2020-12-31",null,null,{"$f":"VLOOKUP(P416,Campos!$B$2:$C$7,2,FALSE)","v":0},"Sin información"]
[411,3,"Baja California Sur",7,"Fiscalización de los recursos de los Partidos Políticos y candidaturas independientes","7.16",16,"Campaña para Gubernatura","OPL","CG","2021-04-04","2021-06-02",null,null,{"$f":"VLOOKUP(P417,Campos!$B$2:$C$7,2,FALSE)","v":0},"Sin información"]
[412,3,"Baja California Sur",7,"Fiscalización de los recursos de los Partidos Políticos y candidaturas independientes","7.17",17,"Campaña para Diputaciones","OPL","CG","2021-04-04","2021-06-02",null,null,{"$f":"VLOOKUP(P418,Campos!$B$2:$C$7,2,FALSE)","v":0},"Sin información"]
[413,3,"Baja California Sur",7,"Fiscalización de los recursos de los Partidos Políticos y candidaturas independientes","7.18",18,"Campaña para Ayuntamientos","OPL","CG","2021-04-04","2021-06-02",null,null,{"$f":"VLOOKUP(P419,Campos!$B$2:$C$7,2,FALSE)","v":0},"Sin información"]
[414,3,"Baja California Sur",7,"Fiscalización de los recursos de los Partidos Políticos y candidaturas independientes","7.19",19,"Aprobación de la distribución de financiamiento público para partidos políticos","OPL","CG","2020-12-01","2020-12-31",null,null,{"$f":"VLOOKUP(P420,Campos!$B$2:$C$7,2,FALSE)","v":0},"Sin información"]
[415,3,"Baja California Sur",8,"Candidaturas Independientes","8.1",1,"Emisión de la convocatoria para la ciudadanía interesada en participar en Candidaturas Independientes ","OPL","CG","2020-11-23","2020-11-23",null,null,{"$f":"VLOOKUP(P421,Campos!$B$2:$C$7,2,FALSE)","v":0},"Sin información"]
[416,3,"Baja California Sur",8,"Candidaturas Independientes","8.2",2,"Recepción de escrito de intención y documentación anexa de la ciudadanía que aspire a la candidatura independiente para Gubernatura","OPL","OD","2020-11-24","2020-12-17",null,null,{"$f":"VLOOKUP(P422,Campos!$B$2:$C$7,2,FALSE)","v":0},"Sin información"]
[417,3,"Baja California Sur",8,"Candidaturas Independientes","8.3",3,"Recepción de escrito de intención y documentación anexa de la ciudadanía que aspire a la candidatura independiente para Diputaciones","OPL","OD","2020-11-24","2020-12-17",null,null,{"$f":"VLOOKUP(P423,Campos!$B$2:$C$7,2,FALSE)","v":0},"Sin información"]
[418,3,"Baja California Sur",8,"Candidaturas Independientes","8.4",4,"Recepción de escrito de intención y documentación anexa de la ciudadanía que aspire a la candidatura independiente para Ayuntamientos","OPL","SE/OD","2020-11-24","2020-12-17",null,null,{"$f":"VLOOKUP(P424,Campos!$B$2:$C$7,2,FALSE)","v":0},"Sin información"]
[419,3,"Baja California Sur",8,"Candidaturas Independientes","8.5",5,"Resolución sobre procedencia de manifestación de intención de aspirantes a candidaturas independientes para Gubernatura","OPL","CG","2020-11-24","2020-12-17",null,null,{"$f":"VLOOKUP(P425,Campos!$B$2:$C$7,2,FALSE)","v":0},"Sin información"]
[420,3,"Baja California Sur",8,"Candidaturas Independientes","8.6",6,"Resolución sobre procedencia de manifestación de intención de aspirantes a candidaturas independientes para Diputaciones","OPL","CG","2020-11-24","2020-12-17",null,null,{"$f":"VLOOKUP(P426,Campos!$B$2:$C$7,2,FALSE)","v":0},"Sin información"]
[421,3,"Baja California Sur",8,"Candidaturas Independientes","8.7",7,"Resolución sobre procedencia de manifestación de intención de aspirantes a candidaturas independientes para Ayuntamientos","OPL","CG","2020-11-24","2020-12-17",null,null,{"$f":"VLOOKUP(P427,Campos!$B$2:$C$7,2,FALSE)","v":0},"Sin información"]
[422,3,"Baja California Sur",8,"Candidaturas Independientes","8.8",8,"Plazo para obtener el apoyo ciudadano de las candidaturas independientes para Gubernatura","OPL","OD","2020-12-18","2021-02-15",null,null,{"$f":"VLOOKUP(P428,Campos!$B$2:$C$7,2,FALSE)","v":0},"Sin información"]
[423,3,"Baja California Sur",8,"Candidaturas Independientes","8.9",9,"Plazo para obtener el apoyo ciudadano de las candidaturas independientes para Diputaciones","OPL","OD","2020-12-18","2021-02-15",null,null,{"$f":"VLOOKUP(P429,Campos!$B$2:$C$7,2,FALSE)","v":0},"Sin información"]
[424,3,"Baja California Sur",8,"Candidaturas Independientes","8.10",10,"Plazo para obtener el apoyo ciudadano de las candidaturas independientes para Ayuntamientos","OPL","OD","2020-12-18","2021-02-15",null,null,{"$f":"VLOOKUP(P430,Campos!$B$2:$C$7,2,FALSE)","v":0},"Sin información"]
[425,3,"Baja California Sur",8,"Candidaturas Independientes","8.11",11,"Plazo para otorgar las constancias de porcentaje a favor de aspirantes a la candidatura independiente para Gubernatura","OPL","CG","2021-02-16","2021-03-23",null,null,{"$f":"VLOOKUP(P431,Campos!$B$2:$C$7,2,FALSE)","v":0},"Sin información"]
[426,3,"Baja California Sur",8,"Candidaturas Independientes","8.12",12,"Plazo para otorgar las constancias de porcentaje a favor de aspirantes a la candidatura independiente para Diputaciones","OPL","CG","2021-02-16","2021-03-23",null,null,{"$f":"VLOOKUP(P432,Campos!$B$2:$C$7,2,FALSE)","v":0},"Sin información"]
[427,3,"Baja California Sur",8,"Candidaturas Independientes","8.13",13,"Plazo para otorgar las constancias de porcentaje a favor de aspirantes a la candidatura independiente para Ayuntamientos","OPL","CG","2021-02-16","2021-03-23",null,null,{"$f":"VLOOKUP(P433,Campos!$B$2:$C$7,2,FALSE)","v":0},"Sin información"]
[428,3,"Baja California Sur",9,"Candidaturas","9.1",1,"Registro de plataformas electorales","OPL","CG","2021-01-01","2021-01-15",null,null,{"$f":"VLOOKUP(P434,Campos!$B$2:$C$7,2,FALSE)","v":0},"Sin información"]
[429,3,"Baja California Sur",9,"Candidaturas","9.2",2,"Solicitud de registro de convenio de coalición para Gubernatura","OPL","CG","2020-12-01","2021-01-07",null,null,{"$f":"VLOOKUP(P435,Campos!$B$2:$C$7,2,FALSE)","v":0},"Sin información"]
[430,3,"Baja California Sur",9,"Candidaturas","9.3",3,"Solicitud de registro de convenio de coalición para Diputaciones","OPL","CG","2020-12-01","2021-01-07",null,null,{"$f":"VLOOKUP(P436,Campos!$B$2:$C$7,2,FALSE)","v":0},"Sin información"]
[431,3,"Baja California Sur",9,"Candidaturas","9.4",4,"Solicitud de registro de convenio de coalición para Ayuntamientos","OPL","CG","2020-12-01","2021-01-07",null,null,{"$f":"VLOOKUP(P437,Campos!$B$2:$C$7,2,FALSE)","v":0},"Sin información"]
[432,3,"Baja California Sur",9,"Candidaturas","9.5",5,"Resolución sobre Convenio de Coalición para Gubernatura","OPL","CG","2020-12-11","2021-01-17",null,null,{"$f":"VLOOKUP(P438,Campos!$B$2:$C$7,2,FALSE)","v":0},"Sin información"]
[433,3,"Baja California Sur",9,"Candidaturas","9.6",6,"Resolución sobre Convenio de Coalición para Diputaciones","OPL","CG","2020-12-11","2021-01-17",null,null,{"$f":"VLOOKUP(P439,Campos!$B$2:$C$7,2,FALSE)","v":0},"Sin información"]
[434,3,"Baja California Sur",9,"Candidaturas","9.7",7,"Resolución sobre Convenio de Coalición para Ayuntamientos","OPL","CG","2020-12-11","2021-01-17",null,null,{"$f":"VLOOKUP(P440,Campos!$B$2:$C$7,2,FALSE)","v":0},"Sin información"]
[435,3,"Baja California Sur",9,"Candidaturas","9.8",8,"Solicitud de registro de Candidaturas para Gubernatura","OPL","CG/OD","2021-03-24","2021-03-31",null,null,{"$f":"VLOOKUP(P441,Campos!$B$2:$C$7,2,FALSE)","v":0},"Sin información"]
[436,3,"Baja California Sur",9,"Candidaturas","9.9",9,"Solicitud de registro de Candidaturas para Diputaciones","OPL","CG/OD","2021-03-24","2021-03-31",null,null,{"$f":"VLOOKUP(P442,Campos!$B$2:$C$7,2,FALSE)","v":0},"Sin información"]
[437,3,"Baja California Sur",9,"Candidaturas","9.11",11,"Solicitud de registro de Candidaturas para Ayuntamientos","OPL","CG/OD","2021-03-24","2021-03-31",null,null,{"$f":"VLOOKUP(P443,Campos!$B$2:$C$7,2,FALSE)","v":0},"Sin información"]
[438,3,"Baja California Sur",9,"Candidaturas","9.13",13,"Resolución para aprobar las candidaturas para Gubernatura","OPL","CG","2021-04-03","2021-04-03",null,null,{"$f":"VLOOKUP(P444,Campos!$B$2:$C$7,2,FALSE)","v":0},"Sin información"]
[439,3,"Baja California Sur",9,"Candidaturas","9.14",14,"Resolución para aprobar las candidaturas para Diputaciones","OPL","CG","2021-04-03","2021-04-03",null,null,{"$f":"VLOOKUP(P445,Campos!$B$2:$C$7,2,FALSE)","v":0},"Sin información"]
[440,3,"Baja California Sur",9,"Candidaturas","9.16",16,"Resolución para aprobar las candidaturas para Ayuntamientos","OPL","CG/OD","2021-04-03","2021-04-03",null,null,{"$f":"VLOOKUP(P446,Campos!$B$2:$C$7,2,FALSE)","v":0},"Sin información"]
[441,3,"Baja California Sur",9,"Candidaturas","9.17",17,"Solicitud de registro de candidaturas comunes para Gubernatura ","OPL","CG","2020-12-01","2021-03-18",null,null,{"$f":"VLOOKUP(P447,Campos!$B$2:$C$7,2,FALSE)","v":0},"Sin información"]
[442,3,"Baja California Sur",9,"Candidaturas","9.18",18,"Solicitud de registro de candidaturas comunes para Diputaciones ","OPL","CG/OD","2020-12-01","2021-03-18",null,null,{"$f":"VLOOKUP(P448,Campos!$B$2:$C$7,2,FALSE)","v":0},"Sin información"]
[443,3,"Baja California Sur",9,"Candidaturas","9.19",19,"Solicitud de registro de candidaturas comunes para Ayuntamientos  ","OPL","CG/OD","2020-12-01","2021-03-18",null,null,{"$f":"VLOOKUP(P449,Campos!$B$2:$C$7,2,FALSE)","v":0},"Sin información"]
[444,3,"Baja California Sur",9,"Candidaturas","9.20",20,"Resolución para aprobar las candidaturas comunes para Gubernatura","OPL","CG","2020-12-06","2021-03-23",null,null,{"$f":"VLOOKUP(P450,Campos!$B$2:$C$7,2,FALSE)","v":0},"Sin información"]
[445,3,"Baja California Sur",9,"Candidaturas","9.21",21,"Resolución para aprobar las candidaturas comunes para Diputaciones ","OPL","CG/OD","2020-12-06","2021-03-23",null,null,{"$f":"VLOOKUP(P451,Campos!$B$2:$C$7,2,FALSE)","v":0},"Sin información"]
[446,3,"Baja California Sur",9,"Candidaturas","9.22",22,"Resolución para aprobar las candidaturas comunes para Ayuntamientos ","OPL","CG/OD","2020-12-06","2021-03-23",null,null,{"$f":"VLOOKUP(P452,Campos!$B$2:$C$7,2,FALSE)","v":0},"Sin información"]
[447,3,"Baja California Sur",10,"Debates","10.1",1,"Aprobación de las fechas en que se celebrarán los debates","OPL","CG","2021-04-04","2021-04-13",null,null,{"$f":"VLOOKUP(P453,Campos!$B$2:$C$7,2,FALSE)","v":0},"Sin información"]
[448,3,"Baja California Sur",10,"Debates","10.2",2,"Realización de debate(s)","OPL","CG","2021-04-14","2021-06-02",null,null,{"$f":"VLOOKUP(P454,Campos!$B$2:$C$7,2,FALSE)","v":0},"Sin información"]
[449,3,"Baja California Sur",11,"Documentación y material electoral","11.1",1,"Entrega a la Junta Local Ejecutiva del INE, de los diseños y especificaciones técnicas de la documentación y materiales electorales, en medios impresos y electrónicos","OPL","CG","2020-09-01","2020-09-30",null,null,{"$f":"VLOOKUP(P455,Campos!$B$2:$C$7,2,FALSE)","v":0},"Sin información"]
[450,3,"Baja California Sur",11,"Documentación y material electoral","11.2",2,"Revisión de los documentos y materiales electorales y especificaciones técnicas, presentadas por el OPL","INE","JLE","2020-09-15","2020-12-16",null,null,{"$f":"VLOOKUP(P456,Campos!$B$2:$C$7,2,FALSE)","v":0},"Sin información"]
[451,3,"Baja California Sur",11,"Documentación y material electoral","11.3",3,"En su caso, atención y presentación, de los cambios pertinentes, conforme a las observaciones emitidas por la Junta Local Ejecutiva del INE","OPL","CG","2020-09-15","2020-12-16",null,null,{"$f":"VLOOKUP(P457,Campos!$B$2:$C$7,2,FALSE)","v":0},"Sin información"]
[452,3,"Baja California Sur",11,"Documentación y material electoral","11.4",4,"Validación de los documentos y materiales electorales y especificaciones técnicas, con las observaciones subsanadas","INE","DEOE","2020-10-28","2020-12-18",null,null,{"$f":"VLOOKUP(P458,Campos!$B$2:$C$7,2,FALSE)","v":0},"Sin información"]
[453,3,"Baja California Sur",11,"Documentación y material electoral","11.5",5,"Entrega a la Dirección Ejecutiva de Organización Electoral del INE, del Reporte único sobre la aprobación y adjudicación de los documentos y materiales electorales del OPL, en medios electrónicos","OPL","CG","2021-02-01","2021-02-26",null,null,{"$f":"VLOOKUP(P459,Campos!$B$2:$C$7,2,FALSE)","v":0},"Sin información"]
[454,3,"Baja California Sur",11,"Documentación y material electoral","11.6",6,"Revisión y en su caso validación, del Reporte único sobre la aprobación y adjudicación de los documentos y materiales electorales del OPL, en medios electrónicos","INE","DEOE","2021-02-15","2021-03-12",null,null,{"$f":"VLOOKUP(P460,Campos!$B$2:$C$7,2,FALSE)","v":0},"Sin información"]
[455,3,"Baja California Sur",11,"Documentación y material electoral","11.7",7,"Entrega  a la Dirección Ejecutiva de Organización Electoral del INE, del Reporte semanal sobre el avance en la producción de los documentos y materiales electorales del OPL, en medios electrónicos.","OPL","CG","2021-03-15","2021-05-22",null,null,{"$f":"VLOOKUP(P461,Campos!$B$2:$C$7,2,FALSE)","v":0},"Sin información"]
[456,3,"Baja California Sur",11,"Documentación y material electoral","11.8",8,"Aprobación de la documentación y material electoral","OPL","CG","2020-11-11","2020-12-31",null,null,{"$f":"VLOOKUP(P462,Campos!$B$2:$C$7,2,FALSE)","v":0},"Sin información"]
[457,3,"Baja California Sur",11,"Documentación y material electoral","11.9",9,"Entrega a la Dirección Ejecutiva de Organización Electoral del INE, del Reporte con los resultados de las verificaciones de las medidas de seguridad en la documentación electoral","OPL","CG","2021-05-27","2021-06-11",null,null,{"$f":"VLOOKUP(P463,Campos!$B$2:$C$7,2,FALSE)","v":0},"Sin información"]
[458,3,"Baja California Sur",11,"Documentación y material electoral","11.10",10,"Supervisiones respecto de los procedimientos de impresión y producción de la documentación y materiales electorales","INE","DEOE","2021-03-15","2021-05-22",null,null,{"$f":"VLOOKUP(P464,Campos!$B$2:$C$7,2,FALSE)","v":0},"Sin información"]
[459,3,"Baja California Sur",11,"Documentación y material electoral","11.11",11,"Designación de la persona responsable de llevar el control sobre la asignación de los folios de las boletas que se distribuirán en cada mesa directiva de casilla","OPL","CG","2021-03-01","2021-03-30",null,null,{"$f":"VLOOKUP(P465,Campos!$B$2:$C$7,2,FALSE)","v":0},"Sin información"]
[460,3,"Baja California Sur",11,"Documentación y material electoral","11.12",12,"Aprobación de SE y CAE, así como de personal que auxiliará en el procedimiento de conteo, sellado y agrupamiento de las boletas electorales; así como la integración de documentación para las casillas","OPL","CG","2021-04-24","2021-05-11",null,null,{"$f":"VLOOKUP(P466,Campos!$B$2:$C$7,2,FALSE)","v":0},"Sin información"]
[461,3,"Baja California Sur",11,"Documentación y material electoral","11.13",13,"Recepción de las boletas electorales por el órgano competente que realizará el conteo, sellado y agrupamiento","OPL","CG","2021-05-18","2021-05-22",null,null,{"$f":"VLOOKUP(P467,Campos!$B$2:$C$7,2,FALSE)","v":0},"Sin información"]
[462,3,"Baja California Sur",11,"Documentación y material electoral","11.14",14,"Conteo, sellado y agrupamiento de boletas","OPL","CG","2021-05-18","2021-05-28",null,null,{"$f":"VLOOKUP(P468,Campos!$B$2:$C$7,2,FALSE)","v":0},"Sin información"]
[463,3,"Baja California Sur",11,"Documentación y material electoral","11.15",15,"Distribución de la documentación y materiales electorales a las y los Presidentes de mesas directivas de casilla","OPL","OD","2021-05-31","2021-06-04",null,null,{"$f":"VLOOKUP(P469,Campos!$B$2:$C$7,2,FALSE)","v":0},"Sin información"]
[464,3,"Baja California Sur",11,"Documentación y material electoral","11.16",16,"Remisión de los recibos de la entrega de la documentación y materiales electorales al Consejo General del OPL","INE","JLE","2021-06-24","2021-06-30",null,null,{"$f":"VLOOKUP(P470,Campos!$B$2:$C$7,2,FALSE)","v":0},"Sin información"]
[465,3,"Baja California Sur",12,"Jornada Electoral","12.1",1,"Aprobación del Programa de Operación del SIJE 2021","INE","CCOE","2020-07-01","2020-07-31",null,null,{"$f":"VLOOKUP(P471,Campos!$B$2:$C$7,2,FALSE)","v":0},"Sin información"]
[466,3,"Baja California Sur",12,"Jornada Electoral","12.2",2,"Aprobación de las metas del SIJE 2021","INE","CG","2021-03-01","2021-03-31",null,null,{"$f":"VLOOKUP(P472,Campos!$B$2:$C$7,2,FALSE)","v":0},"Sin información"]
[467,3,"Baja California Sur",12,"Jornada Electoral","12.3",3,"Realización de pruebas del SIJE 2021","INE","DEOE","2021-04-01","2021-04-15",null,null,{"$f":"VLOOKUP(P473,Campos!$B$2:$C$7,2,FALSE)","v":0},"Sin información"]
[468,3,"Baja California Sur",12,"Jornada Electoral","12.4",4,"Desarrollo del primer simulacro del SIJE","INE/OPL","DEOE/OD","2021-04-29","2021-04-29",null,null,{"$f":"VLOOKUP(P474,Campos!$B$2:$C$7,2,FALSE)","v":0},"Sin información"]
[469,3,"Baja California Sur",12,"Jornada Electoral","12.5",5,"Desarrollo del segundo simulacro del SIJE","INE/OPL","DEOE/OD","2021-05-09","2021-05-09",null,null,{"$f":"VLOOKUP(P475,Campos!$B$2:$C$7,2,FALSE)","v":0},"Sin información"]
[470,3,"Baja California Sur",12,"Jornada Electoral","12.6",6,"Desarrollo del tercer simulacro del SIJE","INE/OPL","DEOE/OD","2021-05-23","2021-05-23",null,null,{"$f":"VLOOKUP(P476,Campos!$B$2:$C$7,2,FALSE)","v":0},"Sin información"]
[471,3,"Baja California Sur",12,"Jornada Electoral","12.7",7,"Jornada Electoral","OPL","CG/OD","2021-06-06","2021-06-06",null,null,{"$f":"VLOOKUP(P477,Campos!$B$2:$C$7,2,FALSE)","v":0},"Sin información"]
[472,3,"Baja California Sur",13,"Bodegas electorales","13.1",1,"Determinación de los lugares que ocuparán las bodegas electorales para el resguardo de la documentación electoral","OPL","CG","2021-02-01","2021-02-28",null,null,{"$f":"VLOOKUP(P478,Campos!$B$2:$C$7,2,FALSE)","v":0},"Sin información"]
[473,3,"Baja California Sur",13,"Bodegas electorales","13.2",2,"Informe que rinden las y los Presidentes sobre las condiciones de equipamiento, mecanismos de operación y medidas de seguridad de las bodegas electorales","OPL","OD","2021-03-01","2021-03-31",null,null,{"$f":"VLOOKUP(P479,Campos!$B$2:$C$7,2,FALSE)","v":0},"Sin información"]
[474,3,"Baja California Sur",13,"Bodegas electorales","13.3",3,"Designación, por parte del órgano competente del OPL, del personal que tendrá acceso a la bodega electoral","OPL","CG/OD","2021-03-01","2021-03-30",null,null,{"$f":"VLOOKUP(P480,Campos!$B$2:$C$7,2,FALSE)","v":0},"Sin información"]
[475,3,"Baja California Sur",13,"Bodegas electorales","13.4",4,"Envío a la UTVOPL, por conducto de la JLE, el informe sobre las condiciones que guardan las bodegas electorales","OPL","CG","2021-04-04","2021-04-10",null,null,{"$f":"VLOOKUP(P481,Campos!$B$2:$C$7,2,FALSE)","v":0},"Sin información"]
[476,3,"Baja California Sur",14,"Mecanismos de recolección","14.1",1,"Entrega de estudios de factibilidad al OPL","INE","CL","2021-03-15","2021-03-31",null,null,{"$f":"VLOOKUP(P482,Campos!$B$2:$C$7,2,FALSE)","v":0},"Sin información"]
[477,3,"Baja California Sur",14,"Mecanismos de recolección","14.2",2,"Entrega de observaciones a los estudios de factibilidad ","OPL","CG","2021-04-01","2021-04-24",null,null,{"$f":"VLOOKUP(P483,Campos!$B$2:$C$7,2,FALSE)","v":0},"Sin información"]
[478,3,"Baja California Sur",14,"Mecanismos de recolección","14.3",3,"Recorridos para verificar las propuestas de los mecanismos de recolección","INE/OPL","CD/OD","2021-03-16","2021-04-24",null,null,{"$f":"VLOOKUP(P484,Campos!$B$2:$C$7,2,FALSE)","v":0},"Sin información"]
[479,3,"Baja California Sur",14,"Mecanismos de recolección","14.4",4,"Aprobación de los mecanismos de recolección ","INE","CD","2021-04-26","2021-04-30",null,null,{"$f":"VLOOKUP(P485,Campos!$B$2:$C$7,2,FALSE)","v":0},"Sin información"]
[480,3,"Baja California Sur",14,"Mecanismos de recolección","14.5",5,"Traslado y recolección de los paquetes electorales","INE/OPL","CD/OD","2021-06-06","2021-06-07",null,null,{"$f":"VLOOKUP(P486,Campos!$B$2:$C$7,2,FALSE)","v":0},"Sin información"]
[481,3,"Baja California Sur",14,"Mecanismos de recolección","14.6",6,"Acreditación de representantes de partidos políticos y candidaturas independientes ante los mecanismos de recolección","INE","CL/CD","2021-04-27","2021-06-03",null,null,{"$f":"VLOOKUP(P487,Campos!$B$2:$C$7,2,FALSE)","v":0},"Sin información"]
[482,3,"Baja California Sur",14,"Mecanismos de recolección","14.7",7,"Sustitución de representantes de partidos políticos y candidaturas independientes ante los mecanismos de recolección","INE","CL/CD","2021-04-28","2021-06-04",null,null,{"$f":"VLOOKUP(P488,Campos!$B$2:$C$7,2,FALSE)","v":0},"Sin información"]
[483,3,"Baja California Sur",14,"Mecanismos de recolección","14.8",8,"Entrega a la JLE, el informe sobre la recepción de paquetes electorales en los órganos competentes","OPL","CG","2021-06-06","2021-06-28",null,null,{"$f":"VLOOKUP(P489,Campos!$B$2:$C$7,2,FALSE)","v":0},"Sin información"]
[484,3,"Baja California Sur",15,"Cómputos","15.1",1,"Aprobación de los lineamientos de cómputo y del cuadernillo de consulta sobre votos válidos y votos nulos","OPL","CG","2021-01-18","2021-01-29",null,null,{"$f":"VLOOKUP(P490,Campos!$B$2:$C$7,2,FALSE)","v":0},"Sin información"]
[485,3,"Baja California Sur",15,"Cómputos","15.2",2,"Integración por parte de los Órganos Desconcentrados del OPL, de la propuesta para la habilitación de espacios para el recuento de votos con las alternativas para todos los escenarios de cómputo","OPL","OD","2021-03-01","2021-03-07",null,null,{"$f":"VLOOKUP(P491,Campos!$B$2:$C$7,2,FALSE)","v":0},"Sin información"]
[486,3,"Baja California Sur",15,"Cómputos","15.3",3,"Informe de los escenarios de cómputos de la totalidad de sus órganos desconcentrados","OPL","CG","2021-04-01","2021-04-04",null,null,{"$f":"VLOOKUP(P492,Campos!$B$2:$C$7,2,FALSE)","v":0},"Sin información"]
[487,3,"Baja California Sur",15,"Cómputos","15.4",4,"Remisión a la JLE en la entidad, las propuestas de escenarios de cómputos, para la dictaminación de viabilidad","OPL","CG","2021-05-01","2021-05-07",null,null,{"$f":"VLOOKUP(P493,Campos!$B$2:$C$7,2,FALSE)","v":0},"Sin información"]
[488,3,"Baja California Sur",15,"Cómputos","15.5",5,"Remisión de las observaciones a los escenarios de Cómputos al OPL y a su vez informar de las mismas a la UTVOPL","INE","JLE","2021-05-08","2021-05-15",null,null,{"$f":"VLOOKUP(P494,Campos!$B$2:$C$7,2,FALSE)","v":0},"Sin información"]
[489,3,"Baja California Sur",15,"Cómputos","15.6",6,"Aprobación por parte del órgano competente del OPL, del acuerdo mediante el cual se designa al personal que participará en las tareas de apoyo a los Cómputos Municipales","OPL","CG/OD","2021-04-26","2021-05-05",null,null,{"$f":"VLOOKUP(P495,Campos!$B$2:$C$7,2,FALSE)","v":0},"Sin información"]
[490,3,"Baja California Sur",15,"Cómputos","15.7",7,"Aprobación por parte del órgano competente del OPL, del acuerdo mediante el cual se designa al personal que participará en las tareas de apoyo a los Cómputos Distritales ","OPL","CG/OD","2021-04-26","2021-05-05",null,null,{"$f":"VLOOKUP(P496,Campos!$B$2:$C$7,2,FALSE)","v":0},"Sin información"]
[491,3,"Baja California Sur",15,"Cómputos","15.8",8,"Aprobación por parte de los órganos competentes del OPL, de los distintos escenarios de cómputos","OPL","OD","2021-05-08","2021-05-15",null,null,{"$f":"VLOOKUP(P497,Campos!$B$2:$C$7,2,FALSE)","v":0},"Sin información"]
[492,3,"Baja California Sur",15,"Cómputos","15.9",9,"Aprobación por parte del órgano competente del OPL, del acuerdo por el que se habilitarán espacios para la instalación de grupos de trabajo y, en su caso, puntos de recuento","OPL","CG/OD","2021-06-08","2021-06-08",null,null,{"$f":"VLOOKUP(P498,Campos!$B$2:$C$7,2,FALSE)","v":0},"Sin información"]
[493,3,"Baja California Sur",15,"Cómputos","15.10",10,"Cómputos Distritales","OPL","OD","2021-06-09","2021-06-12",null,null,{"$f":"VLOOKUP(P499,Campos!$B$2:$C$7,2,FALSE)","v":0},"Sin información"]
[494,3,"Baja California Sur",15,"Cómputos","15.14",14,"Cómputo Estatal para la asignación diputaciones de Representación Proporcional","OPL","CG","2021-06-13","2021-06-13",null,null,{"$f":"VLOOKUP(P500,Campos!$B$2:$C$7,2,FALSE)","v":0},"Sin información"]
[495,3,"Baja California Sur",15,"Cómputos","15.13",13,"Cómputo Estatal para la Gubernatura","OPL","CG","2021-06-13","2021-06-13",null,null,{"$f":"VLOOKUP(P501,Campos!$B$2:$C$7,2,FALSE)","v":0},"Sin información"]
[496,3,"Baja California Sur",15,"Cómputos","15.11",11,"Cómputos Municipales","OPL","OD","2021-06-09","2021-06-12",null,null,{"$f":"VLOOKUP(P502,Campos!$B$2:$C$7,2,FALSE)","v":0},"Sin información"]
[497,3,"Baja California Sur",15,"Cómputos","15.16",16,"Asignación de regidurías por el principio de Representación Proporcional","OPL","CG","2021-06-09","2021-06-12",null,null,{"$f":"VLOOKUP(P503,Campos!$B$2:$C$7,2,FALSE)","v":0},"Sin información"]
[498,3,"Baja California Sur",16,"PREP","16.1",1,"Aprobación del Acuerdo por el que se designa o ratifica a la instancia interna responsable de coordinar el PREP","OPL","CG","2020-09-11","2020-09-11",null,null,{"$f":"VLOOKUP(P504,Campos!$B$2:$C$7,2,FALSE)","v":0},"Sin información"]
[499,3,"Baja California Sur",16,"PREP","16.2",2,"Aprobación del Acuerdo de Integración del COTAPREP","OPL","CG","2020-11-11","2020-11-11",null,null,{"$f":"VLOOKUP(P505,Campos!$B$2:$C$7,2,FALSE)","v":0},"Sin información"]
[500,3,"Baja California Sur",16,"PREP","16.3",3,"Documento por el que se determina la implementación del PREP por el OPL o con el apoyo de un Tercero","OPL","CG","2020-12-11","2020-12-11",null,null,{"$f":"VLOOKUP(P506,Campos!$B$2:$C$7,2,FALSE)","v":0},"Sin información"]
[501,3,"Baja California Sur",16,"PREP","16.4",4,"Aprobación del Acuerdo por el que se determina el Proceso Técnico Operativo ","OPL","CG","2021-01-11","2021-01-11",null,null,{"$f":"VLOOKUP(P507,Campos!$B$2:$C$7,2,FALSE)","v":0},"Sin información"]
[502,3,"Baja California Sur",16,"PREP","16.5",5,"Aprobación del Acuerdo por el que se determina la ubicación, instalación y habilitación de los CATD y, en su caso, CCV","OPL","CG","2021-02-11","2021-02-11",null,null,{"$f":"VLOOKUP(P508,Campos!$B$2:$C$7,2,FALSE)","v":0},"Sin información"]
[503,3,"Baja California Sur",16,"PREP","16.6",6,"Documento de Designación del Ente Auditor ","OPL","CG","2021-02-11","2021-02-11",null,null,{"$f":"VLOOKUP(P509,Campos!$B$2:$C$7,2,FALSE)","v":0},"Sin información"]
[504,3,"Baja California Sur",16,"PREP","16.7",7,"Instrumento jurídico celebrado entre el OPL y el ente auditor","OPL","CG","2021-03-11","2021-03-11",null,null,{"$f":"VLOOKUP(P510,Campos!$B$2:$C$7,2,FALSE)","v":0},"Sin información"]
[505,3,"Baja California Sur",16,"PREP","16.8",8,"Realización del primer simulacro del PREP","OPL","CG","2021-05-16","2021-05-16",null,null,{"$f":"VLOOKUP(P511,Campos!$B$2:$C$7,2,FALSE)","v":0},"Sin información"]
[506,3,"Baja California Sur",16,"PREP","16.9",9,"Realización del segundo simulacro del PREP","OPL","CG","2021-05-23","2021-05-23",null,null,{"$f":"VLOOKUP(P512,Campos!$B$2:$C$7,2,FALSE)","v":0},"Sin información"]
[507,3,"Baja California Sur",16,"PREP","16.10",10,"Realización del tercer simulacro del PREP","OPL","CG","2021-05-30","2021-05-30",null,null,{"$f":"VLOOKUP(P513,Campos!$B$2:$C$7,2,FALSE)","v":0},"Sin información"]
[508,3,"Baja California Sur",16,"PREP","16.11",11,"Operación del PREP","OPL","CG","2021-06-06","2021-06-07",null,null,{"$f":"VLOOKUP(P514,Campos!$B$2:$C$7,2,FALSE)","v":0},"Sin información"]
[509,3,"Baja California Sur",17,"Conteo Rápido","17.1",1,"Aprobación del Acuerdo de Integración del COTECORA","Por definir","Por definir","2021-02-01","2021-02-06",null,null,{"$f":"VLOOKUP(P515,Campos!$B$2:$C$7,2,FALSE)","v":0},"Sin información"]
[510,3,"Baja California Sur",17,"Conteo Rápido","17.2",2,"Realización de pruebas de captura","Por definir","Por definir","2021-04-14","2021-04-15",null,null,{"$f":"VLOOKUP(P516,Campos!$B$2:$C$7,2,FALSE)","v":0},"Sin información"]
[511,3,"Baja California Sur",17,"Conteo Rápido","17.3",3,"Realización de primer simulacro del Conteo Rápido","Por definir","Por definir","2021-04-29","2021-04-29",null,null,{"$f":"VLOOKUP(P517,Campos!$B$2:$C$7,2,FALSE)","v":0},"Sin información"]
[512,3,"Baja California Sur",17,"Conteo Rápido","17.4",4,"Realización de segundo simulacro del Conteo Rápido","Por definir","Por definir","2021-05-16","2021-05-16",null,null,{"$f":"VLOOKUP(P518,Campos!$B$2:$C$7,2,FALSE)","v":0},"Sin información"]
[513,3,"Baja California Sur",17,"Conteo Rápido","17.5",5,"Selección de la Muestra para el Conteo Rápido","Por definir","Por definir","2021-06-02","2021-06-04",null,null,{"$f":"VLOOKUP(P519,Campos!$B$2:$C$7,2,FALSE)","v":0},"Sin información"]
[514,3,"Baja California Sur",17,"Conteo Rápido","17.6",6,"Realización de tercer simulacro del Conteo Rápido","Por definir","Por definir","2021-05-23","2021-05-23",null,null,{"$f":"VLOOKUP(P520,Campos!$B$2:$C$7,2,FALSE)","v":0},"Sin información"]
[515,3,"Baja California Sur",18,"Voto de la ciudadanía residente en el extranjero","18.1",1,"Puesta a disposición de la Solicitud individual de Inscripción a la Lista Nominal de Electores Residentes en el extranjero para procesos electorales locales (SIILNERE), por los medios que determine el INE.","INE","DERFE","2020-09-01","2021-03-15",null,null,{"$f":"VLOOKUP(P521,Campos!$B$2:$C$7,2,FALSE)","v":0},"Sin información"]
[516,3,"Baja California Sur",18,"Voto de la ciudadanía residente en el extranjero","18.2",2,"Recepción de la Solicitud individual de Inscripción a la Lista Nominal de Electores Residentes en el extranjero para procesos electorales locales (SIILNERE), por los medios que determine el INE","INE","DERFE","2020-09-01","2021-03-15",null,null,{"$f":"VLOOKUP(P522,Campos!$B$2:$C$7,2,FALSE)","v":0},"Sin información"]
[517,3,"Baja California Sur",18,"Voto de la ciudadanía residente en el extranjero","18.3",3,"Conformación de la Lista Nominal de Electores Residentes en el Extranjero (subsanes, observaciones de partidos políticos e informe)","INE","DERFE","2020-09-01","2021-04-15",null,null,{"$f":"VLOOKUP(P523,Campos!$B$2:$C$7,2,FALSE)","v":0},"Sin información"]
[518,3,"Baja California Sur",18,"Voto de la ciudadanía residente en el extranjero","18.4",4,"En caso de voto postal, entrega-recepción de materiales del PEP.","INE","DERFE/UTVOPL/OPL","Por definir","2021-03-15",null,null,{"$f":"VLOOKUP(P524,Campos!$B$2:$C$7,2,FALSE)","v":0},"Sin información"]
[519,3,"Baja California Sur",18,"Voto de la ciudadanía residente en el extranjero","18.5",5,"En caso de voto postal, preparación y envío de los PEP a la ciudadanía residente en el extranjero","INE","DERFE/DEOE/UNICOM/DECEYEC","2021-04-02","2021-04-30",null,null,{"$f":"VLOOKUP(P525,Campos!$B$2:$C$7,2,FALSE)","v":0},"Sin información"]
[520,3,"Baja California Sur",18,"Voto de la ciudadanía residente en el extranjero","18.6",6,"En caso de voto postal, recepción de Sobres Voto y resguardo","INE","DERFE/DEOE","2021-04-11","2021-06-05",null,null,{"$f":"VLOOKUP(P526,Campos!$B$2:$C$7,2,FALSE)","v":0},"Sin información"]
[521,3,"Baja California Sur",18,"Voto de la ciudadanía residente en el extranjero","18.7",7,"Elaboración y aprobación del Programa de Integración de Mesas de Escrutinio y Cómputo y Capacitación Electoral para el Voto de las y los Mexicanos Residentes en el Extranjero","INE","CG","Por definir","Por definir",null,null,{"$f":"VLOOKUP(P527,Campos!$B$2:$C$7,2,FALSE)","v":0},"Sin información"]
[522,3,"Baja California Sur",18,"Voto de la ciudadanía residente en el extranjero","18.8",8,"Aprobación del número de mesas de escrutinio y cómputo a instalar","INE","CL","Por definir","Por definir",null,null,{"$f":"VLOOKUP(P528,Campos!$B$2:$C$7,2,FALSE)","v":0},"Sin información"]
[523,3,"Baja California Sur",18,"Voto de la ciudadanía residente en el extranjero","18.9",9,"Integración y aprobación del Listado del personal que realizará las suplencias en las Mesas de Escrutinio y Cómputo","INE","CL","Por definir","Por definir",null,null,{"$f":"VLOOKUP(P529,Campos!$B$2:$C$7,2,FALSE)","v":0},"Sin información"]
[524,3,"Baja California Sur",18,"Voto de la ciudadanía residente en el extranjero","18.10",10,"Logística del Local Único","OPL","CG","Por definir","Por definir",null,null,{"$f":"VLOOKUP(P530,Campos!$B$2:$C$7,2,FALSE)","v":0},"Sin información"]
[525,3,"Baja California Sur",18,"Voto de la ciudadanía residente en el extranjero","18.11",11,"Escrutinio y Cómputo de los votos de los mexicanos residentes en el extranjero","OPL","CG","2021-06-06","2021-06-06",null,null,{"$f":"VLOOKUP(P531,Campos!$B$2:$C$7,2,FALSE)","v":0},"Sin información"]
[526,3,"Baja California Sur",18,"Voto de la ciudadanía residente en el extranjero","18.12",12,"Promoción del Voto de los Mexicanos Residentes en el Extranjero (Difusión, Comunicación, Vinculación y Plataformas Digitales)","INE/OPL","CG/CG","Por definir","Por definir",null,null,{"$f":"VLOOKUP(P532,Campos!$B$2:$C$7,2,FALSE)","v":0},"Sin información"]
[527,3,"Baja California Sur",18,"Voto de la ciudadanía residente en el extranjero","18.13",13,"Entrega de la Lista Nominal de Electores Residentes en el Extranjero (LNERE), para escrutinio y cómputo.","INE","DERFE/DEOE","2021-06-05","2021-06-05",null,null,{"$f":"VLOOKUP(P533,Campos!$B$2:$C$7,2,FALSE)","v":0},"Sin información"]
[528,3,"Baja California Sur",19,"Visitantes extranjeros","19.1",1,"Emisión de la Convocatoria para visitantes extranjeros","INE","CG","2020-08-03","2020-09-30",null,null,{"$f":"VLOOKUP(P534,Campos!$B$2:$C$7,2,FALSE)","v":0},"Sin información"]
[529,3,"Baja California Sur",19,"Visitantes extranjeros","19.2",2,"Difusión de la Convocatoria para visitantes extranjeros","INE","CAI","2020-09-01","2021-05-26",null,null,{"$f":"VLOOKUP(P535,Campos!$B$2:$C$7,2,FALSE)","v":0},"Sin información"]
[530,3,"Baja California Sur",19,"Visitantes extranjeros","19.3",3,"Recepción de solicitudes de acreditación como visitantes extranjeros","INE","CAI","2020-09-01","2021-05-26",null,null,{"$f":"VLOOKUP(P536,Campos!$B$2:$C$7,2,FALSE)","v":0},"Sin información"]
[531,3,"Baja California Sur",19,"Visitantes extranjeros","19.4",4,"Resolución de solicitudes de acreditación como visitantes extranjeros","INE","CAI","2020-09-02","2021-05-30",null,null,{"$f":"VLOOKUP(P537,Campos!$B$2:$C$7,2,FALSE)","v":0},"Sin información"]
[532,3,"Baja California Sur",19,"Visitantes extranjeros","19.5",5,"Entrega de acreditaciones a los visitantes extranjeros","INE","CAI","2020-09-04","2021-06-05",null,null,{"$f":"VLOOKUP(P538,Campos!$B$2:$C$7,2,FALSE)","v":0},"Sin información"]
[533,4,"Campeche",1,"Mecanismos de coordinación","1.1",1,"Aprobar Calendarios y Planes Integrales de los Procesos Electorales Locales","INE","CG","2020-08-01","2020-08-07",null,null,{"$f":"VLOOKUP(P539,Campos!$B$2:$C$7,2,FALSE)","v":0},"Sin información"]
[534,4,"Campeche",1,"Mecanismos de coordinación","1.2",2,"Firma del Convenio General de Coordinación y Colaboración 2020-2021","INE/OPL","INE/OPL","2020-09-01","2020-10-01",null,null,{"$f":"VLOOKUP(P540,Campos!$B$2:$C$7,2,FALSE)","v":0},"Sin información"]
[535,4,"Campeche",1,"Mecanismos de coordinación","1.3",3,"Elaborar un plan de trabajo conjunto para la promoción de la participación ciudadana","INE/OPL","INE/OPL","2020-09-01","2020-12-31",null,null,{"$f":"VLOOKUP(P541,Campos!$B$2:$C$7,2,FALSE)","v":0},"Sin información"]
[536,4,"Campeche",1,"Mecanismos de coordinación","1.4",4,"Sesión para dar inicio al PEL","OPL","CG","2021-01-01","2021-01-31",null,null,{"$f":"VLOOKUP(P542,Campos!$B$2:$C$7,2,FALSE)","v":0},"Sin información"]
[537,4,"Campeche",1,"Mecanismos de coordinación","1.5",5,"Implementar un plan de trabajo conjunto para la promoción de la participación ciudadana","INE/OPL","INE/OPL","2021-02-01","2021-06-06",null,null,{"$f":"VLOOKUP(P543,Campos!$B$2:$C$7,2,FALSE)","v":0},"Sin información"]
[538,4,"Campeche",2,"Integración de órganos desconcentrados","2.1",1,"Convocatoria para la integración de los Órganos Distritales","OPL","CG","2020-09-01","2020-10-20",null,null,{"$f":"VLOOKUP(P544,Campos!$B$2:$C$7,2,FALSE)","v":0},"Sin información"]
[539,4,"Campeche",2,"Integración de órganos desconcentrados","2.2",2,"Sesión en la que se designan e integran los Órganos Distritales ","OPL","CG","2021-01-01","2021-01-31",null,null,{"$f":"VLOOKUP(P545,Campos!$B$2:$C$7,2,FALSE)","v":0},"Sin información"]
[540,4,"Campeche",2,"Integración de órganos desconcentrados","2.3",3,"Instalación de los Órganos Distritales ","OPL","OD","2021-01-01","2021-01-31",null,null,{"$f":"VLOOKUP(P546,Campos!$B$2:$C$7,2,FALSE)","v":0},"Sin información"]
[541,4,"Campeche",2,"Integración de órganos desconcentrados","2.4",4,"Convocatoria para la integración de los Órganos Municipales ","OPL","CG","2020-09-01","2020-10-20",null,null,{"$f":"VLOOKUP(P547,Campos!$B$2:$C$7,2,FALSE)","v":0},"Sin información"]
[542,4,"Campeche",2,"Integración de órganos desconcentrados","2.5",5,"Sesión en la que se designan e integran los Órganos Municipales ","OPL","CG","2021-01-01","2021-01-31",null,null,{"$f":"VLOOKUP(P548,Campos!$B$2:$C$7,2,FALSE)","v":0},"Sin información"]
[543,4,"Campeche",2,"Integración de órganos desconcentrados","2.6",6,"Instalación de los Órganos Municipales ","OPL","OD","2021-01-01","2021-01-31",null,null,{"$f":"VLOOKUP(P549,Campos!$B$2:$C$7,2,FALSE)","v":0},"Sin información"]
[544,4,"Campeche",2,"Integración de órganos desconcentrados","2.7",7,"Designación y/o ratificación de las y los Consejeros Electorales del Consejo Local ","INE","CG","2020-10-01","2020-10-15",null,null,{"$f":"VLOOKUP(P550,Campos!$B$2:$C$7,2,FALSE)","v":0},"Sin información"]
[545,4,"Campeche",2,"Integración de órganos desconcentrados","2.8",8,"Instalación del Consejo Local","INE","CL","2020-11-01","2020-11-30",null,null,{"$f":"VLOOKUP(P551,Campos!$B$2:$C$7,2,FALSE)","v":0},"Sin información"]
[546,4,"Campeche",2,"Integración de órganos desconcentrados","2.9",9,"Designación y/o ratificación de las y los Consejeros Electorales de los Consejos Distritales ","INE","CL","2020-11-01","2020-11-30",null,null,{"$f":"VLOOKUP(P552,Campos!$B$2:$C$7,2,FALSE)","v":0},"Sin información"]
[547,4,"Campeche",2,"Integración de órganos desconcentrados","2.10",10,"Instalación de los Consejos Distritales","INE","CD","2020-12-01","2020-12-15",null,null,{"$f":"VLOOKUP(P553,Campos!$B$2:$C$7,2,FALSE)","v":0},"Sin información"]
[548,4,"Campeche",3,"Lista Nominal de Electores","3.1",1,"Generación y entrega de la Lista Nominal de Electores para Revisión en medios ópticos a los representantes de los partidos políticos, y en su caso a las candidaturas independientes acreditados ante el OPL, para observaciones","INE","DERFE","2021-02-15","2021-02-15",null,null,{"$f":"VLOOKUP(P554,Campos!$B$2:$C$7,2,FALSE)","v":0},"Sin información"]
[549,4,"Campeche",3,"Lista Nominal de Electores","3.2",2,"Recepción de observaciones de los partidos políticos y en su caso, candidatos independientes, a la Lista Nominal de Electores para revisión","INE/OPL","DERFE","2021-03-14","2021-03-14",null,null,{"$f":"VLOOKUP(P555,Campos!$B$2:$C$7,2,FALSE)","v":0},"Sin información"]
[550,4,"Campeche",3,"Lista Nominal de Electores","3.3",3,"Entrega en formato digital el informe respecto de la atención a las observaciones formuladas a la Lista Nominal de Electores para Revisión","INE","DERFE","2021-04-15","2021-04-15",null,null,{"$f":"VLOOKUP(P556,Campos!$B$2:$C$7,2,FALSE)","v":0},"Sin información"]
[551,4,"Campeche",3,"Lista Nominal de Electores","3.4",4,"Entrega de la Lista Nominal de Electores Definitiva con fotografía","INE","DERFE","2021-05-06","2021-05-14",null,null,{"$f":"VLOOKUP(P557,Campos!$B$2:$C$7,2,FALSE)","v":0},"Sin información"]
[552,4,"Campeche",3,"Lista Nominal de Electores","3.5",5,"Fecha de entrega de la Lista Nominal de Electores con fotografía Producto de Instancias Administrativas y Resoluciones del Tribunal (ADENDA)","INE","DERFE","2021-05-19","2021-05-24",null,null,{"$f":"VLOOKUP(P558,Campos!$B$2:$C$7,2,FALSE)","v":0},"Sin información"]
[553,4,"Campeche",4,"Observación Electoral","4.1",1,"Emisión de la convocatoria para la ciudadanía que desee participar en la observación electoral","OPL","CG","2021-01-01","2021-01-31",null,null,{"$f":"VLOOKUP(P559,Campos!$B$2:$C$7,2,FALSE)","v":0},"Sin información"]
[554,4,"Campeche",4,"Observación Electoral","4.2",2,"Recepción de solicitudes de la ciudadanía que desee participar en observación electoral","INE/OPL","OPL/JLE/JDE","2021-01-01","2021-04-30",null,null,{"$f":"VLOOKUP(P560,Campos!$B$2:$C$7,2,FALSE)","v":0},"Sin información"]
[555,4,"Campeche",4,"Observación Electoral","4.3",3,"Impartición de los cursos de capacitación, preparación o información","INE/OPL","OPL/JLE/JDE","2021-01-01","2021-05-17",null,null,{"$f":"VLOOKUP(P561,Campos!$B$2:$C$7,2,FALSE)","v":0},"Sin información"]
[556,4,"Campeche",4,"Observación Electoral","4.4",4,"Acreditación de la ciudadanía como observadores u observadoras electorales","INE","CL/CD","2021-01-01","2021-06-05",null,null,{"$f":"VLOOKUP(P562,Campos!$B$2:$C$7,2,FALSE)","v":0},"Sin información"]
[557,4,"Campeche",4,"Observación Electoral","4.5",5,"Seguimiento a los informes mensuales de acreditación","INE","CG","2021-01-01","2021-07-31",null,null,{"$f":"VLOOKUP(P563,Campos!$B$2:$C$7,2,FALSE)","v":0},"Sin información"]
[558,4,"Campeche",4,"Observación Electoral","4.6",6,"Remisión de materiales de capacitación a la JLE para revisión","OPL","CG","2020-10-08","2020-10-08",null,null,{"$f":"VLOOKUP(P564,Campos!$B$2:$C$7,2,FALSE)","v":0},"Sin información"]
[559,4,"Campeche",4,"Observación Electoral","4.7",7,"Revisión, corrección, verificación y validación de materiales de capacitación para observación electoral ","INE","JLE","2020-10-09","2020-10-30",null,null,{"$f":"VLOOKUP(P565,Campos!$B$2:$C$7,2,FALSE)","v":0},"Sin información"]
[560,4,"Campeche",4,"Observación Electoral","4.8",8,"Entrega de materiales de capacitación para observación electoral entre OPL e INE","INE/OPL","VEL/OPL","2020-11-01","2020-11-23",null,null,{"$f":"VLOOKUP(P566,Campos!$B$2:$C$7,2,FALSE)","v":0},"Sin información"]
[561,4,"Campeche",5,"Ubicación de casillas","5.1",1,"Recorridos por las secciones de los distritos para localizar los lugares donde se ubicarán las casillas","INE/OPL","JDE/OPL","2021-01-15","2021-02-15",null,null,{"$f":"VLOOKUP(P567,Campos!$B$2:$C$7,2,FALSE)","v":0},"Sin información"]
[562,4,"Campeche",5,"Ubicación de casillas","5.2",2,"Presentación a los Consejos Distritales del listado de lugares propuestos para ubicar casillas","INE","JDE","2021-02-24","2021-02-24",null,null,{"$f":"VLOOKUP(P568,Campos!$B$2:$C$7,2,FALSE)","v":0},"Sin información"]
[563,4,"Campeche",5,"Ubicación de casillas","5.3",3,"Visitas de examinación en los lugares propuestos para ubicar casillas básicas, contiguas, especiales y extraordinarias","INE/OPL","CD/OPL","2021-02-25","2021-03-16",null,null,{"$f":"VLOOKUP(P569,Campos!$B$2:$C$7,2,FALSE)","v":0},"Sin información"]
[564,4,"Campeche",5,"Ubicación de casillas","5.4",4,"Aprobación del número y ubicación de casillas extraordinarias y especiales","INE","CD","2021-03-16","2021-03-16",null,null,{"$f":"VLOOKUP(P570,Campos!$B$2:$C$7,2,FALSE)","v":0},"Sin información"]
[565,4,"Campeche",5,"Ubicación de casillas","5.5",5,"Aprobación del número y ubicación de casillas básicas y contiguas","INE","CD","2021-03-25","2021-03-25",null,null,{"$f":"VLOOKUP(P571,Campos!$B$2:$C$7,2,FALSE)","v":0},"Sin información"]
[566,4,"Campeche",5,"Ubicación de casillas","5.6",6,"Entrega de la base de datos de la Lista Nominal Definitiva a UNICOM con corte al 10 de abril","INE","DERFE","2021-04-15","2021-04-16",null,null,{"$f":"VLOOKUP(P572,Campos!$B$2:$C$7,2,FALSE)","v":0},"Sin información"]
[567,4,"Campeche",5,"Ubicación de casillas","5.7",7,"Realizar la primera publicación de la lista de ubicación de casillas en los lugares más concurridos del distrito electoral  y en los medios electrónicos del Instituto","INE","CD","2021-04-15","2021-04-15",null,null,{"$f":"VLOOKUP(P573,Campos!$B$2:$C$7,2,FALSE)","v":0},"Sin información"]
[568,4,"Campeche",5,"Ubicación de casillas","5.8",8,"En su caso, segunda publicación de la lista de ubicación de casillas por causas supervenientes en los lugares más concurridos del distrito y en los medios electrónicos del Instituto","INE","CD","2021-05-15","2021-05-25",null,null,{"$f":"VLOOKUP(P574,Campos!$B$2:$C$7,2,FALSE)","v":0},"Sin información"]
[569,4,"Campeche",5,"Ubicación de casillas","5.9",9,"Publicación de los encartes y difusión en medios electrónicos del Instituto","INE/OPL","DEOE/CG","2021-06-05","2021-06-06",null,null,{"$f":"VLOOKUP(P575,Campos!$B$2:$C$7,2,FALSE)","v":0},"Sin información"]
[570,4,"Campeche",5,"Ubicación de casillas","5.10",10,"Registro de representantes generales y ante mesas directivas de casilla","INE","CD","2021-04-16","2021-05-24",null,null,{"$f":"VLOOKUP(P576,Campos!$B$2:$C$7,2,FALSE)","v":0},"Sin información"]
[571,4,"Campeche",5,"Ubicación de casillas","5.11",11,"Sustitución de representantes generales y ante mesas directivas de casilla","INE","CD","2021-04-16","2021-05-27",null,null,{"$f":"VLOOKUP(P577,Campos!$B$2:$C$7,2,FALSE)","v":0},"Sin información"]
[572,4,"Campeche",5,"Ubicación de casillas","5.12",12,"Entrega de listados de representantes generales y ante casilla al OPL","INE","CD","2021-05-30","2021-05-30",null,null,{"$f":"VLOOKUP(P578,Campos!$B$2:$C$7,2,FALSE)","v":0},"Sin información"]
[573,4,"Campeche",5,"Ubicación de casillas","5.13",13,"Notificación ciudadana de ubicación de casillas en secciones electorales involucradas en la actualización del Marco Geográfico Electoral","INE/OPL","DERFE/OPL","2021-04-01","2021-06-15",null,null,{"$f":"VLOOKUP(P579,Campos!$B$2:$C$7,2,FALSE)","v":0},"Sin información"]
[574,4,"Campeche",6,"Integración de las Mesas Directivas de Casilla","6.1",1,"Aprobación de la Estrategia de Capacitación y Asistencia Electoral","INE","CG","2020-08-01","2020-08-15",null,null,{"$f":"VLOOKUP(P580,Campos!$B$2:$C$7,2,FALSE)","v":0},"Sin información"]
[575,4,"Campeche",6,"Integración de las Mesas Directivas de Casilla","6.2",2,"Entrega para revisión y validación de materiales didácticos de primera etapa","OPL","CG","2020-11-03","2020-11-03",null,null,{"$f":"VLOOKUP(P581,Campos!$B$2:$C$7,2,FALSE)","v":0},"Sin información"]
[576,4,"Campeche",6,"Integración de las Mesas Directivas de Casilla","6.3",3,"Revisión, corrección, verificación y validación de los materiales didácticos de primera etapa","INE/OPL","JLE/DECEYEC/OPL","2020-11-03","2020-12-19",null,null,{"$f":"VLOOKUP(P582,Campos!$B$2:$C$7,2,FALSE)","v":0},"Sin información"]
[577,4,"Campeche",6,"Integración de las Mesas Directivas de Casilla","6.4",4,"Entrega de los materiales impresos de la primera etapa a la JLE","OPL","OPL","2021-02-05","2021-02-05",null,null,{"$f":"VLOOKUP(P583,Campos!$B$2:$C$7,2,FALSE)","v":0},"Sin información"]
[578,4,"Campeche",6,"Integración de las Mesas Directivas de Casilla","6.5",5,"Sorteo del mes del calendario como base para la insaculación de las y los ciudadanos que integrarán las mesas directivas de casilla","INE","CG","2020-12-15","2020-12-19",null,null,{"$f":"VLOOKUP(P584,Campos!$B$2:$C$7,2,FALSE)","v":0},"Sin información"]
[579,4,"Campeche",6,"Integración de las Mesas Directivas de Casilla","6.6",6,"Entrega para revisión y validación de materiales didácticos de segunda etapa","OPL","OPL","2021-02-03","2021-02-03",null,null,{"$f":"VLOOKUP(P585,Campos!$B$2:$C$7,2,FALSE)","v":0},"Sin información"]
[580,4,"Campeche",6,"Integración de las Mesas Directivas de Casilla","6.7",7,"Revisión, corrección, verificación y validación de los materiales didácticos de la segunda etapa","INE/OPL","JLE/DECEYEC/OPL","2021-02-03","2021-03-22",null,null,{"$f":"VLOOKUP(P586,Campos!$B$2:$C$7,2,FALSE)","v":0},"Sin información"]
[581,4,"Campeche",6,"Integración de las Mesas Directivas de Casilla","6.8",8,"Entrega de los materiales impresos de la segunda etapa a la JLE","OPL","OPL","2021-04-05","2021-04-05",null,null,{"$f":"VLOOKUP(P587,Campos!$B$2:$C$7,2,FALSE)","v":0},"Sin información"]
[582,4,"Campeche",6,"Integración de las Mesas Directivas de Casilla","6.9",9,"Sorteo de la letra a partir de la cual, con base en el apellido paterno, se seleccionará a las y los ciudadanos que integrarán las mesas directivas de casilla","INE","CG","2021-02-02","2021-02-02",null,null,{"$f":"VLOOKUP(P588,Campos!$B$2:$C$7,2,FALSE)","v":0},"Sin información"]
[583,4,"Campeche",6,"Integración de las Mesas Directivas de Casilla","6.10",10,"Entrega de la Lista Nominal de Electores para el Procedimiento de la Primera insaculación con corte al 15 de enero de 2021.","INE","DERFE/UNICOM","2021-01-21","2021-01-26",null,null,{"$f":"VLOOKUP(P589,Campos!$B$2:$C$7,2,FALSE)","v":0},"Sin información"]
[584,4,"Campeche",6,"Integración de las Mesas Directivas de Casilla","6.11",11,"Primera insaculación","INE","JDE","2021-02-06","2021-02-06",null,null,{"$f":"VLOOKUP(P590,Campos!$B$2:$C$7,2,FALSE)","v":0},"Sin información"]
[585,4,"Campeche",6,"Integración de las Mesas Directivas de Casilla","6.12",12,"Primera etapa de capacitación a las personas insaculadas","INE","CD","2021-02-09","2021-03-31",null,null,{"$f":"VLOOKUP(P591,Campos!$B$2:$C$7,2,FALSE)","v":0},"Sin información"]
[586,4,"Campeche",6,"Integración de las Mesas Directivas de Casilla","6.13",13,"Integración de la lista de ciudadanos y ciudadanas que cumplen los requisitos legales para integrar las mesas directivas de casilla","INE","CD","2021-02-09","2021-03-31",null,null,{"$f":"VLOOKUP(P592,Campos!$B$2:$C$7,2,FALSE)","v":0},"Sin información"]
[587,4,"Campeche",6,"Integración de las Mesas Directivas de Casilla","6.14",14,"Segunda insaculación y designación de funcionarios para mesas directivas de casilla","INE","CD","2021-04-08","2021-04-08",null,null,{"$f":"VLOOKUP(P593,Campos!$B$2:$C$7,2,FALSE)","v":0},"Sin información"]
[588,4,"Campeche",6,"Integración de las Mesas Directivas de Casilla","6.15",15,"Segunda etapa de capacitación a funcionarios de mesa directiva de casilla y simulacros","INE","CD","2021-04-18","2021-06-05",null,null,{"$f":"VLOOKUP(P594,Campos!$B$2:$C$7,2,FALSE)","v":0},"Sin información"]
[589,4,"Campeche",6,"Integración de las Mesas Directivas de Casilla","6.16",16,"Entrega de reconocimientos a funcionarios de mesas directivas de casilla","INE","CD","2021-06-07","2021-06-12",null,null,{"$f":"VLOOKUP(P595,Campos!$B$2:$C$7,2,FALSE)","v":0},"Sin información"]
[590,4,"Campeche",6,"Integración de las Mesas Directivas de Casilla","6.17",17,"Periodo para contratación de CAE locales","INE/OPL","INE/OPL","Por definir","Por definir",null,null,{"$f":"VLOOKUP(P596,Campos!$B$2:$C$7,2,FALSE)","v":0},"Sin información"]
[591,4,"Campeche",6,"Integración de las Mesas Directivas de Casilla","6.18",18,"Reclutamiento y selección de CAE locales","INE/OPL","INE/OPL","Por definir","Por definir",null,null,{"$f":"VLOOKUP(P597,Campos!$B$2:$C$7,2,FALSE)","v":0},"Sin información"]
[592,4,"Campeche",7,"Fiscalización de los recursos de los Partidos Políticos y candidaturas independientes","7.1",1,"Aprobación de topes de gastos de precampaña Gubernatura","OPL","CG","2020-11-01","2020-11-30",null,null,{"$f":"VLOOKUP(P598,Campos!$B$2:$C$7,2,FALSE)","v":0},"Sin información"]
[593,4,"Campeche",7,"Fiscalización de los recursos de los Partidos Políticos y candidaturas independientes","7.2",2,"Aprobación de topes de gastos de precampaña Diputaciones","OPL","CG","2020-11-01","2020-11-30",null,null,{"$f":"VLOOKUP(P599,Campos!$B$2:$C$7,2,FALSE)","v":0},"Sin información"]
[594,4,"Campeche",7,"Fiscalización de los recursos de los Partidos Políticos y candidaturas independientes","7.3",3,"Aprobación de topes de gastos de precampaña Ayuntamientos","OPL","CG","2020-11-01","2020-11-30",null,null,{"$f":"VLOOKUP(P600,Campos!$B$2:$C$7,2,FALSE)","v":0},"Sin información"]
[595,4,"Campeche",7,"Fiscalización de los recursos de los Partidos Políticos y candidaturas independientes","7.4",4,"Aprobación de los límites de financiamiento privado, aportaciones de militantes, simpatizantes y precandidatos o candidatos; así como el límite individual de aportaciones para Gubernatura","OPL","CG","2020-11-01","2020-11-30",null,null,{"$f":"VLOOKUP(P601,Campos!$B$2:$C$7,2,FALSE)","v":0},"Sin información"]
[596,4,"Campeche",7,"Fiscalización de los recursos de los Partidos Políticos y candidaturas independientes","7.5",5,"Aprobación de los límites de financiamiento privado, aportaciones de militantes, simpatizantes y precandidatos o candidatos; así como el límite individual de aportaciones para Diputaciones","OPL","CG","2020-11-01","2020-11-30",null,null,{"$f":"VLOOKUP(P602,Campos!$B$2:$C$7,2,FALSE)","v":0},"Sin información"]
[597,4,"Campeche",7,"Fiscalización de los recursos de los Partidos Políticos y candidaturas independientes","7.6",6,"Aprobación de los límites de financiamiento privado, aportaciones de militantes, simpatizantes y precandidatos o candidatos; así como el límite individual de aportaciones para Ayuntamientos","OPL","CG","2020-11-01","2020-11-30",null,null,{"$f":"VLOOKUP(P603,Campos!$B$2:$C$7,2,FALSE)","v":0},"Sin información"]
[598,4,"Campeche",7,"Fiscalización de los recursos de los Partidos Políticos y candidaturas independientes","7.7",7,"Aprobación de topes de gastos para el periodo de obtención del apoyo ciudadano para Gubernatura","OPL","CG","2020-11-01","2020-11-30",null,null,{"$f":"VLOOKUP(P604,Campos!$B$2:$C$7,2,FALSE)","v":0},"Sin información"]
[599,4,"Campeche",7,"Fiscalización de los recursos de los Partidos Políticos y candidaturas independientes","7.8",8,"Aprobación de topes de gastos para el periodo de obtención del apoyo ciudadano para Diputaciones","OPL","CG","2020-11-01","2020-11-30",null,null,{"$f":"VLOOKUP(P605,Campos!$B$2:$C$7,2,FALSE)","v":0},"Sin información"]
[600,4,"Campeche",7,"Fiscalización de los recursos de los Partidos Políticos y candidaturas independientes","7.9",9,"Aprobación de topes de gastos para el periodo de obtención del apoyo ciudadano para Ayuntamientos","OPL","CG","2020-11-01","2020-11-30",null,null,{"$f":"VLOOKUP(P606,Campos!$B$2:$C$7,2,FALSE)","v":0},"Sin información"]
[601,4,"Campeche",7,"Fiscalización de los recursos de los Partidos Políticos y candidaturas independientes","7.10",10,"Precampaña para Gubernatura","OPL","CG","2020-12-26","2021-02-23",null,null,{"$f":"VLOOKUP(P607,Campos!$B$2:$C$7,2,FALSE)","v":0},"Sin información"]
[602,4,"Campeche",7,"Fiscalización de los recursos de los Partidos Políticos y candidaturas independientes","7.11",11,"Precampaña para Diputaciones","OPL","CG","2021-01-24","2021-03-24",null,null,{"$f":"VLOOKUP(P608,Campos!$B$2:$C$7,2,FALSE)","v":0},"Sin información"]
[603,4,"Campeche",7,"Fiscalización de los recursos de los Partidos Políticos y candidaturas independientes","7.12",12,"Precampaña para Ayuntamientos","OPL","CG","2021-01-24","2021-03-24",null,null,{"$f":"VLOOKUP(P609,Campos!$B$2:$C$7,2,FALSE)","v":0},"Sin información"]
[604,4,"Campeche",7,"Fiscalización de los recursos de los Partidos Políticos y candidaturas independientes","7.13",13,"Aprobación de topes de gastos de campaña para Gubernatura","OPL","CG","2021-01-01","2021-01-31",null,null,{"$f":"VLOOKUP(P610,Campos!$B$2:$C$7,2,FALSE)","v":0},"Sin información"]
[605,4,"Campeche",7,"Fiscalización de los recursos de los Partidos Políticos y candidaturas independientes","7.14",14,"Aprobación de topes de gastos de campaña para Diputaciones","OPL","CG","2021-02-01","2021-02-15",null,null,{"$f":"VLOOKUP(P611,Campos!$B$2:$C$7,2,FALSE)","v":0},"Sin información"]
[606,4,"Campeche",7,"Fiscalización de los recursos de los Partidos Políticos y candidaturas independientes","7.15",15,"Aprobación de topes de gastos de campaña para Ayuntamientos","OPL","CG","2021-02-01","2021-02-15",null,null,{"$f":"VLOOKUP(P612,Campos!$B$2:$C$7,2,FALSE)","v":0},"Sin información"]
[607,4,"Campeche",7,"Fiscalización de los recursos de los Partidos Políticos y candidaturas independientes","7.16",16,"Campaña para Gubernatura","OPL","CG","2021-03-16","2021-06-02",null,null,{"$f":"VLOOKUP(P613,Campos!$B$2:$C$7,2,FALSE)","v":0},"Sin información"]
[608,4,"Campeche",7,"Fiscalización de los recursos de los Partidos Políticos y candidaturas independientes","7.17",17,"Campaña para Diputaciones","OPL","CG","2021-04-14","2021-06-02",null,null,{"$f":"VLOOKUP(P614,Campos!$B$2:$C$7,2,FALSE)","v":0},"Sin información"]
[609,4,"Campeche",7,"Fiscalización de los recursos de los Partidos Políticos y candidaturas independientes","7.18",18,"Campaña para Ayuntamientos","OPL","CG","2021-04-14","2021-06-02",null,null,{"$f":"VLOOKUP(P615,Campos!$B$2:$C$7,2,FALSE)","v":0},"Sin información"]
[610,4,"Campeche",7,"Fiscalización de los recursos de los Partidos Políticos y candidaturas independientes","7.19",19,"Aprobación de la distribución de financiamiento público para partidos políticos","OPL","CG","2021-01-01","2021-01-31",null,null,{"$f":"VLOOKUP(P616,Campos!$B$2:$C$7,2,FALSE)","v":0},"Sin información"]
[611,4,"Campeche",8,"Candidaturas Independientes","8.1",1,"Emisión de la convocatoria para la ciudadanía interesada en participar en Candidaturas Independientes ","OPL","CG","2021-01-01","2021-01-31",null,null,{"$f":"VLOOKUP(P617,Campos!$B$2:$C$7,2,FALSE)","v":0},"Sin información"]
[612,4,"Campeche",8,"Candidaturas Independientes","8.2",2,"Recepción de escrito de intención y documentación anexa de la ciudadanía que aspire a la candidatura independiente para Gubernatura","OPL","OD","2020-11-30","2020-12-04",null,null,{"$f":"VLOOKUP(P618,Campos!$B$2:$C$7,2,FALSE)","v":0},"Sin información"]
[613,4,"Campeche",8,"Candidaturas Independientes","8.3",3,"Recepción de escrito de intención y documentación anexa de la ciudadanía que aspire a la candidatura independiente para Diputaciones","OPL","OD","2021-01-11","2021-01-15",null,null,{"$f":"VLOOKUP(P619,Campos!$B$2:$C$7,2,FALSE)","v":0},"Sin información"]
[614,4,"Campeche",8,"Candidaturas Independientes","8.4",4,"Recepción de escrito de intención y documentación anexa de la ciudadanía que aspire a la candidatura independiente para Ayuntamientos","OPL","SE/OD","2021-01-11","2021-01-15",null,null,{"$f":"VLOOKUP(P620,Campos!$B$2:$C$7,2,FALSE)","v":0},"Sin información"]
[615,4,"Campeche",8,"Candidaturas Independientes","8.5",5,"Resolución sobre procedencia de manifestación de intención de aspirantes a candidaturas independientes para Gubernatura","OPL","CG","2020-12-01","2020-12-11",null,null,{"$f":"VLOOKUP(P621,Campos!$B$2:$C$7,2,FALSE)","v":0},"Sin información"]
[616,4,"Campeche",8,"Candidaturas Independientes","8.6",6,"Resolución sobre procedencia de manifestación de intención de aspirantes a candidaturas independientes para Diputaciones","OPL","CG","2021-01-12","2021-01-20",null,null,{"$f":"VLOOKUP(P622,Campos!$B$2:$C$7,2,FALSE)","v":0},"Sin información"]
[617,4,"Campeche",8,"Candidaturas Independientes","8.7",7,"Resolución sobre procedencia de manifestación de intención de aspirantes a candidaturas independientes para Ayuntamientos","OPL","CG","2021-01-12","2021-01-20",null,null,{"$f":"VLOOKUP(P623,Campos!$B$2:$C$7,2,FALSE)","v":0},"Sin información"]
[618,4,"Campeche",8,"Candidaturas Independientes","8.8",8,"Plazo para obtener el apoyo ciudadano de las candidaturas independientes para Gubernatura","OPL","OD","2021-01-04","2021-02-12",null,null,{"$f":"VLOOKUP(P624,Campos!$B$2:$C$7,2,FALSE)","v":0},"Sin información"]
[619,4,"Campeche",8,"Candidaturas Independientes","8.9",9,"Plazo para obtener el apoyo ciudadano de las candidaturas independientes para Diputaciones","OPL","OD","2021-01-25","2021-02-23",null,null,{"$f":"VLOOKUP(P625,Campos!$B$2:$C$7,2,FALSE)","v":0},"Sin información"]
[620,4,"Campeche",8,"Candidaturas Independientes","8.10",10,"Plazo para obtener el apoyo ciudadano de las candidaturas independientes para Ayuntamientos","OPL","OD","2021-01-25","2021-02-23",null,null,{"$f":"VLOOKUP(P626,Campos!$B$2:$C$7,2,FALSE)","v":0},"Sin información"]
[621,4,"Campeche",8,"Candidaturas Independientes","8.11",11,"Plazo para otorgar las constancias de porcentaje a favor de aspirantes a la candidatura independiente para Gubernatura","OPL","CG","2021-02-19","2021-02-23",null,null,{"$f":"VLOOKUP(P627,Campos!$B$2:$C$7,2,FALSE)","v":0},"Sin información"]
[622,4,"Campeche",8,"Candidaturas Independientes","8.12",12,"Plazo para otorgar las constancias de porcentaje a favor de aspirantes a la candidatura independiente para Diputaciones","OPL","CG/OD","2021-03-12","2021-03-20",null,null,{"$f":"VLOOKUP(P628,Campos!$B$2:$C$7,2,FALSE)","v":0},"Sin información"]
[623,4,"Campeche",8,"Candidaturas Independientes","8.13",13,"Plazo para otorgar las constancias de porcentaje a favor de aspirantes a la candidatura independiente para Ayuntamientos","OPL","CG/OD","2021-03-12","2021-03-20",null,null,{"$f":"VLOOKUP(P629,Campos!$B$2:$C$7,2,FALSE)","v":0},"Sin información"]
[624,4,"Campeche",9,"Candidaturas","9.1",1,"Registro de plataformas electorales","OPL","CG","2021-02-01","2021-02-10",null,null,{"$f":"VLOOKUP(P630,Campos!$B$2:$C$7,2,FALSE)","v":0},"Sin información"]
[625,4,"Campeche",9,"Candidaturas","9.2",2,"Solicitud de registro de convenio de coalición para Gubernatura","OPL","CG","2020-12-26","2021-01-15",null,null,{"$f":"VLOOKUP(P631,Campos!$B$2:$C$7,2,FALSE)","v":0},"Sin información"]
[626,4,"Campeche",9,"Candidaturas","9.3",3,"Solicitud de registro de convenio de coalición para Diputaciones","OPL","CG","2021-01-01","2021-02-23",null,null,{"$f":"VLOOKUP(P632,Campos!$B$2:$C$7,2,FALSE)","v":0},"Sin información"]
[627,4,"Campeche",9,"Candidaturas","9.4",4,"Solicitud de registro de convenio de coalición para Ayuntamientos","OPL","CG","2021-01-01","2021-02-23",null,null,{"$f":"VLOOKUP(P633,Campos!$B$2:$C$7,2,FALSE)","v":0},"Sin información"]
[628,4,"Campeche",9,"Candidaturas","9.5",5,"Resolución sobre Convenio de Coalición para Gubernatura","OPL","CG","2021-01-05","2021-01-25",null,null,{"$f":"VLOOKUP(P634,Campos!$B$2:$C$7,2,FALSE)","v":0},"Sin información"]
[629,4,"Campeche",9,"Candidaturas","9.6",6,"Resolución sobre Convenio de Coalición para Diputaciones","OPL","CG","2021-01-11","2021-03-05",null,null,{"$f":"VLOOKUP(P635,Campos!$B$2:$C$7,2,FALSE)","v":0},"Sin información"]
[630,4,"Campeche",9,"Candidaturas","9.7",7,"Resolución sobre Convenio de Coalición para Ayuntamientos","OPL","CG","2021-01-11","2021-03-05",null,null,{"$f":"VLOOKUP(P636,Campos!$B$2:$C$7,2,FALSE)","v":0},"Sin información"]
[631,4,"Campeche",9,"Candidaturas","9.8",8,"Solicitud de registro de Candidaturas para Gubernatura","OPL","CG","2021-02-24","2021-03-03",null,null,{"$f":"VLOOKUP(P637,Campos!$B$2:$C$7,2,FALSE)","v":0},"Sin información"]
[632,4,"Campeche",9,"Candidaturas","9.9",9,"Solicitud de registro de Candidaturas para Diputaciones","OPL","CG/OD","2021-03-25","2021-04-01",null,null,{"$f":"VLOOKUP(P638,Campos!$B$2:$C$7,2,FALSE)","v":0},"Sin información"]
[633,4,"Campeche",9,"Candidaturas","9.10",10,"Solicitud de registro de Candidaturas para Diputaciones de Representación Proporcional","OPL","CG","2021-04-08","2021-04-15",null,null,{"$f":"VLOOKUP(P639,Campos!$B$2:$C$7,2,FALSE)","v":0},"Sin información"]
[634,4,"Campeche",9,"Candidaturas","9.11",11,"Solicitud de registro de Candidaturas para Ayuntamientos","OPL","CG/OD","2021-03-25","2021-04-01",null,null,{"$f":"VLOOKUP(P640,Campos!$B$2:$C$7,2,FALSE)","v":0},"Sin información"]
[635,4,"Campeche",9,"Candidaturas","9.12",12,"Solicitud de registro de Candidaturas para Regidurías de Representación Proporcional","OPL","CG/OD","2021-04-08","2021-04-15",null,null,{"$f":"VLOOKUP(P641,Campos!$B$2:$C$7,2,FALSE)","v":0},"Sin información"]
[636,4,"Campeche",9,"Candidaturas","9.13",13,"Resolución para aprobar las candidaturas para Gubernatura","OPL","CG","2021-03-15","2021-03-15",null,null,{"$f":"VLOOKUP(P642,Campos!$B$2:$C$7,2,FALSE)","v":0},"Sin información"]
[637,4,"Campeche",9,"Candidaturas","9.14",14,"Resolución para aprobar las candidaturas para Diputaciones","OPL","CG","2021-04-13","2021-04-13",null,null,{"$f":"VLOOKUP(P643,Campos!$B$2:$C$7,2,FALSE)","v":0},"Sin información"]
[638,4,"Campeche",9,"Candidaturas","9.15",15,"Resolución para aprobar las candidaturas para Diputaciones de Representación Proporcional","OPL","CG","2021-04-27","2021-04-27",null,null,{"$f":"VLOOKUP(P644,Campos!$B$2:$C$7,2,FALSE)","v":0},"Sin información"]
[639,4,"Campeche",9,"Candidaturas","9.16",16,"Resolución para aprobar las candidaturas para Ayuntamientos","OPL","CG/OD","2021-04-13","2021-04-13",null,null,{"$f":"VLOOKUP(P645,Campos!$B$2:$C$7,2,FALSE)","v":0},"Sin información"]
[640,4,"Campeche",10,"Debates","10.1",1,"Aprobación de las fechas en que se celebrarán los debates","OPL","CG","2021-03-14","2021-03-23",null,null,{"$f":"VLOOKUP(P646,Campos!$B$2:$C$7,2,FALSE)","v":0},"Sin información"]
[641,4,"Campeche",10,"Debates","10.2",2,"Realización de debate(s)","OPL","CG","2021-03-24","2021-06-02",null,null,{"$f":"VLOOKUP(P647,Campos!$B$2:$C$7,2,FALSE)","v":0},"Sin información"]
[642,4,"Campeche",11,"Documentación y material electoral","11.1",1,"Entrega a la Junta Local Ejecutiva del INE, de los diseños y especificaciones técnicas de la documentación y materiales electorales, en medios impresos y electrónicos","OPL","CG","2020-09-01","2020-09-30",null,null,{"$f":"VLOOKUP(P648,Campos!$B$2:$C$7,2,FALSE)","v":0},"Sin información"]
[643,4,"Campeche",11,"Documentación y material electoral","11.2",2,"Revisión de los documentos y materiales electorales y especificaciones técnicas, presentadas por el OPL","INE","JLE","2020-09-15","2020-12-16",null,null,{"$f":"VLOOKUP(P649,Campos!$B$2:$C$7,2,FALSE)","v":0},"Sin información"]
[644,4,"Campeche",11,"Documentación y material electoral","11.3",3,"En su caso, atención y presentación, de los cambios pertinentes, conforme a las observaciones emitidas por la Junta Local Ejecutiva del INE","OPL","CG","2020-09-15","2020-12-16",null,null,{"$f":"VLOOKUP(P650,Campos!$B$2:$C$7,2,FALSE)","v":0},"Sin información"]
[645,4,"Campeche",11,"Documentación y material electoral","11.4",4,"Validación de los documentos y materiales electorales y especificaciones técnicas, con las observaciones subsanadas","INE","DEOE","2020-10-28","2020-12-18",null,null,{"$f":"VLOOKUP(P651,Campos!$B$2:$C$7,2,FALSE)","v":0},"Sin información"]
[646,4,"Campeche",11,"Documentación y material electoral","11.5",5,"Entrega a la Dirección Ejecutiva de Organización Electoral del INE, del Reporte único sobre la aprobación y adjudicación de los documentos y materiales electorales del OPL, en medios electrónicos","OPL","CG","2021-02-01","2021-02-26",null,null,{"$f":"VLOOKUP(P652,Campos!$B$2:$C$7,2,FALSE)","v":0},"Sin información"]
[647,4,"Campeche",11,"Documentación y material electoral","11.6",6,"Revisión y en su caso validación, del Reporte único sobre la aprobación y adjudicación de los documentos y materiales electorales del OPL, en medios electrónicos","INE","DEOE","2021-02-15","2021-03-12",null,null,{"$f":"VLOOKUP(P653,Campos!$B$2:$C$7,2,FALSE)","v":0},"Sin información"]
[648,4,"Campeche",11,"Documentación y material electoral","11.7",7,"Entrega  a la Dirección Ejecutiva de Organización Electoral del INE, del Reporte semanal sobre el avance en la producción de los documentos y materiales electorales del OPL, en medios electrónicos.","OPL","CG","2021-03-15","2021-05-22",null,null,{"$f":"VLOOKUP(P654,Campos!$B$2:$C$7,2,FALSE)","v":0},"Sin información"]
[649,4,"Campeche",11,"Documentación y material electoral","11.8",8,"Aprobación de la documentación y material electoral","OPL","CG","2020-11-11","2020-12-31",null,null,{"$f":"VLOOKUP(P655,Campos!$B$2:$C$7,2,FALSE)","v":0},"Sin información"]
[650,4,"Campeche",11,"Documentación y material electoral","11.9",9,"Entrega a la Dirección Ejecutiva de Organización Electoral del INE, del Reporte con los resultados de las verificaciones de las medidas de seguridad en la documentación electoral","OPL","CG","2021-05-27","2021-06-11",null,null,{"$f":"VLOOKUP(P656,Campos!$B$2:$C$7,2,FALSE)","v":0},"Sin información"]
[651,4,"Campeche",11,"Documentación y material electoral","11.10",10,"Supervisiones respecto de los procedimientos de impresión y producción de la documentación y materiales electorales","INE","DEOE","2021-03-15","2021-05-22",null,null,{"$f":"VLOOKUP(P657,Campos!$B$2:$C$7,2,FALSE)","v":0},"Sin información"]
[652,4,"Campeche",11,"Documentación y material electoral","11.11",11,"Designación de la persona responsable de llevar el control sobre la asignación de los folios de las boletas que se distribuirán en cada mesa directiva de casilla","OPL","CG","2021-03-01","2021-03-30",null,null,{"$f":"VLOOKUP(P658,Campos!$B$2:$C$7,2,FALSE)","v":0},"Sin información"]
[653,4,"Campeche",11,"Documentación y material electoral","11.12",12,"Aprobación de SE y CAE, así como de personal que auxiliará en el procedimiento de conteo, sellado y agrupamiento de las boletas electorales; así como la integración de documentación para las casillas","OPL","CG","2021-04-24","2021-05-11",null,null,{"$f":"VLOOKUP(P659,Campos!$B$2:$C$7,2,FALSE)","v":0},"Sin información"]
[654,4,"Campeche",11,"Documentación y material electoral","11.13",13,"Recepción de las boletas electorales por el órgano competente que realizará el conteo, sellado y agrupamiento","OPL","CG","2021-05-18","2021-05-22",null,null,{"$f":"VLOOKUP(P660,Campos!$B$2:$C$7,2,FALSE)","v":0},"Sin información"]
[655,4,"Campeche",11,"Documentación y material electoral","11.14",14,"Conteo, sellado y agrupamiento de boletas","OPL","CG","2021-05-18","2021-05-28",null,null,{"$f":"VLOOKUP(P661,Campos!$B$2:$C$7,2,FALSE)","v":0},"Sin información"]
[656,4,"Campeche",11,"Documentación y material electoral","11.15",15,"Distribución de la documentación y materiales electorales a las y los Presidentes de mesas directivas de casilla","OPL","OD","2021-05-31","2021-06-04",null,null,{"$f":"VLOOKUP(P662,Campos!$B$2:$C$7,2,FALSE)","v":0},"Sin información"]
[657,4,"Campeche",11,"Documentación y material electoral","11.16",16,"Remisión de los recibos de la entrega de la documentación y materiales electorales al Consejo General del OPL","INE","JLE","2021-06-24","2021-06-30",null,null,{"$f":"VLOOKUP(P663,Campos!$B$2:$C$7,2,FALSE)","v":0},"Sin información"]
[658,4,"Campeche",12,"Jornada Electoral","12.1",1,"Aprobación del Programa de Operación del SIJE 2021","INE","CCOE","2020-07-01","2020-07-31",null,null,{"$f":"VLOOKUP(P664,Campos!$B$2:$C$7,2,FALSE)","v":0},"Sin información"]
[659,4,"Campeche",12,"Jornada Electoral","12.2",2,"Aprobación de las metas del SIJE 2021","INE","CG","2021-03-01","2021-03-31",null,null,{"$f":"VLOOKUP(P665,Campos!$B$2:$C$7,2,FALSE)","v":0},"Sin información"]
[660,4,"Campeche",12,"Jornada Electoral","12.3",3,"Realización de pruebas del SIJE 2021","INE","DEOE","2021-04-01","2021-04-15",null,null,{"$f":"VLOOKUP(P666,Campos!$B$2:$C$7,2,FALSE)","v":0},"Sin información"]
[661,4,"Campeche",12,"Jornada Electoral","12.4",4,"Desarrollo del primer simulacro del SIJE","INE/OPL","DEOE/OD","2021-04-29","2021-04-29",null,null,{"$f":"VLOOKUP(P667,Campos!$B$2:$C$7,2,FALSE)","v":0},"Sin información"]
[662,4,"Campeche",12,"Jornada Electoral","12.5",5,"Desarrollo del segundo simulacro del SIJE","INE/OPL","DEOE/OD","2021-05-09","2021-05-09",null,null,{"$f":"VLOOKUP(P668,Campos!$B$2:$C$7,2,FALSE)","v":0},"Sin información"]
[663,4,"Campeche",12,"Jornada Electoral","12.6",6,"Desarrollo del tercer simulacro del SIJE","INE/OPL","DEOE/OD","2021-05-23","2021-05-23",null,null,{"$f":"VLOOKUP(P669,Campos!$B$2:$C$7,2,FALSE)","v":0},"Sin información"]
[664,4,"Campeche",12,"Jornada Electoral","12.7",7,"Jornada Electoral","OPL","CG/OD","2021-06-06","2021-06-06",null,null,{"$f":"VLOOKUP(P670,Campos!$B$2:$C$7,2,FALSE)","v":0},"Sin información"]
[665,4,"Campeche",13,"Bodegas electorales","13.1",1,"Determinación de los lugares que ocuparán las bodegas electorales para el resguardo de la documentación electoral","OPL","CG","2021-02-01","2021-02-28",null,null,{"$f":"VLOOKUP(P671,Campos!$B$2:$C$7,2,FALSE)","v":0},"Sin información"]
[666,4,"Campeche",13,"Bodegas electorales","13.2",2,"Informe que rinden las y los Presidentes sobre las condiciones de equipamiento, mecanismos de operación y medidas de seguridad de las bodegas electorales","OPL","OD","2021-03-01","2021-03-31",null,null,{"$f":"VLOOKUP(P672,Campos!$B$2:$C$7,2,FALSE)","v":0},"Sin información"]
[667,4,"Campeche",13,"Bodegas electorales","13.3",3,"Designación, por parte del órgano competente del OPL, del personal que tendrá acceso a la bodega electoral","OPL","CG/OD","2021-03-01","2021-03-30",null,null,{"$f":"VLOOKUP(P673,Campos!$B$2:$C$7,2,FALSE)","v":0},"Sin información"]
[668,4,"Campeche",13,"Bodegas electorales","13.4",4,"Envío a la UTVOPL, por conducto de la JLE, el informe sobre las condiciones que guardan las bodegas electorales","OPL","CG","2021-04-04","2021-04-10",null,null,{"$f":"VLOOKUP(P674,Campos!$B$2:$C$7,2,FALSE)","v":0},"Sin información"]
[669,4,"Campeche",14,"Mecanismos de recolección","14.1",1,"Entrega de estudios de factibilidad al OPL","INE","CL","2021-03-15","2021-03-31",null,null,{"$f":"VLOOKUP(P675,Campos!$B$2:$C$7,2,FALSE)","v":0},"Sin información"]
[670,4,"Campeche",14,"Mecanismos de recolección","14.2",2,"Entrega de observaciones a los estudios de factibilidad ","OPL","CG","2021-04-01","2021-04-24",null,null,{"$f":"VLOOKUP(P676,Campos!$B$2:$C$7,2,FALSE)","v":0},"Sin información"]
[671,4,"Campeche",14,"Mecanismos de recolección","14.3",3,"Recorridos para verificar las propuestas de los mecanismos de recolección","INE/OPL","CD/OD","2021-03-16","2021-04-24",null,null,{"$f":"VLOOKUP(P677,Campos!$B$2:$C$7,2,FALSE)","v":0},"Sin información"]
[672,4,"Campeche",14,"Mecanismos de recolección","14.4",4,"Aprobación de los mecanismos de recolección ","INE","CD","2021-04-26","2021-04-30",null,null,{"$f":"VLOOKUP(P678,Campos!$B$2:$C$7,2,FALSE)","v":0},"Sin información"]
[673,4,"Campeche",14,"Mecanismos de recolección","14.5",5,"Traslado y recolección de los paquetes electorales","INE/OPL","CD/OD","2021-06-06","2021-06-07",null,null,{"$f":"VLOOKUP(P679,Campos!$B$2:$C$7,2,FALSE)","v":0},"Sin información"]
[674,4,"Campeche",14,"Mecanismos de recolección","14.6",6,"Acreditación de representantes de partidos políticos y candidaturas independientes ante los mecanismos de recolección","INE","CL/CD","2021-04-27","2021-06-03",null,null,{"$f":"VLOOKUP(P680,Campos!$B$2:$C$7,2,FALSE)","v":0},"Sin información"]
[675,4,"Campeche",14,"Mecanismos de recolección","14.7",7,"Sustitución de representantes de partidos políticos y candidaturas independientes ante los mecanismos de recolección","INE","CL/CD","2021-04-28","2021-06-04",null,null,{"$f":"VLOOKUP(P681,Campos!$B$2:$C$7,2,FALSE)","v":0},"Sin información"]
[676,4,"Campeche",14,"Mecanismos de recolección","14.8",8,"Entrega a la JLE, el informe sobre la recepción de paquetes electorales en los órganos competentes","OPL","CG","2021-06-06","2021-06-28",null,null,{"$f":"VLOOKUP(P682,Campos!$B$2:$C$7,2,FALSE)","v":0},"Sin información"]
[677,4,"Campeche",15,"Cómputos","15.1",1,"Aprobación de los lineamientos de cómputo y del cuadernillo de consulta sobre votos válidos y votos nulos","OPL","CG","2021-01-18","2021-01-29",null,null,{"$f":"VLOOKUP(P683,Campos!$B$2:$C$7,2,FALSE)","v":0},"Sin información"]
[678,4,"Campeche",15,"Cómputos","15.2",2,"Integración por parte de los Órganos Desconcentrados del OPL, de la propuesta para la habilitación de espacios para el recuento de votos con las alternativas para todos los escenarios de cómputo","OPL","OD","2021-03-01","2021-03-07",null,null,{"$f":"VLOOKUP(P684,Campos!$B$2:$C$7,2,FALSE)","v":0},"Sin información"]
[679,4,"Campeche",15,"Cómputos","15.3",3,"Informe de los escenarios de cómputos de la totalidad de sus órganos desconcentrados","OPL","CG","2021-04-01","2021-04-04",null,null,{"$f":"VLOOKUP(P685,Campos!$B$2:$C$7,2,FALSE)","v":0},"Sin información"]
[680,4,"Campeche",15,"Cómputos","15.4",4,"Remisión a la JLE en la entidad, las propuestas de escenarios de cómputos, para la dictaminación de viabilidad","OPL","CG","2021-05-01","2021-05-07",null,null,{"$f":"VLOOKUP(P686,Campos!$B$2:$C$7,2,FALSE)","v":0},"Sin información"]
[681,4,"Campeche",15,"Cómputos","15.5",5,"Remisión de las observaciones a los escenarios de Cómputos al OPL y a su vez informar de las mismas a la UTVOPL","INE","JLE","2021-05-08","2021-05-15",null,null,{"$f":"VLOOKUP(P687,Campos!$B$2:$C$7,2,FALSE)","v":0},"Sin información"]
[682,4,"Campeche",15,"Cómputos","15.6",6,"Aprobación por parte del órgano competente del OPL, del acuerdo mediante el cual se designa al personal que participará en las tareas de apoyo a los Cómputos Municipales","OPL","CG/OD","2021-04-26","2021-05-05",null,null,{"$f":"VLOOKUP(P688,Campos!$B$2:$C$7,2,FALSE)","v":0},"Sin información"]
[683,4,"Campeche",15,"Cómputos","15.7",7,"Aprobación por parte del órgano competente del OPL, del acuerdo mediante el cual se designa al personal que participará en las tareas de apoyo a los Cómputos Distritales ","OPL","CG/OD","2021-04-26","2021-05-05",null,null,{"$f":"VLOOKUP(P689,Campos!$B$2:$C$7,2,FALSE)","v":0},"Sin información"]
[684,4,"Campeche",15,"Cómputos","15.8",8,"Aprobación por parte de los órganos competentes del OPL, de los distintos escenarios de cómputos","OPL","OD","2021-05-08","2021-05-15",null,null,{"$f":"VLOOKUP(P690,Campos!$B$2:$C$7,2,FALSE)","v":0},"Sin información"]
[685,4,"Campeche",15,"Cómputos","15.9",9,"Aprobación por parte del órgano competente del OPL, del acuerdo por el que se habilitarán espacios para la instalación de grupos de trabajo y, en su caso, puntos de recuento","OPL","CG/OD","2021-06-08","2021-06-08",null,null,{"$f":"VLOOKUP(P691,Campos!$B$2:$C$7,2,FALSE)","v":0},"Sin información"]
[686,4,"Campeche",15,"Cómputos","15.10",10,"Cómputos Distritales","OPL","OD","2021-06-09","2021-06-12",null,null,{"$f":"VLOOKUP(P692,Campos!$B$2:$C$7,2,FALSE)","v":0},"Sin información"]
[687,4,"Campeche",15,"Cómputos","15.14",14,"Cómputo Estatal para la asignación diputaciones de Representación Proporcional","OPL","CG","2021-09-01","2021-09-10",null,null,{"$f":"VLOOKUP(P693,Campos!$B$2:$C$7,2,FALSE)","v":0},"Sin información"]
[688,4,"Campeche",15,"Cómputos","15.13",13,"Cómputo Estatal para la Gubernatura","OPL","CG","2021-06-13","2021-06-13",null,null,{"$f":"VLOOKUP(P694,Campos!$B$2:$C$7,2,FALSE)","v":0},"Sin información"]
[689,4,"Campeche",15,"Cómputos","15.11",11,"Cómputos Municipales","OPL","OD","2021-06-09","2021-06-12",null,null,{"$f":"VLOOKUP(P695,Campos!$B$2:$C$7,2,FALSE)","v":0},"Sin información"]
[690,4,"Campeche",15,"Cómputos","15.16",16,"Asignación de regidurías por el principio de Representación Proporcional","OPL","CG","2021-09-01","2021-09-10",null,null,{"$f":"VLOOKUP(P696,Campos!$B$2:$C$7,2,FALSE)","v":0},"Sin información"]
[691,4,"Campeche",16,"PREP","16.1",1,"Aprobación del Acuerdo por el que se designa o ratifica a la instancia interna responsable de coordinar el PREP","OPL","CG","2020-09-11","2020-09-11",null,null,{"$f":"VLOOKUP(P697,Campos!$B$2:$C$7,2,FALSE)","v":0},"Sin información"]
[692,4,"Campeche",16,"PREP","16.2",2,"Aprobación del Acuerdo de Integración del COTAPREP","OPL","CG","2020-11-11","2020-11-11",null,null,{"$f":"VLOOKUP(P698,Campos!$B$2:$C$7,2,FALSE)","v":0},"Sin información"]
[693,4,"Campeche",16,"PREP","16.3",3,"Documento por el que se determina la implementación del PREP por el OPL o con el apoyo de un Tercero","OPL","CG","2020-12-11","2020-12-11",null,null,{"$f":"VLOOKUP(P699,Campos!$B$2:$C$7,2,FALSE)","v":0},"Sin información"]
[694,4,"Campeche",16,"PREP","16.4",4,"Aprobación del Acuerdo por el que se determina el Proceso Técnico Operativo ","OPL","CG","2021-01-11","2021-01-11",null,null,{"$f":"VLOOKUP(P700,Campos!$B$2:$C$7,2,FALSE)","v":0},"Sin información"]
[695,4,"Campeche",16,"PREP","16.5",5,"Aprobación del Acuerdo por el que se determina la ubicación, instalación y habilitación de los CATD y, en su caso, CCV","OPL","CG","2021-02-11","2021-02-11",null,null,{"$f":"VLOOKUP(P701,Campos!$B$2:$C$7,2,FALSE)","v":0},"Sin información"]
[696,4,"Campeche",16,"PREP","16.6",6,"Documento de Designación del Ente Auditor ","OPL","CG","2021-02-11","2021-02-11",null,null,{"$f":"VLOOKUP(P702,Campos!$B$2:$C$7,2,FALSE)","v":0},"Sin información"]
[697,4,"Campeche",16,"PREP","16.7",7,"Instrumento jurídico celebrado entre el OPL y el ente auditor","OPL","CG","2021-03-11","2021-03-11",null,null,{"$f":"VLOOKUP(P703,Campos!$B$2:$C$7,2,FALSE)","v":0},"Sin información"]
[698,4,"Campeche",16,"PREP","16.8",8,"Realización del primer simulacro del PREP","OPL","CG","2021-05-16","2021-05-16",null,null,{"$f":"VLOOKUP(P704,Campos!$B$2:$C$7,2,FALSE)","v":0},"Sin información"]
[699,4,"Campeche",16,"PREP","16.9",9,"Realización del segundo simulacro del PREP","OPL","CG","2021-05-23","2021-05-23",null,null,{"$f":"VLOOKUP(P705,Campos!$B$2:$C$7,2,FALSE)","v":0},"Sin información"]
[700,4,"Campeche",16,"PREP","16.10",10,"Realización del tercer simulacro del PREP","OPL","CG","2021-05-30","2021-05-30",null,null,{"$f":"VLOOKUP(P706,Campos!$B$2:$C$7,2,FALSE)","v":0},"Sin información"]
[701,4,"Campeche",16,"PREP","16.11",11,"Operación del PREP","OPL","CG","2021-06-06","2021-06-07",null,null,{"$f":"VLOOKUP(P707,Campos!$B$2:$C$7,2,FALSE)","v":0},"Sin información"]
[702,4,"Campeche",17,"Conteo Rápido","17.1",1,"Aprobación del Acuerdo de Integración del COTECORA","Por definir","Por definir","2021-02-01","2021-02-06",null,null,{"$f":"VLOOKUP(P708,Campos!$B$2:$C$7,2,FALSE)","v":0},"Sin información"]
[703,4,"Campeche",17,"Conteo Rápido","17.2",2,"Realización de pruebas de captura","Por definir","Por definir","2021-04-14","2021-04-15",null,null,{"$f":"VLOOKUP(P709,Campos!$B$2:$C$7,2,FALSE)","v":0},"Sin información"]
[704,4,"Campeche",17,"Conteo Rápido","17.3",3,"Realización de primer simulacro del Conteo Rápido","Por definir","Por definir","2021-04-29","2021-04-29",null,null,{"$f":"VLOOKUP(P710,Campos!$B$2:$C$7,2,FALSE)","v":0},"Sin información"]
[705,4,"Campeche",17,"Conteo Rápido","17.4",4,"Realización de segundo simulacro del Conteo Rápido","Por definir","Por definir","2021-05-16","2021-05-16",null,null,{"$f":"VLOOKUP(P711,Campos!$B$2:$C$7,2,FALSE)","v":0},"Sin información"]
[706,4,"Campeche",17,"Conteo Rápido","17.5",5,"Selección de la Muestra para el Conteo Rápido","Por definir","Por definir","2021-06-02","2021-06-04",null,null,{"$f":"VLOOKUP(P712,Campos!$B$2:$C$7,2,FALSE)","v":0},"Sin información"]
[707,4,"Campeche",17,"Conteo Rápido","17.6",6,"Realización de tercer simulacro del Conteo Rápido","Por definir","Por definir","2021-05-23","2021-05-23",null,null,{"$f":"VLOOKUP(P713,Campos!$B$2:$C$7,2,FALSE)","v":0},"Sin información"]
[708,4,"Campeche",19,"Visitantes extranjeros","19.1",1,"Emisión de la Convocatoria para visitantes extranjeros","INE","CG","2020-08-03","2020-09-30",null,null,{"$f":"VLOOKUP(P714,Campos!$B$2:$C$7,2,FALSE)","v":0},"Sin información"]
[709,4,"Campeche",19,"Visitantes extranjeros","19.2",2,"Difusión de la Convocatoria para visitantes extranjeros","INE","CAI","2020-09-01","2021-05-26",null,null,{"$f":"VLOOKUP(P715,Campos!$B$2:$C$7,2,FALSE)","v":0},"Sin información"]
[710,4,"Campeche",19,"Visitantes extranjeros","19.3",3,"Recepción de solicitudes de acreditación como visitantes extranjeros","INE","CAI","2020-09-01","2021-05-26",null,null,{"$f":"VLOOKUP(P716,Campos!$B$2:$C$7,2,FALSE)","v":0},"Sin información"]
[711,4,"Campeche",19,"Visitantes extranjeros","19.4",4,"Resolución de solicitudes de acreditación como visitantes extranjeros","INE","CAI","2020-09-02","2021-05-30",null,null,{"$f":"VLOOKUP(P717,Campos!$B$2:$C$7,2,FALSE)","v":0},"Sin información"]
[712,4,"Campeche",19,"Visitantes extranjeros","19.5",5,"Entrega de acreditaciones a los visitantes extranjeros","INE","CAI","2020-09-04","2021-06-05",null,null,{"$f":"VLOOKUP(P718,Campos!$B$2:$C$7,2,FALSE)","v":0},"Sin información"]
[713,4,"Campeche",20,"Cuarto Orden de Gobierno","20.1",1,"Aprobación de los límites de financiamiento privado, aportaciones de militantes, simpatizantes y precandidatos o candidatos; así como el límite individual de aportaciones para Cuarto Orden de Gobierno","OPL","CG","2021-02-01","2021-02-28",null,null,{"$f":"VLOOKUP(P719,Campos!$B$2:$C$7,2,FALSE)","v":0},"Sin información"]
[714,4,"Campeche",20,"Cuarto Orden de Gobierno","20.2",2,"Recepción de escrito de intención y documentación anexa de los ciudadanos que aspiren a la candidatura independiente para Cuarto Orden de Gobierno","OPL","SE/OD","2021-01-11","2021-01-15",null,null,{"$f":"VLOOKUP(P720,Campos!$B$2:$C$7,2,FALSE)","v":0},"Sin información"]
[715,4,"Campeche",20,"Cuarto Orden de Gobierno","20.3",3,"Resolución sobre procedencia de manifestación de intención de los aspirantes a candidaturas independientes para Cuarto Orden de Gobierno","OPL","CG","2021-01-12","2021-01-20",null,null,{"$f":"VLOOKUP(P721,Campos!$B$2:$C$7,2,FALSE)","v":0},"Sin información"]
[716,4,"Campeche",20,"Cuarto Orden de Gobierno","20.4",4,"Plazo para obtener el apoyo ciudadano de las candidaturas independientes para Cuarto Orden de Gobierno","OPL","OD","2021-01-25","2021-02-23",null,null,{"$f":"VLOOKUP(P722,Campos!$B$2:$C$7,2,FALSE)","v":0},"Sin información"]
[717,4,"Campeche",20,"Cuarto Orden de Gobierno","20.5",5,"Solicitud de registro de convenio de coalición para Cuarto Orden de Gobierno","OPL","CG","2020-10-01","2021-01-13",null,null,{"$f":"VLOOKUP(P723,Campos!$B$2:$C$7,2,FALSE)","v":0},"Sin información"]
[718,4,"Campeche",20,"Cuarto Orden de Gobierno","20.6",6,"Resolución sobre Convenio de Coalición para Cuarto Orden de Gobierno","OPL","CG","2021-01-14","2021-01-23",null,null,{"$f":"VLOOKUP(P724,Campos!$B$2:$C$7,2,FALSE)","v":0},"Sin información"]
[719,4,"Campeche",20,"Cuarto Orden de Gobierno","20.7",7,"Solicitud de registro de Candidaturas para Cuarto Orden de Gobierno","OPL","CG/OD","2021-03-25","2021-04-01",null,null,{"$f":"VLOOKUP(P725,Campos!$B$2:$C$7,2,FALSE)","v":0},"Sin información"]
[720,4,"Campeche",20,"Cuarto Orden de Gobierno","20.8",8,"Resolución para aprobar las candidaturas para Cuarto Orden de Gobierno","OPL","CG/OD","2021-04-13","2021-04-13",null,null,{"$f":"VLOOKUP(P726,Campos!$B$2:$C$7,2,FALSE)","v":0},"Sin información"]
[721,9,"Ciudad de México",1,"Mecanismos de coordinación","1.1",1,"Aprobar Calendarios y Planes Integrales de los Procesos Electorales Locales","INE","CG","2020-08-01","2020-08-07",null,null,{"$f":"VLOOKUP(P727,Campos!$B$2:$C$7,2,FALSE)","v":0},"Sin información"]
[722,9,"Ciudad de México",1,"Mecanismos de coordinación","1.2",2,"Firma del Convenio General de Coordinación y Colaboración 2020-2021","INE/OPL","INE/OPL","2020-09-01","2020-10-01",null,null,{"$f":"VLOOKUP(P728,Campos!$B$2:$C$7,2,FALSE)","v":0},"Sin información"]
[723,9,"Ciudad de México",1,"Mecanismos de coordinación","1.3",3,"Elaborar un plan de trabajo conjunto para la promoción de la participación ciudadana","INE/OPL","INE/OPL","2020-09-01","2020-12-31",null,null,{"$f":"VLOOKUP(P729,Campos!$B$2:$C$7,2,FALSE)","v":0},"Sin información"]
[724,9,"Ciudad de México",1,"Mecanismos de coordinación","1.4",4,"Sesión para dar inicio al PEL","OPL","CG","2020-09-06","2020-09-12",null,null,{"$f":"VLOOKUP(P730,Campos!$B$2:$C$7,2,FALSE)","v":0},"Sin información"]
[725,9,"Ciudad de México",1,"Mecanismos de coordinación","1.5",5,"Implementar un plan de trabajo conjunto para la promoción de la participación ciudadana","INE/OPL","INE/OPL","2021-02-01","2021-06-06",null,null,{"$f":"VLOOKUP(P731,Campos!$B$2:$C$7,2,FALSE)","v":0},"Sin información"]
[726,9,"Ciudad de México",2,"Integración de órganos desconcentrados","2.1",1,"Convocatoria para la integración de los Órganos Distritales","OPL","CG","2020-10-20","2020-10-31",null,null,{"$f":"VLOOKUP(P732,Campos!$B$2:$C$7,2,FALSE)","v":0},"Sin información"]
[727,9,"Ciudad de México",2,"Integración de órganos desconcentrados","2.2",2,"Sesión en la que se designan e integran los Órganos Distritales ","OPL","CG","2021-01-18","2021-01-29",null,null,{"$f":"VLOOKUP(P733,Campos!$B$2:$C$7,2,FALSE)","v":0},"Sin información"]
[728,9,"Ciudad de México",2,"Integración de órganos desconcentrados","2.3",3,"Instalación de los Órganos Distritales ","OPL","OD","2021-02-01","2021-02-07",null,null,{"$f":"VLOOKUP(P734,Campos!$B$2:$C$7,2,FALSE)","v":0},"Sin información"]
[729,9,"Ciudad de México",2,"Integración de órganos desconcentrados","2.7",7,"Designación y/o ratificación de las y los Consejeros Electorales del Consejo Local ","INE","CG","2020-10-01","2020-10-15",null,null,{"$f":"VLOOKUP(P735,Campos!$B$2:$C$7,2,FALSE)","v":0},"Sin información"]
[730,9,"Ciudad de México",2,"Integración de órganos desconcentrados","2.8",8,"Instalación del Consejo Local","INE","CL","2020-11-01","2020-11-30",null,null,{"$f":"VLOOKUP(P736,Campos!$B$2:$C$7,2,FALSE)","v":0},"Sin información"]
[731,9,"Ciudad de México",2,"Integración de órganos desconcentrados","2.9",9,"Designación y/o ratificación de las y los Consejeros Electorales de los Consejos Distritales ","INE","CL","2020-11-01","2020-11-30",null,null,{"$f":"VLOOKUP(P737,Campos!$B$2:$C$7,2,FALSE)","v":0},"Sin información"]
[732,9,"Ciudad de México",2,"Integración de órganos desconcentrados","2.10",10,"Instalación de los Consejos Distritales","INE","CD","2020-12-01","2020-12-15",null,null,{"$f":"VLOOKUP(P738,Campos!$B$2:$C$7,2,FALSE)","v":0},"Sin información"]
[733,9,"Ciudad de México",3,"Lista Nominal de Electores","3.1",1,"Generación y entrega de la Lista Nominal de Electores para Revisión en medios ópticos a los representantes de los partidos políticos, y en su caso a las candidaturas independientes acreditados ante el OPL, para observaciones","INE","DERFE","2021-02-15","2021-02-15",null,null,{"$f":"VLOOKUP(P739,Campos!$B$2:$C$7,2,FALSE)","v":0},"Sin información"]
[734,9,"Ciudad de México",3,"Lista Nominal de Electores","3.2",2,"Recepción de observaciones de los partidos políticos y en su caso, candidatos independientes, a la Lista Nominal de Electores para revisión","INE/OPL","DERFE","2021-03-14","2021-03-14",null,null,{"$f":"VLOOKUP(P740,Campos!$B$2:$C$7,2,FALSE)","v":0},"Sin información"]
[735,9,"Ciudad de México",3,"Lista Nominal de Electores","3.3",3,"Entrega en formato digital el informe respecto de la atención a las observaciones formuladas a la Lista Nominal de Electores para Revisión","INE","DERFE","2021-04-15","2021-04-15",null,null,{"$f":"VLOOKUP(P741,Campos!$B$2:$C$7,2,FALSE)","v":0},"Sin información"]
[736,9,"Ciudad de México",3,"Lista Nominal de Electores","3.4",4,"Entrega de la Lista Nominal de Electores Definitiva con fotografía","INE","DERFE","2021-05-06","2021-05-14",null,null,{"$f":"VLOOKUP(P742,Campos!$B$2:$C$7,2,FALSE)","v":0},"Sin información"]
[737,9,"Ciudad de México",3,"Lista Nominal de Electores","3.5",5,"Fecha de entrega de la Lista Nominal de Electores con fotografía Producto de Instancias Administrativas y Resoluciones del Tribunal (ADENDA)","INE","DERFE","2021-05-19","2021-05-24",null,null,{"$f":"VLOOKUP(P743,Campos!$B$2:$C$7,2,FALSE)","v":0},"Sin información"]
[738,9,"Ciudad de México",4,"Observación Electoral","4.1",1,"Emisión de la convocatoria para la ciudadanía que desee participar en la observación electoral","OPL","CG","2020-09-06","2020-09-12",null,null,{"$f":"VLOOKUP(P744,Campos!$B$2:$C$7,2,FALSE)","v":0},"Sin información"]
[739,9,"Ciudad de México",4,"Observación Electoral","4.2",2,"Recepción de solicitudes de la ciudadanía que desee participar en observación electoral","INE/OPL","OPL/JLE/JDE","2020-09-06","2021-04-30",null,null,{"$f":"VLOOKUP(P745,Campos!$B$2:$C$7,2,FALSE)","v":0},"Sin información"]
[740,9,"Ciudad de México",4,"Observación Electoral","4.3",3,"Impartición de los cursos de capacitación, preparación o información","INE/OPL","OPL/JLE/JDE","2020-09-06","2021-05-17",null,null,{"$f":"VLOOKUP(P746,Campos!$B$2:$C$7,2,FALSE)","v":0},"Sin información"]
[741,9,"Ciudad de México",4,"Observación Electoral","4.4",4,"Acreditación de la ciudadanía como observadores u observadoras electorales","INE","CL/CD","2020-09-06","2021-06-05",null,null,{"$f":"VLOOKUP(P747,Campos!$B$2:$C$7,2,FALSE)","v":0},"Sin información"]
[742,9,"Ciudad de México",4,"Observación Electoral","4.5",5,"Seguimiento a los informes mensuales de acreditación","INE","CG","2020-09-06","2021-07-31",null,null,{"$f":"VLOOKUP(P748,Campos!$B$2:$C$7,2,FALSE)","v":0},"Sin información"]
[743,9,"Ciudad de México",4,"Observación Electoral","4.6",6,"Remisión de materiales de capacitación a la JLE para revisión","OPL","CG","2020-10-08","2020-10-08",null,null,{"$f":"VLOOKUP(P749,Campos!$B$2:$C$7,2,FALSE)","v":0},"Sin información"]
[744,9,"Ciudad de México",4,"Observación Electoral","4.7",7,"Revisión, corrección, verificación y validación de materiales de capacitación para observación electoral ","INE","JLE","2020-10-09","2020-10-30",null,null,{"$f":"VLOOKUP(P750,Campos!$B$2:$C$7,2,FALSE)","v":0},"Sin información"]
[745,9,"Ciudad de México",4,"Observación Electoral","4.8",8,"Entrega de materiales de capacitación para observación electoral entre OPL e INE","INE/OPL","VEL/OPL","2020-11-01","2020-11-23",null,null,{"$f":"VLOOKUP(P751,Campos!$B$2:$C$7,2,FALSE)","v":0},"Sin información"]
[746,9,"Ciudad de México",5,"Ubicación de casillas","5.1",1,"Recorridos por las secciones de los distritos para localizar los lugares donde se ubicarán las casillas","INE/OPL","JDE/OPL","2021-01-15","2021-02-15",null,null,{"$f":"VLOOKUP(P752,Campos!$B$2:$C$7,2,FALSE)","v":0},"Sin información"]
[747,9,"Ciudad de México",5,"Ubicación de casillas","5.2",2,"Presentación a los Consejos Distritales del listado de lugares propuestos para ubicar casillas","INE","JDE","2021-02-24","2021-02-24",null,null,{"$f":"VLOOKUP(P753,Campos!$B$2:$C$7,2,FALSE)","v":0},"Sin información"]
[748,9,"Ciudad de México",5,"Ubicación de casillas","5.3",3,"Visitas de examinación en los lugares propuestos para ubicar casillas básicas, contiguas, especiales y extraordinarias","INE/OPL","CD/OPL","2021-02-25","2021-03-16",null,null,{"$f":"VLOOKUP(P754,Campos!$B$2:$C$7,2,FALSE)","v":0},"Sin información"]
[749,9,"Ciudad de México",5,"Ubicación de casillas","5.4",4,"Aprobación del número y ubicación de casillas extraordinarias y especiales","INE","CD","2021-03-16","2021-03-16",null,null,{"$f":"VLOOKUP(P755,Campos!$B$2:$C$7,2,FALSE)","v":0},"Sin información"]
[750,9,"Ciudad de México",5,"Ubicación de casillas","5.5",5,"Aprobación del número y ubicación de casillas básicas y contiguas","INE","CD","2021-03-25","2021-03-25",null,null,{"$f":"VLOOKUP(P756,Campos!$B$2:$C$7,2,FALSE)","v":0},"Sin información"]
[751,9,"Ciudad de México",5,"Ubicación de casillas","5.6",6,"Entrega de la base de datos de la Lista Nominal Definitiva a UNICOM con corte al 10 de abril","INE","DERFE","2021-04-15","2021-04-16",null,null,{"$f":"VLOOKUP(P757,Campos!$B$2:$C$7,2,FALSE)","v":0},"Sin información"]
[752,9,"Ciudad de México",5,"Ubicación de casillas","5.7",7,"Realizar la primera publicación de la lista de ubicación de casillas en los lugares más concurridos del distrito electoral  y en los medios electrónicos del Instituto","INE","CD","2021-04-15","2021-04-15",null,null,{"$f":"VLOOKUP(P758,Campos!$B$2:$C$7,2,FALSE)","v":0},"Sin información"]
[753,9,"Ciudad de México",5,"Ubicación de casillas","5.8",8,"En su caso, segunda publicación de la lista de ubicación de casillas por causas supervenientes en los lugares más concurridos del distrito y en los medios electrónicos del Instituto","INE","CD","2021-05-15","2021-05-25",null,null,{"$f":"VLOOKUP(P759,Campos!$B$2:$C$7,2,FALSE)","v":0},"Sin información"]
[754,9,"Ciudad de México",5,"Ubicación de casillas","5.9",9,"Publicación de los encartes y difusión en medios electrónicos del Instituto","INE/OPL","DEOE/CG","2021-06-05","2021-06-06",null,null,{"$f":"VLOOKUP(P760,Campos!$B$2:$C$7,2,FALSE)","v":0},"Sin información"]
[755,9,"Ciudad de México",5,"Ubicación de casillas","5.10",10,"Registro de representantes generales y ante mesas directivas de casilla","INE","CD","2021-04-16","2021-05-24",null,null,{"$f":"VLOOKUP(P761,Campos!$B$2:$C$7,2,FALSE)","v":0},"Sin información"]
[756,9,"Ciudad de México",5,"Ubicación de casillas","5.11",11,"Sustitución de representantes generales y ante mesas directivas de casilla","INE","CD","2021-04-16","2021-05-27",null,null,{"$f":"VLOOKUP(P762,Campos!$B$2:$C$7,2,FALSE)","v":0},"Sin información"]
[757,9,"Ciudad de México",5,"Ubicación de casillas","5.12",12,"Entrega de listados de representantes generales y ante casilla al OPL","INE","CD","2021-05-30","2021-05-30",null,null,{"$f":"VLOOKUP(P763,Campos!$B$2:$C$7,2,FALSE)","v":0},"Sin información"]
[758,9,"Ciudad de México",5,"Ubicación de casillas","5.13",13,"Notificación ciudadana de ubicación de casillas en secciones electorales involucradas en la actualización del Marco Geográfico Electoral","INE/OPL","DERFE/OPL","2021-04-01","2021-06-15",null,null,{"$f":"VLOOKUP(P764,Campos!$B$2:$C$7,2,FALSE)","v":0},"Sin información"]
[759,9,"Ciudad de México",6,"Integración de las Mesas Directivas de Casilla","6.1",1,"Aprobación de la Estrategia de Capacitación y Asistencia Electoral","INE","CG","2020-08-01","2020-08-15",null,null,{"$f":"VLOOKUP(P765,Campos!$B$2:$C$7,2,FALSE)","v":0},"Sin información"]
[760,9,"Ciudad de México",6,"Integración de las Mesas Directivas de Casilla","6.2",2,"Entrega para revisión y validación de materiales didácticos de primera etapa","OPL","CG","2020-11-03","2020-11-03",null,null,{"$f":"VLOOKUP(P766,Campos!$B$2:$C$7,2,FALSE)","v":0},"Sin información"]
[761,9,"Ciudad de México",6,"Integración de las Mesas Directivas de Casilla","6.3",3,"Revisión, corrección, verificación y validación de los materiales didácticos de primera etapa","INE/OPL","JLE/DECEYEC/OPL","2020-11-03","2020-12-19",null,null,{"$f":"VLOOKUP(P767,Campos!$B$2:$C$7,2,FALSE)","v":0},"Sin información"]
[762,9,"Ciudad de México",6,"Integración de las Mesas Directivas de Casilla","6.4",4,"Entrega de los materiales impresos de la primera etapa a la JLE","OPL","OPL","2021-02-05","2021-02-05",null,null,{"$f":"VLOOKUP(P768,Campos!$B$2:$C$7,2,FALSE)","v":0},"Sin información"]
[763,9,"Ciudad de México",6,"Integración de las Mesas Directivas de Casilla","6.5",5,"Sorteo del mes del calendario como base para la insaculación de las y los ciudadanos que integrarán las mesas directivas de casilla","INE","CG","2020-12-15","2020-12-19",null,null,{"$f":"VLOOKUP(P769,Campos!$B$2:$C$7,2,FALSE)","v":0},"Sin información"]
[764,9,"Ciudad de México",6,"Integración de las Mesas Directivas de Casilla","6.6",6,"Entrega para revisión y validación de materiales didácticos de segunda etapa","OPL","OPL","2021-02-03","2021-02-03",null,null,{"$f":"VLOOKUP(P770,Campos!$B$2:$C$7,2,FALSE)","v":0},"Sin información"]
[765,9,"Ciudad de México",6,"Integración de las Mesas Directivas de Casilla","6.7",7,"Revisión, corrección, verificación y validación de los materiales didácticos de la segunda etapa","INE/OPL","JLE/DECEYEC/OPL","2021-02-03","2021-03-22",null,null,{"$f":"VLOOKUP(P771,Campos!$B$2:$C$7,2,FALSE)","v":0},"Sin información"]
[766,9,"Ciudad de México",6,"Integración de las Mesas Directivas de Casilla","6.8",8,"Entrega de los materiales impresos de la segunda etapa a la JLE","OPL","OPL","2021-04-05","2021-04-05",null,null,{"$f":"VLOOKUP(P772,Campos!$B$2:$C$7,2,FALSE)","v":0},"Sin información"]
[767,9,"Ciudad de México",6,"Integración de las Mesas Directivas de Casilla","6.9",9,"Sorteo de la letra a partir de la cual, con base en el apellido paterno, se seleccionará a las y los ciudadanos que integrarán las mesas directivas de casilla","INE","CG","2021-02-02","2021-02-02",null,null,{"$f":"VLOOKUP(P773,Campos!$B$2:$C$7,2,FALSE)","v":0},"Sin información"]
[768,9,"Ciudad de México",6,"Integración de las Mesas Directivas de Casilla","6.10",10,"Entrega de la Lista Nominal de Electores para el Procedimiento de la Primera insaculación con corte al 15 de enero de 2021.","INE","DERFE/UNICOM","2021-01-21","2021-01-26",null,null,{"$f":"VLOOKUP(P774,Campos!$B$2:$C$7,2,FALSE)","v":0},"Sin información"]
[769,9,"Ciudad de México",6,"Integración de las Mesas Directivas de Casilla","6.11",11,"Primera insaculación","INE","JDE","2021-02-06","2021-02-06",null,null,{"$f":"VLOOKUP(P775,Campos!$B$2:$C$7,2,FALSE)","v":0},"Sin información"]
[770,9,"Ciudad de México",6,"Integración de las Mesas Directivas de Casilla","6.12",12,"Primera etapa de capacitación a las personas insaculadas","INE","CD","2021-02-09","2021-03-31",null,null,{"$f":"VLOOKUP(P776,Campos!$B$2:$C$7,2,FALSE)","v":0},"Sin información"]
[771,9,"Ciudad de México",6,"Integración de las Mesas Directivas de Casilla","6.13",13,"Integración de la lista de ciudadanos y ciudadanas que cumplen los requisitos legales para integrar las mesas directivas de casilla","INE","CD","2021-02-09","2021-03-31",null,null,{"$f":"VLOOKUP(P777,Campos!$B$2:$C$7,2,FALSE)","v":0},"Sin información"]
[772,9,"Ciudad de México",6,"Integración de las Mesas Directivas de Casilla","6.14",14,"Segunda insaculación y designación de funcionarios para mesas directivas de casilla","INE","CD","2021-04-08","2021-04-08",null,null,{"$f":"VLOOKUP(P778,Campos!$B$2:$C$7,2,FALSE)","v":0},"Sin información"]
[773,9,"Ciudad de México",6,"Integración de las Mesas Directivas de Casilla","6.15",15,"Segunda etapa de capacitación a funcionarios de mesa directiva de casilla y simulacros","INE","CD","2021-04-18","2021-06-05",null,null,{"$f":"VLOOKUP(P779,Campos!$B$2:$C$7,2,FALSE)","v":0},"Sin información"]
[774,9,"Ciudad de México",6,"Integración de las Mesas Directivas de Casilla","6.16",16,"Entrega de reconocimientos a funcionarios de mesas directivas de casilla","INE","CD","2021-06-07","2021-06-12",null,null,{"$f":"VLOOKUP(P780,Campos!$B$2:$C$7,2,FALSE)","v":0},"Sin información"]
[775,9,"Ciudad de México",6,"Integración de las Mesas Directivas de Casilla","6.17",17,"Periodo para contratación de CAE locales","INE/OPL","INE/OPL","Por definir","Por definir",null,null,{"$f":"VLOOKUP(P781,Campos!$B$2:$C$7,2,FALSE)","v":0},"Sin información"]
[776,9,"Ciudad de México",6,"Integración de las Mesas Directivas de Casilla","6.18",18,"Reclutamiento y selección de CAE locales","INE/OPL","INE/OPL","Por definir","Por definir",null,null,{"$f":"VLOOKUP(P782,Campos!$B$2:$C$7,2,FALSE)","v":0},"Sin información"]
[777,9,"Ciudad de México",7,"Fiscalización de los recursos de los Partidos Políticos y candidaturas independientes","7.2",2,"Aprobación de topes de gastos de precampaña Diputaciones","OPL","CG","2020-09-01","2020-12-31",null,null,{"$f":"VLOOKUP(P783,Campos!$B$2:$C$7,2,FALSE)","v":0},"Sin información"]
[778,9,"Ciudad de México",7,"Fiscalización de los recursos de los Partidos Políticos y candidaturas independientes","7.3",3,"Aprobación de topes de gastos de precampaña Ayuntamientos","OPL","CG","2020-09-01","2020-12-31",null,null,{"$f":"VLOOKUP(P784,Campos!$B$2:$C$7,2,FALSE)","v":0},"Sin información"]
[779,9,"Ciudad de México",7,"Fiscalización de los recursos de los Partidos Políticos y candidaturas independientes","7.5",5,"Aprobación de los límites de financiamiento privado, aportaciones de militantes, simpatizantes y precandidatos o candidatos; así como el límite individual de aportaciones para Diputaciones","OPL","CG","2020-09-01","2021-01-05",null,null,{"$f":"VLOOKUP(P785,Campos!$B$2:$C$7,2,FALSE)","v":0},"Sin información"]
[780,9,"Ciudad de México",7,"Fiscalización de los recursos de los Partidos Políticos y candidaturas independientes","7.6",6,"Aprobación de los límites de financiamiento privado, aportaciones de militantes, simpatizantes y precandidatos o candidatos; así como el límite individual de aportaciones para Ayuntamientos","OPL","CG","2020-09-01","2021-01-05",null,null,{"$f":"VLOOKUP(P786,Campos!$B$2:$C$7,2,FALSE)","v":0},"Sin información"]
[781,9,"Ciudad de México",7,"Fiscalización de los recursos de los Partidos Políticos y candidaturas independientes","7.8",8,"Aprobación de topes de gastos para el periodo de obtención del apoyo ciudadano para Diputaciones","OPL","CG","2020-09-06","2020-11-30",null,null,{"$f":"VLOOKUP(P787,Campos!$B$2:$C$7,2,FALSE)","v":0},"Sin información"]
[782,9,"Ciudad de México",7,"Fiscalización de los recursos de los Partidos Políticos y candidaturas independientes","7.9",9,"Aprobación de topes de gastos para el periodo de obtención del apoyo ciudadano para Ayuntamientos","OPL","CG","2020-09-06","2020-11-30",null,null,{"$f":"VLOOKUP(P788,Campos!$B$2:$C$7,2,FALSE)","v":0},"Sin información"]
[783,9,"Ciudad de México",7,"Fiscalización de los recursos de los Partidos Políticos y candidaturas independientes","7.11",11,"Precampaña para Diputaciones","OPL","CG","2021-01-05","2021-02-13",null,null,{"$f":"VLOOKUP(P789,Campos!$B$2:$C$7,2,FALSE)","v":0},"Sin información"]
[784,9,"Ciudad de México",7,"Fiscalización de los recursos de los Partidos Políticos y candidaturas independientes","7.12",12,"Precampaña para Ayuntamientos","OPL","CG","2021-01-05","2021-02-13",null,null,{"$f":"VLOOKUP(P790,Campos!$B$2:$C$7,2,FALSE)","v":0},"Sin información"]
[785,9,"Ciudad de México",7,"Fiscalización de los recursos de los Partidos Políticos y candidaturas independientes","7.14",14,"Aprobación de topes de gastos de campaña para Diputaciones","OPL","CG","2021-01-05","2021-01-31",null,null,{"$f":"VLOOKUP(P791,Campos!$B$2:$C$7,2,FALSE)","v":0},"Sin información"]
[786,9,"Ciudad de México",7,"Fiscalización de los recursos de los Partidos Políticos y candidaturas independientes","7.15",15,"Aprobación de topes de gastos de campaña para Ayuntamientos","OPL","CG","2021-01-05","2021-01-31",null,null,{"$f":"VLOOKUP(P792,Campos!$B$2:$C$7,2,FALSE)","v":0},"Sin información"]
[787,9,"Ciudad de México",7,"Fiscalización de los recursos de los Partidos Políticos y candidaturas independientes","7.17",17,"Campaña para Diputaciones","OPL","CG","2021-04-04","2021-06-02",null,null,{"$f":"VLOOKUP(P793,Campos!$B$2:$C$7,2,FALSE)","v":0},"Sin información"]
[788,9,"Ciudad de México",7,"Fiscalización de los recursos de los Partidos Políticos y candidaturas independientes","7.18",18,"Campaña para Ayuntamientos","OPL","CG","2021-04-04","2021-06-02",null,null,{"$f":"VLOOKUP(P794,Campos!$B$2:$C$7,2,FALSE)","v":0},"Sin información"]
[789,9,"Ciudad de México",7,"Fiscalización de los recursos de los Partidos Políticos y candidaturas independientes","7.19",19,"Aprobación de la distribución de financiamiento público para partidos políticos","OPL","CG","2021-01-01","2021-01-10",null,null,{"$f":"VLOOKUP(P795,Campos!$B$2:$C$7,2,FALSE)","v":0},"Sin información"]
[790,9,"Ciudad de México",8,"Candidaturas Independientes","8.1",1,"Emisión de la convocatoria para la ciudadanía interesada en participar en Candidaturas Independientes ","OPL","CG","2020-09-06","2020-09-13",null,null,{"$f":"VLOOKUP(P796,Campos!$B$2:$C$7,2,FALSE)","v":0},"Sin información"]
[791,9,"Ciudad de México",8,"Candidaturas Independientes","8.3",3,"Recepción de escrito de intención y documentación anexa de la ciudadanía que aspire a la candidatura independiente para Diputaciones","OPL","OD","2020-09-08","2020-11-30",null,null,{"$f":"VLOOKUP(P797,Campos!$B$2:$C$7,2,FALSE)","v":0},"Sin información"]
[792,9,"Ciudad de México",8,"Candidaturas Independientes","8.4",4,"Recepción de escrito de intención y documentación anexa de la ciudadanía que aspire a la candidatura independiente para Ayuntamientos","OPL","SE/OD","2020-09-08","2020-11-30",null,null,{"$f":"VLOOKUP(P798,Campos!$B$2:$C$7,2,FALSE)","v":0},"Sin información"]
[793,9,"Ciudad de México",8,"Candidaturas Independientes","8.6",6,"Resolución sobre procedencia de manifestación de intención de aspirantes a candidaturas independientes para Diputaciones","OPL","CG","2020-12-07","2020-12-07",null,null,{"$f":"VLOOKUP(P799,Campos!$B$2:$C$7,2,FALSE)","v":0},"Sin información"]
[794,9,"Ciudad de México",8,"Candidaturas Independientes","8.7",7,"Resolución sobre procedencia de manifestación de intención de aspirantes a candidaturas independientes para Ayuntamientos","OPL","CG","2020-12-07","2020-12-07",null,null,{"$f":"VLOOKUP(P800,Campos!$B$2:$C$7,2,FALSE)","v":0},"Sin información"]
[795,9,"Ciudad de México",8,"Candidaturas Independientes","8.9",9,"Plazo para obtener el apoyo ciudadano de las candidaturas independientes para Diputaciones","OPL","CG","2020-12-08","2021-02-05",null,null,{"$f":"VLOOKUP(P801,Campos!$B$2:$C$7,2,FALSE)","v":0},"Sin información"]
[796,9,"Ciudad de México",8,"Candidaturas Independientes","8.10",10,"Plazo para obtener el apoyo ciudadano de las candidaturas independientes para Ayuntamientos","OPL","CG","2020-12-08","2021-02-05",null,null,{"$f":"VLOOKUP(P802,Campos!$B$2:$C$7,2,FALSE)","v":0},"Sin información"]
[797,9,"Ciudad de México",8,"Candidaturas Independientes","8.12",12,"Plazo para otorgar las constancias de porcentaje a favor de aspirantes a la candidatura independiente para Diputaciones","OPL","CG","2021-02-14","2021-03-15",null,null,{"$f":"VLOOKUP(P803,Campos!$B$2:$C$7,2,FALSE)","v":0},"Sin información"]
[798,9,"Ciudad de México",8,"Candidaturas Independientes","8.13",13,"Plazo para otorgar las constancias de porcentaje a favor de aspirantes a la candidatura independiente para Ayuntamientos","OPL","CG","2021-02-14","2021-03-15",null,null,{"$f":"VLOOKUP(P804,Campos!$B$2:$C$7,2,FALSE)","v":0},"Sin información"]
[799,9,"Ciudad de México",9,"Candidaturas","9.1",1,"Registro de plataformas electorales","OPL","CG","2021-03-02","2021-03-16",null,null,{"$f":"VLOOKUP(P805,Campos!$B$2:$C$7,2,FALSE)","v":0},"Sin información"]
[800,9,"Ciudad de México",9,"Candidaturas","9.3",3,"Solicitud de registro de convenio de coalición para Diputaciones","OPL","CG","2020-09-06","2021-01-05",null,null,{"$f":"VLOOKUP(P806,Campos!$B$2:$C$7,2,FALSE)","v":0},"Sin información"]
[801,9,"Ciudad de México",9,"Candidaturas","9.4",4,"Solicitud de registro de convenio de coalición para Ayuntamientos","OPL","CG","2020-09-06","2021-01-05",null,null,{"$f":"VLOOKUP(P807,Campos!$B$2:$C$7,2,FALSE)","v":0},"Sin información"]
[802,9,"Ciudad de México",9,"Candidaturas","9.6",6,"Resolución sobre Convenio de Coalición para Diputaciones","OPL","CG","2020-09-16","2021-01-15",null,null,{"$f":"VLOOKUP(P808,Campos!$B$2:$C$7,2,FALSE)","v":0},"Sin información"]
[803,9,"Ciudad de México",9,"Candidaturas","9.7",7,"Resolución sobre Convenio de Coalición para Ayuntamientos","OPL","CG","2020-09-16","2021-01-15",null,null,{"$f":"VLOOKUP(P809,Campos!$B$2:$C$7,2,FALSE)","v":0},"Sin información"]
[804,9,"Ciudad de México",9,"Candidaturas","9.9",9,"Solicitud de registro de Candidaturas para Diputaciones","OPL","CG/OD","2021-03-22","2021-03-29",null,null,{"$f":"VLOOKUP(P810,Campos!$B$2:$C$7,2,FALSE)","v":0},"Sin información"]
[805,9,"Ciudad de México",9,"Candidaturas","9.11",11,"Solicitud de registro de Candidaturas para Ayuntamientos","OPL","CG/OD","2021-03-22","2021-03-29",null,null,{"$f":"VLOOKUP(P811,Campos!$B$2:$C$7,2,FALSE)","v":0},"Sin información"]
[806,9,"Ciudad de México",9,"Candidaturas","9.14",14,"Resolución para aprobar las candidaturas para Diputaciones","OPL","CG","2021-03-25","2021-04-03",null,null,{"$f":"VLOOKUP(P812,Campos!$B$2:$C$7,2,FALSE)","v":0},"Sin información"]
[807,9,"Ciudad de México",9,"Candidaturas","9.16",16,"Resolución para aprobar las candidaturas para Ayuntamientos","OPL","CG/OD","2021-03-25","2021-04-03",null,null,{"$f":"VLOOKUP(P813,Campos!$B$2:$C$7,2,FALSE)","v":0},"Sin información"]
[808,9,"Ciudad de México",9,"Candidaturas","9.18",18,"Solicitud de registro de candidaturas comunes para Diputaciones ","OPL","CG/OD","2021-03-22","2021-03-29",null,null,{"$f":"VLOOKUP(P814,Campos!$B$2:$C$7,2,FALSE)","v":0},"Sin información"]
[809,9,"Ciudad de México",9,"Candidaturas","9.19",19,"Solicitud de registro de candidaturas comunes para Ayuntamientos  ","OPL","CG/OD","2021-03-22","2021-03-29",null,null,{"$f":"VLOOKUP(P815,Campos!$B$2:$C$7,2,FALSE)","v":0},"Sin información"]
[810,9,"Ciudad de México",9,"Candidaturas","9.21",21,"Resolución para aprobar las candidaturas comunes para Diputaciones ","OPL","CG/OD","2021-03-25","2021-04-03",null,null,{"$f":"VLOOKUP(P816,Campos!$B$2:$C$7,2,FALSE)","v":0},"Sin información"]
[811,9,"Ciudad de México",9,"Candidaturas","9.22",22,"Resolución para aprobar las candidaturas comunes para Ayuntamientos ","OPL","CG/OD","2021-03-25","2021-04-03",null,null,{"$f":"VLOOKUP(P817,Campos!$B$2:$C$7,2,FALSE)","v":0},"Sin información"]
[812,9,"Ciudad de México",10,"Debates","10.2",2,"Realización de debate(s)","OPL","CG","2021-04-14","2021-06-02",null,null,{"$f":"VLOOKUP(P818,Campos!$B$2:$C$7,2,FALSE)","v":0},"Sin información"]
[813,9,"Ciudad de México",11,"Documentación y material electoral","11.1",1,"Entrega a la Junta Local Ejecutiva del INE, de los diseños y especificaciones técnicas de la documentación y materiales electorales, en medios impresos y electrónicos","OPL","CG","2020-09-01","2020-09-30",null,null,{"$f":"VLOOKUP(P819,Campos!$B$2:$C$7,2,FALSE)","v":0},"Sin información"]
[814,9,"Ciudad de México",11,"Documentación y material electoral","11.2",2,"Revisión de los documentos y materiales electorales y especificaciones técnicas, presentadas por el OPL","INE","JLE","2020-09-15","2020-12-16",null,null,{"$f":"VLOOKUP(P820,Campos!$B$2:$C$7,2,FALSE)","v":0},"Sin información"]
[815,9,"Ciudad de México",11,"Documentación y material electoral","11.3",3,"En su caso, atención y presentación, de los cambios pertinentes, conforme a las observaciones emitidas por la Junta Local Ejecutiva del INE","OPL","CG","2020-09-15","2020-12-16",null,null,{"$f":"VLOOKUP(P821,Campos!$B$2:$C$7,2,FALSE)","v":0},"Sin información"]
[816,9,"Ciudad de México",11,"Documentación y material electoral","11.4",4,"Validación de los documentos y materiales electorales y especificaciones técnicas, con las observaciones subsanadas","INE","DEOE","2020-10-28","2020-12-18",null,null,{"$f":"VLOOKUP(P822,Campos!$B$2:$C$7,2,FALSE)","v":0},"Sin información"]
[817,9,"Ciudad de México",11,"Documentación y material electoral","11.5",5,"Entrega a la Dirección Ejecutiva de Organización Electoral del INE, del Reporte único sobre la aprobación y adjudicación de los documentos y materiales electorales del OPL, en medios electrónicos","OPL","CG","2021-02-01","2021-02-26",null,null,{"$f":"VLOOKUP(P823,Campos!$B$2:$C$7,2,FALSE)","v":0},"Sin información"]
[818,9,"Ciudad de México",11,"Documentación y material electoral","11.6",6,"Revisión y en su caso validación, del Reporte único sobre la aprobación y adjudicación de los documentos y materiales electorales del OPL, en medios electrónicos","INE","DEOE","2021-02-15","2021-03-12",null,null,{"$f":"VLOOKUP(P824,Campos!$B$2:$C$7,2,FALSE)","v":0},"Sin información"]
[819,9,"Ciudad de México",11,"Documentación y material electoral","11.7",7,"Entrega  a la Dirección Ejecutiva de Organización Electoral del INE, del Reporte semanal sobre el avance en la producción de los documentos y materiales electorales del OPL, en medios electrónicos.","OPL","CG","2021-03-15","2021-05-22",null,null,{"$f":"VLOOKUP(P825,Campos!$B$2:$C$7,2,FALSE)","v":0},"Sin información"]
[820,9,"Ciudad de México",11,"Documentación y material electoral","11.8",8,"Aprobación de la documentación y material electoral","OPL","CG","2020-11-11","2020-12-31",null,null,{"$f":"VLOOKUP(P826,Campos!$B$2:$C$7,2,FALSE)","v":0},"Sin información"]
[821,9,"Ciudad de México",11,"Documentación y material electoral","11.9",9,"Entrega a la Dirección Ejecutiva de Organización Electoral del INE, del Reporte con los resultados de las verificaciones de las medidas de seguridad en la documentación electoral","OPL","CG","2021-05-27","2021-06-11",null,null,{"$f":"VLOOKUP(P827,Campos!$B$2:$C$7,2,FALSE)","v":0},"Sin información"]
[822,9,"Ciudad de México",11,"Documentación y material electoral","11.10",10,"Supervisiones respecto de los procedimientos de impresión y producción de la documentación y materiales electorales","INE","DEOE","2021-03-15","2021-05-22",null,null,{"$f":"VLOOKUP(P828,Campos!$B$2:$C$7,2,FALSE)","v":0},"Sin información"]
[823,9,"Ciudad de México",11,"Documentación y material electoral","11.11",11,"Designación de la persona responsable de llevar el control sobre la asignación de los folios de las boletas que se distribuirán en cada mesa directiva de casilla","OPL","CG","2021-03-01","2021-03-30",null,null,{"$f":"VLOOKUP(P829,Campos!$B$2:$C$7,2,FALSE)","v":0},"Sin información"]
[824,9,"Ciudad de México",11,"Documentación y material electoral","11.12",12,"Aprobación de SE y CAE, así como de personal que auxiliará en el procedimiento de conteo, sellado y agrupamiento de las boletas electorales; así como la integración de documentación para las casillas","OPL","CG","2021-04-24","2021-05-11",null,null,{"$f":"VLOOKUP(P830,Campos!$B$2:$C$7,2,FALSE)","v":0},"Sin información"]
[825,9,"Ciudad de México",11,"Documentación y material electoral","11.13",13,"Recepción de las boletas electorales por el órgano competente que realizará el conteo, sellado y agrupamiento","OPL","CG","2021-05-18","2021-05-22",null,null,{"$f":"VLOOKUP(P831,Campos!$B$2:$C$7,2,FALSE)","v":0},"Sin información"]
[826,9,"Ciudad de México",11,"Documentación y material electoral","11.14",14,"Conteo, sellado y agrupamiento de boletas","OPL","CG","2021-05-18","2021-05-28",null,null,{"$f":"VLOOKUP(P832,Campos!$B$2:$C$7,2,FALSE)","v":0},"Sin información"]
[827,9,"Ciudad de México",11,"Documentación y material electoral","11.15",15,"Distribución de la documentación y materiales electorales a las y los Presidentes de mesas directivas de casilla","OPL","OD","2021-05-31","2021-06-04",null,null,{"$f":"VLOOKUP(P833,Campos!$B$2:$C$7,2,FALSE)","v":0},"Sin información"]
[828,9,"Ciudad de México",11,"Documentación y material electoral","11.16",16,"Remisión de los recibos de la entrega de la documentación y materiales electorales al Consejo General del OPL","INE","JLE","2021-06-24","2021-06-30",null,null,{"$f":"VLOOKUP(P834,Campos!$B$2:$C$7,2,FALSE)","v":0},"Sin información"]
[829,9,"Ciudad de México",12,"Jornada Electoral","12.1",1,"Aprobación del Programa de Operación del SIJE 2021","INE","CCOE","2020-07-01","2020-07-31",null,null,{"$f":"VLOOKUP(P835,Campos!$B$2:$C$7,2,FALSE)","v":0},"Sin información"]
[830,9,"Ciudad de México",12,"Jornada Electoral","12.2",2,"Aprobación de las metas del SIJE 2021","INE","CG","2021-03-01","2021-03-31",null,null,{"$f":"VLOOKUP(P836,Campos!$B$2:$C$7,2,FALSE)","v":0},"Sin información"]
[831,9,"Ciudad de México",12,"Jornada Electoral","12.3",3,"Realización de pruebas del SIJE 2021","INE","DEOE","2021-04-01","2021-04-15",null,null,{"$f":"VLOOKUP(P837,Campos!$B$2:$C$7,2,FALSE)","v":0},"Sin información"]
[832,9,"Ciudad de México",12,"Jornada Electoral","12.4",4,"Desarrollo del primer simulacro del SIJE","INE/OPL","DEOE/OD","2021-04-29","2021-04-29",null,null,{"$f":"VLOOKUP(P838,Campos!$B$2:$C$7,2,FALSE)","v":0},"Sin información"]
[833,9,"Ciudad de México",12,"Jornada Electoral","12.5",5,"Desarrollo del segundo simulacro del SIJE","INE/OPL","DEOE/OD","2021-05-09","2021-05-09",null,null,{"$f":"VLOOKUP(P839,Campos!$B$2:$C$7,2,FALSE)","v":0},"Sin información"]
[834,9,"Ciudad de México",12,"Jornada Electoral","12.6",6,"Desarrollo del tercer simulacro del SIJE","INE/OPL","DEOE/OD","2021-05-23","2021-05-23",null,null,{"$f":"VLOOKUP(P840,Campos!$B$2:$C$7,2,FALSE)","v":0},"Sin información"]
[835,9,"Ciudad de México",12,"Jornada Electoral","12.7",7,"Jornada Electoral","OPL","CG/OD","2021-06-06","2021-06-06",null,null,{"$f":"VLOOKUP(P841,Campos!$B$2:$C$7,2,FALSE)","v":0},"Sin información"]
[836,9,"Ciudad de México",13,"Bodegas electorales","13.1",1,"Determinación de los lugares que ocuparán las bodegas electorales para el resguardo de la documentación electoral","OPL","CG","2021-02-01","2021-02-28",null,null,{"$f":"VLOOKUP(P842,Campos!$B$2:$C$7,2,FALSE)","v":0},"Sin información"]
[837,9,"Ciudad de México",13,"Bodegas electorales","13.2",2,"Informe que rinden las y los Presidentes sobre las condiciones de equipamiento, mecanismos de operación y medidas de seguridad de las bodegas electorales","OPL","OD","2021-03-01","2021-03-31",null,null,{"$f":"VLOOKUP(P843,Campos!$B$2:$C$7,2,FALSE)","v":0},"Sin información"]
[838,9,"Ciudad de México",13,"Bodegas electorales","13.3",3,"Designación, por parte del órgano competente del OPL, del personal que tendrá acceso a la bodega electoral","OPL","CG/OD","2021-03-01","2021-03-30",null,null,{"$f":"VLOOKUP(P844,Campos!$B$2:$C$7,2,FALSE)","v":0},"Sin información"]
[839,9,"Ciudad de México",13,"Bodegas electorales","13.4",4,"Envío a la UTVOPL, por conducto de la JLE, el informe sobre las condiciones que guardan las bodegas electorales","OPL","CG","2021-04-04","2021-04-10",null,null,{"$f":"VLOOKUP(P845,Campos!$B$2:$C$7,2,FALSE)","v":0},"Sin información"]
[840,9,"Ciudad de México",14,"Mecanismos de recolección","14.1",1,"Entrega de estudios de factibilidad al OPL","INE","CL","2021-03-15","2021-03-31",null,null,{"$f":"VLOOKUP(P846,Campos!$B$2:$C$7,2,FALSE)","v":0},"Sin información"]
[841,9,"Ciudad de México",14,"Mecanismos de recolección","14.2",2,"Entrega de observaciones a los estudios de factibilidad ","OPL","CG","2021-04-01","2021-04-24",null,null,{"$f":"VLOOKUP(P847,Campos!$B$2:$C$7,2,FALSE)","v":0},"Sin información"]
[842,9,"Ciudad de México",14,"Mecanismos de recolección","14.3",3,"Recorridos para verificar las propuestas de los mecanismos de recolección","INE/OPL","CD/OD","2021-03-16","2021-04-24",null,null,{"$f":"VLOOKUP(P848,Campos!$B$2:$C$7,2,FALSE)","v":0},"Sin información"]
[843,9,"Ciudad de México",14,"Mecanismos de recolección","14.4",4,"Aprobación de los mecanismos de recolección ","INE","CD","2021-04-26","2021-04-30",null,null,{"$f":"VLOOKUP(P849,Campos!$B$2:$C$7,2,FALSE)","v":0},"Sin información"]
[844,9,"Ciudad de México",14,"Mecanismos de recolección","14.5",5,"Traslado y recolección de los paquetes electorales","INE/OPL","CD/OD","2021-06-06","2021-06-07",null,null,{"$f":"VLOOKUP(P850,Campos!$B$2:$C$7,2,FALSE)","v":0},"Sin información"]
[845,9,"Ciudad de México",14,"Mecanismos de recolección","14.6",6,"Acreditación de representantes de partidos políticos y candidaturas independientes ante los mecanismos de recolección","INE","CL/CD","2021-04-27","2021-06-03",null,null,{"$f":"VLOOKUP(P851,Campos!$B$2:$C$7,2,FALSE)","v":0},"Sin información"]
[846,9,"Ciudad de México",14,"Mecanismos de recolección","14.7",7,"Sustitución de representantes de partidos políticos y candidaturas independientes ante los mecanismos de recolección","INE","CL/CD","2021-04-28","2021-06-04",null,null,{"$f":"VLOOKUP(P852,Campos!$B$2:$C$7,2,FALSE)","v":0},"Sin información"]
[847,9,"Ciudad de México",14,"Mecanismos de recolección","14.8",8,"Entrega a la JLE, el informe sobre la recepción de paquetes electorales en los órganos competentes","OPL","CG","2021-06-06","2021-06-28",null,null,{"$f":"VLOOKUP(P853,Campos!$B$2:$C$7,2,FALSE)","v":0},"Sin información"]
[848,9,"Ciudad de México",15,"Cómputos","15.1",1,"Aprobación de los lineamientos de cómputo y del cuadernillo de consulta sobre votos válidos y votos nulos","OPL","CG","2021-01-18","2021-01-29",null,null,{"$f":"VLOOKUP(P854,Campos!$B$2:$C$7,2,FALSE)","v":0},"Sin información"]
[849,9,"Ciudad de México",15,"Cómputos","15.2",2,"Integración por parte de los Órganos Desconcentrados del OPL, de la propuesta para la habilitación de espacios para el recuento de votos con las alternativas para todos los escenarios de cómputo","OPL","OD","2021-03-01","2021-03-07",null,null,{"$f":"VLOOKUP(P855,Campos!$B$2:$C$7,2,FALSE)","v":0},"Sin información"]
[850,9,"Ciudad de México",15,"Cómputos","15.3",3,"Informe de los escenarios de cómputos de la totalidad de sus órganos desconcentrados","OPL","CG","2021-04-01","2021-04-04",null,null,{"$f":"VLOOKUP(P856,Campos!$B$2:$C$7,2,FALSE)","v":0},"Sin información"]
[851,9,"Ciudad de México",15,"Cómputos","15.4",4,"Remisión a la JLE en la entidad, las propuestas de escenarios de cómputos, para la dictaminación de viabilidad","OPL","CG","2021-05-01","2021-05-07",null,null,{"$f":"VLOOKUP(P857,Campos!$B$2:$C$7,2,FALSE)","v":0},"Sin información"]
[852,9,"Ciudad de México",15,"Cómputos","15.5",5,"Remisión de las observaciones a los escenarios de Cómputos al OPL y a su vez informar de las mismas a la UTVOPL","INE","JLE","2021-05-08","2021-05-15",null,null,{"$f":"VLOOKUP(P858,Campos!$B$2:$C$7,2,FALSE)","v":0},"Sin información"]
[853,9,"Ciudad de México",15,"Cómputos","15.7",7,"Aprobación por parte del órgano competente del OPL, del acuerdo mediante el cual se designa al personal que participará en las tareas de apoyo a los Cómputos Distritales ","OPL","CG/OD","2021-04-26","2021-05-05",null,null,{"$f":"VLOOKUP(P859,Campos!$B$2:$C$7,2,FALSE)","v":0},"Sin información"]
[854,9,"Ciudad de México",15,"Cómputos","15.8",8,"Aprobación por parte de los órganos competentes del OPL, de los distintos escenarios de cómputos","OPL","OD","2021-05-08","2021-05-15",null,null,{"$f":"VLOOKUP(P860,Campos!$B$2:$C$7,2,FALSE)","v":0},"Sin información"]
[855,9,"Ciudad de México",15,"Cómputos","15.9",9,"Aprobación por parte del órgano competente del OPL, del acuerdo por el que se habilitarán espacios para la instalación de grupos de trabajo y, en su caso, puntos de recuento","OPL","CG/OD","2021-06-08","2021-06-08",null,null,{"$f":"VLOOKUP(P861,Campos!$B$2:$C$7,2,FALSE)","v":0},"Sin información"]
[856,9,"Ciudad de México",15,"Cómputos","15.10",10,"Cómputos Distritales","OPL","OD","2021-06-06","2021-06-09",null,null,{"$f":"VLOOKUP(P862,Campos!$B$2:$C$7,2,FALSE)","v":0},"Sin información"]
[857,9,"Ciudad de México",15,"Cómputos","15.14",14,"Cómputo Estatal para la asignación diputaciones de Representación Proporcional","OPL","CG","2021-06-12","2021-06-12",null,null,{"$f":"VLOOKUP(P863,Campos!$B$2:$C$7,2,FALSE)","v":0},"Sin información"]
[858,9,"Ciudad de México",15,"Cómputos","15.11",11,"Cómputos Municipales","OPL","OD","2021-06-10","2021-06-10",null,null,{"$f":"VLOOKUP(P864,Campos!$B$2:$C$7,2,FALSE)","v":0},"Sin información"]
[859,9,"Ciudad de México",15,"Cómputos","15.16",16,"Asignación de regidurías por el principio de Representación Proporcional","OPL","OD","2021-06-10","2021-06-10",null,null,{"$f":"VLOOKUP(P865,Campos!$B$2:$C$7,2,FALSE)","v":0},"Sin información"]
[860,9,"Ciudad de México",16,"PREP","16.1",1,"Aprobación del Acuerdo por el que se designa o ratifica a la instancia interna responsable de coordinar el PREP","OPL","CG","2020-09-11","2020-09-11",null,null,{"$f":"VLOOKUP(P866,Campos!$B$2:$C$7,2,FALSE)","v":0},"Sin información"]
[861,9,"Ciudad de México",16,"PREP","16.2",2,"Aprobación del Acuerdo de Integración del COTAPREP","OPL","CG","2020-11-11","2020-11-11",null,null,{"$f":"VLOOKUP(P867,Campos!$B$2:$C$7,2,FALSE)","v":0},"Sin información"]
[862,9,"Ciudad de México",16,"PREP","16.3",3,"Documento por el que se determina la implementación del PREP por el OPL o con el apoyo de un Tercero","OPL","CG","2020-12-11","2020-12-11",null,null,{"$f":"VLOOKUP(P868,Campos!$B$2:$C$7,2,FALSE)","v":0},"Sin información"]
[863,9,"Ciudad de México",16,"PREP","16.4",4,"Aprobación del Acuerdo por el que se determina el Proceso Técnico Operativo ","OPL","CG","2021-01-11","2021-01-11",null,null,{"$f":"VLOOKUP(P869,Campos!$B$2:$C$7,2,FALSE)","v":0},"Sin información"]
[864,9,"Ciudad de México",16,"PREP","16.5",5,"Aprobación del Acuerdo por el que se determina la ubicación, instalación y habilitación de los CATD y, en su caso, CCV","OPL","CG","2021-02-11","2021-02-11",null,null,{"$f":"VLOOKUP(P870,Campos!$B$2:$C$7,2,FALSE)","v":0},"Sin información"]
[865,9,"Ciudad de México",16,"PREP","16.6",6,"Documento de Designación del Ente Auditor ","OPL","CG","2021-02-11","2021-02-11",null,null,{"$f":"VLOOKUP(P871,Campos!$B$2:$C$7,2,FALSE)","v":0},"Sin información"]
[866,9,"Ciudad de México",16,"PREP","16.7",7,"Instrumento jurídico celebrado entre el OPL y el ente auditor","OPL","CG","2021-03-11","2021-03-11",null,null,{"$f":"VLOOKUP(P872,Campos!$B$2:$C$7,2,FALSE)","v":0},"Sin información"]
[867,9,"Ciudad de México",16,"PREP","16.8",8,"Realización del primer simulacro del PREP","OPL","CG","2021-05-16","2021-05-16",null,null,{"$f":"VLOOKUP(P873,Campos!$B$2:$C$7,2,FALSE)","v":0},"Sin información"]
[868,9,"Ciudad de México",16,"PREP","16.9",9,"Realización del segundo simulacro del PREP","OPL","CG","2021-05-23","2021-05-23",null,null,{"$f":"VLOOKUP(P874,Campos!$B$2:$C$7,2,FALSE)","v":0},"Sin información"]
[869,9,"Ciudad de México",16,"PREP","16.10",10,"Realización del tercer simulacro del PREP","OPL","CG","2021-05-30","2021-05-30",null,null,{"$f":"VLOOKUP(P875,Campos!$B$2:$C$7,2,FALSE)","v":0},"Sin información"]
[870,9,"Ciudad de México",16,"PREP","16.11",11,"Operación del PREP","OPL","CG","2021-06-06","2021-06-07",null,null,{"$f":"VLOOKUP(P876,Campos!$B$2:$C$7,2,FALSE)","v":0},"Sin información"]
[871,9,"Ciudad de México",18,"Voto de la ciudadanía residente en el extranjero","18.1",1,"Puesta a disposición de la Solicitud individual de Inscripción a la Lista Nominal de Electores Residentes en el extranjero para procesos electorales locales (SIILNERE), por los medios que determine el INE.","INE","DERFE","2020-09-01","2021-03-15",null,null,{"$f":"VLOOKUP(P877,Campos!$B$2:$C$7,2,FALSE)","v":0},"Sin información"]
[872,9,"Ciudad de México",18,"Voto de la ciudadanía residente en el extranjero","18.2",2,"Recepción de la Solicitud individual de Inscripción a la Lista Nominal de Electores Residentes en el extranjero para procesos electorales locales (SIILNERE), por los medios que determine el INE","INE","DERFE","2020-09-01","2021-03-15",null,null,{"$f":"VLOOKUP(P878,Campos!$B$2:$C$7,2,FALSE)","v":0},"Sin información"]
[873,9,"Ciudad de México",18,"Voto de la ciudadanía residente en el extranjero","18.3",3,"Conformación de la Lista Nominal de Electores Residentes en el Extranjero (subsanes, observaciones de partidos políticos e informe)","INE","DERFE","2020-09-01","2021-04-15",null,null,{"$f":"VLOOKUP(P879,Campos!$B$2:$C$7,2,FALSE)","v":0},"Sin información"]
[874,9,"Ciudad de México",18,"Voto de la ciudadanía residente en el extranjero","18.4",4,"En caso de voto postal, entrega-recepción de materiales del PEP.","INE","DERFE/UTVOPL/OPL","Por definir","2021-03-15",null,null,{"$f":"VLOOKUP(P880,Campos!$B$2:$C$7,2,FALSE)","v":0},"Sin información"]
[875,9,"Ciudad de México",18,"Voto de la ciudadanía residente en el extranjero","18.5",5,"En caso de voto postal, preparación y envío de los PEP a la ciudadanía residente en el extranjero","INE","DERFE/DEOE/UNICOM/DECEYEC","2021-04-02","2021-04-30",null,null,{"$f":"VLOOKUP(P881,Campos!$B$2:$C$7,2,FALSE)","v":0},"Sin información"]
[876,9,"Ciudad de México",18,"Voto de la ciudadanía residente en el extranjero","18.6",6,"En caso de voto postal, recepción de Sobres Voto y resguardo","INE","DERFE/DEOE","2021-04-11","2021-06-05",null,null,{"$f":"VLOOKUP(P882,Campos!$B$2:$C$7,2,FALSE)","v":0},"Sin información"]
[877,9,"Ciudad de México",18,"Voto de la ciudadanía residente en el extranjero","18.7",7,"Elaboración y aprobación del Programa de Integración de Mesas de Escrutinio y Cómputo y Capacitación Electoral para el Voto de las y los Mexicanos Residentes en el Extranjero","INE","CG","Por definir","Por definir",null,null,{"$f":"VLOOKUP(P883,Campos!$B$2:$C$7,2,FALSE)","v":0},"Sin información"]
[878,9,"Ciudad de México",18,"Voto de la ciudadanía residente en el extranjero","18.8",8,"Aprobación del número de mesas de escrutinio y cómputo a instalar","INE","CL","Por definir","Por definir",null,null,{"$f":"VLOOKUP(P884,Campos!$B$2:$C$7,2,FALSE)","v":0},"Sin información"]
[879,9,"Ciudad de México",18,"Voto de la ciudadanía residente en el extranjero","18.9",9,"Integración y aprobación del Listado del personal que realizará las suplencias en las Mesas de Escrutinio y Cómputo","INE","CL","Por definir","Por definir",null,null,{"$f":"VLOOKUP(P885,Campos!$B$2:$C$7,2,FALSE)","v":0},"Sin información"]
[880,9,"Ciudad de México",18,"Voto de la ciudadanía residente en el extranjero","18.10",10,"Logística del Local Único","OPL","CG","Por definir","Por definir",null,null,{"$f":"VLOOKUP(P886,Campos!$B$2:$C$7,2,FALSE)","v":0},"Sin información"]
[881,9,"Ciudad de México",18,"Voto de la ciudadanía residente en el extranjero","18.11",11,"Escrutinio y Cómputo de los votos de los mexicanos residentes en el extranjero","OPL","CG","2021-06-06","2021-06-06",null,null,{"$f":"VLOOKUP(P887,Campos!$B$2:$C$7,2,FALSE)","v":0},"Sin información"]
[882,9,"Ciudad de México",18,"Voto de la ciudadanía residente en el extranjero","18.12",12,"Promoción del Voto de los Mexicanos Residentes en el Extranjero (Difusión, Comunicación, Vinculación y Plataformas Digitales)","INE/OPL","CG/CG","Por definir","Por definir",null,null,{"$f":"VLOOKUP(P888,Campos!$B$2:$C$7,2,FALSE)","v":0},"Sin información"]
[883,9,"Ciudad de México",18,"Voto de la ciudadanía residente en el extranjero","18.13",13,"Entrega de la Lista Nominal de Electores Residentes en el Extranjero (LNERE), para escrutinio y cómputo.","INE","DERFE/DEOE","2021-06-05","2021-06-05",null,null,{"$f":"VLOOKUP(P889,Campos!$B$2:$C$7,2,FALSE)","v":0},"Sin información"]
[884,9,"Ciudad de México",19,"Visitantes extranjeros","19.1",1,"Emisión de la Convocatoria para visitantes extranjeros","INE","CG","2020-08-03","2020-09-30",null,null,{"$f":"VLOOKUP(P890,Campos!$B$2:$C$7,2,FALSE)","v":0},"Sin información"]
[885,9,"Ciudad de México",19,"Visitantes extranjeros","19.2",2,"Difusión de la Convocatoria para visitantes extranjeros","INE","CAI","2020-09-01","2021-05-26",null,null,{"$f":"VLOOKUP(P891,Campos!$B$2:$C$7,2,FALSE)","v":0},"Sin información"]
[886,9,"Ciudad de México",19,"Visitantes extranjeros","19.3",3,"Recepción de solicitudes de acreditación como visitantes extranjeros","INE","CAI","2020-09-01","2021-05-26",null,null,{"$f":"VLOOKUP(P892,Campos!$B$2:$C$7,2,FALSE)","v":0},"Sin información"]
[887,9,"Ciudad de México",19,"Visitantes extranjeros","19.4",4,"Resolución de solicitudes de acreditación como visitantes extranjeros","INE","CAI","2020-09-02","2021-05-30",null,null,{"$f":"VLOOKUP(P893,Campos!$B$2:$C$7,2,FALSE)","v":0},"Sin información"]
[888,9,"Ciudad de México",19,"Visitantes extranjeros","19.5",5,"Entrega de acreditaciones a los visitantes extranjeros","INE","CAI","2020-09-04","2021-06-05",null,null,{"$f":"VLOOKUP(P894,Campos!$B$2:$C$7,2,FALSE)","v":0},"Sin información"]
[889,8,"Chihuahua",1,"Mecanismos de coordinación","1.1",1,"Aprobar Calendarios y Planes Integrales de los Procesos Electorales Locales","INE","CG","2020-08-01","2020-08-07",null,null,{"$f":"VLOOKUP(P895,Campos!$B$2:$C$7,2,FALSE)","v":0},"Sin información"]
[890,8,"Chihuahua",1,"Mecanismos de coordinación","1.2",2,"Firma del Convenio General de Coordinación y Colaboración 2020-2021","INE/OPL","INE/OPL","2020-09-01","2020-10-01",null,null,{"$f":"VLOOKUP(P896,Campos!$B$2:$C$7,2,FALSE)","v":0},"Sin información"]
[891,8,"Chihuahua",1,"Mecanismos de coordinación","1.3",3,"Elaborar un plan de trabajo conjunto para la promoción de la participación ciudadana","INE/OPL","INE/OPL","2020-09-01","2020-12-31",null,null,{"$f":"VLOOKUP(P897,Campos!$B$2:$C$7,2,FALSE)","v":0},"Sin información"]
[892,8,"Chihuahua",1,"Mecanismos de coordinación","1.4",4,"Sesión para dar inicio al PEL","OPL","CG","2020-10-01","2020-10-01",null,null,{"$f":"VLOOKUP(P898,Campos!$B$2:$C$7,2,FALSE)","v":0},"Sin información"]
[893,8,"Chihuahua",1,"Mecanismos de coordinación","1.5",5,"Implementar un plan de trabajo conjunto para la promoción de la participación ciudadana","INE/OPL","INE/OPL","2021-02-01","2021-06-06",null,null,{"$f":"VLOOKUP(P899,Campos!$B$2:$C$7,2,FALSE)","v":0},"Sin información"]
[894,8,"Chihuahua",2,"Integración de órganos desconcentrados","2.4",4,"Convocatoria para la integración de los Órganos Municipales ","OPL","CG","2020-08-15","2020-10-01",null,null,{"$f":"VLOOKUP(P900,Campos!$B$2:$C$7,2,FALSE)","v":0},"Sin información"]
[895,8,"Chihuahua",2,"Integración de órganos desconcentrados","2.5",5,"Sesión en la que se designan e integran los Órganos Municipales ","OPL","CG","2020-10-01","2021-01-15",null,null,{"$f":"VLOOKUP(P901,Campos!$B$2:$C$7,2,FALSE)","v":0},"Sin información"]
[896,8,"Chihuahua",2,"Integración de órganos desconcentrados","2.6",6,"Instalación de los Órganos Municipales ","OPL","OD","2020-10-02","2021-01-15",null,null,{"$f":"VLOOKUP(P902,Campos!$B$2:$C$7,2,FALSE)","v":0},"Sin información"]
[897,8,"Chihuahua",2,"Integración de órganos desconcentrados","2.7",7,"Designación y/o ratificación de las y los Consejeros Electorales del Consejo Local ","INE","CG","2020-10-01","2020-10-15",null,null,{"$f":"VLOOKUP(P903,Campos!$B$2:$C$7,2,FALSE)","v":0},"Sin información"]
[898,8,"Chihuahua",2,"Integración de órganos desconcentrados","2.8",8,"Instalación del Consejo Local","INE","CL","2020-11-01","2020-11-30",null,null,{"$f":"VLOOKUP(P904,Campos!$B$2:$C$7,2,FALSE)","v":0},"Sin información"]
[899,8,"Chihuahua",2,"Integración de órganos desconcentrados","2.9",9,"Designación y/o ratificación de las y los Consejeros Electorales de los Consejos Distritales ","INE","CL","2020-11-01","2020-11-30",null,null,{"$f":"VLOOKUP(P905,Campos!$B$2:$C$7,2,FALSE)","v":0},"Sin información"]
[900,8,"Chihuahua",2,"Integración de órganos desconcentrados","2.10",10,"Instalación de los Consejos Distritales","INE","CD","2020-12-01","2020-12-15",null,null,{"$f":"VLOOKUP(P906,Campos!$B$2:$C$7,2,FALSE)","v":0},"Sin información"]
[901,8,"Chihuahua",3,"Lista Nominal de Electores","3.1",1,"Generación y entrega de la Lista Nominal de Electores para Revisión en medios ópticos a los representantes de los partidos políticos, y en su caso a las candidaturas independientes acreditados ante el OPL, para observaciones","INE","DERFE","2021-02-15","2021-02-15",null,null,{"$f":"VLOOKUP(P907,Campos!$B$2:$C$7,2,FALSE)","v":0},"Sin información"]
[902,8,"Chihuahua",3,"Lista Nominal de Electores","3.2",2,"Recepción de observaciones de los partidos políticos y en su caso, candidatos independientes, a la Lista Nominal de Electores para revisión","INE/OPL","DERFE","2021-03-14","2021-03-14",null,null,{"$f":"VLOOKUP(P908,Campos!$B$2:$C$7,2,FALSE)","v":0},"Sin información"]
[903,8,"Chihuahua",3,"Lista Nominal de Electores","3.3",3,"Entrega en formato digital el informe respecto de la atención a las observaciones formuladas a la Lista Nominal de Electores para Revisión","INE","DERFE","2021-04-15","2021-04-15",null,null,{"$f":"VLOOKUP(P909,Campos!$B$2:$C$7,2,FALSE)","v":0},"Sin información"]
[904,8,"Chihuahua",3,"Lista Nominal de Electores","3.4",4,"Entrega de la Lista Nominal de Electores Definitiva con fotografía","INE","DERFE","2021-05-06","2021-05-14",null,null,{"$f":"VLOOKUP(P910,Campos!$B$2:$C$7,2,FALSE)","v":0},"Sin información"]
[905,8,"Chihuahua",3,"Lista Nominal de Electores","3.5",5,"Fecha de entrega de la Lista Nominal de Electores con fotografía Producto de Instancias Administrativas y Resoluciones del Tribunal (ADENDA)","INE","DERFE","2021-05-19","2021-05-24",null,null,{"$f":"VLOOKUP(P911,Campos!$B$2:$C$7,2,FALSE)","v":0},"Sin información"]
[906,8,"Chihuahua",4,"Observación Electoral","4.1",1,"Emisión de la convocatoria para la ciudadanía que desee participar en la observación electoral","OPL","CG","2020-10-01","2020-10-01",null,null,{"$f":"VLOOKUP(P912,Campos!$B$2:$C$7,2,FALSE)","v":0},"Sin información"]
[907,8,"Chihuahua",4,"Observación Electoral","4.2",2,"Recepción de solicitudes de la ciudadanía que desee participar en observación electoral","INE/OPL","OPL/JLE/JDE","2020-10-01","2021-04-30",null,null,{"$f":"VLOOKUP(P913,Campos!$B$2:$C$7,2,FALSE)","v":0},"Sin información"]
[908,8,"Chihuahua",4,"Observación Electoral","4.3",3,"Impartición de los cursos de capacitación, preparación o información","INE/OPL","OPL/JLE/JDE","2020-10-01","2021-05-17",null,null,{"$f":"VLOOKUP(P914,Campos!$B$2:$C$7,2,FALSE)","v":0},"Sin información"]
[909,8,"Chihuahua",4,"Observación Electoral","4.4",4,"Acreditación de la ciudadanía como observadores u observadoras electorales","INE","CL/CD","2020-10-01","2021-06-05",null,null,{"$f":"VLOOKUP(P915,Campos!$B$2:$C$7,2,FALSE)","v":0},"Sin información"]
[910,8,"Chihuahua",4,"Observación Electoral","4.5",5,"Seguimiento a los informes mensuales de acreditación","INE","CG","2020-10-01","2021-07-31",null,null,{"$f":"VLOOKUP(P916,Campos!$B$2:$C$7,2,FALSE)","v":0},"Sin información"]
[911,8,"Chihuahua",4,"Observación Electoral","4.6",6,"Remisión de materiales de capacitación a la JLE para revisión","OPL","CG","2020-10-08","2020-10-08",null,null,{"$f":"VLOOKUP(P917,Campos!$B$2:$C$7,2,FALSE)","v":0},"Sin información"]
[912,8,"Chihuahua",4,"Observación Electoral","4.7",7,"Revisión, corrección, verificación y validación de materiales de capacitación para observación electoral ","INE","JLE","2020-10-09","2020-10-30",null,null,{"$f":"VLOOKUP(P918,Campos!$B$2:$C$7,2,FALSE)","v":0},"Sin información"]
[913,8,"Chihuahua",4,"Observación Electoral","4.8",8,"Entrega de materiales de capacitación para observación electoral entre OPL e INE","INE/OPL","VEL/OPL","2020-11-01","2020-11-23",null,null,{"$f":"VLOOKUP(P919,Campos!$B$2:$C$7,2,FALSE)","v":0},"Sin información"]
[914,8,"Chihuahua",5,"Ubicación de casillas","5.1",1,"Recorridos por las secciones de los distritos para localizar los lugares donde se ubicarán las casillas","INE/OPL","JDE/OPL","2021-01-15","2021-02-15",null,null,{"$f":"VLOOKUP(P920,Campos!$B$2:$C$7,2,FALSE)","v":0},"Sin información"]
[915,8,"Chihuahua",5,"Ubicación de casillas","5.2",2,"Presentación a los Consejos Distritales del listado de lugares propuestos para ubicar casillas","INE","JDE","2021-02-24","2021-02-24",null,null,{"$f":"VLOOKUP(P921,Campos!$B$2:$C$7,2,FALSE)","v":0},"Sin información"]
[916,8,"Chihuahua",5,"Ubicación de casillas","5.3",3,"Visitas de examinación en los lugares propuestos para ubicar casillas básicas, contiguas, especiales y extraordinarias","INE/OPL","CD/OPL","2021-02-25","2021-03-16",null,null,{"$f":"VLOOKUP(P922,Campos!$B$2:$C$7,2,FALSE)","v":0},"Sin información"]
[917,8,"Chihuahua",5,"Ubicación de casillas","5.4",4,"Aprobación del número y ubicación de casillas extraordinarias y especiales","INE","CD","2021-03-16","2021-03-16",null,null,{"$f":"VLOOKUP(P923,Campos!$B$2:$C$7,2,FALSE)","v":0},"Sin información"]
[918,8,"Chihuahua",5,"Ubicación de casillas","5.5",5,"Aprobación del número y ubicación de casillas básicas y contiguas","INE","CD","2021-03-25","2021-03-25",null,null,{"$f":"VLOOKUP(P924,Campos!$B$2:$C$7,2,FALSE)","v":0},"Sin información"]
[919,8,"Chihuahua",5,"Ubicación de casillas","5.6",6,"Entrega de la base de datos de la Lista Nominal Definitiva a UNICOM con corte al 10 de abril","INE","DERFE","2021-04-15","2021-04-16",null,null,{"$f":"VLOOKUP(P925,Campos!$B$2:$C$7,2,FALSE)","v":0},"Sin información"]
[920,8,"Chihuahua",5,"Ubicación de casillas","5.7",7,"Realizar la primera publicación de la lista de ubicación de casillas en los lugares más concurridos del distrito electoral  y en los medios electrónicos del Instituto","INE","CD","2021-04-15","2021-04-15",null,null,{"$f":"VLOOKUP(P926,Campos!$B$2:$C$7,2,FALSE)","v":0},"Sin información"]
[921,8,"Chihuahua",5,"Ubicación de casillas","5.8",8,"En su caso, segunda publicación de la lista de ubicación de casillas por causas supervenientes en los lugares más concurridos del distrito y en los medios electrónicos del Instituto","INE","CD","2021-05-15","2021-05-25",null,null,{"$f":"VLOOKUP(P927,Campos!$B$2:$C$7,2,FALSE)","v":0},"Sin información"]
[922,8,"Chihuahua",5,"Ubicación de casillas","5.9",9,"Publicación de los encartes y difusión en medios electrónicos del Instituto","INE/OPL","DEOE/CG","2021-06-05","2021-06-06",null,null,{"$f":"VLOOKUP(P928,Campos!$B$2:$C$7,2,FALSE)","v":0},"Sin información"]
[923,8,"Chihuahua",5,"Ubicación de casillas","5.10",10,"Registro de representantes generales y ante mesas directivas de casilla","INE","CD","2021-04-16","2021-05-24",null,null,{"$f":"VLOOKUP(P929,Campos!$B$2:$C$7,2,FALSE)","v":0},"Sin información"]
[924,8,"Chihuahua",5,"Ubicación de casillas","5.11",11,"Sustitución de representantes generales y ante mesas directivas de casilla","INE","CD","2021-04-16","2021-05-27",null,null,{"$f":"VLOOKUP(P930,Campos!$B$2:$C$7,2,FALSE)","v":0},"Sin información"]
[925,8,"Chihuahua",5,"Ubicación de casillas","5.12",12,"Entrega de listados de representantes generales y ante casilla al OPL","INE","CD","2021-05-30","2021-05-30",null,null,{"$f":"VLOOKUP(P931,Campos!$B$2:$C$7,2,FALSE)","v":0},"Sin información"]
[926,8,"Chihuahua",5,"Ubicación de casillas","5.13",13,"Notificación ciudadana de ubicación de casillas en secciones electorales involucradas en la actualización del Marco Geográfico Electoral","INE/OPL","DERFE/OPL","2021-04-01","2021-06-15",null,null,{"$f":"VLOOKUP(P932,Campos!$B$2:$C$7,2,FALSE)","v":0},"Sin información"]
[927,8,"Chihuahua",6,"Integración de las Mesas Directivas de Casilla","6.1",1,"Aprobación de la Estrategia de Capacitación y Asistencia Electoral","INE","CG","2020-08-01","2020-08-15",null,null,{"$f":"VLOOKUP(P933,Campos!$B$2:$C$7,2,FALSE)","v":0},"Sin información"]
[928,8,"Chihuahua",6,"Integración de las Mesas Directivas de Casilla","6.2",2,"Entrega para revisión y validación de materiales didácticos de primera etapa","OPL","CG","2020-11-03","2020-11-03",null,null,{"$f":"VLOOKUP(P934,Campos!$B$2:$C$7,2,FALSE)","v":0},"Sin información"]
[929,8,"Chihuahua",6,"Integración de las Mesas Directivas de Casilla","6.3",3,"Revisión, corrección, verificación y validación de los materiales didácticos de primera etapa","INE/OPL","JLE/DECEYEC/OPL","2020-11-03","2020-12-19",null,null,{"$f":"VLOOKUP(P935,Campos!$B$2:$C$7,2,FALSE)","v":0},"Sin información"]
[930,8,"Chihuahua",6,"Integración de las Mesas Directivas de Casilla","6.4",4,"Entrega de los materiales impresos de la primera etapa a la JLE","OPL","OPL","2021-02-05","2021-02-05",null,null,{"$f":"VLOOKUP(P936,Campos!$B$2:$C$7,2,FALSE)","v":0},"Sin información"]
[931,8,"Chihuahua",6,"Integración de las Mesas Directivas de Casilla","6.5",5,"Sorteo del mes del calendario como base para la insaculación de las y los ciudadanos que integrarán las mesas directivas de casilla","INE","CG","2020-12-15","2020-12-19",null,null,{"$f":"VLOOKUP(P937,Campos!$B$2:$C$7,2,FALSE)","v":0},"Sin información"]
[932,8,"Chihuahua",6,"Integración de las Mesas Directivas de Casilla","6.6",6,"Entrega para revisión y validación de materiales didácticos de segunda etapa","OPL","OPL","2021-02-03","2021-02-03",null,null,{"$f":"VLOOKUP(P938,Campos!$B$2:$C$7,2,FALSE)","v":0},"Sin información"]
[933,8,"Chihuahua",6,"Integración de las Mesas Directivas de Casilla","6.7",7,"Revisión, corrección, verificación y validación de los materiales didácticos de la segunda etapa","INE/OPL","JLE/DECEYEC/OPL","2021-02-03","2021-03-22",null,null,{"$f":"VLOOKUP(P939,Campos!$B$2:$C$7,2,FALSE)","v":0},"Sin información"]
[934,8,"Chihuahua",6,"Integración de las Mesas Directivas de Casilla","6.8",8,"Entrega de los materiales impresos de la segunda etapa a la JLE","OPL","OPL","2021-04-05","2021-04-05",null,null,{"$f":"VLOOKUP(P940,Campos!$B$2:$C$7,2,FALSE)","v":0},"Sin información"]
[935,8,"Chihuahua",6,"Integración de las Mesas Directivas de Casilla","6.9",9,"Sorteo de la letra a partir de la cual, con base en el apellido paterno, se seleccionará a las y los ciudadanos que integrarán las mesas directivas de casilla","INE","CG","2021-02-02","2021-02-02",null,null,{"$f":"VLOOKUP(P941,Campos!$B$2:$C$7,2,FALSE)","v":0},"Sin información"]
[936,8,"Chihuahua",6,"Integración de las Mesas Directivas de Casilla","6.10",10,"Entrega de la Lista Nominal de Electores para el Procedimiento de la Primera insaculación con corte al 15 de enero de 2021.","INE","DERFE/UNICOM","2021-01-21","2021-01-26",null,null,{"$f":"VLOOKUP(P942,Campos!$B$2:$C$7,2,FALSE)","v":0},"Sin información"]
[937,8,"Chihuahua",6,"Integración de las Mesas Directivas de Casilla","6.11",11,"Primera insaculación","INE","JDE","2021-02-06","2021-02-06",null,null,{"$f":"VLOOKUP(P943,Campos!$B$2:$C$7,2,FALSE)","v":0},"Sin información"]
[938,8,"Chihuahua",6,"Integración de las Mesas Directivas de Casilla","6.12",12,"Primera etapa de capacitación a las personas insaculadas","INE","CD","2021-02-09","2021-03-31",null,null,{"$f":"VLOOKUP(P944,Campos!$B$2:$C$7,2,FALSE)","v":0},"Sin información"]
[939,8,"Chihuahua",6,"Integración de las Mesas Directivas de Casilla","6.13",13,"Integración de la lista de ciudadanos y ciudadanas que cumplen los requisitos legales para integrar las mesas directivas de casilla","INE","CD","2021-02-09","2021-03-31",null,null,{"$f":"VLOOKUP(P945,Campos!$B$2:$C$7,2,FALSE)","v":0},"Sin información"]
[940,8,"Chihuahua",6,"Integración de las Mesas Directivas de Casilla","6.14",14,"Segunda insaculación y designación de funcionarios para mesas directivas de casilla","INE","CD","2021-04-08","2021-04-08",null,null,{"$f":"VLOOKUP(P946,Campos!$B$2:$C$7,2,FALSE)","v":0},"Sin información"]
[941,8,"Chihuahua",6,"Integración de las Mesas Directivas de Casilla","6.15",15,"Segunda etapa de capacitación a funcionarios de mesa directiva de casilla y simulacros","INE","CD","2021-04-18","2021-06-05",null,null,{"$f":"VLOOKUP(P947,Campos!$B$2:$C$7,2,FALSE)","v":0},"Sin información"]
[942,8,"Chihuahua",6,"Integración de las Mesas Directivas de Casilla","6.16",16,"Entrega de reconocimientos a funcionarios de mesas directivas de casilla","INE","CD","2021-06-07","2021-06-12",null,null,{"$f":"VLOOKUP(P948,Campos!$B$2:$C$7,2,FALSE)","v":0},"Sin información"]
[943,8,"Chihuahua",6,"Integración de las Mesas Directivas de Casilla","6.17",17,"Periodo para contratación de CAE locales","INE/OPL","INE/OPL","Por definir","Por definir",null,null,{"$f":"VLOOKUP(P949,Campos!$B$2:$C$7,2,FALSE)","v":0},"Sin información"]
[944,8,"Chihuahua",6,"Integración de las Mesas Directivas de Casilla","6.18",18,"Reclutamiento y selección de CAE locales","INE/OPL","INE/OPL","Por definir","Por definir",null,null,{"$f":"VLOOKUP(P950,Campos!$B$2:$C$7,2,FALSE)","v":0},"Sin información"]
[945,8,"Chihuahua",7,"Fiscalización de los recursos de los Partidos Políticos y candidaturas independientes","7.1",1,"Aprobación de topes de gastos de precampaña Gubernatura","OPL","CG","2020-10-01","2021-01-15",null,null,{"$f":"VLOOKUP(P951,Campos!$B$2:$C$7,2,FALSE)","v":0},"Sin información"]
[946,8,"Chihuahua",7,"Fiscalización de los recursos de los Partidos Políticos y candidaturas independientes","7.2",2,"Aprobación de topes de gastos de precampaña Diputaciones","OPL","CG","2020-10-01","2021-02-15",null,null,{"$f":"VLOOKUP(P952,Campos!$B$2:$C$7,2,FALSE)","v":0},"Sin información"]
[947,8,"Chihuahua",7,"Fiscalización de los recursos de los Partidos Políticos y candidaturas independientes","7.3",3,"Aprobación de topes de gastos de precampaña Ayuntamientos","OPL","CG","2020-10-01","2021-02-15",null,null,{"$f":"VLOOKUP(P953,Campos!$B$2:$C$7,2,FALSE)","v":0},"Sin información"]
[948,8,"Chihuahua",7,"Fiscalización de los recursos de los Partidos Políticos y candidaturas independientes","7.4",4,"Aprobación de los límites de financiamiento privado, aportaciones de militantes, simpatizantes y precandidatos o candidatos; así como el límite individual de aportaciones para Gubernatura","OPL","CG","2020-10-01","2021-01-31",null,null,{"$f":"VLOOKUP(P954,Campos!$B$2:$C$7,2,FALSE)","v":0},"Sin información"]
[949,8,"Chihuahua",7,"Fiscalización de los recursos de los Partidos Políticos y candidaturas independientes","7.5",5,"Aprobación de los límites de financiamiento privado, aportaciones de militantes, simpatizantes y precandidatos o candidatos; así como el límite individual de aportaciones para Diputaciones","OPL","CG","2020-10-01","2021-02-28",null,null,{"$f":"VLOOKUP(P955,Campos!$B$2:$C$7,2,FALSE)","v":0},"Sin información"]
[950,8,"Chihuahua",7,"Fiscalización de los recursos de los Partidos Políticos y candidaturas independientes","7.6",6,"Aprobación de los límites de financiamiento privado, aportaciones de militantes, simpatizantes y precandidatos o candidatos; así como el límite individual de aportaciones para Ayuntamientos","OPL","CG","2020-10-01","2021-02-28",null,null,{"$f":"VLOOKUP(P956,Campos!$B$2:$C$7,2,FALSE)","v":0},"Sin información"]
[951,8,"Chihuahua",7,"Fiscalización de los recursos de los Partidos Políticos y candidaturas independientes","7.7",7,"Aprobación de topes de gastos para el periodo de obtención del apoyo ciudadano para Gubernatura","OPL","CG","2020-10-01","2020-10-20",null,null,{"$f":"VLOOKUP(P957,Campos!$B$2:$C$7,2,FALSE)","v":0},"Sin información"]
[952,8,"Chihuahua",7,"Fiscalización de los recursos de los Partidos Políticos y candidaturas independientes","7.8",8,"Aprobación de topes de gastos para el periodo de obtención del apoyo ciudadano para Diputaciones","OPL","CG","2020-10-01","2020-10-20",null,null,{"$f":"VLOOKUP(P958,Campos!$B$2:$C$7,2,FALSE)","v":0},"Sin información"]
[953,8,"Chihuahua",7,"Fiscalización de los recursos de los Partidos Políticos y candidaturas independientes","7.9",9,"Aprobación de topes de gastos para el periodo de obtención del apoyo ciudadano para Ayuntamientos","OPL","CG","2020-10-01","2020-10-20",null,null,{"$f":"VLOOKUP(P959,Campos!$B$2:$C$7,2,FALSE)","v":0},"Sin información"]
[954,8,"Chihuahua",7,"Fiscalización de los recursos de los Partidos Políticos y candidaturas independientes","7.10",10,"Precampaña para Gubernatura","OPL","CG","2021-02-01","2021-03-12",null,null,{"$f":"VLOOKUP(P960,Campos!$B$2:$C$7,2,FALSE)","v":0},"Sin información"]
[955,8,"Chihuahua",7,"Fiscalización de los recursos de los Partidos Políticos y candidaturas independientes","7.11",11,"Precampaña para Diputaciones","OPL","CG","2021-03-01","2021-03-23",null,null,{"$f":"VLOOKUP(P961,Campos!$B$2:$C$7,2,FALSE)","v":0},"Sin información"]
[956,8,"Chihuahua",7,"Fiscalización de los recursos de los Partidos Políticos y candidaturas independientes","7.12",12,"Precampaña para Ayuntamientos","OPL","CG","2021-03-01","2021-03-23",null,null,{"$f":"VLOOKUP(P962,Campos!$B$2:$C$7,2,FALSE)","v":0},"Sin información"]
[957,8,"Chihuahua",7,"Fiscalización de los recursos de los Partidos Políticos y candidaturas independientes","7.13",13,"Aprobación de topes de gastos de campaña para Gubernatura","OPL","CG","2021-01-01","2021-04-03",null,null,{"$f":"VLOOKUP(P963,Campos!$B$2:$C$7,2,FALSE)","v":0},"Sin información"]
[958,8,"Chihuahua",7,"Fiscalización de los recursos de los Partidos Políticos y candidaturas independientes","7.14",14,"Aprobación de topes de gastos de campaña para Diputaciones","OPL","CG","2021-01-01","2021-04-28",null,null,{"$f":"VLOOKUP(P964,Campos!$B$2:$C$7,2,FALSE)","v":0},"Sin información"]
[959,8,"Chihuahua",7,"Fiscalización de los recursos de los Partidos Políticos y candidaturas independientes","7.15",15,"Aprobación de topes de gastos de campaña para Ayuntamientos","OPL","CG","2021-01-01","2021-04-28",null,null,{"$f":"VLOOKUP(P965,Campos!$B$2:$C$7,2,FALSE)","v":0},"Sin información"]
[960,8,"Chihuahua",7,"Fiscalización de los recursos de los Partidos Políticos y candidaturas independientes","7.16",16,"Campaña para Gubernatura","OPL","CG","2021-04-04","2021-06-02",null,null,{"$f":"VLOOKUP(P966,Campos!$B$2:$C$7,2,FALSE)","v":0},"Sin información"]
[961,8,"Chihuahua",7,"Fiscalización de los recursos de los Partidos Políticos y candidaturas independientes","7.17",17,"Campaña para Diputaciones","OPL","CG","2021-04-29","2021-06-02",null,null,{"$f":"VLOOKUP(P967,Campos!$B$2:$C$7,2,FALSE)","v":0},"Sin información"]
[962,8,"Chihuahua",7,"Fiscalización de los recursos de los Partidos Políticos y candidaturas independientes","7.18",18,"Campaña para Ayuntamientos","OPL","CG","2021-04-29","2021-06-02",null,null,{"$f":"VLOOKUP(P968,Campos!$B$2:$C$7,2,FALSE)","v":0},"Sin información"]
[963,8,"Chihuahua",7,"Fiscalización de los recursos de los Partidos Políticos y candidaturas independientes","7.19",19,"Aprobación de la distribución de financiamiento público para partidos políticos","OPL","CG","2020-10-01","2020-10-15",null,null,{"$f":"VLOOKUP(P969,Campos!$B$2:$C$7,2,FALSE)","v":0},"Sin información"]
[964,8,"Chihuahua",8,"Candidaturas Independientes","8.1",1,"Emisión de la convocatoria para la ciudadanía interesada en participar en Candidaturas Independientes ","OPL","CG","2020-10-01","2020-10-20",null,null,{"$f":"VLOOKUP(P970,Campos!$B$2:$C$7,2,FALSE)","v":0},"Sin información"]
[965,8,"Chihuahua",8,"Candidaturas Independientes","8.2",2,"Recepción de escrito de intención y documentación anexa de la ciudadanía que aspire a la candidatura independiente para Gubernatura","OPL","SE","2020-10-21","2020-12-20",null,null,{"$f":"VLOOKUP(P971,Campos!$B$2:$C$7,2,FALSE)","v":0},"Sin información"]
[966,8,"Chihuahua",8,"Candidaturas Independientes","8.3",3,"Recepción de escrito de intención y documentación anexa de la ciudadanía que aspire a la candidatura independiente para Diputaciones","OPL","OD","2020-10-21","2020-12-26",null,null,{"$f":"VLOOKUP(P972,Campos!$B$2:$C$7,2,FALSE)","v":0},"Sin información"]
[967,8,"Chihuahua",8,"Candidaturas Independientes","8.4",4,"Recepción de escrito de intención y documentación anexa de la ciudadanía que aspire a la candidatura independiente para Ayuntamientos","OPL","OD","2020-10-21","2020-12-26",null,null,{"$f":"VLOOKUP(P973,Campos!$B$2:$C$7,2,FALSE)","v":0},"Sin información"]
[968,8,"Chihuahua",8,"Candidaturas Independientes","8.5",5,"Resolución sobre procedencia de manifestación de intención de aspirantes a candidaturas independientes para Gubernatura","OPL","CG","2020-12-27","2021-01-31",null,null,{"$f":"VLOOKUP(P974,Campos!$B$2:$C$7,2,FALSE)","v":0},"Sin información"]
[969,8,"Chihuahua",8,"Candidaturas Independientes","8.6",6,"Resolución sobre procedencia de manifestación de intención de aspirantes a candidaturas independientes para Diputaciones","OPL","CG","2021-01-15","2021-02-28",null,null,{"$f":"VLOOKUP(P975,Campos!$B$2:$C$7,2,FALSE)","v":0},"Sin información"]
[970,8,"Chihuahua",8,"Candidaturas Independientes","8.7",7,"Resolución sobre procedencia de manifestación de intención de aspirantes a candidaturas independientes para Ayuntamientos","OPL","CG","2021-01-15","2021-02-28",null,null,{"$f":"VLOOKUP(P976,Campos!$B$2:$C$7,2,FALSE)","v":0},"Sin información"]
[971,8,"Chihuahua",8,"Candidaturas Independientes","8.8",8,"Plazo para obtener el apoyo ciudadano de las candidaturas independientes para Gubernatura","OPL","OD","2021-02-01","2021-03-12",null,null,{"$f":"VLOOKUP(P977,Campos!$B$2:$C$7,2,FALSE)","v":0},"Sin información"]
[972,8,"Chihuahua",8,"Candidaturas Independientes","8.9",9,"Plazo para obtener el apoyo ciudadano de las candidaturas independientes para Diputaciones","OPL","OD","2021-03-01","2021-03-23",null,null,{"$f":"VLOOKUP(P978,Campos!$B$2:$C$7,2,FALSE)","v":0},"Sin información"]
[973,8,"Chihuahua",8,"Candidaturas Independientes","8.10",10,"Plazo para obtener el apoyo ciudadano de las candidaturas independientes para Ayuntamientos","OPL","OD","2021-03-01","2021-03-23",null,null,{"$f":"VLOOKUP(P979,Campos!$B$2:$C$7,2,FALSE)","v":0},"Sin información"]
[974,8,"Chihuahua",8,"Candidaturas Independientes","8.11",11,"Plazo para otorgar las constancias de porcentaje a favor de aspirantes a la candidatura independiente para Gubernatura","OPL","CG","2021-03-13","2021-03-14",null,null,{"$f":"VLOOKUP(P980,Campos!$B$2:$C$7,2,FALSE)","v":0},"Sin información"]
[975,8,"Chihuahua",8,"Candidaturas Independientes","8.12",12,"Plazo para otorgar las constancias de porcentaje a favor de aspirantes a la candidatura independiente para Diputaciones","OPL","CG","2021-03-24","2021-04-14",null,null,{"$f":"VLOOKUP(P981,Campos!$B$2:$C$7,2,FALSE)","v":0},"Sin información"]
[976,8,"Chihuahua",8,"Candidaturas Independientes","8.13",13,"Plazo para otorgar las constancias de porcentaje a favor de aspirantes a la candidatura independiente para Ayuntamientos","OPL","CG","2021-03-24","2021-04-14",null,null,{"$f":"VLOOKUP(P982,Campos!$B$2:$C$7,2,FALSE)","v":0},"Sin información"]
[977,8,"Chihuahua",9,"Candidaturas","9.1",1,"Registro de plataformas electorales","OPL","CG","2020-10-01","2021-03-15",null,null,{"$f":"VLOOKUP(P983,Campos!$B$2:$C$7,2,FALSE)","v":0},"Sin información"]
[978,8,"Chihuahua",9,"Candidaturas","9.2",2,"Solicitud de registro de convenio de coalición para Gubernatura","OPL","CG","2020-10-01","2021-02-01",null,null,{"$f":"VLOOKUP(P984,Campos!$B$2:$C$7,2,FALSE)","v":0},"Sin información"]
[979,8,"Chihuahua",9,"Candidaturas","9.3",3,"Solicitud de registro de convenio de coalición para Diputaciones","OPL","CG","2020-10-01","2021-03-01",null,null,{"$f":"VLOOKUP(P985,Campos!$B$2:$C$7,2,FALSE)","v":0},"Sin información"]
[980,8,"Chihuahua",9,"Candidaturas","9.4",4,"Solicitud de registro de convenio de coalición para Ayuntamientos","OPL","CG","2020-10-01","2021-03-01",null,null,{"$f":"VLOOKUP(P986,Campos!$B$2:$C$7,2,FALSE)","v":0},"Sin información"]
[981,8,"Chihuahua",9,"Candidaturas","9.5",5,"Resolución sobre Convenio de Coalición para Gubernatura","OPL","CG","2020-10-11","2021-02-11",null,null,{"$f":"VLOOKUP(P987,Campos!$B$2:$C$7,2,FALSE)","v":0},"Sin información"]
[982,8,"Chihuahua",9,"Candidaturas","9.6",6,"Resolución sobre Convenio de Coalición para Diputaciones","OPL","CG","2020-10-11","2021-03-11",null,null,{"$f":"VLOOKUP(P988,Campos!$B$2:$C$7,2,FALSE)","v":0},"Sin información"]
[983,8,"Chihuahua",9,"Candidaturas","9.7",7,"Resolución sobre Convenio de Coalición para Ayuntamientos","OPL","CG","2020-10-11","2021-03-11",null,null,{"$f":"VLOOKUP(P989,Campos!$B$2:$C$7,2,FALSE)","v":0},"Sin información"]
[984,8,"Chihuahua",9,"Candidaturas","9.8",8,"Solicitud de registro de Candidaturas para Gubernatura","OPL","CG/OD","2021-03-15","2021-03-25",null,null,{"$f":"VLOOKUP(P990,Campos!$B$2:$C$7,2,FALSE)","v":0},"Sin información"]
[985,8,"Chihuahua",9,"Candidaturas","9.9",9,"Solicitud de registro de Candidaturas para Diputaciones","OPL","CG/OD","2021-04-15","2021-04-25",null,null,{"$f":"VLOOKUP(P991,Campos!$B$2:$C$7,2,FALSE)","v":0},"Sin información"]
[986,8,"Chihuahua",9,"Candidaturas","9.11",11,"Solicitud de registro de Candidaturas para Ayuntamientos","OPL","CG/OD","2021-04-15","2021-04-25",null,null,{"$f":"VLOOKUP(P992,Campos!$B$2:$C$7,2,FALSE)","v":0},"Sin información"]
[987,8,"Chihuahua",9,"Candidaturas","9.13",13,"Resolución para aprobar las candidaturas para Gubernatura","OPL","CG","2021-04-03","2021-04-03",null,null,{"$f":"VLOOKUP(P993,Campos!$B$2:$C$7,2,FALSE)","v":0},"Sin información"]
[988,8,"Chihuahua",9,"Candidaturas","9.14",14,"Resolución para aprobar las candidaturas para Diputaciones","OPL","CG","2021-04-28","2021-04-28",null,null,{"$f":"VLOOKUP(P994,Campos!$B$2:$C$7,2,FALSE)","v":0},"Sin información"]
[989,8,"Chihuahua",9,"Candidaturas","9.16",16,"Resolución para aprobar las candidaturas para Ayuntamientos","OPL","CG/OD","2021-04-28","2021-04-28",null,null,{"$f":"VLOOKUP(P995,Campos!$B$2:$C$7,2,FALSE)","v":0},"Sin información"]
[990,8,"Chihuahua",9,"Candidaturas","9.17",17,"Solicitud de registro de candidaturas comunes para Gubernatura ","OPL","CG/OD","2020-10-01","2021-01-31",null,null,{"$f":"VLOOKUP(P996,Campos!$B$2:$C$7,2,FALSE)","v":0},"Sin información"]
[991,8,"Chihuahua",9,"Candidaturas","9.18",18,"Solicitud de registro de candidaturas comunes para Diputaciones ","OPL","CG/OD","2020-10-01","2021-02-28",null,null,{"$f":"VLOOKUP(P997,Campos!$B$2:$C$7,2,FALSE)","v":0},"Sin información"]
[992,8,"Chihuahua",9,"Candidaturas","9.19",19,"Solicitud de registro de candidaturas comunes para Ayuntamientos  ","OPL","CG/OD","2020-10-01","2021-02-28",null,null,{"$f":"VLOOKUP(P998,Campos!$B$2:$C$7,2,FALSE)","v":0},"Sin información"]
[993,8,"Chihuahua",9,"Candidaturas","9.20",20,"Resolución para aprobar las candidaturas comunes para Gubernatura","OPL","CG/OD","2020-10-06","2021-02-05",null,null,{"$f":"VLOOKUP(P999,Campos!$B$2:$C$7,2,FALSE)","v":0},"Sin información"]
[994,8,"Chihuahua",9,"Candidaturas","9.21",21,"Resolución para aprobar las candidaturas comunes para Diputaciones ","OPL","CG/OD","2020-10-06","2021-03-05",null,null,{"$f":"VLOOKUP(P1000,Campos!$B$2:$C$7,2,FALSE)","v":0},"Sin información"]
[995,8,"Chihuahua",9,"Candidaturas","9.22",22,"Resolución para aprobar las candidaturas comunes para Ayuntamientos ","OPL","CG/OD","2020-10-06","2021-03-05",null,null,{"$f":"VLOOKUP(P1001,Campos!$B$2:$C$7,2,FALSE)","v":0},"Sin información"]
[996,8,"Chihuahua",10,"Debates","10.1",1,"Aprobación de las fechas en que se celebrarán los debates","OPL","OD","2021-04-04","2021-05-22",null,null,{"$f":"VLOOKUP(P1002,Campos!$B$2:$C$7,2,FALSE)","v":0},"Sin información"]
[997,8,"Chihuahua",10,"Debates","10.2",2,"Realización de debate(s)","OPL","OD","2021-04-04","2021-06-02",null,null,{"$f":"VLOOKUP(P1003,Campos!$B$2:$C$7,2,FALSE)","v":0},"Sin información"]
[998,8,"Chihuahua",11,"Documentación y material electoral","11.1",1,"Entrega a la Junta Local Ejecutiva del INE, de los diseños y especificaciones técnicas de la documentación y materiales electorales, en medios impresos y electrónicos","OPL","CG","2020-09-01","2020-09-30",null,null,{"$f":"VLOOKUP(P1004,Campos!$B$2:$C$7,2,FALSE)","v":0},"Sin información"]
[999,8,"Chihuahua",11,"Documentación y material electoral","11.2",2,"Revisión de los documentos y materiales electorales y especificaciones técnicas, presentadas por el OPL","INE","JLE","2020-09-15","2020-12-16",null,null,{"$f":"VLOOKUP(P1005,Campos!$B$2:$C$7,2,FALSE)","v":0},"Sin información"]
[1000,8,"Chihuahua",11,"Documentación y material electoral","11.3",3,"En su caso, atención y presentación, de los cambios pertinentes, conforme a las observaciones emitidas por la Junta Local Ejecutiva del INE","OPL","CG","2020-09-15","2020-12-16",null,null,{"$f":"VLOOKUP(P1006,Campos!$B$2:$C$7,2,FALSE)","v":0},"Sin información"]
[1001,8,"Chihuahua",11,"Documentación y material electoral","11.4",4,"Validación de los documentos y materiales electorales y especificaciones técnicas, con las observaciones subsanadas","INE","DEOE","2020-10-28","2020-12-18",null,null,{"$f":"VLOOKUP(P1007,Campos!$B$2:$C$7,2,FALSE)","v":0},"Sin información"]
[1002,8,"Chihuahua",11,"Documentación y material electoral","11.5",5,"Entrega a la Dirección Ejecutiva de Organización Electoral del INE, del Reporte único sobre la aprobación y adjudicación de los documentos y materiales electorales del OPL, en medios electrónicos","OPL","CG","2021-02-01","2021-02-26",null,null,{"$f":"VLOOKUP(P1008,Campos!$B$2:$C$7,2,FALSE)","v":0},"Sin información"]
[1003,8,"Chihuahua",11,"Documentación y material electoral","11.6",6,"Revisión y en su caso validación, del Reporte único sobre la aprobación y adjudicación de los documentos y materiales electorales del OPL, en medios electrónicos","INE","DEOE","2021-02-15","2021-03-12",null,null,{"$f":"VLOOKUP(P1009,Campos!$B$2:$C$7,2,FALSE)","v":0},"Sin información"]
[1004,8,"Chihuahua",11,"Documentación y material electoral","11.7",7,"Entrega  a la Dirección Ejecutiva de Organización Electoral del INE, del Reporte semanal sobre el avance en la producción de los documentos y materiales electorales del OPL, en medios electrónicos.","OPL","CG","2021-03-15","2021-05-22",null,null,{"$f":"VLOOKUP(P1010,Campos!$B$2:$C$7,2,FALSE)","v":0},"Sin información"]
[1005,8,"Chihuahua",11,"Documentación y material electoral","11.8",8,"Aprobación de la documentación y material electoral","OPL","CG","2020-11-11","2020-12-31",null,null,{"$f":"VLOOKUP(P1011,Campos!$B$2:$C$7,2,FALSE)","v":0},"Sin información"]
[1006,8,"Chihuahua",11,"Documentación y material electoral","11.9",9,"Entrega a la Dirección Ejecutiva de Organización Electoral del INE, del Reporte con los resultados de las verificaciones de las medidas de seguridad en la documentación electoral","OPL","CG","2021-05-27","2021-06-11",null,null,{"$f":"VLOOKUP(P1012,Campos!$B$2:$C$7,2,FALSE)","v":0},"Sin información"]
[1007,8,"Chihuahua",11,"Documentación y material electoral","11.10",10,"Supervisiones respecto de los procedimientos de impresión y producción de la documentación y materiales electorales","INE","DEOE","2021-03-15","2021-05-22",null,null,{"$f":"VLOOKUP(P1013,Campos!$B$2:$C$7,2,FALSE)","v":0},"Sin información"]
[1008,8,"Chihuahua",11,"Documentación y material electoral","11.11",11,"Designación de la persona responsable de llevar el control sobre la asignación de los folios de las boletas que se distribuirán en cada mesa directiva de casilla","OPL","CG","2021-03-01","2021-03-30",null,null,{"$f":"VLOOKUP(P1014,Campos!$B$2:$C$7,2,FALSE)","v":0},"Sin información"]
[1009,8,"Chihuahua",11,"Documentación y material electoral","11.12",12,"Aprobación de SE y CAE, así como de personal que auxiliará en el procedimiento de conteo, sellado y agrupamiento de las boletas electorales; así como la integración de documentación para las casillas","OPL","CG","2021-04-24","2021-05-11",null,null,{"$f":"VLOOKUP(P1015,Campos!$B$2:$C$7,2,FALSE)","v":0},"Sin información"]
[1010,8,"Chihuahua",11,"Documentación y material electoral","11.13",13,"Recepción de las boletas electorales por el órgano competente que realizará el conteo, sellado y agrupamiento","OPL","CG","2021-05-18","2021-05-22",null,null,{"$f":"VLOOKUP(P1016,Campos!$B$2:$C$7,2,FALSE)","v":0},"Sin información"]
[1011,8,"Chihuahua",11,"Documentación y material electoral","11.14",14,"Conteo, sellado y agrupamiento de boletas","OPL","CG","2021-05-18","2021-05-28",null,null,{"$f":"VLOOKUP(P1017,Campos!$B$2:$C$7,2,FALSE)","v":0},"Sin información"]
[1012,8,"Chihuahua",11,"Documentación y material electoral","11.15",15,"Distribución de la documentación y materiales electorales a las y los Presidentes de mesas directivas de casilla","OPL","OD","2021-05-31","2021-06-04",null,null,{"$f":"VLOOKUP(P1018,Campos!$B$2:$C$7,2,FALSE)","v":0},"Sin información"]
[1013,8,"Chihuahua",11,"Documentación y material electoral","11.16",16,"Remisión de los recibos de la entrega de la documentación y materiales electorales al Consejo General del OPL","INE","JLE","2021-06-24","2021-06-30",null,null,{"$f":"VLOOKUP(P1019,Campos!$B$2:$C$7,2,FALSE)","v":0},"Sin información"]
[1014,8,"Chihuahua",12,"Jornada Electoral","12.1",1,"Aprobación del Programa de Operación del SIJE 2021","INE","CCOE","2020-07-01","2020-07-31",null,null,{"$f":"VLOOKUP(P1020,Campos!$B$2:$C$7,2,FALSE)","v":0},"Sin información"]
[1015,8,"Chihuahua",12,"Jornada Electoral","12.2",2,"Aprobación de las metas del SIJE 2021","INE","CG","2021-03-01","2021-03-31",null,null,{"$f":"VLOOKUP(P1021,Campos!$B$2:$C$7,2,FALSE)","v":0},"Sin información"]
[1016,8,"Chihuahua",12,"Jornada Electoral","12.3",3,"Realización de pruebas del SIJE 2021","INE","DEOE","2021-04-01","2021-04-15",null,null,{"$f":"VLOOKUP(P1022,Campos!$B$2:$C$7,2,FALSE)","v":0},"Sin información"]
[1017,8,"Chihuahua",12,"Jornada Electoral","12.4",4,"Desarrollo del primer simulacro del SIJE","INE/OPL","DEOE/OD","2021-04-29","2021-04-29",null,null,{"$f":"VLOOKUP(P1023,Campos!$B$2:$C$7,2,FALSE)","v":0},"Sin información"]
[1018,8,"Chihuahua",12,"Jornada Electoral","12.5",5,"Desarrollo del segundo simulacro del SIJE","INE/OPL","DEOE/OD","2021-05-09","2021-05-09",null,null,{"$f":"VLOOKUP(P1024,Campos!$B$2:$C$7,2,FALSE)","v":0},"Sin información"]
[1019,8,"Chihuahua",12,"Jornada Electoral","12.6",6,"Desarrollo del tercer simulacro del SIJE","INE/OPL","DEOE/OD","2021-05-23","2021-05-23",null,null,{"$f":"VLOOKUP(P1025,Campos!$B$2:$C$7,2,FALSE)","v":0},"Sin información"]
[1020,8,"Chihuahua",12,"Jornada Electoral","12.7",7,"Jornada Electoral","OPL","CG/OD","2021-06-06","2021-06-06",null,null,{"$f":"VLOOKUP(P1026,Campos!$B$2:$C$7,2,FALSE)","v":0},"Sin información"]
[1021,8,"Chihuahua",13,"Bodegas electorales","13.1",1,"Determinación de los lugares que ocuparán las bodegas electorales para el resguardo de la documentación electoral","OPL","CG","2021-02-01","2021-02-28",null,null,{"$f":"VLOOKUP(P1027,Campos!$B$2:$C$7,2,FALSE)","v":0},"Sin información"]
[1022,8,"Chihuahua",13,"Bodegas electorales","13.2",2,"Informe que rinden las y los Presidentes sobre las condiciones de equipamiento, mecanismos de operación y medidas de seguridad de las bodegas electorales","OPL","OD","2021-03-01","2021-03-31",null,null,{"$f":"VLOOKUP(P1028,Campos!$B$2:$C$7,2,FALSE)","v":0},"Sin información"]
[1023,8,"Chihuahua",13,"Bodegas electorales","13.3",3,"Designación, por parte del órgano competente del OPL, del personal que tendrá acceso a la bodega electoral","OPL","CG/OD","2021-03-01","2021-03-30",null,null,{"$f":"VLOOKUP(P1029,Campos!$B$2:$C$7,2,FALSE)","v":0},"Sin información"]
[1024,8,"Chihuahua",13,"Bodegas electorales","13.4",4,"Envío a la UTVOPL, por conducto de la JLE, el informe sobre las condiciones que guardan las bodegas electorales","OPL","CG","2021-04-04","2021-04-10",null,null,{"$f":"VLOOKUP(P1030,Campos!$B$2:$C$7,2,FALSE)","v":0},"Sin información"]
[1025,8,"Chihuahua",14,"Mecanismos de recolección","14.1",1,"Entrega de estudios de factibilidad al OPL","INE","CL","2021-03-15","2021-03-31",null,null,{"$f":"VLOOKUP(P1031,Campos!$B$2:$C$7,2,FALSE)","v":0},"Sin información"]
[1026,8,"Chihuahua",14,"Mecanismos de recolección","14.2",2,"Entrega de observaciones a los estudios de factibilidad ","OPL","CG","2021-04-01","2021-04-24",null,null,{"$f":"VLOOKUP(P1032,Campos!$B$2:$C$7,2,FALSE)","v":0},"Sin información"]
[1027,8,"Chihuahua",14,"Mecanismos de recolección","14.3",3,"Recorridos para verificar las propuestas de los mecanismos de recolección","INE/OPL","CD/OD","2021-03-16","2021-04-24",null,null,{"$f":"VLOOKUP(P1033,Campos!$B$2:$C$7,2,FALSE)","v":0},"Sin información"]
[1028,8,"Chihuahua",14,"Mecanismos de recolección","14.4",4,"Aprobación de los mecanismos de recolección ","INE","CD","2021-04-26","2021-04-30",null,null,{"$f":"VLOOKUP(P1034,Campos!$B$2:$C$7,2,FALSE)","v":0},"Sin información"]
[1029,8,"Chihuahua",14,"Mecanismos de recolección","14.5",5,"Traslado y recolección de los paquetes electorales","INE/OPL","CD/OD","2021-06-06","2021-06-07",null,null,{"$f":"VLOOKUP(P1035,Campos!$B$2:$C$7,2,FALSE)","v":0},"Sin información"]
[1030,8,"Chihuahua",14,"Mecanismos de recolección","14.6",6,"Acreditación de representantes de partidos políticos y candidaturas independientes ante los mecanismos de recolección","INE","CL/CD","2021-04-27","2021-06-03",null,null,{"$f":"VLOOKUP(P1036,Campos!$B$2:$C$7,2,FALSE)","v":0},"Sin información"]
[1031,8,"Chihuahua",14,"Mecanismos de recolección","14.7",7,"Sustitución de representantes de partidos políticos y candidaturas independientes ante los mecanismos de recolección","INE","CL/CD","2021-04-28","2021-06-04",null,null,{"$f":"VLOOKUP(P1037,Campos!$B$2:$C$7,2,FALSE)","v":0},"Sin información"]
[1032,8,"Chihuahua",14,"Mecanismos de recolección","14.8",8,"Entrega a la JLE, el informe sobre la recepción de paquetes electorales en los órganos competentes","OPL","CG","2021-06-06","2021-06-28",null,null,{"$f":"VLOOKUP(P1038,Campos!$B$2:$C$7,2,FALSE)","v":0},"Sin información"]
[1033,8,"Chihuahua",15,"Cómputos","15.1",1,"Aprobación de los lineamientos de cómputo y del cuadernillo de consulta sobre votos válidos y votos nulos","OPL","CG","2021-01-18","2021-01-29",null,null,{"$f":"VLOOKUP(P1039,Campos!$B$2:$C$7,2,FALSE)","v":0},"Sin información"]
[1034,8,"Chihuahua",15,"Cómputos","15.2",2,"Integración por parte de los Órganos Desconcentrados del OPL, de la propuesta para la habilitación de espacios para el recuento de votos con las alternativas para todos los escenarios de cómputo","OPL","OD","2021-03-01","2021-03-07",null,null,{"$f":"VLOOKUP(P1040,Campos!$B$2:$C$7,2,FALSE)","v":0},"Sin información"]
[1035,8,"Chihuahua",15,"Cómputos","15.3",3,"Informe de los escenarios de cómputos de la totalidad de sus órganos desconcentrados","OPL","CG","2021-04-01","2021-04-04",null,null,{"$f":"VLOOKUP(P1041,Campos!$B$2:$C$7,2,FALSE)","v":0},"Sin información"]
[1036,8,"Chihuahua",15,"Cómputos","15.4",4,"Remisión a la JLE en la entidad, las propuestas de escenarios de cómputos, para la dictaminación de viabilidad","OPL","CG","2021-05-01","2021-05-07",null,null,{"$f":"VLOOKUP(P1042,Campos!$B$2:$C$7,2,FALSE)","v":0},"Sin información"]
[1037,8,"Chihuahua",15,"Cómputos","15.5",5,"Remisión de las observaciones a los escenarios de Cómputos al OPL y a su vez informar de las mismas a la UTVOPL","INE","JLE","2021-05-08","2021-05-15",null,null,{"$f":"VLOOKUP(P1043,Campos!$B$2:$C$7,2,FALSE)","v":0},"Sin información"]
[1038,8,"Chihuahua",15,"Cómputos","15.6",6,"Aprobación por parte del órgano competente del OPL, del acuerdo mediante el cual se designa al personal que participará en las tareas de apoyo a los Cómputos Municipales","OPL","CG/OD","2021-04-26","2021-05-05",null,null,{"$f":"VLOOKUP(P1044,Campos!$B$2:$C$7,2,FALSE)","v":0},"Sin información"]
[1039,8,"Chihuahua",15,"Cómputos","15.7",7,"Aprobación por parte del órgano competente del OPL, del acuerdo mediante el cual se designa al personal que participará en las tareas de apoyo a los Cómputos Distritales ","OPL","CG/OD","2021-04-26","2021-05-05",null,null,{"$f":"VLOOKUP(P1045,Campos!$B$2:$C$7,2,FALSE)","v":0},"Sin información"]
[1040,8,"Chihuahua",15,"Cómputos","15.8",8,"Aprobación por parte de los órganos competentes del OPL, de los distintos escenarios de cómputos","OPL","OD","2021-05-08","2021-05-15",null,null,{"$f":"VLOOKUP(P1046,Campos!$B$2:$C$7,2,FALSE)","v":0},"Sin información"]
[1041,8,"Chihuahua",15,"Cómputos","15.9",9,"Aprobación por parte del órgano competente del OPL, del acuerdo por el que se habilitarán espacios para la instalación de grupos de trabajo y, en su caso, puntos de recuento","OPL","CG/OD","2021-06-08","2021-06-08",null,null,{"$f":"VLOOKUP(P1047,Campos!$B$2:$C$7,2,FALSE)","v":0},"Sin información"]
[1042,8,"Chihuahua",15,"Cómputos","15.10",10,"Cómputos Distritales","OPL","OD","2021-06-11","2021-06-13",null,null,{"$f":"VLOOKUP(P1048,Campos!$B$2:$C$7,2,FALSE)","v":0},"Sin información"]
[1043,8,"Chihuahua",15,"Cómputos","15.14",14,"Cómputo Estatal para la asignación diputaciones de Representación Proporcional","OPL","CG","2021-06-16","2021-08-31",null,null,{"$f":"VLOOKUP(P1049,Campos!$B$2:$C$7,2,FALSE)","v":0},"Sin información"]
[1044,8,"Chihuahua",15,"Cómputos","15.13",13,"Cómputo Estatal para la Gubernatura","OPL","CG","2021-06-11","2021-06-13",null,null,{"$f":"VLOOKUP(P1050,Campos!$B$2:$C$7,2,FALSE)","v":0},"Sin información"]
[1045,8,"Chihuahua",15,"Cómputos","15.11",11,"Cómputos Municipales","OPL","OD","2021-06-09","2021-06-11",null,null,{"$f":"VLOOKUP(P1051,Campos!$B$2:$C$7,2,FALSE)","v":0},"Sin información"]
[1046,8,"Chihuahua",15,"Cómputos","15.16",16,"Asignación de regidurías por el principio de Representación Proporcional","OPL","CG","2021-06-14","2021-09-09",null,null,{"$f":"VLOOKUP(P1052,Campos!$B$2:$C$7,2,FALSE)","v":0},"Sin información"]
[1047,8,"Chihuahua",16,"PREP","16.1",1,"Aprobación del Acuerdo por el que se designa o ratifica a la instancia interna responsable de coordinar el PREP","OPL","CG","2020-09-11","2020-09-11",null,null,{"$f":"VLOOKUP(P1053,Campos!$B$2:$C$7,2,FALSE)","v":0},"Sin información"]
[1048,8,"Chihuahua",16,"PREP","16.2",2,"Aprobación del Acuerdo de Integración del COTAPREP","OPL","CG","2020-11-11","2020-11-11",null,null,{"$f":"VLOOKUP(P1054,Campos!$B$2:$C$7,2,FALSE)","v":0},"Sin información"]
[1049,8,"Chihuahua",16,"PREP","16.3",3,"Documento por el que se determina la implementación del PREP por el OPL o con el apoyo de un Tercero","OPL","CG","2020-12-11","2020-12-11",null,null,{"$f":"VLOOKUP(P1055,Campos!$B$2:$C$7,2,FALSE)","v":0},"Sin información"]
[1050,8,"Chihuahua",16,"PREP","16.4",4,"Aprobación del Acuerdo por el que se determina el Proceso Técnico Operativo ","OPL","CG","2021-01-11","2021-01-11",null,null,{"$f":"VLOOKUP(P1056,Campos!$B$2:$C$7,2,FALSE)","v":0},"Sin información"]
[1051,8,"Chihuahua",16,"PREP","16.5",5,"Aprobación del Acuerdo por el que se determina la ubicación, instalación y habilitación de los CATD y, en su caso, CCV","OPL","CG","2021-02-11","2021-02-11",null,null,{"$f":"VLOOKUP(P1057,Campos!$B$2:$C$7,2,FALSE)","v":0},"Sin información"]
[1052,8,"Chihuahua",16,"PREP","16.6",6,"Documento de Designación del Ente Auditor ","OPL","CG","2021-02-11","2021-02-11",null,null,{"$f":"VLOOKUP(P1058,Campos!$B$2:$C$7,2,FALSE)","v":0},"Sin información"]
[1053,8,"Chihuahua",16,"PREP","16.7",7,"Instrumento jurídico celebrado entre el OPL y el ente auditor","OPL","CG","2021-03-11","2021-03-11",null,null,{"$f":"VLOOKUP(P1059,Campos!$B$2:$C$7,2,FALSE)","v":0},"Sin información"]
[1054,8,"Chihuahua",16,"PREP","16.8",8,"Realización del primer simulacro del PREP","OPL","CG","2021-05-16","2021-05-16",null,null,{"$f":"VLOOKUP(P1060,Campos!$B$2:$C$7,2,FALSE)","v":0},"Sin información"]
[1055,8,"Chihuahua",16,"PREP","16.9",9,"Realización del segundo simulacro del PREP","OPL","CG","2021-05-23","2021-05-23",null,null,{"$f":"VLOOKUP(P1061,Campos!$B$2:$C$7,2,FALSE)","v":0},"Sin información"]
[1056,8,"Chihuahua",16,"PREP","16.10",10,"Realización del tercer simulacro del PREP","OPL","CG","2021-05-30","2021-05-30",null,null,{"$f":"VLOOKUP(P1062,Campos!$B$2:$C$7,2,FALSE)","v":0},"Sin información"]
[1057,8,"Chihuahua",16,"PREP","16.11",11,"Operación del PREP","OPL","CG","2021-06-06","2021-06-07",null,null,{"$f":"VLOOKUP(P1063,Campos!$B$2:$C$7,2,FALSE)","v":0},"Sin información"]
[1058,8,"Chihuahua",17,"Conteo Rápido","17.1",1,"Aprobación del Acuerdo de Integración del COTECORA","Por definir","Por definir","2021-02-01","2021-02-06",null,null,{"$f":"VLOOKUP(P1064,Campos!$B$2:$C$7,2,FALSE)","v":0},"Sin información"]
[1059,8,"Chihuahua",17,"Conteo Rápido","17.2",2,"Realización de pruebas de captura","Por definir","Por definir","2021-04-14","2021-04-15",null,null,{"$f":"VLOOKUP(P1065,Campos!$B$2:$C$7,2,FALSE)","v":0},"Sin información"]
[1060,8,"Chihuahua",17,"Conteo Rápido","17.3",3,"Realización de primer simulacro del Conteo Rápido","Por definir","Por definir","2021-04-29","2021-04-29",null,null,{"$f":"VLOOKUP(P1066,Campos!$B$2:$C$7,2,FALSE)","v":0},"Sin información"]
[1061,8,"Chihuahua",17,"Conteo Rápido","17.4",4,"Realización de segundo simulacro del Conteo Rápido","Por definir","Por definir","2021-05-16","2021-05-16",null,null,{"$f":"VLOOKUP(P1067,Campos!$B$2:$C$7,2,FALSE)","v":0},"Sin información"]
[1062,8,"Chihuahua",17,"Conteo Rápido","17.5",5,"Selección de la Muestra para el Conteo Rápido","Por definir","Por definir","2021-06-02","2021-06-04",null,null,{"$f":"VLOOKUP(P1068,Campos!$B$2:$C$7,2,FALSE)","v":0},"Sin información"]
[1063,8,"Chihuahua",17,"Conteo Rápido","17.6",6,"Realización de tercer simulacro del Conteo Rápido","Por definir","Por definir","2021-05-23","2021-05-23",null,null,{"$f":"VLOOKUP(P1069,Campos!$B$2:$C$7,2,FALSE)","v":0},"Sin información"]
[1064,8,"Chihuahua",18,"Voto de la ciudadanía residente en el extranjero","18.1",1,"Puesta a disposición de la Solicitud individual de Inscripción a la Lista Nominal de Electores Residentes en el extranjero para procesos electorales locales (SIILNERE), por los medios que determine el INE.","INE","DERFE","2020-09-01","2021-03-15",null,null,{"$f":"VLOOKUP(P1070,Campos!$B$2:$C$7,2,FALSE)","v":0},"Sin información"]
[1065,8,"Chihuahua",18,"Voto de la ciudadanía residente en el extranjero","18.2",2,"Recepción de la Solicitud individual de Inscripción a la Lista Nominal de Electores Residentes en el extranjero para procesos electorales locales (SIILNERE), por los medios que determine el INE","INE","DERFE","2020-09-01","2021-03-15",null,null,{"$f":"VLOOKUP(P1071,Campos!$B$2:$C$7,2,FALSE)","v":0},"Sin información"]
[1066,8,"Chihuahua",18,"Voto de la ciudadanía residente en el extranjero","18.3",3,"Conformación de la Lista Nominal de Electores Residentes en el Extranjero (subsanes, observaciones de partidos políticos e informe)","INE","DERFE","2020-09-01","2021-04-15",null,null,{"$f":"VLOOKUP(P1072,Campos!$B$2:$C$7,2,FALSE)","v":0},"Sin información"]
[1067,8,"Chihuahua",18,"Voto de la ciudadanía residente en el extranjero","18.4",4,"En caso de voto postal, entrega-recepción de materiales del PEP.","INE","DERFE/UTVOPL/OPL","Por definir","2021-03-15",null,null,{"$f":"VLOOKUP(P1073,Campos!$B$2:$C$7,2,FALSE)","v":0},"Sin información"]
[1068,8,"Chihuahua",18,"Voto de la ciudadanía residente en el extranjero","18.5",5,"En caso de voto postal, preparación y envío de los PEP a la ciudadanía residente en el extranjero","INE","DERFE/DEOE/UNICOM/DECEYEC","2021-04-02","2021-04-30",null,null,{"$f":"VLOOKUP(P1074,Campos!$B$2:$C$7,2,FALSE)","v":0},"Sin información"]
[1069,8,"Chihuahua",18,"Voto de la ciudadanía residente en el extranjero","18.6",6,"En caso de voto postal, recepción de Sobres Voto y resguardo","INE","DERFE/DEOE","2021-04-11","2021-06-05",null,null,{"$f":"VLOOKUP(P1075,Campos!$B$2:$C$7,2,FALSE)","v":0},"Sin información"]
[1070,8,"Chihuahua",18,"Voto de la ciudadanía residente en el extranjero","18.7",7,"Elaboración y aprobación del Programa de Integración de Mesas de Escrutinio y Cómputo y Capacitación Electoral para el Voto de las y los Mexicanos Residentes en el Extranjero","INE","CG","Por definir","Por definir",null,null,{"$f":"VLOOKUP(P1076,Campos!$B$2:$C$7,2,FALSE)","v":0},"Sin información"]
[1071,8,"Chihuahua",18,"Voto de la ciudadanía residente en el extranjero","18.8",8,"Aprobación del número de mesas de escrutinio y cómputo a instalar","INE","CL","Por definir","Por definir",null,null,{"$f":"VLOOKUP(P1077,Campos!$B$2:$C$7,2,FALSE)","v":0},"Sin información"]
[1072,8,"Chihuahua",18,"Voto de la ciudadanía residente en el extranjero","18.9",9,"Integración y aprobación del Listado del personal que realizará las suplencias en las Mesas de Escrutinio y Cómputo","INE","CL","Por definir","Por definir",null,null,{"$f":"VLOOKUP(P1078,Campos!$B$2:$C$7,2,FALSE)","v":0},"Sin información"]
[1073,8,"Chihuahua",18,"Voto de la ciudadanía residente en el extranjero","18.10",10,"Logística del Local Único","OPL","CG","Por definir","Por definir",null,null,{"$f":"VLOOKUP(P1079,Campos!$B$2:$C$7,2,FALSE)","v":0},"Sin información"]
[1074,8,"Chihuahua",18,"Voto de la ciudadanía residente en el extranjero","18.11",11,"Escrutinio y Cómputo de los votos de los mexicanos residentes en el extranjero","OPL","CG","2021-06-06","2021-06-06",null,null,{"$f":"VLOOKUP(P1080,Campos!$B$2:$C$7,2,FALSE)","v":0},"Sin información"]
[1075,8,"Chihuahua",18,"Voto de la ciudadanía residente en el extranjero","18.12",12,"Promoción del Voto de los Mexicanos Residentes en el Extranjero (Difusión, Comunicación, Vinculación y Plataformas Digitales)","INE/OPL","CG/CG","Por definir","Por definir",null,null,{"$f":"VLOOKUP(P1081,Campos!$B$2:$C$7,2,FALSE)","v":0},"Sin información"]
[1076,8,"Chihuahua",18,"Voto de la ciudadanía residente en el extranjero","18.13",13,"Entrega de la Lista Nominal de Electores Residentes en el Extranjero (LNERE), para escrutinio y cómputo.","INE","DERFE/DEOE","2021-06-05","2021-06-05",null,null,{"$f":"VLOOKUP(P1082,Campos!$B$2:$C$7,2,FALSE)","v":0},"Sin información"]
[1077,8,"Chihuahua",19,"Visitantes extranjeros","19.1",1,"Emisión de la Convocatoria para visitantes extranjeros","INE","CG","2020-08-03","2020-09-30",null,null,{"$f":"VLOOKUP(P1083,Campos!$B$2:$C$7,2,FALSE)","v":0},"Sin información"]
[1078,8,"Chihuahua",19,"Visitantes extranjeros","19.2",2,"Difusión de la Convocatoria para visitantes extranjeros","INE","CAI","2020-09-01","2021-05-26",null,null,{"$f":"VLOOKUP(P1084,Campos!$B$2:$C$7,2,FALSE)","v":0},"Sin información"]
[1079,8,"Chihuahua",19,"Visitantes extranjeros","19.3",3,"Recepción de solicitudes de acreditación como visitantes extranjeros","INE","CAI","2020-09-01","2021-05-26",null,null,{"$f":"VLOOKUP(P1085,Campos!$B$2:$C$7,2,FALSE)","v":0},"Sin información"]
[1080,8,"Chihuahua",19,"Visitantes extranjeros","19.4",4,"Resolución de solicitudes de acreditación como visitantes extranjeros","INE","CAI","2020-09-02","2021-05-30",null,null,{"$f":"VLOOKUP(P1086,Campos!$B$2:$C$7,2,FALSE)","v":0},"Sin información"]
[1081,8,"Chihuahua",19,"Visitantes extranjeros","19.5",5,"Entrega de acreditaciones a los visitantes extranjeros","INE","CAI","2020-09-04","2021-06-05",null,null,{"$f":"VLOOKUP(P1087,Campos!$B$2:$C$7,2,FALSE)","v":0},"Sin información"]
[1082,7,"Chiapas",1,"Mecanismos de coordinación","1.1",1,"Aprobar Calendarios y Planes Integrales de los Procesos Electorales Locales","INE","CG","2020-08-01","2020-08-07",null,null,{"$f":"VLOOKUP(P1088,Campos!$B$2:$C$7,2,FALSE)","v":0},"Sin información"]
[1083,7,"Chiapas",1,"Mecanismos de coordinación","1.2",2,"Firma del Convenio General de Coordinación y Colaboración 2020-2021","INE/OPL","INE/OPL","2020-09-01","2020-10-01",null,null,{"$f":"VLOOKUP(P1089,Campos!$B$2:$C$7,2,FALSE)","v":0},"Sin información"]
[1084,7,"Chiapas",1,"Mecanismos de coordinación","1.3",3,"Elaborar un plan de trabajo conjunto para la promoción de la participación ciudadana","INE/OPL","INE/OPL","2020-09-01","2020-12-31",null,null,{"$f":"VLOOKUP(P1090,Campos!$B$2:$C$7,2,FALSE)","v":0},"Sin información"]
[1085,7,"Chiapas",1,"Mecanismos de coordinación","1.4",4,"Sesión para dar inicio al PEL","OPL","CG","2021-01-10","2021-01-16",null,null,{"$f":"VLOOKUP(P1091,Campos!$B$2:$C$7,2,FALSE)","v":0},"Sin información"]
[1086,7,"Chiapas",1,"Mecanismos de coordinación","1.5",5,"Implementar un plan de trabajo conjunto para la promoción de la participación ciudadana","INE/OPL","INE/OPL","2021-02-01","2021-06-06",null,null,{"$f":"VLOOKUP(P1092,Campos!$B$2:$C$7,2,FALSE)","v":0},"Sin información"]
[1087,7,"Chiapas",2,"Integración de órganos desconcentrados","2.1",1,"Convocatoria para la integración de los Órganos Distritales","OPL","CG","2020-08-01","2020-08-31",null,null,{"$f":"VLOOKUP(P1093,Campos!$B$2:$C$7,2,FALSE)","v":0},"Sin información"]
[1088,7,"Chiapas",2,"Integración de órganos desconcentrados","2.2",2,"Sesión en la que se designan e integran los Órganos Distritales ","OPL","CG","2021-03-01","2021-03-01",null,null,{"$f":"VLOOKUP(P1094,Campos!$B$2:$C$7,2,FALSE)","v":0},"Sin información"]
[1089,7,"Chiapas",2,"Integración de órganos desconcentrados","2.3",3,"Instalación de los Órganos Distritales ","OPL","OD","2021-03-05","2021-03-05",null,null,{"$f":"VLOOKUP(P1095,Campos!$B$2:$C$7,2,FALSE)","v":0},"Sin información"]
[1090,7,"Chiapas",2,"Integración de órganos desconcentrados","2.4",4,"Convocatoria para la integración de los Órganos Municipales ","OPL","CG","2020-08-01","2020-08-31",null,null,{"$f":"VLOOKUP(P1096,Campos!$B$2:$C$7,2,FALSE)","v":0},"Sin información"]
[1091,7,"Chiapas",2,"Integración de órganos desconcentrados","2.5",5,"Sesión en la que se designan e integran los Órganos Municipales ","OPL","CG","2021-03-01","2021-03-01",null,null,{"$f":"VLOOKUP(P1097,Campos!$B$2:$C$7,2,FALSE)","v":0},"Sin información"]
[1092,7,"Chiapas",2,"Integración de órganos desconcentrados","2.6",6,"Instalación de los Órganos Municipales ","OPL","OD","2021-03-05","2021-03-05",null,null,{"$f":"VLOOKUP(P1098,Campos!$B$2:$C$7,2,FALSE)","v":0},"Sin información"]
[1093,7,"Chiapas",2,"Integración de órganos desconcentrados","2.7",7,"Designación y/o ratificación de las y los Consejeros Electorales del Consejo Local ","INE","CG","2020-10-01","2020-10-15",null,null,{"$f":"VLOOKUP(P1099,Campos!$B$2:$C$7,2,FALSE)","v":0},"Sin información"]
[1094,7,"Chiapas",2,"Integración de órganos desconcentrados","2.8",8,"Instalación del Consejo Local","INE","CL","2020-11-01","2020-11-30",null,null,{"$f":"VLOOKUP(P1100,Campos!$B$2:$C$7,2,FALSE)","v":0},"Sin información"]
[1095,7,"Chiapas",2,"Integración de órganos desconcentrados","2.9",9,"Designación y/o ratificación de las y los Consejeros Electorales de los Consejos Distritales ","INE","CL","2020-11-01","2020-11-30",null,null,{"$f":"VLOOKUP(P1101,Campos!$B$2:$C$7,2,FALSE)","v":0},"Sin información"]
[1096,7,"Chiapas",2,"Integración de órganos desconcentrados","2.10",10,"Instalación de los Consejos Distritales","INE","CD","2020-12-01","2020-12-15",null,null,{"$f":"VLOOKUP(P1102,Campos!$B$2:$C$7,2,FALSE)","v":0},"Sin información"]
[1097,7,"Chiapas",3,"Lista Nominal de Electores","3.1",1,"Generación y entrega de la Lista Nominal de Electores para Revisión en medios ópticos a los representantes de los partidos políticos, y en su caso a las candidaturas independientes acreditados ante el OPL, para observaciones","INE","DERFE","2021-02-15","2021-02-15",null,null,{"$f":"VLOOKUP(P1103,Campos!$B$2:$C$7,2,FALSE)","v":0},"Sin información"]
[1098,7,"Chiapas",3,"Lista Nominal de Electores","3.2",2,"Recepción de observaciones de los partidos políticos y en su caso, candidatos independientes, a la Lista Nominal de Electores para revisión","INE/OPL","DERFE","2021-03-14","2021-03-14",null,null,{"$f":"VLOOKUP(P1104,Campos!$B$2:$C$7,2,FALSE)","v":0},"Sin información"]
[1099,7,"Chiapas",3,"Lista Nominal de Electores","3.3",3,"Entrega en formato digital el informe respecto de la atención a las observaciones formuladas a la Lista Nominal de Electores para Revisión","INE","DERFE","2021-04-15","2021-04-15",null,null,{"$f":"VLOOKUP(P1105,Campos!$B$2:$C$7,2,FALSE)","v":0},"Sin información"]
[1100,7,"Chiapas",3,"Lista Nominal de Electores","3.4",4,"Entrega de la Lista Nominal de Electores Definitiva con fotografía","INE","DERFE","2021-05-06","2021-05-14",null,null,{"$f":"VLOOKUP(P1106,Campos!$B$2:$C$7,2,FALSE)","v":0},"Sin información"]
[1101,7,"Chiapas",3,"Lista Nominal de Electores","3.5",5,"Fecha de entrega de la Lista Nominal de Electores con fotografía Producto de Instancias Administrativas y Resoluciones del Tribunal (ADENDA)","INE","DERFE","2021-05-19","2021-05-24",null,null,{"$f":"VLOOKUP(P1107,Campos!$B$2:$C$7,2,FALSE)","v":0},"Sin información"]
[1102,7,"Chiapas",4,"Observación Electoral","4.1",1,"Emisión de la convocatoria para la ciudadanía que desee participar en la observación electoral","OPL","CG","2021-01-10","2021-01-16",null,null,{"$f":"VLOOKUP(P1108,Campos!$B$2:$C$7,2,FALSE)","v":0},"Sin información"]
[1103,7,"Chiapas",4,"Observación Electoral","4.2",2,"Recepción de solicitudes de la ciudadanía que desee participar en observación electoral","INE/OPL","OPL/JLE/JDE","2021-01-10","2021-04-30",null,null,{"$f":"VLOOKUP(P1109,Campos!$B$2:$C$7,2,FALSE)","v":0},"Sin información"]
[1104,7,"Chiapas",4,"Observación Electoral","4.3",3,"Impartición de los cursos de capacitación, preparación o información","INE/OPL","OPL/JLE/JDE","2021-01-10","2021-05-17",null,null,{"$f":"VLOOKUP(P1110,Campos!$B$2:$C$7,2,FALSE)","v":0},"Sin información"]
[1105,7,"Chiapas",4,"Observación Electoral","4.4",4,"Acreditación de la ciudadanía como observadores u observadoras electorales","INE","CL/CD","2021-01-10","2021-06-05",null,null,{"$f":"VLOOKUP(P1111,Campos!$B$2:$C$7,2,FALSE)","v":0},"Sin información"]
[1106,7,"Chiapas",4,"Observación Electoral","4.5",5,"Seguimiento a los informes mensuales de acreditación","INE","CG","2021-01-10","2021-07-31",null,null,{"$f":"VLOOKUP(P1112,Campos!$B$2:$C$7,2,FALSE)","v":0},"Sin información"]
[1107,7,"Chiapas",4,"Observación Electoral","4.6",6,"Remisión de materiales de capacitación a la JLE para revisión","OPL","CG","2020-10-08","2020-10-08",null,null,{"$f":"VLOOKUP(P1113,Campos!$B$2:$C$7,2,FALSE)","v":0},"Sin información"]
[1108,7,"Chiapas",4,"Observación Electoral","4.7",7,"Revisión, corrección, verificación y validación de materiales de capacitación para observación electoral ","INE","JLE","2020-10-09","2020-10-30",null,null,{"$f":"VLOOKUP(P1114,Campos!$B$2:$C$7,2,FALSE)","v":0},"Sin información"]
[1109,7,"Chiapas",4,"Observación Electoral","4.8",8,"Entrega de materiales de capacitación para observación electoral entre OPL e INE","INE/OPL","VEL/OPL","2020-11-01","2020-11-23",null,null,{"$f":"VLOOKUP(P1115,Campos!$B$2:$C$7,2,FALSE)","v":0},"Sin información"]
[1110,7,"Chiapas",5,"Ubicación de casillas","5.1",1,"Recorridos por las secciones de los distritos para localizar los lugares donde se ubicarán las casillas","INE/OPL","JDE/OPL","2021-01-15","2021-02-15",null,null,{"$f":"VLOOKUP(P1116,Campos!$B$2:$C$7,2,FALSE)","v":0},"Sin información"]
[1111,7,"Chiapas",5,"Ubicación de casillas","5.2",2,"Presentación a los Consejos Distritales del listado de lugares propuestos para ubicar casillas","INE","JDE","2021-02-24","2021-02-24",null,null,{"$f":"VLOOKUP(P1117,Campos!$B$2:$C$7,2,FALSE)","v":0},"Sin información"]
[1112,7,"Chiapas",5,"Ubicación de casillas","5.3",3,"Visitas de examinación en los lugares propuestos para ubicar casillas básicas, contiguas, especiales y extraordinarias","INE/OPL","CD/OPL","2021-02-25","2021-03-16",null,null,{"$f":"VLOOKUP(P1118,Campos!$B$2:$C$7,2,FALSE)","v":0},"Sin información"]
[1113,7,"Chiapas",5,"Ubicación de casillas","5.4",4,"Aprobación del número y ubicación de casillas extraordinarias y especiales","INE","CD","2021-03-16","2021-03-16",null,null,{"$f":"VLOOKUP(P1119,Campos!$B$2:$C$7,2,FALSE)","v":0},"Sin información"]
[1114,7,"Chiapas",5,"Ubicación de casillas","5.5",5,"Aprobación del número y ubicación de casillas básicas y contiguas","INE","CD","2021-03-25","2021-03-25",null,null,{"$f":"VLOOKUP(P1120,Campos!$B$2:$C$7,2,FALSE)","v":0},"Sin información"]
[1115,7,"Chiapas",5,"Ubicación de casillas","5.6",6,"Entrega de la base de datos de la Lista Nominal Definitiva a UNICOM con corte al 10 de abril","INE","DERFE","2021-04-15","2021-04-16",null,null,{"$f":"VLOOKUP(P1121,Campos!$B$2:$C$7,2,FALSE)","v":0},"Sin información"]
[1116,7,"Chiapas",5,"Ubicación de casillas","5.7",7,"Realizar la primera publicación de la lista de ubicación de casillas en los lugares más concurridos del distrito electoral  y en los medios electrónicos del Instituto","INE","CD","2021-04-15","2021-04-15",null,null,{"$f":"VLOOKUP(P1122,Campos!$B$2:$C$7,2,FALSE)","v":0},"Sin información"]
[1117,7,"Chiapas",5,"Ubicación de casillas","5.8",8,"En su caso, segunda publicación de la lista de ubicación de casillas por causas supervenientes en los lugares más concurridos del distrito y en los medios electrónicos del Instituto","INE","CD","2021-05-15","2021-05-25",null,null,{"$f":"VLOOKUP(P1123,Campos!$B$2:$C$7,2,FALSE)","v":0},"Sin información"]
[1118,7,"Chiapas",5,"Ubicación de casillas","5.9",9,"Publicación de los encartes y difusión en medios electrónicos del Instituto","INE/OPL","DEOE/CG","2021-06-05","2021-06-06",null,null,{"$f":"VLOOKUP(P1124,Campos!$B$2:$C$7,2,FALSE)","v":0},"Sin información"]
[1119,7,"Chiapas",5,"Ubicación de casillas","5.10",10,"Registro de representantes generales y ante mesas directivas de casilla","INE","CD","2021-04-16","2021-05-24",null,null,{"$f":"VLOOKUP(P1125,Campos!$B$2:$C$7,2,FALSE)","v":0},"Sin información"]
[1120,7,"Chiapas",5,"Ubicación de casillas","5.11",11,"Sustitución de representantes generales y ante mesas directivas de casilla","INE","CD","2021-04-16","2021-05-27",null,null,{"$f":"VLOOKUP(P1126,Campos!$B$2:$C$7,2,FALSE)","v":0},"Sin información"]
[1121,7,"Chiapas",5,"Ubicación de casillas","5.12",12,"Entrega de listados de representantes generales y ante casilla al OPL","INE","CD","2021-05-30","2021-05-30",null,null,{"$f":"VLOOKUP(P1127,Campos!$B$2:$C$7,2,FALSE)","v":0},"Sin información"]
[1122,7,"Chiapas",5,"Ubicación de casillas","5.13",13,"Notificación ciudadana de ubicación de casillas en secciones electorales involucradas en la actualización del Marco Geográfico Electoral","INE/OPL","DERFE/OPL","2021-04-01","2021-06-15",null,null,{"$f":"VLOOKUP(P1128,Campos!$B$2:$C$7,2,FALSE)","v":0},"Sin información"]
[1123,7,"Chiapas",6,"Integración de las Mesas Directivas de Casilla","6.1",1,"Aprobación de la Estrategia de Capacitación y Asistencia Electoral","INE","CG","2020-08-01","2020-08-15",null,null,{"$f":"VLOOKUP(P1129,Campos!$B$2:$C$7,2,FALSE)","v":0},"Sin información"]
[1124,7,"Chiapas",6,"Integración de las Mesas Directivas de Casilla","6.2",2,"Entrega para revisión y validación de materiales didácticos de primera etapa","OPL","CG","2020-11-03","2020-11-03",null,null,{"$f":"VLOOKUP(P1130,Campos!$B$2:$C$7,2,FALSE)","v":0},"Sin información"]
[1125,7,"Chiapas",6,"Integración de las Mesas Directivas de Casilla","6.3",3,"Revisión, corrección, verificación y validación de los materiales didácticos de primera etapa","INE/OPL","JLE/DECEYEC/OPL","2020-11-03","2020-12-19",null,null,{"$f":"VLOOKUP(P1131,Campos!$B$2:$C$7,2,FALSE)","v":0},"Sin información"]
[1126,7,"Chiapas",6,"Integración de las Mesas Directivas de Casilla","6.4",4,"Entrega de los materiales impresos de la primera etapa a la JLE","OPL","OPL","2021-02-05","2021-02-05",null,null,{"$f":"VLOOKUP(P1132,Campos!$B$2:$C$7,2,FALSE)","v":0},"Sin información"]
[1127,7,"Chiapas",6,"Integración de las Mesas Directivas de Casilla","6.5",5,"Sorteo del mes del calendario como base para la insaculación de las y los ciudadanos que integrarán las mesas directivas de casilla","INE","CG","2020-12-15","2020-12-19",null,null,{"$f":"VLOOKUP(P1133,Campos!$B$2:$C$7,2,FALSE)","v":0},"Sin información"]
[1128,7,"Chiapas",6,"Integración de las Mesas Directivas de Casilla","6.6",6,"Entrega para revisión y validación de materiales didácticos de segunda etapa","OPL","OPL","2021-02-03","2021-02-03",null,null,{"$f":"VLOOKUP(P1134,Campos!$B$2:$C$7,2,FALSE)","v":0},"Sin información"]
[1129,7,"Chiapas",6,"Integración de las Mesas Directivas de Casilla","6.7",7,"Revisión, corrección, verificación y validación de los materiales didácticos de la segunda etapa","INE/OPL","JLE/DECEYEC/OPL","2021-02-03","2021-03-22",null,null,{"$f":"VLOOKUP(P1135,Campos!$B$2:$C$7,2,FALSE)","v":0},"Sin información"]
[1130,7,"Chiapas",6,"Integración de las Mesas Directivas de Casilla","6.8",8,"Entrega de los materiales impresos de la segunda etapa a la JLE","OPL","OPL","2021-04-05","2021-04-05",null,null,{"$f":"VLOOKUP(P1136,Campos!$B$2:$C$7,2,FALSE)","v":0},"Sin información"]
[1131,7,"Chiapas",6,"Integración de las Mesas Directivas de Casilla","6.9",9,"Sorteo de la letra a partir de la cual, con base en el apellido paterno, se seleccionará a las y los ciudadanos que integrarán las mesas directivas de casilla","INE","CG","2021-02-02","2021-02-02",null,null,{"$f":"VLOOKUP(P1137,Campos!$B$2:$C$7,2,FALSE)","v":0},"Sin información"]
[1132,7,"Chiapas",6,"Integración de las Mesas Directivas de Casilla","6.10",10,"Entrega de la Lista Nominal de Electores para el Procedimiento de la Primera insaculación con corte al 15 de enero de 2021.","INE","DERFE/UNICOM","2021-01-21","2021-01-26",null,null,{"$f":"VLOOKUP(P1138,Campos!$B$2:$C$7,2,FALSE)","v":0},"Sin información"]
[1133,7,"Chiapas",6,"Integración de las Mesas Directivas de Casilla","6.11",11,"Primera insaculación","INE","JDE","2021-02-06","2021-02-06",null,null,{"$f":"VLOOKUP(P1139,Campos!$B$2:$C$7,2,FALSE)","v":0},"Sin información"]
[1134,7,"Chiapas",6,"Integración de las Mesas Directivas de Casilla","6.12",12,"Primera etapa de capacitación a las personas insaculadas","INE","CD","2021-02-09","2021-03-31",null,null,{"$f":"VLOOKUP(P1140,Campos!$B$2:$C$7,2,FALSE)","v":0},"Sin información"]
[1135,7,"Chiapas",6,"Integración de las Mesas Directivas de Casilla","6.13",13,"Integración de la lista de ciudadanos y ciudadanas que cumplen los requisitos legales para integrar las mesas directivas de casilla","INE","CD","2021-02-09","2021-03-31",null,null,{"$f":"VLOOKUP(P1141,Campos!$B$2:$C$7,2,FALSE)","v":0},"Sin información"]
[1136,7,"Chiapas",6,"Integración de las Mesas Directivas de Casilla","6.14",14,"Segunda insaculación y designación de funcionarios para mesas directivas de casilla","INE","CD","2021-04-08","2021-04-08",null,null,{"$f":"VLOOKUP(P1142,Campos!$B$2:$C$7,2,FALSE)","v":0},"Sin información"]
[1137,7,"Chiapas",6,"Integración de las Mesas Directivas de Casilla","6.15",15,"Segunda etapa de capacitación a funcionarios de mesa directiva de casilla y simulacros","INE","CD","2021-04-18","2021-06-05",null,null,{"$f":"VLOOKUP(P1143,Campos!$B$2:$C$7,2,FALSE)","v":0},"Sin información"]
[1138,7,"Chiapas",6,"Integración de las Mesas Directivas de Casilla","6.16",16,"Entrega de reconocimientos a funcionarios de mesas directivas de casilla","INE","CD","2021-06-07","2021-06-12",null,null,{"$f":"VLOOKUP(P1144,Campos!$B$2:$C$7,2,FALSE)","v":0},"Sin información"]
[1139,7,"Chiapas",6,"Integración de las Mesas Directivas de Casilla","6.17",17,"Periodo para contratación de CAE locales","INE/OPL","INE/OPL","Por definir","Por definir",null,null,{"$f":"VLOOKUP(P1145,Campos!$B$2:$C$7,2,FALSE)","v":0},"Sin información"]
[1140,7,"Chiapas",6,"Integración de las Mesas Directivas de Casilla","6.18",18,"Reclutamiento y selección de CAE locales","INE/OPL","INE/OPL","Por definir","Por definir",null,null,{"$f":"VLOOKUP(P1146,Campos!$B$2:$C$7,2,FALSE)","v":0},"Sin información"]
[1141,7,"Chiapas",7,"Fiscalización de los recursos de los Partidos Políticos y candidaturas independientes","7.2",2,"Aprobación de topes de gastos de precampaña Diputaciones","OPL","CG","2020-10-04","2020-12-18",null,null,{"$f":"VLOOKUP(P1147,Campos!$B$2:$C$7,2,FALSE)","v":0},"Sin información"]
[1142,7,"Chiapas",7,"Fiscalización de los recursos de los Partidos Políticos y candidaturas independientes","7.3",3,"Aprobación de topes de gastos de precampaña Ayuntamientos","OPL","CG","2020-10-04","2020-12-18",null,null,{"$f":"VLOOKUP(P1148,Campos!$B$2:$C$7,2,FALSE)","v":0},"Sin información"]
[1143,7,"Chiapas",7,"Fiscalización de los recursos de los Partidos Políticos y candidaturas independientes","7.5",5,"Aprobación de los límites de financiamiento privado, aportaciones de militantes, simpatizantes y precandidatos o candidatos; así como el límite individual de aportaciones para Diputaciones","OPL","CG","2020-10-04","2021-02-28",null,null,{"$f":"VLOOKUP(P1149,Campos!$B$2:$C$7,2,FALSE)","v":0},"Sin información"]
[1144,7,"Chiapas",7,"Fiscalización de los recursos de los Partidos Políticos y candidaturas independientes","7.6",6,"Aprobación de los límites de financiamiento privado, aportaciones de militantes, simpatizantes y precandidatos o candidatos; así como el límite individual de aportaciones para Ayuntamientos","OPL","CG","2020-10-04","2021-02-28",null,null,{"$f":"VLOOKUP(P1150,Campos!$B$2:$C$7,2,FALSE)","v":0},"Sin información"]
[1145,7,"Chiapas",7,"Fiscalización de los recursos de los Partidos Políticos y candidaturas independientes","7.8",8,"Aprobación de topes de gastos para el periodo de obtención del apoyo ciudadano para Diputaciones","OPL","CG","2020-10-25","2020-10-30",null,null,{"$f":"VLOOKUP(P1151,Campos!$B$2:$C$7,2,FALSE)","v":0},"Sin información"]
[1146,7,"Chiapas",7,"Fiscalización de los recursos de los Partidos Políticos y candidaturas independientes","7.9",9,"Aprobación de topes de gastos para el periodo de obtención del apoyo ciudadano para Ayuntamientos","OPL","CG","2020-10-25","2020-10-30",null,null,{"$f":"VLOOKUP(P1152,Campos!$B$2:$C$7,2,FALSE)","v":0},"Sin información"]
[1147,7,"Chiapas",7,"Fiscalización de los recursos de los Partidos Políticos y candidaturas independientes","7.8",8,"Aprobación de topes de gastos para el periodo de obtención del apoyo ciudadano para Diputaciones","OPL","CG","2021-01-01","2021-01-31",null,null,{"$f":"VLOOKUP(P1153,Campos!$B$2:$C$7,2,FALSE)","v":0},"Sin información"]
[1148,7,"Chiapas",7,"Fiscalización de los recursos de los Partidos Políticos y candidaturas independientes","7.9",9,"Aprobación de topes de gastos para el periodo de obtención del apoyo ciudadano para Ayuntamientos","OPL","CG","2021-01-01","2021-01-31",null,null,{"$f":"VLOOKUP(P1154,Campos!$B$2:$C$7,2,FALSE)","v":0},"Sin información"]
[1149,7,"Chiapas",7,"Fiscalización de los recursos de los Partidos Políticos y candidaturas independientes","7.11",11,"Precampaña para Diputaciones","OPL","CG","2021-02-18","2021-02-28",null,null,{"$f":"VLOOKUP(P1155,Campos!$B$2:$C$7,2,FALSE)","v":0},"Sin información"]
[1150,7,"Chiapas",7,"Fiscalización de los recursos de los Partidos Políticos y candidaturas independientes","7.12",12,"Precampaña para Ayuntamientos","OPL","CG","2021-02-18","2021-02-28",null,null,{"$f":"VLOOKUP(P1156,Campos!$B$2:$C$7,2,FALSE)","v":0},"Sin información"]
[1151,7,"Chiapas",7,"Fiscalización de los recursos de los Partidos Políticos y candidaturas independientes","7.14",14,"Aprobación de topes de gastos de campaña para Diputaciones","OPL","CG","2021-03-01","2021-03-31",null,null,{"$f":"VLOOKUP(P1157,Campos!$B$2:$C$7,2,FALSE)","v":0},"Sin información"]
[1152,7,"Chiapas",7,"Fiscalización de los recursos de los Partidos Políticos y candidaturas independientes","7.15",15,"Aprobación de topes de gastos de campaña para Ayuntamientos","OPL","CG","2021-03-01","2021-03-31",null,null,{"$f":"VLOOKUP(P1158,Campos!$B$2:$C$7,2,FALSE)","v":0},"Sin información"]
[1153,7,"Chiapas",7,"Fiscalización de los recursos de los Partidos Políticos y candidaturas independientes","7.17",17,"Campaña para Diputaciones","OPL","CG","2021-05-04","2021-06-02",null,null,{"$f":"VLOOKUP(P1159,Campos!$B$2:$C$7,2,FALSE)","v":0},"Sin información"]
[1154,7,"Chiapas",7,"Fiscalización de los recursos de los Partidos Políticos y candidaturas independientes","7.18",18,"Campaña para Ayuntamientos","OPL","CG","2021-05-04","2021-06-02",null,null,{"$f":"VLOOKUP(P1160,Campos!$B$2:$C$7,2,FALSE)","v":0},"Sin información"]
[1155,7,"Chiapas",8,"Candidaturas Independientes","8.1",1,"Emisión de la convocatoria para la ciudadanía interesada en participar en Candidaturas Independientes ","OPL","CG","2021-10-25","2021-10-31",null,null,{"$f":"VLOOKUP(P1161,Campos!$B$2:$C$7,2,FALSE)","v":0},"Sin información"]
[1156,7,"Chiapas",8,"Candidaturas Independientes","8.3",3,"Recepción de escrito de intención y documentación anexa de la ciudadanía que aspire a la candidatura independiente para Diputaciones","OPL","OD","2020-12-01","2021-01-08",null,null,{"$f":"VLOOKUP(P1162,Campos!$B$2:$C$7,2,FALSE)","v":0},"Sin información"]
[1157,7,"Chiapas",8,"Candidaturas Independientes","8.4",4,"Recepción de escrito de intención y documentación anexa de la ciudadanía que aspire a la candidatura independiente para Ayuntamientos","OPL","SE/OD","2020-12-01","2021-01-08",null,null,{"$f":"VLOOKUP(P1163,Campos!$B$2:$C$7,2,FALSE)","v":0},"Sin información"]
[1158,7,"Chiapas",8,"Candidaturas Independientes","8.6",6,"Resolución sobre procedencia de manifestación de intención de aspirantes a candidaturas independientes para Diputaciones","OPL","CG","2021-01-09","2021-01-14",null,null,{"$f":"VLOOKUP(P1164,Campos!$B$2:$C$7,2,FALSE)","v":0},"Sin información"]
[1159,7,"Chiapas",8,"Candidaturas Independientes","8.7",7,"Resolución sobre procedencia de manifestación de intención de aspirantes a candidaturas independientes para Ayuntamientos","OPL","CG","2021-01-09","2021-01-14",null,null,{"$f":"VLOOKUP(P1165,Campos!$B$2:$C$7,2,FALSE)","v":0},"Sin información"]
[1160,7,"Chiapas",8,"Candidaturas Independientes","8.9",9,"Plazo para obtener el apoyo ciudadano de las candidaturas independientes para Diputaciones","OPL","OD","2021-01-17","2021-02-10",null,null,{"$f":"VLOOKUP(P1166,Campos!$B$2:$C$7,2,FALSE)","v":0},"Sin información"]
[1161,7,"Chiapas",8,"Candidaturas Independientes","8.10",10,"Plazo para obtener el apoyo ciudadano de las candidaturas independientes para Ayuntamientos","OPL","OD","2021-01-17","2021-02-10",null,null,{"$f":"VLOOKUP(P1167,Campos!$B$2:$C$7,2,FALSE)","v":0},"Sin información"]
[1162,7,"Chiapas",8,"Candidaturas Independientes","8.12",12,"Plazo para otorgar las constancias de porcentaje a favor de aspirantes a la candidatura independiente para Diputaciones","OPL","CG","2021-03-01","2021-03-20",null,null,{"$f":"VLOOKUP(P1168,Campos!$B$2:$C$7,2,FALSE)","v":0},"Sin información"]
[1163,7,"Chiapas",8,"Candidaturas Independientes","8.13",13,"Plazo para otorgar las constancias de porcentaje a favor de aspirantes a la candidatura independiente para Ayuntamientos","OPL","CG","2021-03-01","2021-03-20",null,null,{"$f":"VLOOKUP(P1169,Campos!$B$2:$C$7,2,FALSE)","v":0},"Sin información"]
[1164,7,"Chiapas",8,"Candidaturas Independientes","8.12",12,"Plazo para otorgar las constancias de porcentaje a favor de aspirantes a la candidatura independiente para Diputaciones","OPL","CG","2020-02-16","2021-02-17",null,null,{"$f":"VLOOKUP(P1170,Campos!$B$2:$C$7,2,FALSE)","v":0},"Sin información"]
[1165,7,"Chiapas",8,"Candidaturas Independientes","8.13",13,"Plazo para otorgar las constancias de porcentaje a favor de aspirantes a la candidatura independiente para Ayuntamientos","OPL","CG","2021-02-16","2021-02-17",null,null,{"$f":"VLOOKUP(P1171,Campos!$B$2:$C$7,2,FALSE)","v":0},"Sin información"]
[1166,7,"Chiapas",9,"Candidaturas","9.1",1,"Registro de plataformas electorales","OPL","CG","2021-03-01","2021-03-18",null,null,{"$f":"VLOOKUP(P1172,Campos!$B$2:$C$7,2,FALSE)","v":0},"Sin información"]
[1167,7,"Chiapas",9,"Candidaturas","9.3",3,"Solicitud de registro de convenio de coalición para Diputaciones","OPL","CG","2021-01-10","2021-02-18",null,null,{"$f":"VLOOKUP(P1173,Campos!$B$2:$C$7,2,FALSE)","v":0},"Sin información"]
[1168,7,"Chiapas",9,"Candidaturas","9.4",4,"Solicitud de registro de convenio de coalición para Ayuntamientos","OPL","CG","2021-01-10","2021-02-18",null,null,{"$f":"VLOOKUP(P1174,Campos!$B$2:$C$7,2,FALSE)","v":0},"Sin información"]
[1169,7,"Chiapas",9,"Candidaturas","9.6",6,"Resolución sobre Convenio de Coalición para Diputaciones","OPL","CG","2021-01-20","2021-02-28",null,null,{"$f":"VLOOKUP(P1175,Campos!$B$2:$C$7,2,FALSE)","v":0},"Sin información"]
[1170,7,"Chiapas",9,"Candidaturas",9.6999999999999993,{"$f":"VLOOKUP(H1176,'[1]Catálogo de Actividades'!$B$5:$G$222,5,FALSE)","v":7},"Resolución sobre Convenio de Coalición para Ayuntamientos","OPL","CG","2021-01-20","2021-02-28",null,null,{"$f":"VLOOKUP(P1176,Campos!$B$2:$C$7,2,FALSE)","v":0},"Sin información"]
[1171,7,"Chiapas",9,"Candidaturas",9.9,{"$f":"VLOOKUP(H1177,'[1]Catálogo de Actividades'!$B$5:$G$222,5,FALSE)","v":9},"Solicitud de registro de Candidaturas para Diputaciones","OPL","CG/OD","2021-03-21","2021-03-26",null,null,{"$f":"VLOOKUP(P1177,Campos!$B$2:$C$7,2,FALSE)","v":0},"Sin información"]
[1172,7,"Chiapas",9,"Candidaturas","9.10",10,"Solicitud de registro de Candidaturas para Diputaciones de Representación Proporcional","OPL","CG","2021-03-21","2021-03-26",null,null,{"$f":"VLOOKUP(P1178,Campos!$B$2:$C$7,2,FALSE)","v":0},"Sin información"]
[1173,7,"Chiapas",9,"Candidaturas","9.11",11,"Solicitud de registro de Candidaturas para Ayuntamientos","OPL","CG/OD","2021-03-21","2021-03-26",null,null,{"$f":"VLOOKUP(P1179,Campos!$B$2:$C$7,2,FALSE)","v":0},"Sin información"]
[1174,7,"Chiapas",9,"Candidaturas","9.14",14,"Resolución para aprobar las candidaturas para Diputaciones","OPL","CG/OD","2021-03-27","2021-04-08",null,null,{"$f":"VLOOKUP(P1180,Campos!$B$2:$C$7,2,FALSE)","v":0},"Sin información"]
[1175,7,"Chiapas",9,"Candidaturas",9.15,15,"Resolución para aprobar las candidaturas para Diputaciones de Representación Proporcional","OPL","CG","2021-03-27","2021-04-08",null,null,{"$f":"VLOOKUP(P1181,Campos!$B$2:$C$7,2,FALSE)","v":0},"Sin información"]
[1176,7,"Chiapas",9,"Candidaturas","9.16",16,"Resolución para aprobar las candidaturas para Ayuntamientos","OPL","CG/OD","2021-03-27","2021-04-08",null,null,{"$f":"VLOOKUP(P1182,Campos!$B$2:$C$7,2,FALSE)","v":0},"Sin información"]
[1177,7,"Chiapas",9,"Candidaturas","9.18",18,"Solicitud de registro de candidaturas comunes para Diputaciones ","OPL","CG/OD","2021-01-17","2021-02-02",null,null,{"$f":"VLOOKUP(P1183,Campos!$B$2:$C$7,2,FALSE)","v":0},"Sin información"]
[1178,7,"Chiapas",9,"Candidaturas","9.19",19,"Solicitud de registro de candidaturas comunes para Ayuntamientos  ","OPL","CG/OD","2021-01-17","2021-02-02",null,null,{"$f":"VLOOKUP(P1184,Campos!$B$2:$C$7,2,FALSE)","v":0},"Sin información"]
[1179,7,"Chiapas",9,"Candidaturas","9.21",21,"Resolución para aprobar las candidaturas comunes para Diputaciones ","OPL","CG/OD","2021-02-03","2021-02-12",null,null,{"$f":"VLOOKUP(P1185,Campos!$B$2:$C$7,2,FALSE)","v":0},"Sin información"]
[1180,7,"Chiapas",9,"Candidaturas","9.22",22,"Resolución para aprobar las candidaturas comunes para Ayuntamientos ","OPL","CG/OD","2021-02-03","2021-02-12",null,null,{"$f":"VLOOKUP(P1186,Campos!$B$2:$C$7,2,FALSE)","v":0},"Sin información"]
[1181,7,"Chiapas",11,"Documentación y material electoral","11.1",1,"Entrega a la Junta Local Ejecutiva del INE, de los diseños y especificaciones técnicas de la documentación y materiales electorales, en medios impresos y electrónicos","OPL","CG","2020-09-01","2020-09-30",null,null,{"$f":"VLOOKUP(P1187,Campos!$B$2:$C$7,2,FALSE)","v":0},"Sin información"]
[1182,7,"Chiapas",11,"Documentación y material electoral","11.2",2,"Revisión de los documentos y materiales electorales y especificaciones técnicas, presentadas por el OPL","INE","JLE","2020-09-15","2020-12-16",null,null,{"$f":"VLOOKUP(P1188,Campos!$B$2:$C$7,2,FALSE)","v":0},"Sin información"]
[1183,7,"Chiapas",11,"Documentación y material electoral","11.3",3,"En su caso, atención y presentación, de los cambios pertinentes, conforme a las observaciones emitidas por la Junta Local Ejecutiva del INE","OPL","CG","2020-09-15","2020-12-16",null,null,{"$f":"VLOOKUP(P1189,Campos!$B$2:$C$7,2,FALSE)","v":0},"Sin información"]
[1184,7,"Chiapas",11,"Documentación y material electoral","11.4",4,"Validación de los documentos y materiales electorales y especificaciones técnicas, con las observaciones subsanadas","INE","DEOE","2020-10-28","2020-12-18",null,null,{"$f":"VLOOKUP(P1190,Campos!$B$2:$C$7,2,FALSE)","v":0},"Sin información"]
[1185,7,"Chiapas",11,"Documentación y material electoral","11.5",5,"Entrega a la Dirección Ejecutiva de Organización Electoral del INE, del Reporte único sobre la aprobación y adjudicación de los documentos y materiales electorales del OPL, en medios electrónicos","OPL","CG","2021-02-01","2021-02-26",null,null,{"$f":"VLOOKUP(P1191,Campos!$B$2:$C$7,2,FALSE)","v":0},"Sin información"]
[1186,7,"Chiapas",11,"Documentación y material electoral","11.6",6,"Revisión y en su caso validación, del Reporte único sobre la aprobación y adjudicación de los documentos y materiales electorales del OPL, en medios electrónicos","INE","DEOE","2021-02-15","2021-03-12",null,null,{"$f":"VLOOKUP(P1192,Campos!$B$2:$C$7,2,FALSE)","v":0},"Sin información"]
[1187,7,"Chiapas",11,"Documentación y material electoral","11.7",7,"Entrega  a la Dirección Ejecutiva de Organización Electoral del INE, del Reporte semanal sobre el avance en la producción de los documentos y materiales electorales del OPL, en medios electrónicos.","OPL","CG","2021-03-15","2021-05-22",null,null,{"$f":"VLOOKUP(P1193,Campos!$B$2:$C$7,2,FALSE)","v":0},"Sin información"]
[1188,7,"Chiapas",11,"Documentación y material electoral","11.8",8,"Aprobación de la documentación y material electoral","OPL","CG","2020-11-11","2020-12-31",null,null,{"$f":"VLOOKUP(P1194,Campos!$B$2:$C$7,2,FALSE)","v":0},"Sin información"]
[1189,7,"Chiapas",11,"Documentación y material electoral","11.9",9,"Entrega a la Dirección Ejecutiva de Organización Electoral del INE, del Reporte con los resultados de las verificaciones de las medidas de seguridad en la documentación electoral","OPL","CG","2021-05-27","2021-06-11",null,null,{"$f":"VLOOKUP(P1195,Campos!$B$2:$C$7,2,FALSE)","v":0},"Sin información"]
[1190,7,"Chiapas",11,"Documentación y material electoral","11.10",10,"Supervisiones respecto de los procedimientos de impresión y producción de la documentación y materiales electorales","INE","DEOE","2021-03-15","2021-05-22",null,null,{"$f":"VLOOKUP(P1196,Campos!$B$2:$C$7,2,FALSE)","v":0},"Sin información"]
[1191,7,"Chiapas",11,"Documentación y material electoral","11.11",11,"Designación de la persona responsable de llevar el control sobre la asignación de los folios de las boletas que se distribuirán en cada mesa directiva de casilla","OPL","CG","2021-03-01","2021-03-30",null,null,{"$f":"VLOOKUP(P1197,Campos!$B$2:$C$7,2,FALSE)","v":0},"Sin información"]
[1192,7,"Chiapas",11,"Documentación y material electoral","11.12",12,"Aprobación de SE y CAE, así como de personal que auxiliará en el procedimiento de conteo, sellado y agrupamiento de las boletas electorales; así como la integración de documentación para las casillas","OPL","CG","2021-04-24","2021-05-11",null,null,{"$f":"VLOOKUP(P1198,Campos!$B$2:$C$7,2,FALSE)","v":0},"Sin información"]
[1193,7,"Chiapas",11,"Documentación y material electoral","11.13",13,"Recepción de las boletas electorales por el órgano competente que realizará el conteo, sellado y agrupamiento","OPL","CG","2021-05-18","2021-05-22",null,null,{"$f":"VLOOKUP(P1199,Campos!$B$2:$C$7,2,FALSE)","v":0},"Sin información"]
[1194,7,"Chiapas",11,"Documentación y material electoral","11.14",14,"Conteo, sellado y agrupamiento de boletas","OPL","CG","2021-05-18","2021-05-28",null,null,{"$f":"VLOOKUP(P1200,Campos!$B$2:$C$7,2,FALSE)","v":0},"Sin información"]
[1195,7,"Chiapas",11,"Documentación y material electoral","11.15",15,"Distribución de la documentación y materiales electorales a las y los Presidentes de mesas directivas de casilla","OPL","OD","2021-05-31","2021-06-04",null,null,{"$f":"VLOOKUP(P1201,Campos!$B$2:$C$7,2,FALSE)","v":0},"Sin información"]
[1196,7,"Chiapas",11,"Documentación y material electoral","11.16",16,"Remisión de los recibos de la entrega de la documentación y materiales electorales al Consejo General del OPL","INE","JLE","2021-06-24","2021-06-30",null,null,{"$f":"VLOOKUP(P1202,Campos!$B$2:$C$7,2,FALSE)","v":0},"Sin información"]
[1197,7,"Chiapas",12,"Jornada Electoral","12.1",1,"Aprobación del Programa de Operación del SIJE 2021","INE","CCOE","2020-07-01","2020-07-31",null,null,{"$f":"VLOOKUP(P1203,Campos!$B$2:$C$7,2,FALSE)","v":0},"Sin información"]
[1198,7,"Chiapas",12,"Jornada Electoral","12.2",2,"Aprobación de las metas del SIJE 2021","INE","CG","2021-03-01","2021-03-31",null,null,{"$f":"VLOOKUP(P1204,Campos!$B$2:$C$7,2,FALSE)","v":0},"Sin información"]
[1199,7,"Chiapas",12,"Jornada Electoral","12.3",3,"Realización de pruebas del SIJE 2021","INE","DEOE","2021-04-01","2021-04-15",null,null,{"$f":"VLOOKUP(P1205,Campos!$B$2:$C$7,2,FALSE)","v":0},"Sin información"]
[1200,7,"Chiapas",12,"Jornada Electoral","12.4",4,"Desarrollo del primer simulacro del SIJE","INE/OPL","DEOE/OD","2021-04-29","2021-04-29",null,null,{"$f":"VLOOKUP(P1206,Campos!$B$2:$C$7,2,FALSE)","v":0},"Sin información"]
[1201,7,"Chiapas",12,"Jornada Electoral","12.5",5,"Desarrollo del segundo simulacro del SIJE","INE/OPL","DEOE/OD","2021-05-09","2021-05-09",null,null,{"$f":"VLOOKUP(P1207,Campos!$B$2:$C$7,2,FALSE)","v":0},"Sin información"]
[1202,7,"Chiapas",12,"Jornada Electoral","12.6",6,"Desarrollo del tercer simulacro del SIJE","INE/OPL","DEOE/OD","2021-05-23","2021-05-23",null,null,{"$f":"VLOOKUP(P1208,Campos!$B$2:$C$7,2,FALSE)","v":0},"Sin información"]
[1203,7,"Chiapas",12,"Jornada Electoral","12.7",7,"Jornada Electoral","OPL","CG/OD","2021-06-06","2021-06-06",null,null,{"$f":"VLOOKUP(P1209,Campos!$B$2:$C$7,2,FALSE)","v":0},"Sin información"]
[1204,7,"Chiapas",13,"Bodegas electorales","13.1",1,"Determinación de los lugares que ocuparán las bodegas electorales para el resguardo de la documentación electoral","OPL","CG","2021-02-01","2021-02-28",null,null,{"$f":"VLOOKUP(P1210,Campos!$B$2:$C$7,2,FALSE)","v":0},"Sin información"]
[1205,7,"Chiapas",13,"Bodegas electorales","13.2",2,"Informe que rinden las y los Presidentes sobre las condiciones de equipamiento, mecanismos de operación y medidas de seguridad de las bodegas electorales","OPL","OD","2021-03-01","2021-03-31",null,null,{"$f":"VLOOKUP(P1211,Campos!$B$2:$C$7,2,FALSE)","v":0},"Sin información"]
[1206,7,"Chiapas",13,"Bodegas electorales","13.3",3,"Designación, por parte del órgano competente del OPL, del personal que tendrá acceso a la bodega electoral","OPL","CG/OD","2021-03-01","2021-03-30",null,null,{"$f":"VLOOKUP(P1212,Campos!$B$2:$C$7,2,FALSE)","v":0},"Sin información"]
[1207,7,"Chiapas",13,"Bodegas electorales","13.4",4,"Envío a la UTVOPL, por conducto de la JLE, el informe sobre las condiciones que guardan las bodegas electorales","OPL","CG","2021-04-04","2021-04-10",null,null,{"$f":"VLOOKUP(P1213,Campos!$B$2:$C$7,2,FALSE)","v":0},"Sin información"]
[1208,7,"Chiapas",14,"Mecanismos de recolección","14.1",1,"Entrega de estudios de factibilidad al OPL","INE","CL","2021-03-15","2021-03-31",null,null,{"$f":"VLOOKUP(P1214,Campos!$B$2:$C$7,2,FALSE)","v":0},"Sin información"]
[1209,7,"Chiapas",14,"Mecanismos de recolección","14.2",2,"Entrega de observaciones a los estudios de factibilidad ","OPL","CG","2021-04-01","2021-04-24",null,null,{"$f":"VLOOKUP(P1215,Campos!$B$2:$C$7,2,FALSE)","v":0},"Sin información"]
[1210,7,"Chiapas",14,"Mecanismos de recolección","14.3",3,"Recorridos para verificar las propuestas de los mecanismos de recolección","INE/OPL","CD/OD","2021-03-16","2021-04-24",null,null,{"$f":"VLOOKUP(P1216,Campos!$B$2:$C$7,2,FALSE)","v":0},"Sin información"]
[1211,7,"Chiapas",14,"Mecanismos de recolección","14.4",4,"Aprobación de los mecanismos de recolección ","INE","CD","2021-04-26","2021-04-30",null,null,{"$f":"VLOOKUP(P1217,Campos!$B$2:$C$7,2,FALSE)","v":0},"Sin información"]
[1212,7,"Chiapas",14,"Mecanismos de recolección","14.5",5,"Traslado y recolección de los paquetes electorales","INE/OPL","CD/OD","2021-06-06","2021-06-07",null,null,{"$f":"VLOOKUP(P1218,Campos!$B$2:$C$7,2,FALSE)","v":0},"Sin información"]
[1213,7,"Chiapas",14,"Mecanismos de recolección","14.6",6,"Acreditación de representantes de partidos políticos y candidaturas independientes ante los mecanismos de recolección","INE","CL/CD","2021-04-27","2021-06-03",null,null,{"$f":"VLOOKUP(P1219,Campos!$B$2:$C$7,2,FALSE)","v":0},"Sin información"]
[1214,7,"Chiapas",14,"Mecanismos de recolección","14.7",7,"Sustitución de representantes de partidos políticos y candidaturas independientes ante los mecanismos de recolección","INE","CL/CD","2021-04-28","2021-06-04",null,null,{"$f":"VLOOKUP(P1220,Campos!$B$2:$C$7,2,FALSE)","v":0},"Sin información"]
[1215,7,"Chiapas",14,"Mecanismos de recolección","14.8",8,"Entrega a la JLE, el informe sobre la recepción de paquetes electorales en los órganos competentes","OPL","CG","2021-06-06","2021-06-28",null,null,{"$f":"VLOOKUP(P1221,Campos!$B$2:$C$7,2,FALSE)","v":0},"Sin información"]
[1216,7,"Chiapas",15,"Cómputos","15.1",1,"Aprobación de los lineamientos de cómputo y del cuadernillo de consulta sobre votos válidos y votos nulos","OPL","CG","2021-01-18","2021-01-29",null,null,{"$f":"VLOOKUP(P1222,Campos!$B$2:$C$7,2,FALSE)","v":0},"Sin información"]
[1217,7,"Chiapas",15,"Cómputos","15.2",2,"Integración por parte de los Órganos Desconcentrados del OPL, de la propuesta para la habilitación de espacios para el recuento de votos con las alternativas para todos los escenarios de cómputo","OPL","OD","2021-03-01","2021-03-07",null,null,{"$f":"VLOOKUP(P1223,Campos!$B$2:$C$7,2,FALSE)","v":0},"Sin información"]
[1218,7,"Chiapas",15,"Cómputos","15.3",3,"Informe de los escenarios de cómputos de la totalidad de sus órganos desconcentrados","OPL","CG","2021-04-01","2021-04-04",null,null,{"$f":"VLOOKUP(P1224,Campos!$B$2:$C$7,2,FALSE)","v":0},"Sin información"]
[1219,7,"Chiapas",15,"Cómputos","15.4",4,"Remisión a la JLE en la entidad, las propuestas de escenarios de cómputos, para la dictaminación de viabilidad","OPL","CG","2021-05-01","2021-05-07",null,null,{"$f":"VLOOKUP(P1225,Campos!$B$2:$C$7,2,FALSE)","v":0},"Sin información"]
[1220,7,"Chiapas",15,"Cómputos","15.5",5,"Remisión de las observaciones a los escenarios de Cómputos al OPL y a su vez informar de las mismas a la UTVOPL","INE","JLE","2021-05-08","2021-05-15",null,null,{"$f":"VLOOKUP(P1226,Campos!$B$2:$C$7,2,FALSE)","v":0},"Sin información"]
[1221,7,"Chiapas",15,"Cómputos","15.6",6,"Aprobación por parte del órgano competente del OPL, del acuerdo mediante el cual se designa al personal que participará en las tareas de apoyo a los Cómputos Municipales","OPL","CG/OD","2021-04-26","2021-05-05",null,null,{"$f":"VLOOKUP(P1227,Campos!$B$2:$C$7,2,FALSE)","v":0},"Sin información"]
[1222,7,"Chiapas",15,"Cómputos","15.7",7,"Aprobación por parte del órgano competente del OPL, del acuerdo mediante el cual se designa al personal que participará en las tareas de apoyo a los Cómputos Distritales ","OPL","CG/OD","2021-04-26","2021-05-05",null,null,{"$f":"VLOOKUP(P1228,Campos!$B$2:$C$7,2,FALSE)","v":0},"Sin información"]
[1223,7,"Chiapas",15,"Cómputos","15.8",8,"Aprobación por parte de los órganos competentes del OPL, de los distintos escenarios de cómputos","OPL","OD","2021-05-08","2021-05-15",null,null,{"$f":"VLOOKUP(P1229,Campos!$B$2:$C$7,2,FALSE)","v":0},"Sin información"]
[1224,7,"Chiapas",15,"Cómputos","15.9",9,"Aprobación por parte del órgano competente del OPL, del acuerdo por el que se habilitarán espacios para la instalación de grupos de trabajo y, en su caso, puntos de recuento","OPL","CG/OD","2021-06-08","2021-06-08",null,null,{"$f":"VLOOKUP(P1230,Campos!$B$2:$C$7,2,FALSE)","v":0},"Sin información"]
[1225,7,"Chiapas",15,"Cómputos","15.10",10,"Cómputos Distritales","OPL","OD","2021-06-09","2021-06-12",null,null,{"$f":"VLOOKUP(P1231,Campos!$B$2:$C$7,2,FALSE)","v":0},"Sin información"]
[1226,7,"Chiapas",15,"Cómputos","15.14",14,"Cómputo Estatal para la asignación diputaciones de Representación Proporcional","OPL","CG","2021-06-13","2021-09-15",null,null,{"$f":"VLOOKUP(P1232,Campos!$B$2:$C$7,2,FALSE)","v":0},"Sin información"]
[1227,7,"Chiapas",15,"Cómputos","15.11",11,"Cómputos Municipales","OPL","OD","2021-06-09","2021-06-12",null,null,{"$f":"VLOOKUP(P1233,Campos!$B$2:$C$7,2,FALSE)","v":0},"Sin información"]
[1228,7,"Chiapas",15,"Cómputos","15.16",16,"Asignación de regidurías por el principio de Representación Proporcional","OPL","CG","2021-06-13","2021-09-15",null,null,{"$f":"VLOOKUP(P1234,Campos!$B$2:$C$7,2,FALSE)","v":0},"Sin información"]
[1229,7,"Chiapas",16,"PREP","16.1",1,"Aprobación del Acuerdo por el que se designa o ratifica a la instancia interna responsable de coordinar el PREP","OPL","CG","2020-09-11","2020-09-11",null,null,{"$f":"VLOOKUP(P1235,Campos!$B$2:$C$7,2,FALSE)","v":0},"Sin información"]
[1230,7,"Chiapas",16,"PREP","16.2",2,"Aprobación del Acuerdo de Integración del COTAPREP","OPL","CG","2020-11-11","2020-11-11",null,null,{"$f":"VLOOKUP(P1236,Campos!$B$2:$C$7,2,FALSE)","v":0},"Sin información"]
[1231,7,"Chiapas",16,"PREP","16.3",3,"Documento por el que se determina la implementación del PREP por el OPL o con el apoyo de un Tercero","OPL","CG","2020-12-11","2020-12-11",null,null,{"$f":"VLOOKUP(P1237,Campos!$B$2:$C$7,2,FALSE)","v":0},"Sin información"]
[1232,7,"Chiapas",16,"PREP","16.4",4,"Aprobación del Acuerdo por el que se determina el Proceso Técnico Operativo ","OPL","CG","2021-01-11","2021-01-11",null,null,{"$f":"VLOOKUP(P1238,Campos!$B$2:$C$7,2,FALSE)","v":0},"Sin información"]
[1233,7,"Chiapas",16,"PREP","16.5",5,"Aprobación del Acuerdo por el que se determina la ubicación, instalación y habilitación de los CATD y, en su caso, CCV","OPL","CG","2021-02-11","2021-02-11",null,null,{"$f":"VLOOKUP(P1239,Campos!$B$2:$C$7,2,FALSE)","v":0},"Sin información"]
[1234,7,"Chiapas",16,"PREP","16.6",6,"Documento de Designación del Ente Auditor ","OPL","CG","2021-02-11","2021-02-11",null,null,{"$f":"VLOOKUP(P1240,Campos!$B$2:$C$7,2,FALSE)","v":0},"Sin información"]
[1235,7,"Chiapas",16,"PREP","16.7",7,"Instrumento jurídico celebrado entre el OPL y el ente auditor","OPL","CG","2021-03-11","2021-03-11",null,null,{"$f":"VLOOKUP(P1241,Campos!$B$2:$C$7,2,FALSE)","v":0},"Sin información"]
[1236,7,"Chiapas",16,"PREP","16.8",8,"Realización del primer simulacro del PREP","OPL","CG","2021-05-16","2021-05-16",null,null,{"$f":"VLOOKUP(P1242,Campos!$B$2:$C$7,2,FALSE)","v":0},"Sin información"]
[1237,7,"Chiapas",16,"PREP","16.9",9,"Realización del segundo simulacro del PREP","OPL","CG","2021-05-23","2021-05-23",null,null,{"$f":"VLOOKUP(P1243,Campos!$B$2:$C$7,2,FALSE)","v":0},"Sin información"]
[1238,7,"Chiapas",16,"PREP","16.10",10,"Realización del tercer simulacro del PREP","OPL","CG","2021-05-30","2021-05-30",null,null,{"$f":"VLOOKUP(P1244,Campos!$B$2:$C$7,2,FALSE)","v":0},"Sin información"]
[1239,7,"Chiapas",16,"PREP","16.11",11,"Operación del PREP","OPL","CG","2021-06-06","2021-06-07",null,null,{"$f":"VLOOKUP(P1245,Campos!$B$2:$C$7,2,FALSE)","v":0},"Sin información"]
[1240,7,"Chiapas",19,"Visitantes extranjeros","19.1",1,"Emisión de la Convocatoria para visitantes extranjeros","INE","CG","2020-08-03","2020-09-30",null,null,{"$f":"VLOOKUP(P1246,Campos!$B$2:$C$7,2,FALSE)","v":0},"Sin información"]
[1241,7,"Chiapas",19,"Visitantes extranjeros","19.2",2,"Difusión de la Convocatoria para visitantes extranjeros","INE","CAI","2020-09-01","2021-05-26",null,null,{"$f":"VLOOKUP(P1247,Campos!$B$2:$C$7,2,FALSE)","v":0},"Sin información"]
[1242,7,"Chiapas",19,"Visitantes extranjeros","19.3",3,"Recepción de solicitudes de acreditación como visitantes extranjeros","INE","CAI","2020-09-01","2021-05-26",null,null,{"$f":"VLOOKUP(P1248,Campos!$B$2:$C$7,2,FALSE)","v":0},"Sin información"]
[1243,7,"Chiapas",19,"Visitantes extranjeros","19.4",4,"Resolución de solicitudes de acreditación como visitantes extranjeros","INE","CAI","2020-09-02","2021-05-30",null,null,{"$f":"VLOOKUP(P1249,Campos!$B$2:$C$7,2,FALSE)","v":0},"Sin información"]
[1244,7,"Chiapas",19,"Visitantes extranjeros","19.5",5,"Entrega de acreditaciones a los visitantes extranjeros","INE","CAI","2020-09-04","2021-06-05",null,null,{"$f":"VLOOKUP(P1250,Campos!$B$2:$C$7,2,FALSE)","v":0},"Sin información"]
[1245,5,"Coahuila",1,"Mecanismos de coordinación","1.1",1,"Aprobar Calendarios y Planes Integrales de los Procesos Electorales Locales","INE","CG","2020-08-01","2020-08-07",null,null,{"$f":"VLOOKUP(P1251,Campos!$B$2:$C$7,2,FALSE)","v":0},"Sin información"]
[1246,5,"Coahuila",1,"Mecanismos de coordinación","1.2",2,"Firma del Convenio General de Coordinación y Colaboración 2020-2021","INE/OPL","INE/OPL","2020-09-01","2020-10-01",null,null,{"$f":"VLOOKUP(P1252,Campos!$B$2:$C$7,2,FALSE)","v":0},"Sin información"]
[1247,5,"Coahuila",1,"Mecanismos de coordinación","1.3",3,"Elaborar un plan de trabajo conjunto para la promoción de la participación ciudadana","INE/OPL","INE/OPL","2020-09-01","2020-12-31",null,null,{"$f":"VLOOKUP(P1253,Campos!$B$2:$C$7,2,FALSE)","v":0},"Sin información"]
[1248,5,"Coahuila",1,"Mecanismos de coordinación","1.4",4,"Sesión para dar inicio al PEL","OPL","CG","2021-01-01","2021-01-01",null,null,{"$f":"VLOOKUP(P1254,Campos!$B$2:$C$7,2,FALSE)","v":0},"Sin información"]
[1249,5,"Coahuila",1,"Mecanismos de coordinación","1.5",5,"Implementar un plan de trabajo conjunto para la promoción de la participación ciudadana","INE/OPL","INE/OPL","2021-02-01","2021-06-06",null,null,{"$f":"VLOOKUP(P1255,Campos!$B$2:$C$7,2,FALSE)","v":0},"Sin información"]
[1250,5,"Coahuila",2,"Integración de órganos desconcentrados","2.4",4,"Convocatoria para la integración de los Órganos Municipales ","OPL","CG","2020-07-01","2020-12-31",null,null,{"$f":"VLOOKUP(P1256,Campos!$B$2:$C$7,2,FALSE)","v":0},"Sin información"]
[1251,5,"Coahuila",2,"Integración de órganos desconcentrados","2.5",5,"Sesión en la que se designan e integran los Órganos Municipales ","OPL","CG","2020-07-01","2020-12-31",null,null,{"$f":"VLOOKUP(P1257,Campos!$B$2:$C$7,2,FALSE)","v":0},"Sin información"]
[1252,5,"Coahuila",2,"Integración de órganos desconcentrados","2.6",6,"Instalación de los Órganos Municipales ","OPL","OD","2021-01-01","2021-01-14",null,null,{"$f":"VLOOKUP(P1258,Campos!$B$2:$C$7,2,FALSE)","v":0},"Sin información"]
[1253,5,"Coahuila",2,"Integración de órganos desconcentrados","2.7",7,"Designación y/o ratificación de las y los Consejeros Electorales del Consejo Local ","INE","CG","2020-10-01","2020-10-15",null,null,{"$f":"VLOOKUP(P1259,Campos!$B$2:$C$7,2,FALSE)","v":0},"Sin información"]
[1254,5,"Coahuila",2,"Integración de órganos desconcentrados","2.8",8,"Instalación del Consejo Local","INE","CL","2020-11-01","2020-11-30",null,null,{"$f":"VLOOKUP(P1260,Campos!$B$2:$C$7,2,FALSE)","v":0},"Sin información"]
[1255,5,"Coahuila",2,"Integración de órganos desconcentrados","2.9",9,"Designación y/o ratificación de las y los Consejeros Electorales de los Consejos Distritales ","INE","CL","2020-11-01","2020-11-30",null,null,{"$f":"VLOOKUP(P1261,Campos!$B$2:$C$7,2,FALSE)","v":0},"Sin información"]
[1256,5,"Coahuila",2,"Integración de órganos desconcentrados","2.10",10,"Instalación de los Consejos Distritales","INE","CD","2020-12-01","2020-12-15",null,null,{"$f":"VLOOKUP(P1262,Campos!$B$2:$C$7,2,FALSE)","v":0},"Sin información"]
[1257,5,"Coahuila",3,"Lista Nominal de Electores","3.1",1,"Generación y entrega de la Lista Nominal de Electores para Revisión en medios ópticos a los representantes de los partidos políticos, y en su caso a las candidaturas independientes acreditados ante el OPL, para observaciones","INE","DERFE","2021-02-15","2021-02-15",null,null,{"$f":"VLOOKUP(P1263,Campos!$B$2:$C$7,2,FALSE)","v":0},"Sin información"]
[1258,5,"Coahuila",3,"Lista Nominal de Electores","3.2",2,"Recepción de observaciones de los partidos políticos y en su caso, candidatos independientes, a la Lista Nominal de Electores para revisión","INE/OPL","DERFE","2021-03-14","2021-03-14",null,null,{"$f":"VLOOKUP(P1264,Campos!$B$2:$C$7,2,FALSE)","v":0},"Sin información"]
[1259,5,"Coahuila",3,"Lista Nominal de Electores","3.3",3,"Entrega en formato digital el informe respecto de la atención a las observaciones formuladas a la Lista Nominal de Electores para Revisión","INE","DERFE","2021-04-15","2021-04-15",null,null,{"$f":"VLOOKUP(P1265,Campos!$B$2:$C$7,2,FALSE)","v":0},"Sin información"]
[1260,5,"Coahuila",3,"Lista Nominal de Electores","3.4",4,"Entrega de la Lista Nominal de Electores Definitiva con fotografía","INE","DERFE","2021-05-06","2021-05-14",null,null,{"$f":"VLOOKUP(P1266,Campos!$B$2:$C$7,2,FALSE)","v":0},"Sin información"]
[1261,5,"Coahuila",3,"Lista Nominal de Electores","3.5",5,"Fecha de entrega de la Lista Nominal de Electores con fotografía Producto de Instancias Administrativas y Resoluciones del Tribunal (ADENDA)","INE","DERFE","2021-05-19","2021-05-24",null,null,{"$f":"VLOOKUP(P1267,Campos!$B$2:$C$7,2,FALSE)","v":0},"Sin información"]
[1262,5,"Coahuila",4,"Observación Electoral","4.1",1,"Emisión de la convocatoria para la ciudadanía que desee participar en la observación electoral","OPL","CG","2021-01-01","2021-01-01",null,null,{"$f":"VLOOKUP(P1268,Campos!$B$2:$C$7,2,FALSE)","v":0},"Sin información"]
[1263,5,"Coahuila",4,"Observación Electoral","4.2",2,"Recepción de solicitudes de la ciudadanía que desee participar en observación electoral","INE/OPL","OPL/JLE/JDE","2021-01-01","2021-04-30",null,null,{"$f":"VLOOKUP(P1269,Campos!$B$2:$C$7,2,FALSE)","v":0},"Sin información"]
[1264,5,"Coahuila",4,"Observación Electoral","4.3",3,"Impartición de los cursos de capacitación, preparación o información","INE/OPL","OPL/JLE/JDE","2021-01-01","2021-05-17",null,null,{"$f":"VLOOKUP(P1270,Campos!$B$2:$C$7,2,FALSE)","v":0},"Sin información"]
[1265,5,"Coahuila",4,"Observación Electoral","4.4",4,"Acreditación de la ciudadanía como observadores u observadoras electorales","INE","CL/CD","2021-01-01","2021-06-05",null,null,{"$f":"VLOOKUP(P1271,Campos!$B$2:$C$7,2,FALSE)","v":0},"Sin información"]
[1266,5,"Coahuila",4,"Observación Electoral","4.5",5,"Seguimiento a los informes mensuales de acreditación","INE","CG","2021-01-01","2021-07-31",null,null,{"$f":"VLOOKUP(P1272,Campos!$B$2:$C$7,2,FALSE)","v":0},"Sin información"]
[1267,5,"Coahuila",4,"Observación Electoral","4.6",6,"Remisión de materiales de capacitación a la JLE para revisión","OPL","CG","2020-10-08","2020-10-08",null,null,{"$f":"VLOOKUP(P1273,Campos!$B$2:$C$7,2,FALSE)","v":0},"Sin información"]
[1268,5,"Coahuila",4,"Observación Electoral","4.7",7,"Revisión, corrección, verificación y validación de materiales de capacitación para observación electoral ","INE","JLE","2020-10-09","2020-10-30",null,null,{"$f":"VLOOKUP(P1274,Campos!$B$2:$C$7,2,FALSE)","v":0},"Sin información"]
[1269,5,"Coahuila",4,"Observación Electoral","4.8",8,"Entrega de materiales de capacitación para observación electoral entre OPL e INE","INE/OPL","VEL/OPL","2020-11-01","2020-11-23",null,null,{"$f":"VLOOKUP(P1275,Campos!$B$2:$C$7,2,FALSE)","v":0},"Sin información"]
[1270,5,"Coahuila",5,"Ubicación de casillas","5.1",1,"Recorridos por las secciones de los distritos para localizar los lugares donde se ubicarán las casillas","INE/OPL","JDE/OPL","2021-01-15","2021-02-15",null,null,{"$f":"VLOOKUP(P1276,Campos!$B$2:$C$7,2,FALSE)","v":0},"Sin información"]
[1271,5,"Coahuila",5,"Ubicación de casillas","5.2",2,"Presentación a los Consejos Distritales del listado de lugares propuestos para ubicar casillas","INE","JDE","2021-02-24","2021-02-24",null,null,{"$f":"VLOOKUP(P1277,Campos!$B$2:$C$7,2,FALSE)","v":0},"Sin información"]
[1272,5,"Coahuila",5,"Ubicación de casillas","5.3",3,"Visitas de examinación en los lugares propuestos para ubicar casillas básicas, contiguas, especiales y extraordinarias","INE/OPL","CD/OPL","2021-02-25","2021-03-16",null,null,{"$f":"VLOOKUP(P1278,Campos!$B$2:$C$7,2,FALSE)","v":0},"Sin información"]
[1273,5,"Coahuila",5,"Ubicación de casillas","5.4",4,"Aprobación del número y ubicación de casillas extraordinarias y especiales","INE","CD","2021-03-16","2021-03-16",null,null,{"$f":"VLOOKUP(P1279,Campos!$B$2:$C$7,2,FALSE)","v":0},"Sin información"]
[1274,5,"Coahuila",5,"Ubicación de casillas","5.5",5,"Aprobación del número y ubicación de casillas básicas y contiguas","INE","CD","2021-03-25","2021-03-25",null,null,{"$f":"VLOOKUP(P1280,Campos!$B$2:$C$7,2,FALSE)","v":0},"Sin información"]
[1275,5,"Coahuila",5,"Ubicación de casillas","5.6",6,"Entrega de la base de datos de la Lista Nominal Definitiva a UNICOM con corte al 10 de abril","INE","DERFE","2021-04-15","2021-04-16",null,null,{"$f":"VLOOKUP(P1281,Campos!$B$2:$C$7,2,FALSE)","v":0},"Sin información"]
[1276,5,"Coahuila",5,"Ubicación de casillas","5.7",7,"Realizar la primera publicación de la lista de ubicación de casillas en los lugares más concurridos del distrito electoral  y en los medios electrónicos del Instituto","INE","CD","2021-04-15","2021-04-15",null,null,{"$f":"VLOOKUP(P1282,Campos!$B$2:$C$7,2,FALSE)","v":0},"Sin información"]
[1277,5,"Coahuila",5,"Ubicación de casillas","5.8",8,"En su caso, segunda publicación de la lista de ubicación de casillas por causas supervenientes en los lugares más concurridos del distrito y en los medios electrónicos del Instituto","INE","CD","2021-05-15","2021-05-25",null,null,{"$f":"VLOOKUP(P1283,Campos!$B$2:$C$7,2,FALSE)","v":0},"Sin información"]
[1278,5,"Coahuila",5,"Ubicación de casillas","5.9",9,"Publicación de los encartes y difusión en medios electrónicos del Instituto","INE/OPL","DEOE/CG","2021-06-05","2021-06-06",null,null,{"$f":"VLOOKUP(P1284,Campos!$B$2:$C$7,2,FALSE)","v":0},"Sin información"]
[1279,5,"Coahuila",5,"Ubicación de casillas","5.10",10,"Registro de representantes generales y ante mesas directivas de casilla","INE","CD","2021-04-16","2021-05-24",null,null,{"$f":"VLOOKUP(P1285,Campos!$B$2:$C$7,2,FALSE)","v":0},"Sin información"]
[1280,5,"Coahuila",5,"Ubicación de casillas","5.11",11,"Sustitución de representantes generales y ante mesas directivas de casilla","INE","CD","2021-04-16","2021-05-27",null,null,{"$f":"VLOOKUP(P1286,Campos!$B$2:$C$7,2,FALSE)","v":0},"Sin información"]
[1281,5,"Coahuila",5,"Ubicación de casillas","5.12",12,"Entrega de listados de representantes generales y ante casilla al OPL","INE","CD","2021-05-30","2021-05-30",null,null,{"$f":"VLOOKUP(P1287,Campos!$B$2:$C$7,2,FALSE)","v":0},"Sin información"]
[1282,5,"Coahuila",5,"Ubicación de casillas","5.13",13,"Notificación ciudadana de ubicación de casillas en secciones electorales involucradas en la actualización del Marco Geográfico Electoral","INE/OPL","DERFE/OPL","2021-04-01","2021-06-15",null,null,{"$f":"VLOOKUP(P1288,Campos!$B$2:$C$7,2,FALSE)","v":0},"Sin información"]
[1283,5,"Coahuila",6,"Integración de las Mesas Directivas de Casilla","6.1",1,"Aprobación de la Estrategia de Capacitación y Asistencia Electoral","INE","CG","2020-08-01","2020-08-15",null,null,{"$f":"VLOOKUP(P1289,Campos!$B$2:$C$7,2,FALSE)","v":0},"Sin información"]
[1284,5,"Coahuila",6,"Integración de las Mesas Directivas de Casilla","6.2",2,"Entrega para revisión y validación de materiales didácticos de primera etapa","OPL","CG","2020-11-03","2020-11-03",null,null,{"$f":"VLOOKUP(P1290,Campos!$B$2:$C$7,2,FALSE)","v":0},"Sin información"]
[1285,5,"Coahuila",6,"Integración de las Mesas Directivas de Casilla","6.3",3,"Revisión, corrección, verificación y validación de los materiales didácticos de primera etapa","INE/OPL","JLE/DECEYEC/OPL","2020-11-03","2020-12-19",null,null,{"$f":"VLOOKUP(P1291,Campos!$B$2:$C$7,2,FALSE)","v":0},"Sin información"]
[1286,5,"Coahuila",6,"Integración de las Mesas Directivas de Casilla","6.4",4,"Entrega de los materiales impresos de la primera etapa a la JLE","OPL","OPL","2021-02-05","2021-02-05",null,null,{"$f":"VLOOKUP(P1292,Campos!$B$2:$C$7,2,FALSE)","v":0},"Sin información"]
[1287,5,"Coahuila",6,"Integración de las Mesas Directivas de Casilla","6.5",5,"Sorteo del mes del calendario como base para la insaculación de las y los ciudadanos que integrarán las mesas directivas de casilla","INE","CG","2020-12-15","2020-12-19",null,null,{"$f":"VLOOKUP(P1293,Campos!$B$2:$C$7,2,FALSE)","v":0},"Sin información"]
[1288,5,"Coahuila",6,"Integración de las Mesas Directivas de Casilla","6.6",6,"Entrega para revisión y validación de materiales didácticos de segunda etapa","OPL","OPL","2021-02-03","2021-02-03",null,null,{"$f":"VLOOKUP(P1294,Campos!$B$2:$C$7,2,FALSE)","v":0},"Sin información"]
[1289,5,"Coahuila",6,"Integración de las Mesas Directivas de Casilla","6.7",7,"Revisión, corrección, verificación y validación de los materiales didácticos de la segunda etapa","INE/OPL","JLE/DECEYEC/OPL","2021-02-03","2021-03-22",null,null,{"$f":"VLOOKUP(P1295,Campos!$B$2:$C$7,2,FALSE)","v":0},"Sin información"]
[1290,5,"Coahuila",6,"Integración de las Mesas Directivas de Casilla","6.8",8,"Entrega de los materiales impresos de la segunda etapa a la JLE","OPL","OPL","2021-04-05","2021-04-05",null,null,{"$f":"VLOOKUP(P1296,Campos!$B$2:$C$7,2,FALSE)","v":0},"Sin información"]
[1291,5,"Coahuila",6,"Integración de las Mesas Directivas de Casilla","6.9",9,"Sorteo de la letra a partir de la cual, con base en el apellido paterno, se seleccionará a las y los ciudadanos que integrarán las mesas directivas de casilla","INE","CG","2021-02-02","2021-02-02",null,null,{"$f":"VLOOKUP(P1297,Campos!$B$2:$C$7,2,FALSE)","v":0},"Sin información"]
[1292,5,"Coahuila",6,"Integración de las Mesas Directivas de Casilla","6.10",10,"Entrega de la Lista Nominal de Electores para el Procedimiento de la Primera insaculación con corte al 15 de enero de 2021.","INE","DERFE/UNICOM","2021-01-21","2021-01-26",null,null,{"$f":"VLOOKUP(P1298,Campos!$B$2:$C$7,2,FALSE)","v":0},"Sin información"]
[1293,5,"Coahuila",6,"Integración de las Mesas Directivas de Casilla","6.11",11,"Primera insaculación","INE","JDE","2021-02-06","2021-02-06",null,null,{"$f":"VLOOKUP(P1299,Campos!$B$2:$C$7,2,FALSE)","v":0},"Sin información"]
[1294,5,"Coahuila",6,"Integración de las Mesas Directivas de Casilla","6.12",12,"Primera etapa de capacitación a las personas insaculadas","INE","CD","2021-02-09","2021-03-31",null,null,{"$f":"VLOOKUP(P1300,Campos!$B$2:$C$7,2,FALSE)","v":0},"Sin información"]
[1295,5,"Coahuila",6,"Integración de las Mesas Directivas de Casilla","6.13",13,"Integración de la lista de ciudadanos y ciudadanas que cumplen los requisitos legales para integrar las mesas directivas de casilla","INE","CD","2021-02-09","2021-03-31",null,null,{"$f":"VLOOKUP(P1301,Campos!$B$2:$C$7,2,FALSE)","v":0},"Sin información"]
[1296,5,"Coahuila",6,"Integración de las Mesas Directivas de Casilla","6.14",14,"Segunda insaculación y designación de funcionarios para mesas directivas de casilla","INE","CD","2021-04-08","2021-04-08",null,null,{"$f":"VLOOKUP(P1302,Campos!$B$2:$C$7,2,FALSE)","v":0},"Sin información"]
[1297,5,"Coahuila",6,"Integración de las Mesas Directivas de Casilla","6.15",15,"Segunda etapa de capacitación a funcionarios de mesa directiva de casilla y simulacros","INE","CD","2021-04-18","2021-06-05",null,null,{"$f":"VLOOKUP(P1303,Campos!$B$2:$C$7,2,FALSE)","v":0},"Sin información"]
[1298,5,"Coahuila",6,"Integración de las Mesas Directivas de Casilla","6.16",16,"Entrega de reconocimientos a funcionarios de mesas directivas de casilla","INE","CD","2021-06-07","2021-06-12",null,null,{"$f":"VLOOKUP(P1304,Campos!$B$2:$C$7,2,FALSE)","v":0},"Sin información"]
[1299,5,"Coahuila",6,"Integración de las Mesas Directivas de Casilla","6.17",17,"Periodo para contratación de CAE locales","INE/OPL","INE/OPL","Por definir","Por definir",null,null,{"$f":"VLOOKUP(P1305,Campos!$B$2:$C$7,2,FALSE)","v":0},"Sin información"]
[1300,5,"Coahuila",6,"Integración de las Mesas Directivas de Casilla","6.18",18,"Reclutamiento y selección de CAE locales","INE/OPL","INE/OPL","Por definir","Por definir",null,null,{"$f":"VLOOKUP(P1306,Campos!$B$2:$C$7,2,FALSE)","v":0},"Sin información"]
[1301,5,"Coahuila",7,"Fiscalización de los recursos de los Partidos Políticos y candidaturas independientes","7.3",3,"Aprobación de topes de gastos de precampaña Ayuntamientos","OPL","CG","2020-10-01","2021-01-26",null,null,{"$f":"VLOOKUP(P1307,Campos!$B$2:$C$7,2,FALSE)","v":0},"Sin información"]
[1302,5,"Coahuila",7,"Fiscalización de los recursos de los Partidos Políticos y candidaturas independientes","7.6",6,"Aprobación de los límites de financiamiento privado, aportaciones de militantes, simpatizantes y precandidatos o candidatos; así como el límite individual de aportaciones para Ayuntamientos","OPL","CG","2020-10-01","2021-01-26",null,null,{"$f":"VLOOKUP(P1308,Campos!$B$2:$C$7,2,FALSE)","v":0},"Sin información"]
[1303,5,"Coahuila",7,"Fiscalización de los recursos de los Partidos Políticos y candidaturas independientes","7.9",9,"Aprobación de topes de gastos para el periodo de obtención del apoyo ciudadano para Ayuntamientos","OPL","CG","2020-10-31","2021-01-11",null,null,{"$f":"VLOOKUP(P1309,Campos!$B$2:$C$7,2,FALSE)","v":0},"Sin información"]
[1304,5,"Coahuila",7,"Fiscalización de los recursos de los Partidos Políticos y candidaturas independientes","7.12",12,"Precampaña para Ayuntamientos","OPL","CG","2021-02-10","2021-03-21",null,null,{"$f":"VLOOKUP(P1310,Campos!$B$2:$C$7,2,FALSE)","v":0},"Sin información"]
[1305,5,"Coahuila",7,"Fiscalización de los recursos de los Partidos Políticos y candidaturas independientes","7.15",15,"Aprobación de topes de gastos de campaña para Ayuntamientos","OPL","CG","2020-10-31","2021-03-20",null,null,{"$f":"VLOOKUP(P1311,Campos!$B$2:$C$7,2,FALSE)","v":0},"Sin información"]
[1306,5,"Coahuila",7,"Fiscalización de los recursos de los Partidos Políticos y candidaturas independientes","7.18",18,"Campaña para Ayuntamientos","OPL","CG","2021-04-04","2021-06-02",null,null,{"$f":"VLOOKUP(P1312,Campos!$B$2:$C$7,2,FALSE)","v":0},"Sin información"]
[1307,5,"Coahuila",7,"Fiscalización de los recursos de los Partidos Políticos y candidaturas independientes","7.19",19,"Aprobación de la distribución de financiamiento público para partidos políticos","OPL","CG","2020-10-31","2021-01-31",null,null,{"$f":"VLOOKUP(P1313,Campos!$B$2:$C$7,2,FALSE)","v":0},"Sin información"]
[1308,5,"Coahuila",8,"Candidaturas Independientes","8.1",1,"Emisión de la convocatoria para la ciudadanía interesada en participar en Candidaturas Independientes ","OPL","CG","2021-01-11","2021-01-11",null,null,{"$f":"VLOOKUP(P1314,Campos!$B$2:$C$7,2,FALSE)","v":0},"Sin información"]
[1309,5,"Coahuila",8,"Candidaturas Independientes","8.4",4,"Recepción de escrito de intención y documentación anexa de la ciudadanía que aspire a la candidatura independiente para Ayuntamientos","OPL","SE/OD","2021-01-12","2021-01-26",null,null,{"$f":"VLOOKUP(P1315,Campos!$B$2:$C$7,2,FALSE)","v":0},"Sin información"]
[1310,5,"Coahuila",8,"Candidaturas Independientes","8.7",7,"Resolución sobre procedencia de manifestación de intención de aspirantes a candidaturas independientes para Ayuntamientos","OPL","CG","2020-02-05","2020-02-05",null,null,{"$f":"VLOOKUP(P1316,Campos!$B$2:$C$7,2,FALSE)","v":0},"Sin información"]
[1311,5,"Coahuila",8,"Candidaturas Independientes","8.10",10,"Plazo para obtener el apoyo ciudadano de las candidaturas independientes para Ayuntamientos","OPL","OD","2021-02-10","2021-03-21",null,null,{"$f":"VLOOKUP(P1317,Campos!$B$2:$C$7,2,FALSE)","v":0},"Sin información"]
[1312,5,"Coahuila",8,"Candidaturas Independientes","8.13",13,"Plazo para otorgar las constancias de porcentaje a favor de aspirantes a la candidatura independiente para Ayuntamientos","OPL","CG","2021-03-31","2021-04-02",null,null,{"$f":"VLOOKUP(P1318,Campos!$B$2:$C$7,2,FALSE)","v":0},"Sin información"]
[1313,5,"Coahuila",9,"Candidaturas","9.1",1,"Registro de plataformas electorales","OPL","CG","2021-01-01","2021-01-15",null,null,{"$f":"VLOOKUP(P1319,Campos!$B$2:$C$7,2,FALSE)","v":0},"Sin información"]
[1314,5,"Coahuila",9,"Candidaturas","9.4",4,"Solicitud de registro de convenio de coalición para Ayuntamientos","OPL","CG","2021-01-01","2021-02-10",null,null,{"$f":"VLOOKUP(P1320,Campos!$B$2:$C$7,2,FALSE)","v":0},"Sin información"]
[1315,5,"Coahuila",9,"Candidaturas","9.7",7,"Resolución sobre Convenio de Coalición para Ayuntamientos","OPL","CG","2021-01-11","2021-02-20",null,null,{"$f":"VLOOKUP(P1321,Campos!$B$2:$C$7,2,FALSE)","v":0},"Sin información"]
[1316,5,"Coahuila",9,"Candidaturas","9.11",11,"Solicitud de registro de Candidaturas para Ayuntamientos","OPL","CG/OD","2021-03-25","2021-03-29",null,null,{"$f":"VLOOKUP(P1322,Campos!$B$2:$C$7,2,FALSE)","v":0},"Sin información"]
[1317,5,"Coahuila",9,"Candidaturas","9.16",16,"Resolución para aprobar las candidaturas para Ayuntamientos","OPL","CG/OD","2021-03-30","2021-04-03",null,null,{"$f":"VLOOKUP(P1323,Campos!$B$2:$C$7,2,FALSE)","v":0},"Sin información"]
[1318,5,"Coahuila",11,"Documentación y material electoral","11.1",1,"Entrega a la Junta Local Ejecutiva del INE, de los diseños y especificaciones técnicas de la documentación y materiales electorales, en medios impresos y electrónicos","OPL","CG","2020-09-01","2020-09-30",null,null,{"$f":"VLOOKUP(P1324,Campos!$B$2:$C$7,2,FALSE)","v":0},"Sin información"]
[1319,5,"Coahuila",11,"Documentación y material electoral","11.2",2,"Revisión de los documentos y materiales electorales y especificaciones técnicas, presentadas por el OPL","INE","JLE","2020-09-15","2020-12-16",null,null,{"$f":"VLOOKUP(P1325,Campos!$B$2:$C$7,2,FALSE)","v":0},"Sin información"]
[1320,5,"Coahuila",11,"Documentación y material electoral","11.3",3,"En su caso, atención y presentación, de los cambios pertinentes, conforme a las observaciones emitidas por la Junta Local Ejecutiva del INE","OPL","CG","2020-09-15","2020-12-16",null,null,{"$f":"VLOOKUP(P1326,Campos!$B$2:$C$7,2,FALSE)","v":0},"Sin información"]
[1321,5,"Coahuila",11,"Documentación y material electoral","11.4",4,"Validación de los documentos y materiales electorales y especificaciones técnicas, con las observaciones subsanadas","INE","DEOE","2020-10-28","2020-12-18",null,null,{"$f":"VLOOKUP(P1327,Campos!$B$2:$C$7,2,FALSE)","v":0},"Sin información"]
[1322,5,"Coahuila",11,"Documentación y material electoral","11.5",5,"Entrega a la Dirección Ejecutiva de Organización Electoral del INE, del Reporte único sobre la aprobación y adjudicación de los documentos y materiales electorales del OPL, en medios electrónicos","OPL","CG","2021-02-01","2021-02-26",null,null,{"$f":"VLOOKUP(P1328,Campos!$B$2:$C$7,2,FALSE)","v":0},"Sin información"]
[1323,5,"Coahuila",11,"Documentación y material electoral","11.6",6,"Revisión y en su caso validación, del Reporte único sobre la aprobación y adjudicación de los documentos y materiales electorales del OPL, en medios electrónicos","INE","DEOE","2021-02-15","2021-03-12",null,null,{"$f":"VLOOKUP(P1329,Campos!$B$2:$C$7,2,FALSE)","v":0},"Sin información"]
[1324,5,"Coahuila",11,"Documentación y material electoral","11.7",7,"Entrega  a la Dirección Ejecutiva de Organización Electoral del INE, del Reporte semanal sobre el avance en la producción de los documentos y materiales electorales del OPL, en medios electrónicos.","OPL","CG","2021-03-15","2021-05-22",null,null,{"$f":"VLOOKUP(P1330,Campos!$B$2:$C$7,2,FALSE)","v":0},"Sin información"]
[1325,5,"Coahuila",11,"Documentación y material electoral","11.8",8,"Aprobación de la documentación y material electoral","OPL","CG","2020-11-11","2020-12-31",null,null,{"$f":"VLOOKUP(P1331,Campos!$B$2:$C$7,2,FALSE)","v":0},"Sin información"]
[1326,5,"Coahuila",11,"Documentación y material electoral","11.9",9,"Entrega a la Dirección Ejecutiva de Organización Electoral del INE, del Reporte con los resultados de las verificaciones de las medidas de seguridad en la documentación electoral","OPL","CG","2021-05-27","2021-06-11",null,null,{"$f":"VLOOKUP(P1332,Campos!$B$2:$C$7,2,FALSE)","v":0},"Sin información"]
[1327,5,"Coahuila",11,"Documentación y material electoral","11.10",10,"Supervisiones respecto de los procedimientos de impresión y producción de la documentación y materiales electorales","INE","DEOE","2021-03-15","2021-05-22",null,null,{"$f":"VLOOKUP(P1333,Campos!$B$2:$C$7,2,FALSE)","v":0},"Sin información"]
[1328,5,"Coahuila",11,"Documentación y material electoral","11.11",11,"Designación de la persona responsable de llevar el control sobre la asignación de los folios de las boletas que se distribuirán en cada mesa directiva de casilla","OPL","CG","2021-03-01","2021-03-30",null,null,{"$f":"VLOOKUP(P1334,Campos!$B$2:$C$7,2,FALSE)","v":0},"Sin información"]
[1329,5,"Coahuila",11,"Documentación y material electoral","11.12",12,"Aprobación de SE y CAE, así como de personal que auxiliará en el procedimiento de conteo, sellado y agrupamiento de las boletas electorales; así como la integración de documentación para las casillas","OPL","CG","2021-04-24","2021-05-11",null,null,{"$f":"VLOOKUP(P1335,Campos!$B$2:$C$7,2,FALSE)","v":0},"Sin información"]
[1330,5,"Coahuila",11,"Documentación y material electoral","11.13",13,"Recepción de las boletas electorales por el órgano competente que realizará el conteo, sellado y agrupamiento","OPL","CG","2021-05-18","2021-05-22",null,null,{"$f":"VLOOKUP(P1336,Campos!$B$2:$C$7,2,FALSE)","v":0},"Sin información"]
[1331,5,"Coahuila",11,"Documentación y material electoral","11.14",14,"Conteo, sellado y agrupamiento de boletas","OPL","CG","2021-05-18","2021-05-28",null,null,{"$f":"VLOOKUP(P1337,Campos!$B$2:$C$7,2,FALSE)","v":0},"Sin información"]
[1332,5,"Coahuila",11,"Documentación y material electoral","11.15",15,"Distribución de la documentación y materiales electorales a las y los Presidentes de mesas directivas de casilla","OPL","OD","2021-05-31","2021-06-04",null,null,{"$f":"VLOOKUP(P1338,Campos!$B$2:$C$7,2,FALSE)","v":0},"Sin información"]
[1333,5,"Coahuila",11,"Documentación y material electoral","11.16",16,"Remisión de los recibos de la entrega de la documentación y materiales electorales al Consejo General del OPL","INE","JLE","2021-06-24","2021-06-30",null,null,{"$f":"VLOOKUP(P1339,Campos!$B$2:$C$7,2,FALSE)","v":0},"Sin información"]
[1334,5,"Coahuila",12,"Jornada Electoral","12.1",1,"Aprobación del Programa de Operación del SIJE 2021","INE","CCOE","2020-07-01","2020-07-31",null,null,{"$f":"VLOOKUP(P1340,Campos!$B$2:$C$7,2,FALSE)","v":0},"Sin información"]
[1335,5,"Coahuila",12,"Jornada Electoral","12.2",2,"Aprobación de las metas del SIJE 2021","INE","CG","2021-03-01","2021-03-31",null,null,{"$f":"VLOOKUP(P1341,Campos!$B$2:$C$7,2,FALSE)","v":0},"Sin información"]
[1336,5,"Coahuila",12,"Jornada Electoral","12.3",3,"Realización de pruebas del SIJE 2021","INE","DEOE","2021-04-01","2021-04-15",null,null,{"$f":"VLOOKUP(P1342,Campos!$B$2:$C$7,2,FALSE)","v":0},"Sin información"]
[1337,5,"Coahuila",12,"Jornada Electoral","12.4",4,"Desarrollo del primer simulacro del SIJE","INE/OPL","DEOE/OD","2021-04-29","2021-04-29",null,null,{"$f":"VLOOKUP(P1343,Campos!$B$2:$C$7,2,FALSE)","v":0},"Sin información"]
[1338,5,"Coahuila",12,"Jornada Electoral","12.5",5,"Desarrollo del segundo simulacro del SIJE","INE/OPL","DEOE/OD","2021-05-09","2021-05-09",null,null,{"$f":"VLOOKUP(P1344,Campos!$B$2:$C$7,2,FALSE)","v":0},"Sin información"]
[1339,5,"Coahuila",12,"Jornada Electoral","12.6",6,"Desarrollo del tercer simulacro del SIJE","INE/OPL","DEOE/OD","2021-05-23","2021-05-23",null,null,{"$f":"VLOOKUP(P1345,Campos!$B$2:$C$7,2,FALSE)","v":0},"Sin información"]
[1340,5,"Coahuila",12,"Jornada Electoral","12.7",7,"Jornada Electoral","OPL","CG/OD","2021-06-06","2021-06-06",null,null,{"$f":"VLOOKUP(P1346,Campos!$B$2:$C$7,2,FALSE)","v":0},"Sin información"]
[1341,5,"Coahuila",13,"Bodegas electorales","13.1",1,"Determinación de los lugares que ocuparán las bodegas electorales para el resguardo de la documentación electoral","OPL","OD","2021-02-01","2021-02-28",null,null,{"$f":"VLOOKUP(P1347,Campos!$B$2:$C$7,2,FALSE)","v":0},"Sin información"]
[1342,5,"Coahuila",13,"Bodegas electorales","13.2",2,"Informe que rinden las y los Presidentes sobre las condiciones de equipamiento, mecanismos de operación y medidas de seguridad de las bodegas electorales","OPL","OD","2021-03-01","2021-03-31",null,null,{"$f":"VLOOKUP(P1348,Campos!$B$2:$C$7,2,FALSE)","v":0},"Sin información"]
[1343,5,"Coahuila",13,"Bodegas electorales","13.3",3,"Designación, por parte del órgano competente del OPL, del personal que tendrá acceso a la bodega electoral","OPL","CG/OD","2021-03-01","2021-03-30",null,null,{"$f":"VLOOKUP(P1349,Campos!$B$2:$C$7,2,FALSE)","v":0},"Sin información"]
[1344,5,"Coahuila",13,"Bodegas electorales","13.4",4,"Envío a la UTVOPL, por conducto de la JLE, el informe sobre las condiciones que guardan las bodegas electorales","OPL","CG","2021-04-04","2021-04-10",null,null,{"$f":"VLOOKUP(P1350,Campos!$B$2:$C$7,2,FALSE)","v":0},"Sin información"]
[1345,5,"Coahuila",14,"Mecanismos de recolección","14.1",1,"Entrega de estudios de factibilidad al OPL","INE","CL","2021-03-15","2021-03-31",null,null,{"$f":"VLOOKUP(P1351,Campos!$B$2:$C$7,2,FALSE)","v":0},"Sin información"]
[1346,5,"Coahuila",14,"Mecanismos de recolección","14.2",2,"Entrega de observaciones a los estudios de factibilidad ","OPL","CG","2021-04-01","2021-04-24",null,null,{"$f":"VLOOKUP(P1352,Campos!$B$2:$C$7,2,FALSE)","v":0},"Sin información"]
[1347,5,"Coahuila",14,"Mecanismos de recolección","14.3",3,"Recorridos para verificar las propuestas de los mecanismos de recolección","INE/OPL","CD/OD","2021-03-16","2021-04-24",null,null,{"$f":"VLOOKUP(P1353,Campos!$B$2:$C$7,2,FALSE)","v":0},"Sin información"]
[1348,5,"Coahuila",14,"Mecanismos de recolección","14.4",4,"Aprobación de los mecanismos de recolección ","INE","CD","2021-04-26","2021-04-30",null,null,{"$f":"VLOOKUP(P1354,Campos!$B$2:$C$7,2,FALSE)","v":0},"Sin información"]
[1349,5,"Coahuila",14,"Mecanismos de recolección","14.5",5,"Traslado y recolección de los paquetes electorales","INE/OPL","CD/OD","2021-06-06","2021-06-07",null,null,{"$f":"VLOOKUP(P1355,Campos!$B$2:$C$7,2,FALSE)","v":0},"Sin información"]
[1350,5,"Coahuila",14,"Mecanismos de recolección","14.6",6,"Acreditación de representantes de partidos políticos y candidaturas independientes ante los mecanismos de recolección","INE","CL/CD","2021-04-27","2021-06-03",null,null,{"$f":"VLOOKUP(P1356,Campos!$B$2:$C$7,2,FALSE)","v":0},"Sin información"]
[1351,5,"Coahuila",14,"Mecanismos de recolección","14.7",7,"Sustitución de representantes de partidos políticos y candidaturas independientes ante los mecanismos de recolección","INE","CL/CD","2021-04-28","2021-06-04",null,null,{"$f":"VLOOKUP(P1357,Campos!$B$2:$C$7,2,FALSE)","v":0},"Sin información"]
[1352,5,"Coahuila",14,"Mecanismos de recolección","14.8",8,"Entrega a la JLE, el informe sobre la recepción de paquetes electorales en los órganos competentes","OPL","CG","2021-06-06","2021-06-28",null,null,{"$f":"VLOOKUP(P1358,Campos!$B$2:$C$7,2,FALSE)","v":0},"Sin información"]
[1353,5,"Coahuila",15,"Cómputos","15.1",1,"Aprobación de los lineamientos de cómputo y del cuadernillo de consulta sobre votos válidos y votos nulos","OPL","CG","2021-01-18","2021-01-29",null,null,{"$f":"VLOOKUP(P1359,Campos!$B$2:$C$7,2,FALSE)","v":0},"Sin información"]
[1354,5,"Coahuila",15,"Cómputos","15.2",2,"Integración por parte de los Órganos Desconcentrados del OPL, de la propuesta para la habilitación de espacios para el recuento de votos con las alternativas para todos los escenarios de cómputo","OPL","OD","2021-03-01","2021-03-07",null,null,{"$f":"VLOOKUP(P1360,Campos!$B$2:$C$7,2,FALSE)","v":0},"Sin información"]
[1355,5,"Coahuila",15,"Cómputos","15.3",3,"Informe de los escenarios de cómputos de la totalidad de sus órganos desconcentrados","OPL","CG","2021-04-01","2021-04-04",null,null,{"$f":"VLOOKUP(P1361,Campos!$B$2:$C$7,2,FALSE)","v":0},"Sin información"]
[1356,5,"Coahuila",15,"Cómputos","15.4",4,"Remisión a la JLE en la entidad, las propuestas de escenarios de cómputos, para la dictaminación de viabilidad","OPL","CG","2021-05-01","2021-05-07",null,null,{"$f":"VLOOKUP(P1362,Campos!$B$2:$C$7,2,FALSE)","v":0},"Sin información"]
[1357,5,"Coahuila",15,"Cómputos","15.5",5,"Remisión de las observaciones a los escenarios de Cómputos al OPL y a su vez informar de las mismas a la UTVOPL","INE","JLE","2021-05-08","2021-05-15",null,null,{"$f":"VLOOKUP(P1363,Campos!$B$2:$C$7,2,FALSE)","v":0},"Sin información"]
[1358,5,"Coahuila",15,"Cómputos","15.6",6,"Aprobación por parte del órgano competente del OPL, del acuerdo mediante el cual se designa al personal que participará en las tareas de apoyo a los Cómputos Municipales","OPL","CG/OD","2021-04-26","2021-05-05",null,null,{"$f":"VLOOKUP(P1364,Campos!$B$2:$C$7,2,FALSE)","v":0},"Sin información"]
[1359,5,"Coahuila",15,"Cómputos","15.8",8,"Aprobación por parte de los órganos competentes del OPL, de los distintos escenarios de cómputos","OPL","OD","2021-05-08","2021-05-15",null,null,{"$f":"VLOOKUP(P1365,Campos!$B$2:$C$7,2,FALSE)","v":0},"Sin información"]
[1360,5,"Coahuila",15,"Cómputos","15.9",9,"Aprobación por parte del órgano competente del OPL, del acuerdo por el que se habilitarán espacios para la instalación de grupos de trabajo y, en su caso, puntos de recuento","OPL","CG/OD","2021-06-08","2021-06-08",null,null,{"$f":"VLOOKUP(P1366,Campos!$B$2:$C$7,2,FALSE)","v":0},"Sin información"]
[1361,5,"Coahuila",15,"Cómputos","15.11",11,"Cómputos Municipales","OPL","OD","2021-06-09","2021-06-12",null,null,{"$f":"VLOOKUP(P1367,Campos!$B$2:$C$7,2,FALSE)","v":0},"Sin información"]
[1362,5,"Coahuila",15,"Cómputos","15.16",16,"Asignación de regidurías por el principio de Representación Proporcional","OPL","CG","2021-06-09","2021-06-12",null,null,{"$f":"VLOOKUP(P1368,Campos!$B$2:$C$7,2,FALSE)","v":0},"Sin información"]
[1363,5,"Coahuila",16,"PREP","16.1",1,"Aprobación del Acuerdo por el que se designa o ratifica a la instancia interna responsable de coordinar el PREP","OPL","CG","2020-09-11","2020-09-11",null,null,{"$f":"VLOOKUP(P1369,Campos!$B$2:$C$7,2,FALSE)","v":0},"Sin información"]
[1364,5,"Coahuila",16,"PREP","16.2",2,"Aprobación del Acuerdo de Integración del COTAPREP","OPL","CG","2020-11-11","2020-11-11",null,null,{"$f":"VLOOKUP(P1370,Campos!$B$2:$C$7,2,FALSE)","v":0},"Sin información"]
[1365,5,"Coahuila",16,"PREP","16.3",3,"Documento por el que se determina la implementación del PREP por el OPL o con el apoyo de un Tercero","OPL","CG","2020-12-11","2020-12-11",null,null,{"$f":"VLOOKUP(P1371,Campos!$B$2:$C$7,2,FALSE)","v":0},"Sin información"]
[1366,5,"Coahuila",16,"PREP","16.4",4,"Aprobación del Acuerdo por el que se determina el Proceso Técnico Operativo ","OPL","CG","2021-01-11","2021-01-11",null,null,{"$f":"VLOOKUP(P1372,Campos!$B$2:$C$7,2,FALSE)","v":0},"Sin información"]
[1367,5,"Coahuila",16,"PREP","16.5",5,"Aprobación del Acuerdo por el que se determina la ubicación, instalación y habilitación de los CATD y, en su caso, CCV","OPL","CG","2021-02-11","2021-02-11",null,null,{"$f":"VLOOKUP(P1373,Campos!$B$2:$C$7,2,FALSE)","v":0},"Sin información"]
[1368,5,"Coahuila",16,"PREP","16.6",6,"Documento de Designación del Ente Auditor ","OPL","CG","2021-02-11","2021-02-11",null,null,{"$f":"VLOOKUP(P1374,Campos!$B$2:$C$7,2,FALSE)","v":0},"Sin información"]
[1369,5,"Coahuila",16,"PREP","16.7",7,"Instrumento jurídico celebrado entre el OPL y el ente auditor","OPL","CG","2021-03-11","2021-03-11",null,null,{"$f":"VLOOKUP(P1375,Campos!$B$2:$C$7,2,FALSE)","v":0},"Sin información"]
[1370,5,"Coahuila",16,"PREP","16.8",8,"Realización del primer simulacro del PREP","OPL","CG","2021-05-16","2021-05-16",null,null,{"$f":"VLOOKUP(P1376,Campos!$B$2:$C$7,2,FALSE)","v":0},"Sin información"]
[1371,5,"Coahuila",16,"PREP","16.9",9,"Realización del segundo simulacro del PREP","OPL","CG","2021-05-23","2021-05-23",null,null,{"$f":"VLOOKUP(P1377,Campos!$B$2:$C$7,2,FALSE)","v":0},"Sin información"]
[1372,5,"Coahuila",16,"PREP","16.10",10,"Realización del tercer simulacro del PREP","OPL","CG","2021-05-30","2021-05-30",null,null,{"$f":"VLOOKUP(P1378,Campos!$B$2:$C$7,2,FALSE)","v":0},"Sin información"]
[1373,5,"Coahuila",16,"PREP","16.11",11,"Operación del PREP","OPL","CG","2021-06-06","2021-06-07",null,null,{"$f":"VLOOKUP(P1379,Campos!$B$2:$C$7,2,FALSE)","v":0},"Sin información"]
[1374,5,"Coahuila",19,"Visitantes extranjeros","19.1",1,"Emisión de la Convocatoria para visitantes extranjeros","INE","CG","2020-08-03","2020-09-30",null,null,{"$f":"VLOOKUP(P1380,Campos!$B$2:$C$7,2,FALSE)","v":0},"Sin información"]
[1375,5,"Coahuila",19,"Visitantes extranjeros","19.2",2,"Difusión de la Convocatoria para visitantes extranjeros","INE","CAI","2020-09-01","2021-05-26",null,null,{"$f":"VLOOKUP(P1381,Campos!$B$2:$C$7,2,FALSE)","v":0},"Sin información"]
[1376,5,"Coahuila",19,"Visitantes extranjeros","19.3",3,"Recepción de solicitudes de acreditación como visitantes extranjeros","INE","CAI","2020-09-01","2021-05-26",null,null,{"$f":"VLOOKUP(P1382,Campos!$B$2:$C$7,2,FALSE)","v":0},"Sin información"]
[1377,5,"Coahuila",19,"Visitantes extranjeros","19.4",4,"Resolución de solicitudes de acreditación como visitantes extranjeros","INE","CAI","2020-09-02","2021-05-30",null,null,{"$f":"VLOOKUP(P1383,Campos!$B$2:$C$7,2,FALSE)","v":0},"Sin información"]
[1378,5,"Coahuila",19,"Visitantes extranjeros","19.5",5,"Entrega de acreditaciones a los visitantes extranjeros","INE","CAI","2020-09-04","2021-06-05",null,null,{"$f":"VLOOKUP(P1384,Campos!$B$2:$C$7,2,FALSE)","v":0},"Sin información"]
[1379,6,"Colima",1,"Mecanismos de coordinación","1.1",1,"Aprobar Calendarios y Planes Integrales de los Procesos Electorales Locales","INE","CG","2020-08-01","2020-08-07",null,null,{"$f":"VLOOKUP(P1385,Campos!$B$2:$C$7,2,FALSE)","v":0},"Sin información"]
[1380,6,"Colima",1,"Mecanismos de coordinación","1.2",2,"Firma del Convenio General de Coordinación y Colaboración 2020-2021","INE/OPL","INE/OPL","2020-09-01","2020-10-01",null,null,{"$f":"VLOOKUP(P1386,Campos!$B$2:$C$7,2,FALSE)","v":0},"Sin información"]
[1381,6,"Colima",1,"Mecanismos de coordinación","1.3",3,"Elaborar un plan de trabajo conjunto para la promoción de la participación ciudadana","INE/OPL","INE/OPL","2020-09-01","2020-12-31",null,null,{"$f":"VLOOKUP(P1387,Campos!$B$2:$C$7,2,FALSE)","v":0},"Sin información"]
[1382,6,"Colima",1,"Mecanismos de coordinación","1.4",4,"Sesión para dar inicio al PEL","OPL","CG","2020-10-01","2020-10-15",null,null,{"$f":"VLOOKUP(P1388,Campos!$B$2:$C$7,2,FALSE)","v":0},"Sin información"]
[1383,6,"Colima",1,"Mecanismos de coordinación","1.5",5,"Implementar un plan de trabajo conjunto para la promoción de la participación ciudadana","INE/OPL","INE/OPL","2021-02-01","2021-06-06",null,null,{"$f":"VLOOKUP(P1389,Campos!$B$2:$C$7,2,FALSE)","v":0},"Sin información"]
[1384,6,"Colima",2,"Integración de órganos desconcentrados","2.4",4,"Convocatoria para la integración de los Órganos Municipales ","OPL","CG","2019-01-10","2019-01-10",null,null,{"$f":"VLOOKUP(P1390,Campos!$B$2:$C$7,2,FALSE)","v":0},"Sin información"]
[1385,6,"Colima",2,"Integración de órganos desconcentrados","2.5",5,"Sesión en la que se designan e integran los Órganos Municipales ","OPL","CG","2019-05-14","2019-05-14",null,null,{"$f":"VLOOKUP(P1391,Campos!$B$2:$C$7,2,FALSE)","v":0},"Sin información"]
[1386,6,"Colima",2,"Integración de órganos desconcentrados","2.6",6,"Instalación de los Órganos Municipales ","OPL","OD","2020-11-01","2020-11-30",null,null,{"$f":"VLOOKUP(P1392,Campos!$B$2:$C$7,2,FALSE)","v":0},"Sin información"]
[1387,6,"Colima",2,"Integración de órganos desconcentrados","2.7",7,"Designación y/o ratificación de las y los Consejeros Electorales del Consejo Local ","INE","CG","2020-10-01","2020-10-15",null,null,{"$f":"VLOOKUP(P1393,Campos!$B$2:$C$7,2,FALSE)","v":0},"Sin información"]
[1388,6,"Colima",2,"Integración de órganos desconcentrados","2.8",8,"Instalación del Consejo Local","INE","CL","2020-11-01","2020-11-30",null,null,{"$f":"VLOOKUP(P1394,Campos!$B$2:$C$7,2,FALSE)","v":0},"Sin información"]
[1389,6,"Colima",2,"Integración de órganos desconcentrados","2.9",9,"Designación y/o ratificación de las y los Consejeros Electorales de los Consejos Distritales ","INE","CL","2020-11-01","2020-11-30",null,null,{"$f":"VLOOKUP(P1395,Campos!$B$2:$C$7,2,FALSE)","v":0},"Sin información"]
[1390,6,"Colima",2,"Integración de órganos desconcentrados","2.10",10,"Instalación de los Consejos Distritales","INE","CD","2020-12-01","2020-12-15",null,null,{"$f":"VLOOKUP(P1396,Campos!$B$2:$C$7,2,FALSE)","v":0},"Sin información"]
[1391,6,"Colima",3,"Lista Nominal de Electores","3.1",1,"Generación y entrega de la Lista Nominal de Electores para Revisión en medios ópticos a los representantes de los partidos políticos, y en su caso a las candidaturas independientes acreditados ante el OPL, para observaciones","INE","DERFE","2021-02-15","2021-02-15",null,null,{"$f":"VLOOKUP(P1397,Campos!$B$2:$C$7,2,FALSE)","v":0},"Sin información"]
[1392,6,"Colima",3,"Lista Nominal de Electores","3.2",2,"Recepción de observaciones de los partidos políticos y en su caso, candidatos independientes, a la Lista Nominal de Electores para revisión","INE/OPL","DERFE","2021-03-14","2021-03-14",null,null,{"$f":"VLOOKUP(P1398,Campos!$B$2:$C$7,2,FALSE)","v":0},"Sin información"]
[1393,6,"Colima",3,"Lista Nominal de Electores","3.3",3,"Entrega en formato digital el informe respecto de la atención a las observaciones formuladas a la Lista Nominal de Electores para Revisión","INE","DERFE","2021-04-15","2021-04-15",null,null,{"$f":"VLOOKUP(P1399,Campos!$B$2:$C$7,2,FALSE)","v":0},"Sin información"]
[1394,6,"Colima",3,"Lista Nominal de Electores","3.4",4,"Entrega de la Lista Nominal de Electores Definitiva con fotografía","INE","DERFE","2021-05-06","2021-05-14",null,null,{"$f":"VLOOKUP(P1400,Campos!$B$2:$C$7,2,FALSE)","v":0},"Sin información"]
[1395,6,"Colima",3,"Lista Nominal de Electores","3.5",5,"Fecha de entrega de la Lista Nominal de Electores con fotografía Producto de Instancias Administrativas y Resoluciones del Tribunal (ADENDA)","INE","DERFE","2021-05-19","2021-05-24",null,null,{"$f":"VLOOKUP(P1401,Campos!$B$2:$C$7,2,FALSE)","v":0},"Sin información"]
[1396,6,"Colima",4,"Observación Electoral","4.1",1,"Emisión de la convocatoria para la ciudadanía que desee participar en la observación electoral","OPL","CG","2020-10-01","2020-10-15",null,null,{"$f":"VLOOKUP(P1402,Campos!$B$2:$C$7,2,FALSE)","v":0},"Sin información"]
[1397,6,"Colima",4,"Observación Electoral","4.2",2,"Recepción de solicitudes de la ciudadanía que desee participar en observación electoral","INE/OPL","OPL/JLE/JDE","2020-10-01","2021-04-30",null,null,{"$f":"VLOOKUP(P1403,Campos!$B$2:$C$7,2,FALSE)","v":0},"Sin información"]
[1398,6,"Colima",4,"Observación Electoral","4.3",3,"Impartición de los cursos de capacitación, preparación o información","INE/OPL","OPL/JLE/JDE","2020-10-01","2021-05-17",null,null,{"$f":"VLOOKUP(P1404,Campos!$B$2:$C$7,2,FALSE)","v":0},"Sin información"]
[1399,6,"Colima",4,"Observación Electoral","4.4",4,"Acreditación de la ciudadanía como observadores u observadoras electorales","INE","CL/CD","2020-10-01","2021-06-05",null,null,{"$f":"VLOOKUP(P1405,Campos!$B$2:$C$7,2,FALSE)","v":0},"Sin información"]
[1400,6,"Colima",4,"Observación Electoral","4.5",5,"Seguimiento a los informes mensuales de acreditación","INE","CG","2020-10-01","2021-07-31",null,null,{"$f":"VLOOKUP(P1406,Campos!$B$2:$C$7,2,FALSE)","v":0},"Sin información"]
[1401,6,"Colima",4,"Observación Electoral","4.6",6,"Remisión de materiales de capacitación a la JLE para revisión","OPL","CG","2020-10-08","2020-10-08",null,null,{"$f":"VLOOKUP(P1407,Campos!$B$2:$C$7,2,FALSE)","v":0},"Sin información"]
[1402,6,"Colima",4,"Observación Electoral","4.7",7,"Revisión, corrección, verificación y validación de materiales de capacitación para observación electoral ","INE","JLE","2020-10-09","2020-10-30",null,null,{"$f":"VLOOKUP(P1408,Campos!$B$2:$C$7,2,FALSE)","v":0},"Sin información"]
[1403,6,"Colima",4,"Observación Electoral","4.8",8,"Entrega de materiales de capacitación para observación electoral entre OPL e INE","INE/OPL","VEL/OPL","2020-11-01","2020-11-23",null,null,{"$f":"VLOOKUP(P1409,Campos!$B$2:$C$7,2,FALSE)","v":0},"Sin información"]
[1404,6,"Colima",5,"Ubicación de casillas","5.1",1,"Recorridos por las secciones de los distritos para localizar los lugares donde se ubicarán las casillas","INE/OPL","JDE/OPL","2021-01-15","2021-02-15",null,null,{"$f":"VLOOKUP(P1410,Campos!$B$2:$C$7,2,FALSE)","v":0},"Sin información"]
[1405,6,"Colima",5,"Ubicación de casillas","5.2",2,"Presentación a los Consejos Distritales del listado de lugares propuestos para ubicar casillas","INE","JDE","2021-02-24","2021-02-24",null,null,{"$f":"VLOOKUP(P1411,Campos!$B$2:$C$7,2,FALSE)","v":0},"Sin información"]
[1406,6,"Colima",5,"Ubicación de casillas","5.3",3,"Visitas de examinación en los lugares propuestos para ubicar casillas básicas, contiguas, especiales y extraordinarias","INE/OPL","CD/OPL","2021-02-25","2021-03-16",null,null,{"$f":"VLOOKUP(P1412,Campos!$B$2:$C$7,2,FALSE)","v":0},"Sin información"]
[1407,6,"Colima",5,"Ubicación de casillas","5.4",4,"Aprobación del número y ubicación de casillas extraordinarias y especiales","INE","CD","2021-03-16","2021-03-16",null,null,{"$f":"VLOOKUP(P1413,Campos!$B$2:$C$7,2,FALSE)","v":0},"Sin información"]
[1408,6,"Colima",5,"Ubicación de casillas","5.5",5,"Aprobación del número y ubicación de casillas básicas y contiguas","INE","CD","2021-03-25","2021-03-25",null,null,{"$f":"VLOOKUP(P1414,Campos!$B$2:$C$7,2,FALSE)","v":0},"Sin información"]
[1409,6,"Colima",5,"Ubicación de casillas","5.6",6,"Entrega de la base de datos de la Lista Nominal Definitiva a UNICOM con corte al 10 de abril","INE","DERFE","2021-04-15","2021-04-16",null,null,{"$f":"VLOOKUP(P1415,Campos!$B$2:$C$7,2,FALSE)","v":0},"Sin información"]
[1410,6,"Colima",5,"Ubicación de casillas","5.7",7,"Realizar la primera publicación de la lista de ubicación de casillas en los lugares más concurridos del distrito electoral  y en los medios electrónicos del Instituto","INE","CD","2021-04-15","2021-04-15",null,null,{"$f":"VLOOKUP(P1416,Campos!$B$2:$C$7,2,FALSE)","v":0},"Sin información"]
[1411,6,"Colima",5,"Ubicación de casillas","5.8",8,"En su caso, segunda publicación de la lista de ubicación de casillas por causas supervenientes en los lugares más concurridos del distrito y en los medios electrónicos del Instituto","INE","CD","2021-05-15","2021-05-25",null,null,{"$f":"VLOOKUP(P1417,Campos!$B$2:$C$7,2,FALSE)","v":0},"Sin información"]
[1412,6,"Colima",5,"Ubicación de casillas","5.9",9,"Publicación de los encartes y difusión en medios electrónicos del Instituto","INE/OPL","DEOE/CG","2021-06-05","2021-06-06",null,null,{"$f":"VLOOKUP(P1418,Campos!$B$2:$C$7,2,FALSE)","v":0},"Sin información"]
[1413,6,"Colima",5,"Ubicación de casillas","5.10",10,"Registro de representantes generales y ante mesas directivas de casilla","INE","CD","2021-04-16","2021-05-24",null,null,{"$f":"VLOOKUP(P1419,Campos!$B$2:$C$7,2,FALSE)","v":0},"Sin información"]
[1414,6,"Colima",5,"Ubicación de casillas","5.11",11,"Sustitución de representantes generales y ante mesas directivas de casilla","INE","CD","2021-04-16","2021-05-27",null,null,{"$f":"VLOOKUP(P1420,Campos!$B$2:$C$7,2,FALSE)","v":0},"Sin información"]
[1415,6,"Colima",5,"Ubicación de casillas","5.12",12,"Entrega de listados de representantes generales y ante casilla al OPL","INE","CD","2021-05-30","2021-05-30",null,null,{"$f":"VLOOKUP(P1421,Campos!$B$2:$C$7,2,FALSE)","v":0},"Sin información"]
[1416,6,"Colima",5,"Ubicación de casillas","5.13",13,"Notificación ciudadana de ubicación de casillas en secciones electorales involucradas en la actualización del Marco Geográfico Electoral","INE/OPL","DERFE/OPL","2021-04-01","2021-06-15",null,null,{"$f":"VLOOKUP(P1422,Campos!$B$2:$C$7,2,FALSE)","v":0},"Sin información"]
[1417,6,"Colima",6,"Integración de las Mesas Directivas de Casilla","6.1",1,"Aprobación de la Estrategia de Capacitación y Asistencia Electoral","INE","CG","2020-08-01","2020-08-15",null,null,{"$f":"VLOOKUP(P1423,Campos!$B$2:$C$7,2,FALSE)","v":0},"Sin información"]
[1418,6,"Colima",6,"Integración de las Mesas Directivas de Casilla","6.2",2,"Entrega para revisión y validación de materiales didácticos de primera etapa","OPL","CG","2020-11-03","2020-11-03",null,null,{"$f":"VLOOKUP(P1424,Campos!$B$2:$C$7,2,FALSE)","v":0},"Sin información"]
[1419,6,"Colima",6,"Integración de las Mesas Directivas de Casilla","6.3",3,"Revisión, corrección, verificación y validación de los materiales didácticos de primera etapa","INE/OPL","JLE/DECEYEC/OPL","2020-11-03","2020-12-19",null,null,{"$f":"VLOOKUP(P1425,Campos!$B$2:$C$7,2,FALSE)","v":0},"Sin información"]
[1420,6,"Colima",6,"Integración de las Mesas Directivas de Casilla","6.4",4,"Entrega de los materiales impresos de la primera etapa a la JLE","OPL","OPL","2021-02-05","2021-02-05",null,null,{"$f":"VLOOKUP(P1426,Campos!$B$2:$C$7,2,FALSE)","v":0},"Sin información"]
[1421,6,"Colima",6,"Integración de las Mesas Directivas de Casilla","6.5",5,"Sorteo del mes del calendario como base para la insaculación de las y los ciudadanos que integrarán las mesas directivas de casilla","INE","CG","2020-12-15","2020-12-19",null,null,{"$f":"VLOOKUP(P1427,Campos!$B$2:$C$7,2,FALSE)","v":0},"Sin información"]
[1422,6,"Colima",6,"Integración de las Mesas Directivas de Casilla","6.6",6,"Entrega para revisión y validación de materiales didácticos de segunda etapa","OPL","OPL","2021-02-03","2021-02-03",null,null,{"$f":"VLOOKUP(P1428,Campos!$B$2:$C$7,2,FALSE)","v":0},"Sin información"]
[1423,6,"Colima",6,"Integración de las Mesas Directivas de Casilla","6.7",7,"Revisión, corrección, verificación y validación de los materiales didácticos de la segunda etapa","INE/OPL","JLE/DECEYEC/OPL","2021-02-03","2021-03-22",null,null,{"$f":"VLOOKUP(P1429,Campos!$B$2:$C$7,2,FALSE)","v":0},"Sin información"]
[1424,6,"Colima",6,"Integración de las Mesas Directivas de Casilla","6.8",8,"Entrega de los materiales impresos de la segunda etapa a la JLE","OPL","OPL","2021-04-05","2021-04-05",null,null,{"$f":"VLOOKUP(P1430,Campos!$B$2:$C$7,2,FALSE)","v":0},"Sin información"]
[1425,6,"Colima",6,"Integración de las Mesas Directivas de Casilla","6.9",9,"Sorteo de la letra a partir de la cual, con base en el apellido paterno, se seleccionará a las y los ciudadanos que integrarán las mesas directivas de casilla","INE","CG","2021-02-02","2021-02-02",null,null,{"$f":"VLOOKUP(P1431,Campos!$B$2:$C$7,2,FALSE)","v":0},"Sin información"]
[1426,6,"Colima",6,"Integración de las Mesas Directivas de Casilla","6.10",10,"Entrega de la Lista Nominal de Electores para el Procedimiento de la Primera insaculación con corte al 15 de enero de 2021.","INE","DERFE/UNICOM","2021-01-21","2021-01-26",null,null,{"$f":"VLOOKUP(P1432,Campos!$B$2:$C$7,2,FALSE)","v":0},"Sin información"]
[1427,6,"Colima",6,"Integración de las Mesas Directivas de Casilla","6.11",11,"Primera insaculación","INE","JDE","2021-02-06","2021-02-06",null,null,{"$f":"VLOOKUP(P1433,Campos!$B$2:$C$7,2,FALSE)","v":0},"Sin información"]
[1428,6,"Colima",6,"Integración de las Mesas Directivas de Casilla","6.12",12,"Primera etapa de capacitación a las personas insaculadas","INE","CD","2021-02-09","2021-03-31",null,null,{"$f":"VLOOKUP(P1434,Campos!$B$2:$C$7,2,FALSE)","v":0},"Sin información"]
[1429,6,"Colima",6,"Integración de las Mesas Directivas de Casilla","6.13",13,"Integración de la lista de ciudadanos y ciudadanas que cumplen los requisitos legales para integrar las mesas directivas de casilla","INE","CD","2021-02-09","2021-03-31",null,null,{"$f":"VLOOKUP(P1435,Campos!$B$2:$C$7,2,FALSE)","v":0},"Sin información"]
[1430,6,"Colima",6,"Integración de las Mesas Directivas de Casilla","6.14",14,"Segunda insaculación y designación de funcionarios para mesas directivas de casilla","INE","CD","2021-04-08","2021-04-08",null,null,{"$f":"VLOOKUP(P1436,Campos!$B$2:$C$7,2,FALSE)","v":0},"Sin información"]
[1431,6,"Colima",6,"Integración de las Mesas Directivas de Casilla","6.15",15,"Segunda etapa de capacitación a funcionarios de mesa directiva de casilla y simulacros","INE","CD","2021-04-18","2021-06-05",null,null,{"$f":"VLOOKUP(P1437,Campos!$B$2:$C$7,2,FALSE)","v":0},"Sin información"]
[1432,6,"Colima",6,"Integración de las Mesas Directivas de Casilla","6.16",16,"Entrega de reconocimientos a funcionarios de mesas directivas de casilla","INE","CD","2021-06-07","2021-06-12",null,null,{"$f":"VLOOKUP(P1438,Campos!$B$2:$C$7,2,FALSE)","v":0},"Sin información"]
[1433,6,"Colima",6,"Integración de las Mesas Directivas de Casilla","6.17",17,"Periodo para contratación de CAE locales","INE/OPL","INE/OPL","Por definir","Por definir",null,null,{"$f":"VLOOKUP(P1439,Campos!$B$2:$C$7,2,FALSE)","v":0},"Sin información"]
[1434,6,"Colima",6,"Integración de las Mesas Directivas de Casilla","6.18",18,"Reclutamiento y selección de CAE locales","INE/OPL","INE/OPL","Por definir","Por definir",null,null,{"$f":"VLOOKUP(P1440,Campos!$B$2:$C$7,2,FALSE)","v":0},"Sin información"]
[1435,6,"Colima",7,"Fiscalización de los recursos de los Partidos Políticos y candidaturas independientes","7.1",1,"Aprobación de topes de gastos de precampaña Gubernatura","OPL","CG","2020-10-01","2020-12-15",null,null,{"$f":"VLOOKUP(P1441,Campos!$B$2:$C$7,2,FALSE)","v":0},"Sin información"]
[1436,6,"Colima",7,"Fiscalización de los recursos de los Partidos Políticos y candidaturas independientes","7.2",2,"Aprobación de topes de gastos de precampaña Diputaciones","OPL","CG","2020-10-01","2020-12-15",null,null,{"$f":"VLOOKUP(P1442,Campos!$B$2:$C$7,2,FALSE)","v":0},"Sin información"]
[1437,6,"Colima",7,"Fiscalización de los recursos de los Partidos Políticos y candidaturas independientes","7.3",3,"Aprobación de topes de gastos de precampaña Ayuntamientos","OPL","CG","2020-10-01","2020-12-15",null,null,{"$f":"VLOOKUP(P1443,Campos!$B$2:$C$7,2,FALSE)","v":0},"Sin información"]
[1438,6,"Colima",7,"Fiscalización de los recursos de los Partidos Políticos y candidaturas independientes","7.4",4,"Aprobación de los límites de financiamiento privado, aportaciones de militantes, simpatizantes y precandidatos o candidatos; así como el límite individual de aportaciones para Gubernatura","OPL","CG","2020-10-01","2021-01-31",null,null,{"$f":"VLOOKUP(P1444,Campos!$B$2:$C$7,2,FALSE)","v":0},"Sin información"]
[1439,6,"Colima",7,"Fiscalización de los recursos de los Partidos Políticos y candidaturas independientes","7.5",5,"Aprobación de los límites de financiamiento privado, aportaciones de militantes, simpatizantes y precandidatos o candidatos; así como el límite individual de aportaciones para Diputaciones","OPL","CG","2020-10-01","2021-01-31",null,null,{"$f":"VLOOKUP(P1445,Campos!$B$2:$C$7,2,FALSE)","v":0},"Sin información"]
[1440,6,"Colima",7,"Fiscalización de los recursos de los Partidos Políticos y candidaturas independientes","7.6",6,"Aprobación de los límites de financiamiento privado, aportaciones de militantes, simpatizantes y precandidatos o candidatos; así como el límite individual de aportaciones para Ayuntamientos","OPL","CG","2020-10-01","2021-01-31",null,null,{"$f":"VLOOKUP(P1446,Campos!$B$2:$C$7,2,FALSE)","v":0},"Sin información"]
[1441,6,"Colima",7,"Fiscalización de los recursos de los Partidos Políticos y candidaturas independientes","7.7",7,"Aprobación de topes de gastos para el periodo de obtención del apoyo ciudadano para Gubernatura","OPL","CG","2020-10-01","2020-12-15",null,null,{"$f":"VLOOKUP(P1447,Campos!$B$2:$C$7,2,FALSE)","v":0},"Sin información"]
[1442,6,"Colima",7,"Fiscalización de los recursos de los Partidos Políticos y candidaturas independientes","7.8",8,"Aprobación de topes de gastos para el periodo de obtención del apoyo ciudadano para Diputaciones","OPL","CG","2020-10-01","2020-12-15",null,null,{"$f":"VLOOKUP(P1448,Campos!$B$2:$C$7,2,FALSE)","v":0},"Sin información"]
[1443,6,"Colima",7,"Fiscalización de los recursos de los Partidos Políticos y candidaturas independientes","7.9",9,"Aprobación de topes de gastos para el periodo de obtención del apoyo ciudadano para Ayuntamientos","OPL","CG","2020-10-01","2020-12-15",null,null,{"$f":"VLOOKUP(P1449,Campos!$B$2:$C$7,2,FALSE)","v":0},"Sin información"]
[1444,6,"Colima",7,"Fiscalización de los recursos de los Partidos Políticos y candidaturas independientes","7.10",10,"Precampaña para Gubernatura","OPL","CG","2021-01-26","2021-02-24",null,null,{"$f":"VLOOKUP(P1450,Campos!$B$2:$C$7,2,FALSE)","v":0},"Sin información"]
[1445,6,"Colima",7,"Fiscalización de los recursos de los Partidos Políticos y candidaturas independientes","7.11",11,"Precampaña para Diputaciones","OPL","CG","2021-02-05","2021-02-24",null,null,{"$f":"VLOOKUP(P1451,Campos!$B$2:$C$7,2,FALSE)","v":0},"Sin información"]
[1446,6,"Colima",7,"Fiscalización de los recursos de los Partidos Políticos y candidaturas independientes","7.12",12,"Precampaña para Ayuntamientos","OPL","CG","2021-02-05","2021-02-24",null,null,{"$f":"VLOOKUP(P1452,Campos!$B$2:$C$7,2,FALSE)","v":0},"Sin información"]
[1447,6,"Colima",7,"Fiscalización de los recursos de los Partidos Políticos y candidaturas independientes","7.13",13,"Aprobación de topes de gastos de campaña para Gubernatura","OPL","CG","2020-10-01","2021-01-31",null,null,{"$f":"VLOOKUP(P1453,Campos!$B$2:$C$7,2,FALSE)","v":0},"Sin información"]
[1448,6,"Colima",7,"Fiscalización de los recursos de los Partidos Políticos y candidaturas independientes","7.14",14,"Aprobación de topes de gastos de campaña para Diputaciones","OPL","CG","2020-10-01","2021-01-31",null,null,{"$f":"VLOOKUP(P1454,Campos!$B$2:$C$7,2,FALSE)","v":0},"Sin información"]
[1449,6,"Colima",7,"Fiscalización de los recursos de los Partidos Políticos y candidaturas independientes","7.15",15,"Aprobación de topes de gastos de campaña para Ayuntamientos","OPL","CG","2020-10-01","2021-01-31",null,null,{"$f":"VLOOKUP(P1455,Campos!$B$2:$C$7,2,FALSE)","v":0},"Sin información"]
[1450,6,"Colima",7,"Fiscalización de los recursos de los Partidos Políticos y candidaturas independientes","7.16",16,"Campaña para Gubernatura","OPL","CG","2021-03-05","2021-06-02",null,null,{"$f":"VLOOKUP(P1456,Campos!$B$2:$C$7,2,FALSE)","v":0},"Sin información"]
[1451,6,"Colima",7,"Fiscalización de los recursos de los Partidos Políticos y candidaturas independientes","7.17",17,"Campaña para Diputaciones","OPL","CG","2021-04-06","2021-06-02",null,null,{"$f":"VLOOKUP(P1457,Campos!$B$2:$C$7,2,FALSE)","v":0},"Sin información"]
[1452,6,"Colima",7,"Fiscalización de los recursos de los Partidos Políticos y candidaturas independientes","7.18",18,"Campaña para Ayuntamientos","OPL","CG","2021-04-06","2021-06-02",null,null,{"$f":"VLOOKUP(P1458,Campos!$B$2:$C$7,2,FALSE)","v":0},"Sin información"]
[1453,6,"Colima",7,"Fiscalización de los recursos de los Partidos Políticos y candidaturas independientes","7.19",19,"Aprobación de la distribución de financiamiento público para partidos políticos","OPL","CG","2020-09-01","2020-09-30",null,null,{"$f":"VLOOKUP(P1459,Campos!$B$2:$C$7,2,FALSE)","v":0},"Sin información"]
[1454,6,"Colima",8,"Candidaturas Independientes","8.1",1,"Emisión de la convocatoria para la ciudadanía interesada en participar en Candidaturas Independientes ","OPL","CG","2020-12-01","2020-12-15",null,null,{"$f":"VLOOKUP(P1460,Campos!$B$2:$C$7,2,FALSE)","v":0},"Sin información"]
[1455,6,"Colima",8,"Candidaturas Independientes","8.2",2,"Recepción de escrito de intención y documentación anexa de la ciudadanía que aspire a la candidatura independiente para Gubernatura","OPL","OD","2020-12-01","2021-01-15",null,null,{"$f":"VLOOKUP(P1461,Campos!$B$2:$C$7,2,FALSE)","v":0},"Sin información"]
[1456,6,"Colima",8,"Candidaturas Independientes","8.3",3,"Recepción de escrito de intención y documentación anexa de la ciudadanía que aspire a la candidatura independiente para Diputaciones","OPL","OD","2020-12-01","2021-01-15",null,null,{"$f":"VLOOKUP(P1462,Campos!$B$2:$C$7,2,FALSE)","v":0},"Sin información"]
[1457,6,"Colima",8,"Candidaturas Independientes","8.4",4,"Recepción de escrito de intención y documentación anexa de la ciudadanía que aspire a la candidatura independiente para Ayuntamientos","OPL","SE/OD","2020-12-01","2021-01-15",null,null,{"$f":"VLOOKUP(P1463,Campos!$B$2:$C$7,2,FALSE)","v":0},"Sin información"]
[1458,6,"Colima",8,"Candidaturas Independientes","8.5",5,"Resolución sobre procedencia de manifestación de intención de aspirantes a candidaturas independientes para Gubernatura","OPL","CG","2020-12-12","2021-01-17",null,null,{"$f":"VLOOKUP(P1464,Campos!$B$2:$C$7,2,FALSE)","v":0},"Sin información"]
[1459,6,"Colima",8,"Candidaturas Independientes","8.6",6,"Resolución sobre procedencia de manifestación de intención de aspirantes a candidaturas independientes para Diputaciones","OPL","CG","2020-12-12","2021-01-17",null,null,{"$f":"VLOOKUP(P1465,Campos!$B$2:$C$7,2,FALSE)","v":0},"Sin información"]
[1460,6,"Colima",8,"Candidaturas Independientes","8.7",7,"Resolución sobre procedencia de manifestación de intención de aspirantes a candidaturas independientes para Ayuntamientos","OPL","CG","2020-12-12","2021-01-17",null,null,{"$f":"VLOOKUP(P1466,Campos!$B$2:$C$7,2,FALSE)","v":0},"Sin información"]
[1461,6,"Colima",8,"Candidaturas Independientes","8.8",8,"Plazo para obtener el apoyo ciudadano de las candidaturas independientes para Gubernatura","OPL","OD","2021-01-25","2021-02-23",null,null,{"$f":"VLOOKUP(P1467,Campos!$B$2:$C$7,2,FALSE)","v":0},"Sin información"]
[1462,6,"Colima",8,"Candidaturas Independientes","8.9",9,"Plazo para obtener el apoyo ciudadano de las candidaturas independientes para Diputaciones","OPL","OD","2021-02-03","2021-02-22",null,null,{"$f":"VLOOKUP(P1468,Campos!$B$2:$C$7,2,FALSE)","v":0},"Sin información"]
[1463,6,"Colima",8,"Candidaturas Independientes","8.10",10,"Plazo para obtener el apoyo ciudadano de las candidaturas independientes para Ayuntamientos","OPL","OD","2021-02-03","2021-02-22",null,null,{"$f":"VLOOKUP(P1469,Campos!$B$2:$C$7,2,FALSE)","v":0},"Sin información"]
[1464,6,"Colima",8,"Candidaturas Independientes","8.11",11,"Plazo para otorgar las constancias de porcentaje a favor de aspirantes a la candidatura independiente para Gubernatura","OPL","CG","2021-02-24","2021-02-28",null,null,{"$f":"VLOOKUP(P1470,Campos!$B$2:$C$7,2,FALSE)","v":0},"Sin información"]
[1465,6,"Colima",8,"Candidaturas Independientes","8.12",12,"Plazo para otorgar las constancias de porcentaje a favor de aspirantes a la candidatura independiente para Diputaciones","OPL","CG","2021-02-23","2021-03-31",null,null,{"$f":"VLOOKUP(P1471,Campos!$B$2:$C$7,2,FALSE)","v":0},"Sin información"]
[1466,6,"Colima",8,"Candidaturas Independientes","8.13",13,"Plazo para otorgar las constancias de porcentaje a favor de aspirantes a la candidatura independiente para Ayuntamientos","OPL","CG","2021-02-23","2021-03-31",null,null,{"$f":"VLOOKUP(P1472,Campos!$B$2:$C$7,2,FALSE)","v":0},"Sin información"]
[1467,6,"Colima",9,"Candidaturas","9.1",1,"Registro de plataformas electorales","OPL","CG","2021-02-16","2021-02-28",null,null,{"$f":"VLOOKUP(P1473,Campos!$B$2:$C$7,2,FALSE)","v":0},"Sin información"]
[1468,6,"Colima",9,"Candidaturas","9.2",2,"Solicitud de registro de convenio de coalición para Gubernatura","OPL","CG","2020-10-01","2020-12-08",null,null,{"$f":"VLOOKUP(P1474,Campos!$B$2:$C$7,2,FALSE)","v":0},"Sin información"]
[1469,6,"Colima",9,"Candidaturas","9.3",3,"Solicitud de registro de convenio de coalición para Diputaciones","OPL","CG","2020-10-01","2020-12-08",null,null,{"$f":"VLOOKUP(P1475,Campos!$B$2:$C$7,2,FALSE)","v":0},"Sin información"]
[1470,6,"Colima",9,"Candidaturas","9.4",4,"Solicitud de registro de convenio de coalición para Ayuntamientos","OPL","CG","2020-10-01","2020-12-08",null,null,{"$f":"VLOOKUP(P1476,Campos!$B$2:$C$7,2,FALSE)","v":0},"Sin información"]
[1471,6,"Colima",9,"Candidaturas","9.5",5,"Resolución sobre Convenio de Coalición para Gubernatura","OPL","CG","2020-10-11","2020-12-18",null,null,{"$f":"VLOOKUP(P1477,Campos!$B$2:$C$7,2,FALSE)","v":0},"Sin información"]
[1472,6,"Colima",9,"Candidaturas","9.6",6,"Resolución sobre Convenio de Coalición para Diputaciones","OPL","CG","2020-10-11","2020-12-18",null,null,{"$f":"VLOOKUP(P1478,Campos!$B$2:$C$7,2,FALSE)","v":0},"Sin información"]
[1473,6,"Colima",9,"Candidaturas","9.7",7,"Resolución sobre Convenio de Coalición para Ayuntamientos","OPL","CG","2020-10-11","2020-12-18",null,null,{"$f":"VLOOKUP(P1479,Campos!$B$2:$C$7,2,FALSE)","v":0},"Sin información"]
[1474,6,"Colima",9,"Candidaturas","9.8",8,"Solicitud de registro de Candidaturas para Gubernatura","OPL","CG/OD","2021-03-01","2021-03-04",null,null,{"$f":"VLOOKUP(P1480,Campos!$B$2:$C$7,2,FALSE)","v":0},"Sin información"]
[1475,6,"Colima",9,"Candidaturas","9.9",9,"Solicitud de registro de Candidaturas para Diputaciones","OPL","CG/OD","2021-04-01","2021-04-04",null,null,{"$f":"VLOOKUP(P1481,Campos!$B$2:$C$7,2,FALSE)","v":0},"Sin información"]
[1476,6,"Colima",9,"Candidaturas","9.11",11,"Solicitud de registro de Candidaturas para Ayuntamientos","OPL","CG/OD","2021-04-01","2021-04-04",null,null,{"$f":"VLOOKUP(P1482,Campos!$B$2:$C$7,2,FALSE)","v":0},"Sin información"]
[1477,6,"Colima",9,"Candidaturas","9.13",13,"Resolución para aprobar las candidaturas para Gubernatura","OPL","CG","2021-03-05","2021-03-07",null,null,{"$f":"VLOOKUP(P1483,Campos!$B$2:$C$7,2,FALSE)","v":0},"Sin información"]
[1478,6,"Colima",9,"Candidaturas","9.14",14,"Resolución para aprobar las candidaturas para Diputaciones","OPL","CG","2021-04-05","2021-04-06",null,null,{"$f":"VLOOKUP(P1484,Campos!$B$2:$C$7,2,FALSE)","v":0},"Sin información"]
[1479,6,"Colima",9,"Candidaturas","9.16",16,"Resolución para aprobar las candidaturas para Ayuntamientos","OPL","CG/OD","2021-04-05","2021-04-06",null,null,{"$f":"VLOOKUP(P1485,Campos!$B$2:$C$7,2,FALSE)","v":0},"Sin información"]
[1480,6,"Colima",9,"Candidaturas","9.17",17,"Solicitud de registro de candidaturas comunes para Gubernatura ","OPL","CG","2020-10-01","2020-12-27",null,null,{"$f":"VLOOKUP(P1486,Campos!$B$2:$C$7,2,FALSE)","v":0},"Sin información"]
[1481,6,"Colima",9,"Candidaturas","9.18",18,"Solicitud de registro de candidaturas comunes para Diputaciones ","OPL","CG/OD","2020-10-01","2021-01-06",null,null,{"$f":"VLOOKUP(P1487,Campos!$B$2:$C$7,2,FALSE)","v":0},"Sin información"]
[1482,6,"Colima",9,"Candidaturas","9.19",19,"Solicitud de registro de candidaturas comunes para Ayuntamientos  ","OPL","CG/OD","2020-10-01","2021-01-06",null,null,{"$f":"VLOOKUP(P1488,Campos!$B$2:$C$7,2,FALSE)","v":0},"Sin información"]
[1483,6,"Colima",9,"Candidaturas","9.20",20,"Resolución para aprobar las candidaturas comunes para Gubernatura","OPL","CG","2020-10-06","2021-01-01",null,null,{"$f":"VLOOKUP(P1489,Campos!$B$2:$C$7,2,FALSE)","v":0},"Sin información"]
[1484,6,"Colima",9,"Candidaturas","9.21",21,"Resolución para aprobar las candidaturas comunes para Diputaciones ","OPL","CG/OD","2020-10-06","2021-01-11",null,null,{"$f":"VLOOKUP(P1490,Campos!$B$2:$C$7,2,FALSE)","v":0},"Sin información"]
[1485,6,"Colima",9,"Candidaturas","9.22",22,"Resolución para aprobar las candidaturas comunes para Ayuntamientos ","OPL","CG/OD","2020-10-06","2021-01-11",null,null,{"$f":"VLOOKUP(P1491,Campos!$B$2:$C$7,2,FALSE)","v":0},"Sin información"]
[1486,6,"Colima",10,"Debates","10.1",1,"Aprobación de las fechas en que se celebrarán los debates","OPL","CG","2021-03-08","2021-03-17",null,null,{"$f":"VLOOKUP(P1492,Campos!$B$2:$C$7,2,FALSE)","v":0},"Sin información"]
[1487,6,"Colima",10,"Debates","10.2",2,"Realización de debate(s)","OPL","CG","2021-03-08","2021-03-17",null,null,{"$f":"VLOOKUP(P1493,Campos!$B$2:$C$7,2,FALSE)","v":0},"Sin información"]
[1488,6,"Colima",11,"Documentación y material electoral","11.1",1,"Entrega a la Junta Local Ejecutiva del INE, de los diseños y especificaciones técnicas de la documentación y materiales electorales, en medios impresos y electrónicos","OPL","CG","2020-09-01","2020-09-30",null,null,{"$f":"VLOOKUP(P1494,Campos!$B$2:$C$7,2,FALSE)","v":0},"Sin información"]
[1489,6,"Colima",11,"Documentación y material electoral","11.2",2,"Revisión de los documentos y materiales electorales y especificaciones técnicas, presentadas por el OPL","INE","JLE","2020-09-15","2020-12-16",null,null,{"$f":"VLOOKUP(P1495,Campos!$B$2:$C$7,2,FALSE)","v":0},"Sin información"]
[1490,6,"Colima",11,"Documentación y material electoral","11.3",3,"En su caso, atención y presentación, de los cambios pertinentes, conforme a las observaciones emitidas por la Junta Local Ejecutiva del INE","OPL","CG","2020-09-15","2020-12-16",null,null,{"$f":"VLOOKUP(P1496,Campos!$B$2:$C$7,2,FALSE)","v":0},"Sin información"]
[1491,6,"Colima",11,"Documentación y material electoral","11.4",4,"Validación de los documentos y materiales electorales y especificaciones técnicas, con las observaciones subsanadas","INE","DEOE","2020-10-28","2020-12-18",null,null,{"$f":"VLOOKUP(P1497,Campos!$B$2:$C$7,2,FALSE)","v":0},"Sin información"]
[1492,6,"Colima",11,"Documentación y material electoral","11.5",5,"Entrega a la Dirección Ejecutiva de Organización Electoral del INE, del Reporte único sobre la aprobación y adjudicación de los documentos y materiales electorales del OPL, en medios electrónicos","OPL","CG","2021-02-01","2021-02-26",null,null,{"$f":"VLOOKUP(P1498,Campos!$B$2:$C$7,2,FALSE)","v":0},"Sin información"]
[1493,6,"Colima",11,"Documentación y material electoral","11.6",6,"Revisión y en su caso validación, del Reporte único sobre la aprobación y adjudicación de los documentos y materiales electorales del OPL, en medios electrónicos","INE","DEOE","2021-02-15","2021-03-12",null,null,{"$f":"VLOOKUP(P1499,Campos!$B$2:$C$7,2,FALSE)","v":0},"Sin información"]
[1494,6,"Colima",11,"Documentación y material electoral","11.7",7,"Entrega  a la Dirección Ejecutiva de Organización Electoral del INE, del Reporte semanal sobre el avance en la producción de los documentos y materiales electorales del OPL, en medios electrónicos.","OPL","CG","2021-03-15","2021-05-22",null,null,{"$f":"VLOOKUP(P1500,Campos!$B$2:$C$7,2,FALSE)","v":0},"Sin información"]
[1495,6,"Colima",11,"Documentación y material electoral","11.8",8,"Aprobación de la documentación y material electoral","OPL","CG","2020-11-11","2020-12-31",null,null,{"$f":"VLOOKUP(P1501,Campos!$B$2:$C$7,2,FALSE)","v":0},"Sin información"]
[1496,6,"Colima",11,"Documentación y material electoral","11.9",9,"Entrega a la Dirección Ejecutiva de Organización Electoral del INE, del Reporte con los resultados de las verificaciones de las medidas de seguridad en la documentación electoral","OPL","CG","2021-05-27","2021-06-11",null,null,{"$f":"VLOOKUP(P1502,Campos!$B$2:$C$7,2,FALSE)","v":0},"Sin información"]
[1497,6,"Colima",11,"Documentación y material electoral","11.10",10,"Supervisiones respecto de los procedimientos de impresión y producción de la documentación y materiales electorales","INE","DEOE","2021-03-15","2021-05-22",null,null,{"$f":"VLOOKUP(P1503,Campos!$B$2:$C$7,2,FALSE)","v":0},"Sin información"]
[1498,6,"Colima",11,"Documentación y material electoral","11.11",11,"Designación de la persona responsable de llevar el control sobre la asignación de los folios de las boletas que se distribuirán en cada mesa directiva de casilla","OPL","CG","2021-03-01","2021-03-30",null,null,{"$f":"VLOOKUP(P1504,Campos!$B$2:$C$7,2,FALSE)","v":0},"Sin información"]
[1499,6,"Colima",11,"Documentación y material electoral","11.12",12,"Aprobación de SE y CAE, así como de personal que auxiliará en el procedimiento de conteo, sellado y agrupamiento de las boletas electorales; así como la integración de documentación para las casillas","OPL","CG","2021-04-24","2021-05-11",null,null,{"$f":"VLOOKUP(P1505,Campos!$B$2:$C$7,2,FALSE)","v":0},"Sin información"]
[1500,6,"Colima",11,"Documentación y material electoral","11.13",13,"Recepción de las boletas electorales por el órgano competente que realizará el conteo, sellado y agrupamiento","OPL","CG","2021-05-18","2021-05-22",null,null,{"$f":"VLOOKUP(P1506,Campos!$B$2:$C$7,2,FALSE)","v":0},"Sin información"]
[1501,6,"Colima",11,"Documentación y material electoral","11.14",14,"Conteo, sellado y agrupamiento de boletas","OPL","CG","2021-05-18","2021-05-28",null,null,{"$f":"VLOOKUP(P1507,Campos!$B$2:$C$7,2,FALSE)","v":0},"Sin información"]
[1502,6,"Colima",11,"Documentación y material electoral","11.15",15,"Distribución de la documentación y materiales electorales a las y los Presidentes de mesas directivas de casilla","OPL","OD","2021-05-31","2021-06-04",null,null,{"$f":"VLOOKUP(P1508,Campos!$B$2:$C$7,2,FALSE)","v":0},"Sin información"]
[1503,6,"Colima",11,"Documentación y material electoral","11.16",16,"Remisión de los recibos de la entrega de la documentación y materiales electorales al Consejo General del OPL","INE","JLE","2021-06-24","2021-06-30",null,null,{"$f":"VLOOKUP(P1509,Campos!$B$2:$C$7,2,FALSE)","v":0},"Sin información"]
[1504,6,"Colima",12,"Jornada Electoral","12.1",1,"Aprobación del Programa de Operación del SIJE 2021","INE","CCOE","2020-07-01","2020-07-31",null,null,{"$f":"VLOOKUP(P1510,Campos!$B$2:$C$7,2,FALSE)","v":0},"Sin información"]
[1505,6,"Colima",12,"Jornada Electoral","12.2",2,"Aprobación de las metas del SIJE 2021","INE","CG","2021-03-01","2021-03-31",null,null,{"$f":"VLOOKUP(P1511,Campos!$B$2:$C$7,2,FALSE)","v":0},"Sin información"]
[1506,6,"Colima",12,"Jornada Electoral","12.3",3,"Realización de pruebas del SIJE 2021","INE","DEOE","2021-04-01","2021-04-15",null,null,{"$f":"VLOOKUP(P1512,Campos!$B$2:$C$7,2,FALSE)","v":0},"Sin información"]
[1507,6,"Colima",12,"Jornada Electoral","12.4",4,"Desarrollo del primer simulacro del SIJE","INE/OPL","DEOE/OD","2021-04-29","2021-04-29",null,null,{"$f":"VLOOKUP(P1513,Campos!$B$2:$C$7,2,FALSE)","v":0},"Sin información"]
[1508,6,"Colima",12,"Jornada Electoral","12.5",5,"Desarrollo del segundo simulacro del SIJE","INE/OPL","DEOE/OD","2021-05-09","2021-05-09",null,null,{"$f":"VLOOKUP(P1514,Campos!$B$2:$C$7,2,FALSE)","v":0},"Sin información"]
[1509,6,"Colima",12,"Jornada Electoral","12.6",6,"Desarrollo del tercer simulacro del SIJE","INE/OPL","DEOE/OD","2021-05-23","2021-05-23",null,null,{"$f":"VLOOKUP(P1515,Campos!$B$2:$C$7,2,FALSE)","v":0},"Sin información"]
[1510,6,"Colima",12,"Jornada Electoral","12.7",7,"Jornada Electoral","OPL","CG/OD","2021-06-06","2021-06-06",null,null,{"$f":"VLOOKUP(P1516,Campos!$B$2:$C$7,2,FALSE)","v":0},"Sin información"]
[1511,6,"Colima",13,"Bodegas electorales","13.1",1,"Determinación de los lugares que ocuparán las bodegas electorales para el resguardo de la documentación electoral","OPL","CG","2021-02-01","2021-02-28",null,null,{"$f":"VLOOKUP(P1517,Campos!$B$2:$C$7,2,FALSE)","v":0},"Sin información"]
[1512,6,"Colima",13,"Bodegas electorales","13.2",2,"Informe que rinden las y los Presidentes sobre las condiciones de equipamiento, mecanismos de operación y medidas de seguridad de las bodegas electorales","OPL","OD","2021-03-01","2021-03-31",null,null,{"$f":"VLOOKUP(P1518,Campos!$B$2:$C$7,2,FALSE)","v":0},"Sin información"]
[1513,6,"Colima",13,"Bodegas electorales","13.3",3,"Designación, por parte del órgano competente del OPL, del personal que tendrá acceso a la bodega electoral","OPL","CG/OD","2021-03-01","2021-03-30",null,null,{"$f":"VLOOKUP(P1519,Campos!$B$2:$C$7,2,FALSE)","v":0},"Sin información"]
[1514,6,"Colima",13,"Bodegas electorales","13.4",4,"Envío a la UTVOPL, por conducto de la JLE, el informe sobre las condiciones que guardan las bodegas electorales","OPL","CG","2021-04-04","2021-04-10",null,null,{"$f":"VLOOKUP(P1520,Campos!$B$2:$C$7,2,FALSE)","v":0},"Sin información"]
[1515,6,"Colima",14,"Mecanismos de recolección","14.1",1,"Entrega de estudios de factibilidad al OPL","INE","CL","2021-03-15","2021-03-31",null,null,{"$f":"VLOOKUP(P1521,Campos!$B$2:$C$7,2,FALSE)","v":0},"Sin información"]
[1516,6,"Colima",14,"Mecanismos de recolección","14.2",2,"Entrega de observaciones a los estudios de factibilidad ","OPL","CG","2021-04-01","2021-04-24",null,null,{"$f":"VLOOKUP(P1522,Campos!$B$2:$C$7,2,FALSE)","v":0},"Sin información"]
[1517,6,"Colima",14,"Mecanismos de recolección","14.3",3,"Recorridos para verificar las propuestas de los mecanismos de recolección","INE/OPL","CD/OD","2021-03-16","2021-04-24",null,null,{"$f":"VLOOKUP(P1523,Campos!$B$2:$C$7,2,FALSE)","v":0},"Sin información"]
[1518,6,"Colima",14,"Mecanismos de recolección","14.4",4,"Aprobación de los mecanismos de recolección ","INE","CD","2021-04-26","2021-04-30",null,null,{"$f":"VLOOKUP(P1524,Campos!$B$2:$C$7,2,FALSE)","v":0},"Sin información"]
[1519,6,"Colima",14,"Mecanismos de recolección","14.5",5,"Traslado y recolección de los paquetes electorales","INE/OPL","CD/OD","2021-06-06","2021-06-07",null,null,{"$f":"VLOOKUP(P1525,Campos!$B$2:$C$7,2,FALSE)","v":0},"Sin información"]
[1520,6,"Colima",14,"Mecanismos de recolección","14.6",6,"Acreditación de representantes de partidos políticos y candidaturas independientes ante los mecanismos de recolección","INE","CL/CD","2021-04-27","2021-06-03",null,null,{"$f":"VLOOKUP(P1526,Campos!$B$2:$C$7,2,FALSE)","v":0},"Sin información"]
[1521,6,"Colima",14,"Mecanismos de recolección","14.7",7,"Sustitución de representantes de partidos políticos y candidaturas independientes ante los mecanismos de recolección","INE","CL/CD","2021-04-28","2021-06-04",null,null,{"$f":"VLOOKUP(P1527,Campos!$B$2:$C$7,2,FALSE)","v":0},"Sin información"]
[1522,6,"Colima",14,"Mecanismos de recolección","14.8",8,"Entrega a la JLE, el informe sobre la recepción de paquetes electorales en los órganos competentes","OPL","CG","2021-06-06","2021-06-28",null,null,{"$f":"VLOOKUP(P1528,Campos!$B$2:$C$7,2,FALSE)","v":0},"Sin información"]
[1523,6,"Colima",15,"Cómputos","15.1",1,"Aprobación de los lineamientos de cómputo y del cuadernillo de consulta sobre votos válidos y votos nulos","OPL","CG","2021-01-18","2021-01-29",null,null,{"$f":"VLOOKUP(P1529,Campos!$B$2:$C$7,2,FALSE)","v":0},"Sin información"]
[1524,6,"Colima",15,"Cómputos","15.2",2,"Integración por parte de los Órganos Desconcentrados del OPL, de la propuesta para la habilitación de espacios para el recuento de votos con las alternativas para todos los escenarios de cómputo","OPL","OD","2021-03-01","2021-03-07",null,null,{"$f":"VLOOKUP(P1530,Campos!$B$2:$C$7,2,FALSE)","v":0},"Sin información"]
[1525,6,"Colima",15,"Cómputos","15.3",3,"Informe de los escenarios de cómputos de la totalidad de sus órganos desconcentrados","OPL","CG","2021-04-01","2021-04-04",null,null,{"$f":"VLOOKUP(P1531,Campos!$B$2:$C$7,2,FALSE)","v":0},"Sin información"]
[1526,6,"Colima",15,"Cómputos","15.4",4,"Remisión a la JLE en la entidad, las propuestas de escenarios de cómputos, para la dictaminación de viabilidad","OPL","CG","2021-05-01","2021-05-07",null,null,{"$f":"VLOOKUP(P1532,Campos!$B$2:$C$7,2,FALSE)","v":0},"Sin información"]
[1527,6,"Colima",15,"Cómputos","15.5",5,"Remisión de las observaciones a los escenarios de Cómputos al OPL y a su vez informar de las mismas a la UTVOPL","INE","JLE","2021-05-08","2021-05-15",null,null,{"$f":"VLOOKUP(P1533,Campos!$B$2:$C$7,2,FALSE)","v":0},"Sin información"]
[1528,6,"Colima",15,"Cómputos","15.6",6,"Aprobación por parte del órgano competente del OPL, del acuerdo mediante el cual se designa al personal que participará en las tareas de apoyo a los Cómputos Municipales","OPL","CG/OD","2021-04-26","2021-05-05",null,null,{"$f":"VLOOKUP(P1534,Campos!$B$2:$C$7,2,FALSE)","v":0},"Sin información"]
[1529,6,"Colima",15,"Cómputos","15.7",7,"Aprobación por parte del órgano competente del OPL, del acuerdo mediante el cual se designa al personal que participará en las tareas de apoyo a los Cómputos Distritales ","OPL","CG/OD","2021-04-26","2021-05-05",null,null,{"$f":"VLOOKUP(P1535,Campos!$B$2:$C$7,2,FALSE)","v":0},"Sin información"]
[1530,6,"Colima",15,"Cómputos","15.8",8,"Aprobación por parte de los órganos competentes del OPL, de los distintos escenarios de cómputos","OPL","OD","2021-05-08","2021-05-15",null,null,{"$f":"VLOOKUP(P1536,Campos!$B$2:$C$7,2,FALSE)","v":0},"Sin información"]
[1531,6,"Colima",15,"Cómputos","15.9",9,"Aprobación por parte del órgano competente del OPL, del acuerdo por el que se habilitarán espacios para la instalación de grupos de trabajo y, en su caso, puntos de recuento","OPL","CG/OD","2021-06-08","2021-06-08",null,null,{"$f":"VLOOKUP(P1537,Campos!$B$2:$C$7,2,FALSE)","v":0},"Sin información"]
[1532,6,"Colima",15,"Cómputos","15.12",12,"Cómputos Municipales para la Gubernatura","OPL","OD","2021-06-09","2021-06-12",null,null,{"$f":"VLOOKUP(P1538,Campos!$B$2:$C$7,2,FALSE)","v":0},"Sin información"]
[1533,6,"Colima",15,"Cómputos","15.10",10,"Cómputos Distritales","OPL","OD","2021-06-13","2021-06-16",null,null,{"$f":"VLOOKUP(P1539,Campos!$B$2:$C$7,2,FALSE)","v":0},"Sin información"]
[1534,6,"Colima",15,"Cómputos","15.11",11,"Cómputos Municipales","OPL","OD","2021-06-17","2021-06-17",null,null,{"$f":"VLOOKUP(P1540,Campos!$B$2:$C$7,2,FALSE)","v":0},"Sin información"]
[1535,6,"Colima",15,"Cómputos","15.13",13,"Cómputo Estatal para la Gubernatura","OPL","CG","2021-06-13","2021-06-14",null,null,{"$f":"VLOOKUP(P1541,Campos!$B$2:$C$7,2,FALSE)","v":0},"Sin información"]
[1536,6,"Colima",15,"Cómputos","15.15",15,"Cómputo Estatal para Diputaciones de Mayoría Relativa","OPL","CG","2021-06-17","2021-06-27",null,null,{"$f":"VLOOKUP(P1542,Campos!$B$2:$C$7,2,FALSE)","v":0},"Sin información"]
[1537,6,"Colima",15,"Cómputos","15.14",14,"Cómputo Estatal para la asignación diputaciones de Representación Proporcional","OPL","CG","2020-06-27","2020-06-27",null,null,{"$f":"VLOOKUP(P1543,Campos!$B$2:$C$7,2,FALSE)","v":0},"Sin información"]
[1538,6,"Colima",15,"Cómputos","15.16",16,"Asignación de regidurías por el principio de Representación Proporcional","OPL","CG","2021-06-20","2021-06-30",null,null,{"$f":"VLOOKUP(P1544,Campos!$B$2:$C$7,2,FALSE)","v":0},"Sin información"]
[1539,6,"Colima",15,"Cómputos","15.17",17,"Remisión al tribunal electoral local del acuerdo del cómputo estatal de gubernatura para el cómputo final","OPL","CG","2021-06-16","2021-06-18",null,null,{"$f":"VLOOKUP(P1545,Campos!$B$2:$C$7,2,FALSE)","v":0},"Sin información"]
[1540,6,"Colima",16,"PREP","16.1",1,"Aprobación del Acuerdo por el que se designa o ratifica a la instancia interna responsable de coordinar el PREP","OPL","CG","2020-09-11","2020-09-11",null,null,{"$f":"VLOOKUP(P1546,Campos!$B$2:$C$7,2,FALSE)","v":0},"Sin información"]
[1541,6,"Colima",16,"PREP","16.2",2,"Aprobación del Acuerdo de Integración del COTAPREP","OPL","CG","2020-11-11","2020-11-11",null,null,{"$f":"VLOOKUP(P1547,Campos!$B$2:$C$7,2,FALSE)","v":0},"Sin información"]
[1542,6,"Colima",16,"PREP","16.3",3,"Documento por el que se determina la implementación del PREP por el OPL o con el apoyo de un Tercero","OPL","CG","2020-12-11","2020-12-11",null,null,{"$f":"VLOOKUP(P1548,Campos!$B$2:$C$7,2,FALSE)","v":0},"Sin información"]
[1543,6,"Colima",16,"PREP","16.4",4,"Aprobación del Acuerdo por el que se determina el Proceso Técnico Operativo ","OPL","CG","2021-01-11","2021-01-11",null,null,{"$f":"VLOOKUP(P1549,Campos!$B$2:$C$7,2,FALSE)","v":0},"Sin información"]
[1544,6,"Colima",16,"PREP","16.5",5,"Aprobación del Acuerdo por el que se determina la ubicación, instalación y habilitación de los CATD y, en su caso, CCV","OPL","CG","2021-02-11","2021-02-11",null,null,{"$f":"VLOOKUP(P1550,Campos!$B$2:$C$7,2,FALSE)","v":0},"Sin información"]
[1545,6,"Colima",16,"PREP","16.6",6,"Documento de Designación del Ente Auditor ","OPL","CG","2021-02-11","2021-02-11",null,null,{"$f":"VLOOKUP(P1551,Campos!$B$2:$C$7,2,FALSE)","v":0},"Sin información"]
[1546,6,"Colima",16,"PREP","16.7",7,"Instrumento jurídico celebrado entre el OPL y el ente auditor","OPL","CG","2021-03-11","2021-03-11",null,null,{"$f":"VLOOKUP(P1552,Campos!$B$2:$C$7,2,FALSE)","v":0},"Sin información"]
[1547,6,"Colima",16,"PREP","16.8",8,"Realización del primer simulacro del PREP","OPL","CG","2021-05-16","2021-05-16",null,null,{"$f":"VLOOKUP(P1553,Campos!$B$2:$C$7,2,FALSE)","v":0},"Sin información"]
[1548,6,"Colima",16,"PREP","16.9",9,"Realización del segundo simulacro del PREP","OPL","CG","2021-05-23","2021-05-23",null,null,{"$f":"VLOOKUP(P1554,Campos!$B$2:$C$7,2,FALSE)","v":0},"Sin información"]
[1549,6,"Colima",16,"PREP","16.10",10,"Realización del tercer simulacro del PREP","OPL","CG","2021-05-30","2021-05-30",null,null,{"$f":"VLOOKUP(P1555,Campos!$B$2:$C$7,2,FALSE)","v":0},"Sin información"]
[1550,6,"Colima",16,"PREP","16.11",11,"Operación del PREP","OPL","CG","2021-06-06","2021-06-07",null,null,{"$f":"VLOOKUP(P1556,Campos!$B$2:$C$7,2,FALSE)","v":0},"Sin información"]
[1551,6,"Colima",17,"Conteo Rápido","17.1",1,"Aprobación del Acuerdo de Integración del COTECORA","Por definir","Por definir","2021-02-01","2021-02-06",null,null,{"$f":"VLOOKUP(P1557,Campos!$B$2:$C$7,2,FALSE)","v":0},"Sin información"]
[1552,6,"Colima",17,"Conteo Rápido","17.2",2,"Realización de pruebas de captura","Por definir","Por definir","2021-04-14","2021-04-15",null,null,{"$f":"VLOOKUP(P1558,Campos!$B$2:$C$7,2,FALSE)","v":0},"Sin información"]
[1553,6,"Colima",17,"Conteo Rápido","17.3",3,"Realización de primer simulacro del Conteo Rápido","Por definir","Por definir","2021-04-29","2021-04-29",null,null,{"$f":"VLOOKUP(P1559,Campos!$B$2:$C$7,2,FALSE)","v":0},"Sin información"]
[1554,6,"Colima",17,"Conteo Rápido","17.4",4,"Realización de segundo simulacro del Conteo Rápido","Por definir","Por definir","2021-05-16","2021-05-16",null,null,{"$f":"VLOOKUP(P1560,Campos!$B$2:$C$7,2,FALSE)","v":0},"Sin información"]
[1555,6,"Colima",17,"Conteo Rápido","17.5",5,"Selección de la Muestra para el Conteo Rápido","Por definir","Por definir","2021-06-02","2021-06-04",null,null,{"$f":"VLOOKUP(P1561,Campos!$B$2:$C$7,2,FALSE)","v":0},"Sin información"]
[1556,6,"Colima",17,"Conteo Rápido","17.6",6,"Realización de tercer simulacro del Conteo Rápido","Por definir","Por definir","2021-05-23","2021-05-23",null,null,{"$f":"VLOOKUP(P1562,Campos!$B$2:$C$7,2,FALSE)","v":0},"Sin información"]
[1557,6,"Colima",18,"Voto de la ciudadanía residente en el extranjero","18.1",1,"Puesta a disposición de la Solicitud individual de Inscripción a la Lista Nominal de Electores Residentes en el extranjero para procesos electorales locales (SIILNERE), por los medios que determine el INE.","INE","DERFE","2020-09-01","2021-03-15",null,null,{"$f":"VLOOKUP(P1563,Campos!$B$2:$C$7,2,FALSE)","v":0},"Sin información"]
[1558,6,"Colima",18,"Voto de la ciudadanía residente en el extranjero","18.2",2,"Recepción de la Solicitud individual de Inscripción a la Lista Nominal de Electores Residentes en el extranjero para procesos electorales locales (SIILNERE), por los medios que determine el INE","INE","DERFE","2020-09-01","2021-03-15",null,null,{"$f":"VLOOKUP(P1564,Campos!$B$2:$C$7,2,FALSE)","v":0},"Sin información"]
[1559,6,"Colima",18,"Voto de la ciudadanía residente en el extranjero","18.3",3,"Conformación de la Lista Nominal de Electores Residentes en el Extranjero (subsanes, observaciones de partidos políticos e informe)","INE","DERFE","2020-09-01","2021-04-15",null,null,{"$f":"VLOOKUP(P1565,Campos!$B$2:$C$7,2,FALSE)","v":0},"Sin información"]
[1560,6,"Colima",18,"Voto de la ciudadanía residente en el extranjero","18.4",4,"En caso de voto postal, entrega-recepción de materiales del PEP.","INE","DERFE/UTVOPL/OPL","Por definir","2021-03-15",null,null,{"$f":"VLOOKUP(P1566,Campos!$B$2:$C$7,2,FALSE)","v":0},"Sin información"]
[1561,6,"Colima",18,"Voto de la ciudadanía residente en el extranjero","18.5",5,"En caso de voto postal, preparación y envío de los PEP a la ciudadanía residente en el extranjero","INE","DERFE/DEOE/UNICOM/DECEYEC","2021-04-02","2021-04-30",null,null,{"$f":"VLOOKUP(P1567,Campos!$B$2:$C$7,2,FALSE)","v":0},"Sin información"]
[1562,6,"Colima",18,"Voto de la ciudadanía residente en el extranjero","18.6",6,"En caso de voto postal, recepción de Sobres Voto y resguardo","INE","DERFE/DEOE","2021-04-11","2021-06-05",null,null,{"$f":"VLOOKUP(P1568,Campos!$B$2:$C$7,2,FALSE)","v":0},"Sin información"]
[1563,6,"Colima",18,"Voto de la ciudadanía residente en el extranjero","18.7",7,"Elaboración y aprobación del Programa de Integración de Mesas de Escrutinio y Cómputo y Capacitación Electoral para el Voto de las y los Mexicanos Residentes en el Extranjero","INE","CG","Por definir","Por definir",null,null,{"$f":"VLOOKUP(P1569,Campos!$B$2:$C$7,2,FALSE)","v":0},"Sin información"]
[1564,6,"Colima",18,"Voto de la ciudadanía residente en el extranjero","18.8",8,"Aprobación del número de mesas de escrutinio y cómputo a instalar","INE","CL","Por definir","Por definir",null,null,{"$f":"VLOOKUP(P1570,Campos!$B$2:$C$7,2,FALSE)","v":0},"Sin información"]
[1565,6,"Colima",18,"Voto de la ciudadanía residente en el extranjero","18.9",9,"Integración y aprobación del Listado del personal que realizará las suplencias en las Mesas de Escrutinio y Cómputo","INE","CL","Por definir","Por definir",null,null,{"$f":"VLOOKUP(P1571,Campos!$B$2:$C$7,2,FALSE)","v":0},"Sin información"]
[1566,6,"Colima",18,"Voto de la ciudadanía residente en el extranjero","18.10",10,"Logística del Local Único","OPL","CG","Por definir","Por definir",null,null,{"$f":"VLOOKUP(P1572,Campos!$B$2:$C$7,2,FALSE)","v":0},"Sin información"]
[1567,6,"Colima",18,"Voto de la ciudadanía residente en el extranjero","18.11",11,"Escrutinio y Cómputo de los votos de los mexicanos residentes en el extranjero","OPL","CG","2021-06-06","2021-06-06",null,null,{"$f":"VLOOKUP(P1573,Campos!$B$2:$C$7,2,FALSE)","v":0},"Sin información"]
[1568,6,"Colima",18,"Voto de la ciudadanía residente en el extranjero","18.12",12,"Promoción del Voto de los Mexicanos Residentes en el Extranjero (Difusión, Comunicación, Vinculación y Plataformas Digitales)","INE/OPL","CG/CG","Por definir","Por definir",null,null,{"$f":"VLOOKUP(P1574,Campos!$B$2:$C$7,2,FALSE)","v":0},"Sin información"]
[1569,6,"Colima",18,"Voto de la ciudadanía residente en el extranjero","18.13",13,"Entrega de la Lista Nominal de Electores Residentes en el Extranjero (LNERE), para escrutinio y cómputo.","INE","DERFE/DEOE","2021-06-05","2021-06-05",null,null,{"$f":"VLOOKUP(P1575,Campos!$B$2:$C$7,2,FALSE)","v":0},"Sin información"]
[1570,6,"Colima",19,"Visitantes extranjeros","19.1",1,"Emisión de la Convocatoria para visitantes extranjeros","INE","CG","2020-08-03","2020-09-30",null,null,{"$f":"VLOOKUP(P1576,Campos!$B$2:$C$7,2,FALSE)","v":0},"Sin información"]
[1571,6,"Colima",19,"Visitantes extranjeros","19.2",2,"Difusión de la Convocatoria para visitantes extranjeros","INE","CAI","2020-09-01","2021-05-26",null,null,{"$f":"VLOOKUP(P1577,Campos!$B$2:$C$7,2,FALSE)","v":0},"Sin información"]
[1572,6,"Colima",19,"Visitantes extranjeros","19.3",3,"Recepción de solicitudes de acreditación como visitantes extranjeros","INE","CAI","2020-09-01","2021-05-26",null,null,{"$f":"VLOOKUP(P1578,Campos!$B$2:$C$7,2,FALSE)","v":0},"Sin información"]
[1573,6,"Colima",19,"Visitantes extranjeros","19.4",4,"Resolución de solicitudes de acreditación como visitantes extranjeros","INE","CAI","2020-09-02","2021-05-30",null,null,{"$f":"VLOOKUP(P1579,Campos!$B$2:$C$7,2,FALSE)","v":0},"Sin información"]
[1574,6,"Colima",19,"Visitantes extranjeros","19.5",5,"Entrega de acreditaciones a los visitantes extranjeros","INE","CAI","2020-09-04","2021-06-05",null,null,{"$f":"VLOOKUP(P1580,Campos!$B$2:$C$7,2,FALSE)","v":0},"Sin información"]
[1575,10,"Durango",1,"Mecanismos de coordinación","1.1",1,"Aprobar Calendarios y Planes Integrales de los Procesos Electorales Locales","INE","CG","2020-08-01","2020-08-07",null,null,{"$f":"VLOOKUP(P1581,Campos!$B$2:$C$7,2,FALSE)","v":0},"Sin información"]
[1576,10,"Durango",1,"Mecanismos de coordinación","1.2",2,"Firma del Convenio General de Coordinación y Colaboración 2020-2021","INE/OPL","INE/OPL","2020-09-01","2020-10-01",null,null,{"$f":"VLOOKUP(P1582,Campos!$B$2:$C$7,2,FALSE)","v":0},"Sin información"]
[1577,10,"Durango",1,"Mecanismos de coordinación","1.3",3,"Elaborar un plan de trabajo conjunto para la promoción de la participación ciudadana","INE/OPL","INE/OPL","2020-09-01","2020-12-31",null,null,{"$f":"VLOOKUP(P1583,Campos!$B$2:$C$7,2,FALSE)","v":0},"Sin información"]
[1578,10,"Durango",1,"Mecanismos de coordinación","1.4",4,"Sesión para dar inicio al PEL","OPL","CG","2020-11-01","2020-11-01",null,null,{"$f":"VLOOKUP(P1584,Campos!$B$2:$C$7,2,FALSE)","v":0},"Sin información"]
[1579,10,"Durango",1,"Mecanismos de coordinación","1.5",5,"Implementar un plan de trabajo conjunto para la promoción de la participación ciudadana","INE/OPL","INE/OPL","2021-02-01","2021-06-06",null,null,{"$f":"VLOOKUP(P1585,Campos!$B$2:$C$7,2,FALSE)","v":0},"Sin información"]
[1580,10,"Durango",2,"Integración de órganos desconcentrados","2.4",4,"Convocatoria para la integración de los Órganos Municipales ","OPL","CG","2020-06-26","2020-07-31",null,null,{"$f":"VLOOKUP(P1586,Campos!$B$2:$C$7,2,FALSE)","v":0},"Sin información"]
[1581,10,"Durango",2,"Integración de órganos desconcentrados","2.5",5,"Sesión en la que se designan e integran los Órganos Municipales ","OPL","CG","2020-08-01","2020-10-31",null,null,{"$f":"VLOOKUP(P1587,Campos!$B$2:$C$7,2,FALSE)","v":0},"Sin información"]
[1582,10,"Durango",2,"Integración de órganos desconcentrados","2.6",6,"Instalación de los Órganos Municipales ","OPL","OD","2020-11-01","2020-11-07",null,null,{"$f":"VLOOKUP(P1588,Campos!$B$2:$C$7,2,FALSE)","v":0},"Sin información"]
[1583,10,"Durango",2,"Integración de órganos desconcentrados","2.7",7,"Designación y/o ratificación de las y los Consejeros Electorales del Consejo Local ","INE","CG","2020-10-01","2020-10-15",null,null,{"$f":"VLOOKUP(P1589,Campos!$B$2:$C$7,2,FALSE)","v":0},"Sin información"]
[1584,10,"Durango",2,"Integración de órganos desconcentrados","2.8",8,"Instalación del Consejo Local","INE","CL","2020-11-01","2020-11-30",null,null,{"$f":"VLOOKUP(P1590,Campos!$B$2:$C$7,2,FALSE)","v":0},"Sin información"]
[1585,10,"Durango",2,"Integración de órganos desconcentrados","2.9",9,"Designación y/o ratificación de las y los Consejeros Electorales de los Consejos Distritales ","INE","CL","2020-11-01","2020-11-30",null,null,{"$f":"VLOOKUP(P1591,Campos!$B$2:$C$7,2,FALSE)","v":0},"Sin información"]
[1586,10,"Durango",2,"Integración de órganos desconcentrados","2.10",10,"Instalación de los Consejos Distritales","INE","CD","2020-12-01","2020-12-15",null,null,{"$f":"VLOOKUP(P1592,Campos!$B$2:$C$7,2,FALSE)","v":0},"Sin información"]
[1587,10,"Durango",3,"Lista Nominal de Electores","3.1",1,"Generación y entrega de la Lista Nominal de Electores para Revisión en medios ópticos a los representantes de los partidos políticos, y en su caso a las candidaturas independientes acreditados ante el OPL, para observaciones","INE","DERFE","2021-02-15","2021-02-15",null,null,{"$f":"VLOOKUP(P1593,Campos!$B$2:$C$7,2,FALSE)","v":0},"Sin información"]
[1588,10,"Durango",3,"Lista Nominal de Electores","3.2",2,"Recepción de observaciones de los partidos políticos y en su caso, candidatos independientes, a la Lista Nominal de Electores para revisión","INE/OPL","DERFE","2021-03-14","2021-03-14",null,null,{"$f":"VLOOKUP(P1594,Campos!$B$2:$C$7,2,FALSE)","v":0},"Sin información"]
[1589,10,"Durango",3,"Lista Nominal de Electores","3.3",3,"Entrega en formato digital el informe respecto de la atención a las observaciones formuladas a la Lista Nominal de Electores para Revisión","INE","DERFE","2021-04-15","2021-04-15",null,null,{"$f":"VLOOKUP(P1595,Campos!$B$2:$C$7,2,FALSE)","v":0},"Sin información"]
[1590,10,"Durango",3,"Lista Nominal de Electores","3.4",4,"Entrega de la Lista Nominal de Electores Definitiva con fotografía","INE","DERFE","2021-05-06","2021-05-14",null,null,{"$f":"VLOOKUP(P1596,Campos!$B$2:$C$7,2,FALSE)","v":0},"Sin información"]
[1591,10,"Durango",3,"Lista Nominal de Electores","3.5",5,"Fecha de entrega de la Lista Nominal de Electores con fotografía Producto de Instancias Administrativas y Resoluciones del Tribunal (ADENDA)","INE","DERFE","2021-05-19","2021-05-24",null,null,{"$f":"VLOOKUP(P1597,Campos!$B$2:$C$7,2,FALSE)","v":0},"Sin información"]
[1592,10,"Durango",4,"Observación Electoral","4.1",1,"Emisión de la convocatoria para la ciudadanía que desee participar en la observación electoral","OPL","CG","2020-11-01","2020-11-01",null,null,{"$f":"VLOOKUP(P1598,Campos!$B$2:$C$7,2,FALSE)","v":0},"Sin información"]
[1593,10,"Durango",4,"Observación Electoral","4.2",2,"Recepción de solicitudes de la ciudadanía que desee participar en observación electoral","INE/OPL","OPL/JLE/JDE","2020-11-01","2021-04-30",null,null,{"$f":"VLOOKUP(P1599,Campos!$B$2:$C$7,2,FALSE)","v":0},"Sin información"]
[1594,10,"Durango",4,"Observación Electoral","4.3",3,"Impartición de los cursos de capacitación, preparación o información","INE/OPL","OPL/JLE/JDE","2020-11-01","2021-05-17",null,null,{"$f":"VLOOKUP(P1600,Campos!$B$2:$C$7,2,FALSE)","v":0},"Sin información"]
[1595,10,"Durango",4,"Observación Electoral","4.4",4,"Acreditación de la ciudadanía como observadores u observadoras electorales","INE","CL/CD","2020-11-01","2021-06-05",null,null,{"$f":"VLOOKUP(P1601,Campos!$B$2:$C$7,2,FALSE)","v":0},"Sin información"]
[1596,10,"Durango",4,"Observación Electoral","4.5",5,"Seguimiento a los informes mensuales de acreditación","INE","CG","2020-11-01","2021-07-31",null,null,{"$f":"VLOOKUP(P1602,Campos!$B$2:$C$7,2,FALSE)","v":0},"Sin información"]
[1597,10,"Durango",4,"Observación Electoral","4.6",6,"Remisión de materiales de capacitación a la JLE para revisión","OPL","CG","2020-10-08","2020-10-08",null,null,{"$f":"VLOOKUP(P1603,Campos!$B$2:$C$7,2,FALSE)","v":0},"Sin información"]
[1598,10,"Durango",4,"Observación Electoral","4.7",7,"Revisión, corrección, verificación y validación de materiales de capacitación para observación electoral ","INE","JLE","2020-10-09","2020-10-30",null,null,{"$f":"VLOOKUP(P1604,Campos!$B$2:$C$7,2,FALSE)","v":0},"Sin información"]
[1599,10,"Durango",4,"Observación Electoral","4.8",8,"Entrega de materiales de capacitación para observación electoral entre OPL e INE","INE/OPL","VEL/OPL","2020-11-01","2020-11-23",null,null,{"$f":"VLOOKUP(P1605,Campos!$B$2:$C$7,2,FALSE)","v":0},"Sin información"]
[1600,10,"Durango",5,"Ubicación de casillas","5.1",1,"Recorridos por las secciones de los distritos para localizar los lugares donde se ubicarán las casillas","INE/OPL","JDE/OPL","2021-01-15","2021-02-15",null,null,{"$f":"VLOOKUP(P1606,Campos!$B$2:$C$7,2,FALSE)","v":0},"Sin información"]
[1601,10,"Durango",5,"Ubicación de casillas","5.2",2,"Presentación a los Consejos Distritales del listado de lugares propuestos para ubicar casillas","INE","JDE","2021-02-24","2021-02-24",null,null,{"$f":"VLOOKUP(P1607,Campos!$B$2:$C$7,2,FALSE)","v":0},"Sin información"]
[1602,10,"Durango",5,"Ubicación de casillas","5.3",3,"Visitas de examinación en los lugares propuestos para ubicar casillas básicas, contiguas, especiales y extraordinarias","INE/OPL","CD/OPL","2021-02-25","2021-03-16",null,null,{"$f":"VLOOKUP(P1608,Campos!$B$2:$C$7,2,FALSE)","v":0},"Sin información"]
[1603,10,"Durango",5,"Ubicación de casillas","5.4",4,"Aprobación del número y ubicación de casillas extraordinarias y especiales","INE","CD","2021-03-16","2021-03-16",null,null,{"$f":"VLOOKUP(P1609,Campos!$B$2:$C$7,2,FALSE)","v":0},"Sin información"]
[1604,10,"Durango",5,"Ubicación de casillas","5.5",5,"Aprobación del número y ubicación de casillas básicas y contiguas","INE","CD","2021-03-25","2021-03-25",null,null,{"$f":"VLOOKUP(P1610,Campos!$B$2:$C$7,2,FALSE)","v":0},"Sin información"]
[1605,10,"Durango",5,"Ubicación de casillas","5.6",6,"Entrega de la base de datos de la Lista Nominal Definitiva a UNICOM con corte al 10 de abril","INE","DERFE","2021-04-15","2021-04-16",null,null,{"$f":"VLOOKUP(P1611,Campos!$B$2:$C$7,2,FALSE)","v":0},"Sin información"]
[1606,10,"Durango",5,"Ubicación de casillas","5.7",7,"Realizar la primera publicación de la lista de ubicación de casillas en los lugares más concurridos del distrito electoral  y en los medios electrónicos del Instituto","INE","CD","2021-04-15","2021-04-15",null,null,{"$f":"VLOOKUP(P1612,Campos!$B$2:$C$7,2,FALSE)","v":0},"Sin información"]
[1607,10,"Durango",5,"Ubicación de casillas","5.8",8,"En su caso, segunda publicación de la lista de ubicación de casillas por causas supervenientes en los lugares más concurridos del distrito y en los medios electrónicos del Instituto","INE","CD","2021-05-15","2021-05-25",null,null,{"$f":"VLOOKUP(P1613,Campos!$B$2:$C$7,2,FALSE)","v":0},"Sin información"]
[1608,10,"Durango",5,"Ubicación de casillas","5.9",9,"Publicación de los encartes y difusión en medios electrónicos del Instituto","INE/OPL","DEOE/CG","2021-06-05","2021-06-06",null,null,{"$f":"VLOOKUP(P1614,Campos!$B$2:$C$7,2,FALSE)","v":0},"Sin información"]
[1609,10,"Durango",5,"Ubicación de casillas","5.10",10,"Registro de representantes generales y ante mesas directivas de casilla","INE","CD","2021-04-16","2021-05-24",null,null,{"$f":"VLOOKUP(P1615,Campos!$B$2:$C$7,2,FALSE)","v":0},"Sin información"]
[1610,10,"Durango",5,"Ubicación de casillas","5.11",11,"Sustitución de representantes generales y ante mesas directivas de casilla","INE","CD","2021-04-16","2021-05-27",null,null,{"$f":"VLOOKUP(P1616,Campos!$B$2:$C$7,2,FALSE)","v":0},"Sin información"]
[1611,10,"Durango",5,"Ubicación de casillas","5.12",12,"Entrega de listados de representantes generales y ante casilla al OPL","INE","CD","2021-05-30","2021-05-30",null,null,{"$f":"VLOOKUP(P1617,Campos!$B$2:$C$7,2,FALSE)","v":0},"Sin información"]
[1612,10,"Durango",5,"Ubicación de casillas","5.13",13,"Notificación ciudadana de ubicación de casillas en secciones electorales involucradas en la actualización del Marco Geográfico Electoral","INE/OPL","DERFE/OPL","2021-04-01","2021-06-15",null,null,{"$f":"VLOOKUP(P1618,Campos!$B$2:$C$7,2,FALSE)","v":0},"Sin información"]
[1613,10,"Durango",6,"Integración de las Mesas Directivas de Casilla","6.1",1,"Aprobación de la Estrategia de Capacitación y Asistencia Electoral","INE","CG","2020-08-01","2020-08-15",null,null,{"$f":"VLOOKUP(P1619,Campos!$B$2:$C$7,2,FALSE)","v":0},"Sin información"]
[1614,10,"Durango",6,"Integración de las Mesas Directivas de Casilla","6.2",2,"Entrega para revisión y validación de materiales didácticos de primera etapa","OPL","CG","2020-11-03","2020-11-03",null,null,{"$f":"VLOOKUP(P1620,Campos!$B$2:$C$7,2,FALSE)","v":0},"Sin información"]
[1615,10,"Durango",6,"Integración de las Mesas Directivas de Casilla","6.3",3,"Revisión, corrección, verificación y validación de los materiales didácticos de primera etapa","INE/OPL","JLE/DECEYEC/OPL","2020-11-03","2020-12-19",null,null,{"$f":"VLOOKUP(P1621,Campos!$B$2:$C$7,2,FALSE)","v":0},"Sin información"]
[1616,10,"Durango",6,"Integración de las Mesas Directivas de Casilla","6.4",4,"Entrega de los materiales impresos de la primera etapa a la JLE","OPL","OPL","2021-02-05","2021-02-05",null,null,{"$f":"VLOOKUP(P1622,Campos!$B$2:$C$7,2,FALSE)","v":0},"Sin información"]
[1617,10,"Durango",6,"Integración de las Mesas Directivas de Casilla","6.5",5,"Sorteo del mes del calendario como base para la insaculación de las y los ciudadanos que integrarán las mesas directivas de casilla","INE","CG","2020-12-15","2020-12-19",null,null,{"$f":"VLOOKUP(P1623,Campos!$B$2:$C$7,2,FALSE)","v":0},"Sin información"]
[1618,10,"Durango",6,"Integración de las Mesas Directivas de Casilla","6.6",6,"Entrega para revisión y validación de materiales didácticos de segunda etapa","OPL","OPL","2021-02-03","2021-02-03",null,null,{"$f":"VLOOKUP(P1624,Campos!$B$2:$C$7,2,FALSE)","v":0},"Sin información"]
[1619,10,"Durango",6,"Integración de las Mesas Directivas de Casilla","6.7",7,"Revisión, corrección, verificación y validación de los materiales didácticos de la segunda etapa","INE/OPL","JLE/DECEYEC/OPL","2021-02-03","2021-03-22",null,null,{"$f":"VLOOKUP(P1625,Campos!$B$2:$C$7,2,FALSE)","v":0},"Sin información"]
[1620,10,"Durango",6,"Integración de las Mesas Directivas de Casilla","6.8",8,"Entrega de los materiales impresos de la segunda etapa a la JLE","OPL","OPL","2021-04-05","2021-04-05",null,null,{"$f":"VLOOKUP(P1626,Campos!$B$2:$C$7,2,FALSE)","v":0},"Sin información"]
[1621,10,"Durango",6,"Integración de las Mesas Directivas de Casilla","6.9",9,"Sorteo de la letra a partir de la cual, con base en el apellido paterno, se seleccionará a las y los ciudadanos que integrarán las mesas directivas de casilla","INE","CG","2021-02-02","2021-02-02",null,null,{"$f":"VLOOKUP(P1627,Campos!$B$2:$C$7,2,FALSE)","v":0},"Sin información"]
[1622,10,"Durango",6,"Integración de las Mesas Directivas de Casilla","6.10",10,"Entrega de la Lista Nominal de Electores para el Procedimiento de la Primera insaculación con corte al 15 de enero de 2021.","INE","DERFE/UNICOM","2021-01-21","2021-01-26",null,null,{"$f":"VLOOKUP(P1628,Campos!$B$2:$C$7,2,FALSE)","v":0},"Sin información"]
[1623,10,"Durango",6,"Integración de las Mesas Directivas de Casilla","6.11",11,"Primera insaculación","INE","JDE","2021-02-06","2021-02-06",null,null,{"$f":"VLOOKUP(P1629,Campos!$B$2:$C$7,2,FALSE)","v":0},"Sin información"]
[1624,10,"Durango",6,"Integración de las Mesas Directivas de Casilla","6.12",12,"Primera etapa de capacitación a las personas insaculadas","INE","CD","2021-02-09","2021-03-31",null,null,{"$f":"VLOOKUP(P1630,Campos!$B$2:$C$7,2,FALSE)","v":0},"Sin información"]
[1625,10,"Durango",6,"Integración de las Mesas Directivas de Casilla","6.13",13,"Integración de la lista de ciudadanos y ciudadanas que cumplen los requisitos legales para integrar las mesas directivas de casilla","INE","CD","2021-02-09","2021-03-31",null,null,{"$f":"VLOOKUP(P1631,Campos!$B$2:$C$7,2,FALSE)","v":0},"Sin información"]
[1626,10,"Durango",6,"Integración de las Mesas Directivas de Casilla","6.14",14,"Segunda insaculación y designación de funcionarios para mesas directivas de casilla","INE","CD","2021-04-08","2021-04-08",null,null,{"$f":"VLOOKUP(P1632,Campos!$B$2:$C$7,2,FALSE)","v":0},"Sin información"]
[1627,10,"Durango",6,"Integración de las Mesas Directivas de Casilla","6.15",15,"Segunda etapa de capacitación a funcionarios de mesa directiva de casilla y simulacros","INE","CD","2021-04-18","2021-06-05",null,null,{"$f":"VLOOKUP(P1633,Campos!$B$2:$C$7,2,FALSE)","v":0},"Sin información"]
[1628,10,"Durango",6,"Integración de las Mesas Directivas de Casilla","6.16",16,"Entrega de reconocimientos a funcionarios de mesas directivas de casilla","INE","CD","2021-06-07","2021-06-12",null,null,{"$f":"VLOOKUP(P1634,Campos!$B$2:$C$7,2,FALSE)","v":0},"Sin información"]
[1629,10,"Durango",6,"Integración de las Mesas Directivas de Casilla","6.17",17,"Periodo para contratación de CAE locales","INE/OPL","INE/OPL","Por definir","Por definir",null,null,{"$f":"VLOOKUP(P1635,Campos!$B$2:$C$7,2,FALSE)","v":0},"Sin información"]
[1630,10,"Durango",6,"Integración de las Mesas Directivas de Casilla","6.18",18,"Reclutamiento y selección de CAE locales","INE/OPL","INE/OPL","Por definir","Por definir",null,null,{"$f":"VLOOKUP(P1636,Campos!$B$2:$C$7,2,FALSE)","v":0},"Sin información"]
[1631,10,"Durango",7,"Fiscalización de los recursos de los Partidos Políticos y candidaturas independientes","7.2",2,"Aprobación de topes de gastos de precampaña Diputaciones","OPL","CG","2020-11-01","2020-11-30",null,null,{"$f":"VLOOKUP(P1637,Campos!$B$2:$C$7,2,FALSE)","v":0},"Sin información"]
[1632,10,"Durango",7,"Fiscalización de los recursos de los Partidos Políticos y candidaturas independientes","7.5",5,"Aprobación de los límites de financiamiento privado, aportaciones de militantes, simpatizantes y precandidatos o candidatos; así como el límite individual de aportaciones para Diputaciones","OPL","CG","2020-11-01","2021-01-31",null,null,{"$f":"VLOOKUP(P1638,Campos!$B$2:$C$7,2,FALSE)","v":0},"Sin información"]
[1633,10,"Durango",7,"Fiscalización de los recursos de los Partidos Políticos y candidaturas independientes","7.8",8,"Aprobación de topes de gastos para el periodo de obtención del apoyo ciudadano para Diputaciones","OPL","CG","2020-11-01","2020-12-31",null,null,{"$f":"VLOOKUP(P1639,Campos!$B$2:$C$7,2,FALSE)","v":0},"Sin información"]
[1634,10,"Durango",7,"Fiscalización de los recursos de los Partidos Políticos y candidaturas independientes","7.11",11,"Precampaña para Diputaciones","OPL","CG","2021-01-28","2021-03-01",null,null,{"$f":"VLOOKUP(P1640,Campos!$B$2:$C$7,2,FALSE)","v":0},"Sin información"]
[1635,10,"Durango",7,"Fiscalización de los recursos de los Partidos Políticos y candidaturas independientes","7.14",14,"Aprobación de topes de gastos de campaña para Diputaciones","OPL","CG","2021-02-01","2021-02-28",null,null,{"$f":"VLOOKUP(P1641,Campos!$B$2:$C$7,2,FALSE)","v":0},"Sin información"]
[1636,10,"Durango",7,"Fiscalización de los recursos de los Partidos Políticos y candidaturas independientes","7.17",17,"Campaña para Diputaciones","OPL","CG","2021-04-14","2021-06-02",null,null,{"$f":"VLOOKUP(P1642,Campos!$B$2:$C$7,2,FALSE)","v":0},"Sin información"]
[1637,10,"Durango",7,"Fiscalización de los recursos de los Partidos Políticos y candidaturas independientes","7.19",19,"Aprobación de la distribución de financiamiento público para partidos políticos","OPL","CG","2020-12-01","2020-12-31",null,null,{"$f":"VLOOKUP(P1643,Campos!$B$2:$C$7,2,FALSE)","v":0},"Sin información"]
[1638,10,"Durango",8,"Candidaturas Independientes","8.1",1,"Emisión de la convocatoria para la ciudadanía interesada en participar en Candidaturas Independientes ","OPL","CG","2020-12-01","2020-12-31",null,null,{"$f":"VLOOKUP(P1644,Campos!$B$2:$C$7,2,FALSE)","v":0},"Sin información"]
[1639,10,"Durango",8,"Candidaturas Independientes","8.3",3,"Recepción de escrito de intención y documentación anexa de la ciudadanía que aspire a la candidatura independiente para Diputaciones","OPL","OD","2021-01-01","2021-01-20",null,null,{"$f":"VLOOKUP(P1645,Campos!$B$2:$C$7,2,FALSE)","v":0},"Sin información"]
[1640,10,"Durango",8,"Candidaturas Independientes","8.6",6,"Resolución sobre procedencia de manifestación de intención de aspirantes a candidaturas independientes para Diputaciones","OPL","CG","2021-01-30","2021-01-30",null,null,{"$f":"VLOOKUP(P1646,Campos!$B$2:$C$7,2,FALSE)","v":0},"Sin información"]
[1641,10,"Durango",8,"Candidaturas Independientes","8.9",9,"Plazo para obtener el apoyo ciudadano de las candidaturas independientes para Diputaciones","OPL","OD","2021-01-31","2021-03-01",null,null,{"$f":"VLOOKUP(P1647,Campos!$B$2:$C$7,2,FALSE)","v":0},"Sin información"]
[1642,10,"Durango",8,"Candidaturas Independientes","8.12",12,"Plazo para otorgar las constancias de porcentaje a favor de aspirantes a la candidatura independiente para Diputaciones","OPL","CG","2021-03-02","2021-03-21",null,null,{"$f":"VLOOKUP(P1648,Campos!$B$2:$C$7,2,FALSE)","v":0},"Sin información"]
[1643,10,"Durango",9,"Candidaturas","9.1",1,"Registro de plataformas electorales","OPL","CG","2021-01-01","2021-01-15",null,null,{"$f":"VLOOKUP(P1649,Campos!$B$2:$C$7,2,FALSE)","v":0},"Sin información"]
[1644,10,"Durango",9,"Candidaturas","9.3",3,"Solicitud de registro de convenio de coalición para Diputaciones","OPL","CG","2020-11-01","2021-01-28",null,null,{"$f":"VLOOKUP(P1650,Campos!$B$2:$C$7,2,FALSE)","v":0},"Sin información"]
[1645,10,"Durango",9,"Candidaturas","9.6",6,"Resolución sobre Convenio de Coalición para Diputaciones","OPL","CG","2020-11-11","2021-02-07",null,null,{"$f":"VLOOKUP(P1651,Campos!$B$2:$C$7,2,FALSE)","v":0},"Sin información"]
[1646,10,"Durango",9,"Candidaturas","9.9",9,"Solicitud de registro de Candidaturas para Diputaciones","OPL","CG/OD","2021-03-22","2021-03-29",null,null,{"$f":"VLOOKUP(P1652,Campos!$B$2:$C$7,2,FALSE)","v":0},"Sin información"]
[1647,10,"Durango",9,"Candidaturas","9.14",14,"Resolución para aprobar las candidaturas para Diputaciones","OPL","CG","2021-03-30","2021-04-04",null,null,{"$f":"VLOOKUP(P1653,Campos!$B$2:$C$7,2,FALSE)","v":0},"Sin información"]
[1648,10,"Durango",9,"Candidaturas","9.18",18,"Solicitud de registro de candidaturas comunes para Diputaciones ","OPL","CG/OD","2020-11-01","2021-03-16",null,null,{"$f":"VLOOKUP(P1654,Campos!$B$2:$C$7,2,FALSE)","v":0},"Sin información"]
[1649,10,"Durango",9,"Candidaturas","9.21",21,"Resolución para aprobar las candidaturas comunes para Diputaciones ","OPL","CG/OD","2021-03-17","2021-03-21",null,null,{"$f":"VLOOKUP(P1655,Campos!$B$2:$C$7,2,FALSE)","v":0},"Sin información"]
[1650,10,"Durango",11,"Documentación y material electoral","11.1",1,"Entrega a la Junta Local Ejecutiva del INE, de los diseños y especificaciones técnicas de la documentación y materiales electorales, en medios impresos y electrónicos","OPL","CG","2020-09-01","2020-09-30",null,null,{"$f":"VLOOKUP(P1656,Campos!$B$2:$C$7,2,FALSE)","v":0},"Sin información"]
[1651,10,"Durango",11,"Documentación y material electoral","11.2",2,"Revisión de los documentos y materiales electorales y especificaciones técnicas, presentadas por el OPL","INE","JLE","2020-09-15","2020-12-16",null,null,{"$f":"VLOOKUP(P1657,Campos!$B$2:$C$7,2,FALSE)","v":0},"Sin información"]
[1652,10,"Durango",11,"Documentación y material electoral","11.3",3,"En su caso, atención y presentación, de los cambios pertinentes, conforme a las observaciones emitidas por la Junta Local Ejecutiva del INE","OPL","CG","2020-09-15","2020-12-16",null,null,{"$f":"VLOOKUP(P1658,Campos!$B$2:$C$7,2,FALSE)","v":0},"Sin información"]
[1653,10,"Durango",11,"Documentación y material electoral","11.4",4,"Validación de los documentos y materiales electorales y especificaciones técnicas, con las observaciones subsanadas","INE","DEOE","2020-10-28","2020-12-18",null,null,{"$f":"VLOOKUP(P1659,Campos!$B$2:$C$7,2,FALSE)","v":0},"Sin información"]
[1654,10,"Durango",11,"Documentación y material electoral","11.5",5,"Entrega a la Dirección Ejecutiva de Organización Electoral del INE, del Reporte único sobre la aprobación y adjudicación de los documentos y materiales electorales del OPL, en medios electrónicos","OPL","CG","2021-02-01","2021-02-26",null,null,{"$f":"VLOOKUP(P1660,Campos!$B$2:$C$7,2,FALSE)","v":0},"Sin información"]
[1655,10,"Durango",11,"Documentación y material electoral","11.6",6,"Revisión y en su caso validación, del Reporte único sobre la aprobación y adjudicación de los documentos y materiales electorales del OPL, en medios electrónicos","INE","DEOE","2021-02-15","2021-03-12",null,null,{"$f":"VLOOKUP(P1661,Campos!$B$2:$C$7,2,FALSE)","v":0},"Sin información"]
[1656,10,"Durango",11,"Documentación y material electoral","11.7",7,"Entrega  a la Dirección Ejecutiva de Organización Electoral del INE, del Reporte semanal sobre el avance en la producción de los documentos y materiales electorales del OPL, en medios electrónicos.","OPL","CG","2021-03-15","2021-05-22",null,null,{"$f":"VLOOKUP(P1662,Campos!$B$2:$C$7,2,FALSE)","v":0},"Sin información"]
[1657,10,"Durango",11,"Documentación y material electoral","11.8",8,"Aprobación de la documentación y material electoral","OPL","CG","2020-11-11","2020-12-31",null,null,{"$f":"VLOOKUP(P1663,Campos!$B$2:$C$7,2,FALSE)","v":0},"Sin información"]
[1658,10,"Durango",11,"Documentación y material electoral","11.9",9,"Entrega a la Dirección Ejecutiva de Organización Electoral del INE, del Reporte con los resultados de las verificaciones de las medidas de seguridad en la documentación electoral","OPL","CG","2021-05-27","2021-06-11",null,null,{"$f":"VLOOKUP(P1664,Campos!$B$2:$C$7,2,FALSE)","v":0},"Sin información"]
[1659,10,"Durango",11,"Documentación y material electoral","11.10",10,"Supervisiones respecto de los procedimientos de impresión y producción de la documentación y materiales electorales","INE","DEOE","2021-03-15","2021-05-22",null,null,{"$f":"VLOOKUP(P1665,Campos!$B$2:$C$7,2,FALSE)","v":0},"Sin información"]
[1660,10,"Durango",11,"Documentación y material electoral","11.11",11,"Designación de la persona responsable de llevar el control sobre la asignación de los folios de las boletas que se distribuirán en cada mesa directiva de casilla","OPL","CG","2021-03-01","2021-03-30",null,null,{"$f":"VLOOKUP(P1666,Campos!$B$2:$C$7,2,FALSE)","v":0},"Sin información"]
[1661,10,"Durango",11,"Documentación y material electoral","11.12",12,"Aprobación de SE y CAE, así como de personal que auxiliará en el procedimiento de conteo, sellado y agrupamiento de las boletas electorales; así como la integración de documentación para las casillas","OPL","CG","2021-04-24","2021-05-11",null,null,{"$f":"VLOOKUP(P1667,Campos!$B$2:$C$7,2,FALSE)","v":0},"Sin información"]
[1662,10,"Durango",11,"Documentación y material electoral","11.13",13,"Recepción de las boletas electorales por el órgano competente que realizará el conteo, sellado y agrupamiento","OPL","CG","2021-05-18","2021-05-22",null,null,{"$f":"VLOOKUP(P1668,Campos!$B$2:$C$7,2,FALSE)","v":0},"Sin información"]
[1663,10,"Durango",11,"Documentación y material electoral","11.14",14,"Conteo, sellado y agrupamiento de boletas","OPL","CG","2021-05-18","2021-05-28",null,null,{"$f":"VLOOKUP(P1669,Campos!$B$2:$C$7,2,FALSE)","v":0},"Sin información"]
[1664,10,"Durango",11,"Documentación y material electoral","11.15",15,"Distribución de la documentación y materiales electorales a las y los Presidentes de mesas directivas de casilla","OPL","OD","2021-05-31","2021-06-04",null,null,{"$f":"VLOOKUP(P1670,Campos!$B$2:$C$7,2,FALSE)","v":0},"Sin información"]
[1665,10,"Durango",11,"Documentación y material electoral","11.16",16,"Remisión de los recibos de la entrega de la documentación y materiales electorales al Consejo General del OPL","INE","JLE","2021-06-24","2021-06-30",null,null,{"$f":"VLOOKUP(P1671,Campos!$B$2:$C$7,2,FALSE)","v":0},"Sin información"]
[1666,10,"Durango",12,"Jornada Electoral","12.1",1,"Aprobación del Programa de Operación del SIJE 2021","INE","CCOE","2020-07-01","2020-07-31",null,null,{"$f":"VLOOKUP(P1672,Campos!$B$2:$C$7,2,FALSE)","v":0},"Sin información"]
[1667,10,"Durango",12,"Jornada Electoral","12.2",2,"Aprobación de las metas del SIJE 2021","INE","CG","2021-03-01","2021-03-31",null,null,{"$f":"VLOOKUP(P1673,Campos!$B$2:$C$7,2,FALSE)","v":0},"Sin información"]
[1668,10,"Durango",12,"Jornada Electoral","12.3",3,"Realización de pruebas del SIJE 2021","INE","DEOE","2021-04-01","2021-04-15",null,null,{"$f":"VLOOKUP(P1674,Campos!$B$2:$C$7,2,FALSE)","v":0},"Sin información"]
[1669,10,"Durango",12,"Jornada Electoral","12.4",4,"Desarrollo del primer simulacro del SIJE","INE/OPL","DEOE/OD","2021-04-29","2021-04-29",null,null,{"$f":"VLOOKUP(P1675,Campos!$B$2:$C$7,2,FALSE)","v":0},"Sin información"]
[1670,10,"Durango",12,"Jornada Electoral","12.5",5,"Desarrollo del segundo simulacro del SIJE","INE/OPL","DEOE/OD","2021-05-09","2021-05-09",null,null,{"$f":"VLOOKUP(P1676,Campos!$B$2:$C$7,2,FALSE)","v":0},"Sin información"]
[1671,10,"Durango",12,"Jornada Electoral","12.6",6,"Desarrollo del tercer simulacro del SIJE","INE/OPL","DEOE/OD","2021-05-23","2021-05-23",null,null,{"$f":"VLOOKUP(P1677,Campos!$B$2:$C$7,2,FALSE)","v":0},"Sin información"]
[1672,10,"Durango",12,"Jornada Electoral","12.7",7,"Jornada Electoral","OPL","CG/OD","2021-06-06","2021-06-06",null,null,{"$f":"VLOOKUP(P1678,Campos!$B$2:$C$7,2,FALSE)","v":0},"Sin información"]
[1673,10,"Durango",13,"Bodegas electorales","13.1",1,"Determinación de los lugares que ocuparán las bodegas electorales para el resguardo de la documentación electoral","OPL","OD","2021-02-01","2021-02-28",null,null,{"$f":"VLOOKUP(P1679,Campos!$B$2:$C$7,2,FALSE)","v":0},"Sin información"]
[1674,10,"Durango",13,"Bodegas electorales","13.2",2,"Informe que rinden las y los Presidentes sobre las condiciones de equipamiento, mecanismos de operación y medidas de seguridad de las bodegas electorales","OPL","OD","2021-03-01","2021-03-31",null,null,{"$f":"VLOOKUP(P1680,Campos!$B$2:$C$7,2,FALSE)","v":0},"Sin información"]
[1675,10,"Durango",13,"Bodegas electorales","13.3",3,"Designación, por parte del órgano competente del OPL, del personal que tendrá acceso a la bodega electoral","OPL","CG/OD","2021-03-01","2021-03-30",null,null,{"$f":"VLOOKUP(P1681,Campos!$B$2:$C$7,2,FALSE)","v":0},"Sin información"]
[1676,10,"Durango",13,"Bodegas electorales","13.4",4,"Envío a la UTVOPL, por conducto de la JLE, el informe sobre las condiciones que guardan las bodegas electorales","OPL","CG","2021-04-04","2021-04-10",null,null,{"$f":"VLOOKUP(P1682,Campos!$B$2:$C$7,2,FALSE)","v":0},"Sin información"]
[1677,10,"Durango",14,"Mecanismos de recolección","14.1",1,"Entrega de estudios de factibilidad al OPL","INE","CL","2021-03-15","2021-03-31",null,null,{"$f":"VLOOKUP(P1683,Campos!$B$2:$C$7,2,FALSE)","v":0},"Sin información"]
[1678,10,"Durango",14,"Mecanismos de recolección","14.2",2,"Entrega de observaciones a los estudios de factibilidad ","OPL","CG","2021-04-01","2021-04-24",null,null,{"$f":"VLOOKUP(P1684,Campos!$B$2:$C$7,2,FALSE)","v":0},"Sin información"]
[1679,10,"Durango",14,"Mecanismos de recolección","14.3",3,"Recorridos para verificar las propuestas de los mecanismos de recolección","INE/OPL","CD/OD","2021-03-16","2021-04-24",null,null,{"$f":"VLOOKUP(P1685,Campos!$B$2:$C$7,2,FALSE)","v":0},"Sin información"]
[1680,10,"Durango",14,"Mecanismos de recolección","14.4",4,"Aprobación de los mecanismos de recolección ","INE","CD","2021-04-26","2021-04-30",null,null,{"$f":"VLOOKUP(P1686,Campos!$B$2:$C$7,2,FALSE)","v":0},"Sin información"]
[1681,10,"Durango",14,"Mecanismos de recolección","14.5",5,"Traslado y recolección de los paquetes electorales","INE/OPL","CD/OD","2021-06-06","2021-06-07",null,null,{"$f":"VLOOKUP(P1687,Campos!$B$2:$C$7,2,FALSE)","v":0},"Sin información"]
[1682,10,"Durango",14,"Mecanismos de recolección","14.6",6,"Acreditación de representantes de partidos políticos y candidaturas independientes ante los mecanismos de recolección","INE","CL/CD","2021-04-27","2021-06-03",null,null,{"$f":"VLOOKUP(P1688,Campos!$B$2:$C$7,2,FALSE)","v":0},"Sin información"]
[1683,10,"Durango",14,"Mecanismos de recolección","14.7",7,"Sustitución de representantes de partidos políticos y candidaturas independientes ante los mecanismos de recolección","INE","CL/CD","2021-04-28","2021-06-04",null,null,{"$f":"VLOOKUP(P1689,Campos!$B$2:$C$7,2,FALSE)","v":0},"Sin información"]
[1684,10,"Durango",14,"Mecanismos de recolección","14.8",8,"Entrega a la JLE, el informe sobre la recepción de paquetes electorales en los órganos competentes","OPL","CG","2021-06-06","2021-06-28",null,null,{"$f":"VLOOKUP(P1690,Campos!$B$2:$C$7,2,FALSE)","v":0},"Sin información"]
[1685,10,"Durango",15,"Cómputos","15.1",1,"Aprobación de los lineamientos de cómputo y del cuadernillo de consulta sobre votos válidos y votos nulos","OPL","CG","2021-01-18","2021-01-29",null,null,{"$f":"VLOOKUP(P1691,Campos!$B$2:$C$7,2,FALSE)","v":0},"Sin información"]
[1686,10,"Durango",15,"Cómputos","15.2",2,"Integración por parte de los Órganos Desconcentrados del OPL, de la propuesta para la habilitación de espacios para el recuento de votos con las alternativas para todos los escenarios de cómputo","OPL","OD","2021-03-01","2021-03-07",null,null,{"$f":"VLOOKUP(P1692,Campos!$B$2:$C$7,2,FALSE)","v":0},"Sin información"]
[1687,10,"Durango",15,"Cómputos","15.3",3,"Informe de los escenarios de cómputos de la totalidad de sus órganos desconcentrados","OPL","CG","2021-04-01","2021-04-04",null,null,{"$f":"VLOOKUP(P1693,Campos!$B$2:$C$7,2,FALSE)","v":0},"Sin información"]
[1688,10,"Durango",15,"Cómputos","15.4",4,"Remisión a la JLE en la entidad, las propuestas de escenarios de cómputos, para la dictaminación de viabilidad","OPL","CG","2021-05-01","2021-05-07",null,null,{"$f":"VLOOKUP(P1694,Campos!$B$2:$C$7,2,FALSE)","v":0},"Sin información"]
[1689,10,"Durango",15,"Cómputos","15.5",5,"Remisión de las observaciones a los escenarios de Cómputos al OPL y a su vez informar de las mismas a la UTVOPL","INE","JLE","2021-05-08","2021-05-15",null,null,{"$f":"VLOOKUP(P1695,Campos!$B$2:$C$7,2,FALSE)","v":0},"Sin información"]
[1690,10,"Durango",15,"Cómputos","15.7",7,"Aprobación por parte del órgano competente del OPL, del acuerdo mediante el cual se designa al personal que participará en las tareas de apoyo a los Cómputos Distritales ","OPL","CG/OD","2021-04-26","2021-05-05",null,null,{"$f":"VLOOKUP(P1696,Campos!$B$2:$C$7,2,FALSE)","v":0},"Sin información"]
[1691,10,"Durango",15,"Cómputos","15.8",8,"Aprobación por parte de los órganos competentes del OPL, de los distintos escenarios de cómputos","OPL","OD","2021-05-08","2021-05-15",null,null,{"$f":"VLOOKUP(P1697,Campos!$B$2:$C$7,2,FALSE)","v":0},"Sin información"]
[1692,10,"Durango",15,"Cómputos","15.9",9,"Aprobación por parte del órgano competente del OPL, del acuerdo por el que se habilitarán espacios para la instalación de grupos de trabajo y, en su caso, puntos de recuento","OPL","CG/OD","2021-06-12","2021-06-12",null,null,{"$f":"VLOOKUP(P1698,Campos!$B$2:$C$7,2,FALSE)","v":0},"Sin información"]
[1693,10,"Durango",15,"Cómputos","15.10",10,"Cómputos Distritales","OPL","OD","2021-06-13","2021-06-13",null,null,{"$f":"VLOOKUP(P1699,Campos!$B$2:$C$7,2,FALSE)","v":0},"Sin información"]
[1694,10,"Durango",15,"Cómputos","15.14",14,"Cómputo Estatal para la asignación diputaciones de Representación Proporcional","OPL","CG","2021-06-16","2021-08-20",null,null,{"$f":"VLOOKUP(P1700,Campos!$B$2:$C$7,2,FALSE)","v":0},"Sin información"]
[1695,10,"Durango",16,"PREP","16.1",1,"Aprobación del Acuerdo por el que se designa o ratifica a la instancia interna responsable de coordinar el PREP","OPL","CG","2020-09-11","2020-09-11",null,null,{"$f":"VLOOKUP(P1701,Campos!$B$2:$C$7,2,FALSE)","v":0},"Sin información"]
[1696,10,"Durango",16,"PREP","16.2",2,"Aprobación del Acuerdo de Integración del COTAPREP","OPL","CG","2020-11-11","2020-11-11",null,null,{"$f":"VLOOKUP(P1702,Campos!$B$2:$C$7,2,FALSE)","v":0},"Sin información"]
[1697,10,"Durango",16,"PREP","16.3",3,"Documento por el que se determina la implementación del PREP por el OPL o con el apoyo de un Tercero","OPL","CG","2020-12-11","2020-12-11",null,null,{"$f":"VLOOKUP(P1703,Campos!$B$2:$C$7,2,FALSE)","v":0},"Sin información"]
[1698,10,"Durango",16,"PREP","16.4",4,"Aprobación del Acuerdo por el que se determina el Proceso Técnico Operativo ","OPL","CG","2021-01-11","2021-01-11",null,null,{"$f":"VLOOKUP(P1704,Campos!$B$2:$C$7,2,FALSE)","v":0},"Sin información"]
[1699,10,"Durango",16,"PREP","16.5",5,"Aprobación del Acuerdo por el que se determina la ubicación, instalación y habilitación de los CATD y, en su caso, CCV","OPL","CG","2021-02-11","2021-02-11",null,null,{"$f":"VLOOKUP(P1705,Campos!$B$2:$C$7,2,FALSE)","v":0},"Sin información"]
[1700,10,"Durango",16,"PREP","16.6",6,"Documento de Designación del Ente Auditor ","OPL","CG","2021-02-11","2021-02-11",null,null,{"$f":"VLOOKUP(P1706,Campos!$B$2:$C$7,2,FALSE)","v":0},"Sin información"]
[1701,10,"Durango",16,"PREP","16.7",7,"Instrumento jurídico celebrado entre el OPL y el ente auditor","OPL","CG","2021-03-11","2021-03-11",null,null,{"$f":"VLOOKUP(P1707,Campos!$B$2:$C$7,2,FALSE)","v":0},"Sin información"]
[1702,10,"Durango",16,"PREP","16.8",8,"Realización del primer simulacro del PREP","OPL","CG","2021-05-16","2021-05-16",null,null,{"$f":"VLOOKUP(P1708,Campos!$B$2:$C$7,2,FALSE)","v":0},"Sin información"]
[1703,10,"Durango",16,"PREP","16.9",9,"Realización del segundo simulacro del PREP","OPL","CG","2021-05-23","2021-05-23",null,null,{"$f":"VLOOKUP(P1709,Campos!$B$2:$C$7,2,FALSE)","v":0},"Sin información"]
[1704,10,"Durango",16,"PREP","16.10",10,"Realización del tercer simulacro del PREP","OPL","CG","2021-05-30","2021-05-30",null,null,{"$f":"VLOOKUP(P1710,Campos!$B$2:$C$7,2,FALSE)","v":0},"Sin información"]
[1705,10,"Durango",16,"PREP","16.11",11,"Operación del PREP","OPL","CG","2021-06-06","2021-06-07",null,null,{"$f":"VLOOKUP(P1711,Campos!$B$2:$C$7,2,FALSE)","v":0},"Sin información"]
[1706,10,"Durango",19,"Visitantes extranjeros","19.1",1,"Emisión de la Convocatoria para visitantes extranjeros","INE","CG","2020-08-03","2020-09-30",null,null,{"$f":"VLOOKUP(P1712,Campos!$B$2:$C$7,2,FALSE)","v":0},"Sin información"]
[1707,10,"Durango",19,"Visitantes extranjeros","19.2",2,"Difusión de la Convocatoria para visitantes extranjeros","INE","CAI","2020-09-01","2021-05-26",null,null,{"$f":"VLOOKUP(P1713,Campos!$B$2:$C$7,2,FALSE)","v":0},"Sin información"]
[1708,10,"Durango",19,"Visitantes extranjeros","19.3",3,"Recepción de solicitudes de acreditación como visitantes extranjeros","INE","CAI","2020-09-01","2021-05-26",null,null,{"$f":"VLOOKUP(P1714,Campos!$B$2:$C$7,2,FALSE)","v":0},"Sin información"]
[1709,10,"Durango",19,"Visitantes extranjeros","19.4",4,"Resolución de solicitudes de acreditación como visitantes extranjeros","INE","CAI","2020-09-02","2021-05-30",null,null,{"$f":"VLOOKUP(P1715,Campos!$B$2:$C$7,2,FALSE)","v":0},"Sin información"]
[1710,10,"Durango",19,"Visitantes extranjeros","19.5",5,"Entrega de acreditaciones a los visitantes extranjeros","INE","CAI","2020-09-04","2021-06-05",null,null,{"$f":"VLOOKUP(P1716,Campos!$B$2:$C$7,2,FALSE)","v":0},"Sin información"]
[1711,12,"Guerrero",1,"Mecanismos de coordinación","1.1",1,"Aprobar Calendarios y Planes Integrales de los Procesos Electorales Locales","INE","CG","2020-08-01","2020-08-07",null,null,{"$f":"VLOOKUP(P1717,Campos!$B$2:$C$7,2,FALSE)","v":0},"Sin información"]
[1712,12,"Guerrero",1,"Mecanismos de coordinación","1.2",2,"Firma del Convenio General de Coordinación y Colaboración 2020-2021","INE/OPL","INE/OPL","2020-09-01","2020-10-01",null,null,{"$f":"VLOOKUP(P1718,Campos!$B$2:$C$7,2,FALSE)","v":0},"Sin información"]
[1713,12,"Guerrero",1,"Mecanismos de coordinación","1.3",3,"Elaborar un plan de trabajo conjunto para la promoción de la participación ciudadana","INE/OPL","INE/OPL","2020-09-01","2020-12-31",null,null,{"$f":"VLOOKUP(P1719,Campos!$B$2:$C$7,2,FALSE)","v":0},"Sin información"]
[1714,12,"Guerrero",1,"Mecanismos de coordinación","1.4",4,"Sesión para dar inicio al PEL","OPL","CG","2020-09-09","2020-09-09",null,null,{"$f":"VLOOKUP(P1720,Campos!$B$2:$C$7,2,FALSE)","v":0},"Sin información"]
[1715,12,"Guerrero",1,"Mecanismos de coordinación","1.5",5,"Implementar un plan de trabajo conjunto para la promoción de la participación ciudadana","INE/OPL","INE/OPL","2021-02-01","2021-06-06",null,null,{"$f":"VLOOKUP(P1721,Campos!$B$2:$C$7,2,FALSE)","v":0},"Sin información"]
[1716,12,"Guerrero",2,"Integración de órganos desconcentrados","2.1",1,"Convocatoria para la integración de los Órganos Distritales","OPL","CG","2020-09-09","2020-09-09",null,null,{"$f":"VLOOKUP(P1722,Campos!$B$2:$C$7,2,FALSE)","v":0},"Sin información"]
[1717,12,"Guerrero",2,"Integración de órganos desconcentrados","2.2",2,"Sesión en la que se designan e integran los Órganos Distritales ","OPL","CG","2020-10-01","2020-11-15",null,null,{"$f":"VLOOKUP(P1723,Campos!$B$2:$C$7,2,FALSE)","v":0},"Sin información"]
[1718,12,"Guerrero",2,"Integración de órganos desconcentrados","2.3",3,"Instalación de los Órganos Distritales ","OPL","OD","2020-11-25","2020-11-25",null,null,{"$f":"VLOOKUP(P1724,Campos!$B$2:$C$7,2,FALSE)","v":0},"Sin información"]
[1719,12,"Guerrero",2,"Integración de órganos desconcentrados","2.7",7,"Designación y/o ratificación de las y los Consejeros Electorales del Consejo Local ","INE","CG","2020-10-01","2020-10-15",null,null,{"$f":"VLOOKUP(P1725,Campos!$B$2:$C$7,2,FALSE)","v":0},"Sin información"]
[1720,12,"Guerrero",2,"Integración de órganos desconcentrados","2.8",8,"Instalación del Consejo Local","INE","CL","2020-11-01","2020-11-30",null,null,{"$f":"VLOOKUP(P1726,Campos!$B$2:$C$7,2,FALSE)","v":0},"Sin información"]
[1721,12,"Guerrero",2,"Integración de órganos desconcentrados","2.9",9,"Designación y/o ratificación de las y los Consejeros Electorales de los Consejos Distritales ","INE","CL","2020-11-01","2020-11-30",null,null,{"$f":"VLOOKUP(P1727,Campos!$B$2:$C$7,2,FALSE)","v":0},"Sin información"]
[1722,12,"Guerrero",2,"Integración de órganos desconcentrados","2.10",10,"Instalación de los Consejos Distritales","INE","CD","2020-12-01","2020-12-15",null,null,{"$f":"VLOOKUP(P1728,Campos!$B$2:$C$7,2,FALSE)","v":0},"Sin información"]
[1723,12,"Guerrero",3,"Lista Nominal de Electores","3.1",1,"Generación y entrega de la Lista Nominal de Electores para Revisión en medios ópticos a los representantes de los partidos políticos, y en su caso a las candidaturas independientes acreditados ante el OPL, para observaciones","INE","DERFE","2021-02-15","2021-02-15",null,null,{"$f":"VLOOKUP(P1729,Campos!$B$2:$C$7,2,FALSE)","v":0},"Sin información"]
[1724,12,"Guerrero",3,"Lista Nominal de Electores","3.2",2,"Recepción de observaciones de los partidos políticos y en su caso, candidatos independientes, a la Lista Nominal de Electores para revisión","INE/OPL","DERFE","2021-03-14","2021-03-14",null,null,{"$f":"VLOOKUP(P1730,Campos!$B$2:$C$7,2,FALSE)","v":0},"Sin información"]
[1725,12,"Guerrero",3,"Lista Nominal de Electores","3.3",3,"Entrega en formato digital el informe respecto de la atención a las observaciones formuladas a la Lista Nominal de Electores para Revisión","INE","DERFE","2021-04-15","2021-04-15",null,null,{"$f":"VLOOKUP(P1731,Campos!$B$2:$C$7,2,FALSE)","v":0},"Sin información"]
[1726,12,"Guerrero",3,"Lista Nominal de Electores","3.4",4,"Entrega de la Lista Nominal de Electores Definitiva con fotografía","INE","DERFE","2021-05-06","2021-05-14",null,null,{"$f":"VLOOKUP(P1732,Campos!$B$2:$C$7,2,FALSE)","v":0},"Sin información"]
[1727,12,"Guerrero",3,"Lista Nominal de Electores","3.5",5,"Fecha de entrega de la Lista Nominal de Electores con fotografía Producto de Instancias Administrativas y Resoluciones del Tribunal (ADENDA)","INE","DERFE","2021-05-19","2021-05-24",null,null,{"$f":"VLOOKUP(P1733,Campos!$B$2:$C$7,2,FALSE)","v":0},"Sin información"]
[1728,12,"Guerrero",4,"Observación Electoral","4.1",1,"Emisión de la convocatoria para la ciudadanía que desee participar en la observación electoral","OPL","CG","2020-09-09","2020-09-09",null,null,{"$f":"VLOOKUP(P1734,Campos!$B$2:$C$7,2,FALSE)","v":0},"Sin información"]
[1729,12,"Guerrero",4,"Observación Electoral","4.2",2,"Recepción de solicitudes de la ciudadanía que desee participar en observación electoral","INE/OPL","OPL/JLE/JDE","2020-09-09","2021-04-30",null,null,{"$f":"VLOOKUP(P1735,Campos!$B$2:$C$7,2,FALSE)","v":0},"Sin información"]
[1730,12,"Guerrero",4,"Observación Electoral","4.3",3,"Impartición de los cursos de capacitación, preparación o información","INE/OPL","OPL/JLE/JDE","2020-09-09","2021-05-17",null,null,{"$f":"VLOOKUP(P1736,Campos!$B$2:$C$7,2,FALSE)","v":0},"Sin información"]
[1731,12,"Guerrero",4,"Observación Electoral","4.4",4,"Acreditación de la ciudadanía como observadores u observadoras electorales","INE","CL/CD","2020-09-09","2021-06-05",null,null,{"$f":"VLOOKUP(P1737,Campos!$B$2:$C$7,2,FALSE)","v":0},"Sin información"]
[1732,12,"Guerrero",4,"Observación Electoral","4.5",5,"Seguimiento a los informes mensuales de acreditación","INE","CG","2020-09-09","2021-07-31",null,null,{"$f":"VLOOKUP(P1738,Campos!$B$2:$C$7,2,FALSE)","v":0},"Sin información"]
[1733,12,"Guerrero",4,"Observación Electoral","4.6",6,"Remisión de materiales de capacitación a la JLE para revisión","OPL","CG","2020-10-08","2020-10-08",null,null,{"$f":"VLOOKUP(P1739,Campos!$B$2:$C$7,2,FALSE)","v":0},"Sin información"]
[1734,12,"Guerrero",4,"Observación Electoral","4.7",7,"Revisión, corrección, verificación y validación de materiales de capacitación para observación electoral ","INE","JLE","2020-10-09","2020-10-30",null,null,{"$f":"VLOOKUP(P1740,Campos!$B$2:$C$7,2,FALSE)","v":0},"Sin información"]
[1735,12,"Guerrero",4,"Observación Electoral","4.8",8,"Entrega de materiales de capacitación para observación electoral entre OPL e INE","INE/OPL","VEL/OPL","2020-11-01","2020-11-23",null,null,{"$f":"VLOOKUP(P1741,Campos!$B$2:$C$7,2,FALSE)","v":0},"Sin información"]
[1736,12,"Guerrero",5,"Ubicación de casillas","5.1",1,"Recorridos por las secciones de los distritos para localizar los lugares donde se ubicarán las casillas","INE/OPL","JDE/OPL","2021-01-15","2021-02-15",null,null,{"$f":"VLOOKUP(P1742,Campos!$B$2:$C$7,2,FALSE)","v":0},"Sin información"]
[1737,12,"Guerrero",5,"Ubicación de casillas","5.2",2,"Presentación a los Consejos Distritales del listado de lugares propuestos para ubicar casillas","INE","JDE","2021-02-24","2021-02-24",null,null,{"$f":"VLOOKUP(P1743,Campos!$B$2:$C$7,2,FALSE)","v":0},"Sin información"]
[1738,12,"Guerrero",5,"Ubicación de casillas","5.3",3,"Visitas de examinación en los lugares propuestos para ubicar casillas básicas, contiguas, especiales y extraordinarias","INE/OPL","CD/OPL","2021-02-25","2021-03-16",null,null,{"$f":"VLOOKUP(P1744,Campos!$B$2:$C$7,2,FALSE)","v":0},"Sin información"]
[1739,12,"Guerrero",5,"Ubicación de casillas","5.4",4,"Aprobación del número y ubicación de casillas extraordinarias y especiales","INE","CD","2021-03-16","2021-03-16",null,null,{"$f":"VLOOKUP(P1745,Campos!$B$2:$C$7,2,FALSE)","v":0},"Sin información"]
[1740,12,"Guerrero",5,"Ubicación de casillas","5.5",5,"Aprobación del número y ubicación de casillas básicas y contiguas","INE","CD","2021-03-25","2021-03-25",null,null,{"$f":"VLOOKUP(P1746,Campos!$B$2:$C$7,2,FALSE)","v":0},"Sin información"]
[1741,12,"Guerrero",5,"Ubicación de casillas","5.6",6,"Entrega de la base de datos de la Lista Nominal Definitiva a UNICOM con corte al 10 de abril","INE","DERFE","2021-04-15","2021-04-16",null,null,{"$f":"VLOOKUP(P1747,Campos!$B$2:$C$7,2,FALSE)","v":0},"Sin información"]
[1742,12,"Guerrero",5,"Ubicación de casillas","5.7",7,"Realizar la primera publicación de la lista de ubicación de casillas en los lugares más concurridos del distrito electoral  y en los medios electrónicos del Instituto","INE","CD","2021-04-15","2021-04-15",null,null,{"$f":"VLOOKUP(P1748,Campos!$B$2:$C$7,2,FALSE)","v":0},"Sin información"]
[1743,12,"Guerrero",5,"Ubicación de casillas","5.8",8,"En su caso, segunda publicación de la lista de ubicación de casillas por causas supervenientes en los lugares más concurridos del distrito y en los medios electrónicos del Instituto","INE","CD","2021-05-15","2021-05-25",null,null,{"$f":"VLOOKUP(P1749,Campos!$B$2:$C$7,2,FALSE)","v":0},"Sin información"]
[1744,12,"Guerrero",5,"Ubicación de casillas","5.9",9,"Publicación de los encartes y difusión en medios electrónicos del Instituto","INE/OPL","DEOE/CG","2021-06-05","2021-06-06",null,null,{"$f":"VLOOKUP(P1750,Campos!$B$2:$C$7,2,FALSE)","v":0},"Sin información"]
[1745,12,"Guerrero",5,"Ubicación de casillas","5.10",10,"Registro de representantes generales y ante mesas directivas de casilla","INE","CD","2021-04-16","2021-05-24",null,null,{"$f":"VLOOKUP(P1751,Campos!$B$2:$C$7,2,FALSE)","v":0},"Sin información"]
[1746,12,"Guerrero",5,"Ubicación de casillas","5.11",11,"Sustitución de representantes generales y ante mesas directivas de casilla","INE","CD","2021-04-16","2021-05-27",null,null,{"$f":"VLOOKUP(P1752,Campos!$B$2:$C$7,2,FALSE)","v":0},"Sin información"]
[1747,12,"Guerrero",5,"Ubicación de casillas","5.12",12,"Entrega de listados de representantes generales y ante casilla al OPL","INE","CD","2021-05-30","2021-05-30",null,null,{"$f":"VLOOKUP(P1753,Campos!$B$2:$C$7,2,FALSE)","v":0},"Sin información"]
[1748,12,"Guerrero",5,"Ubicación de casillas","5.13",13,"Notificación ciudadana de ubicación de casillas en secciones electorales involucradas en la actualización del Marco Geográfico Electoral","INE/OPL","DERFE/OPL","2021-04-01","2021-06-15",null,null,{"$f":"VLOOKUP(P1754,Campos!$B$2:$C$7,2,FALSE)","v":0},"Sin información"]
[1749,12,"Guerrero",6,"Integración de las Mesas Directivas de Casilla","6.1",1,"Aprobación de la Estrategia de Capacitación y Asistencia Electoral","INE","CG","2020-08-01","2020-08-15",null,null,{"$f":"VLOOKUP(P1755,Campos!$B$2:$C$7,2,FALSE)","v":0},"Sin información"]
[1750,12,"Guerrero",6,"Integración de las Mesas Directivas de Casilla","6.2",2,"Entrega para revisión y validación de materiales didácticos de primera etapa","OPL","CG","2020-11-03","2020-11-03",null,null,{"$f":"VLOOKUP(P1756,Campos!$B$2:$C$7,2,FALSE)","v":0},"Sin información"]
[1751,12,"Guerrero",6,"Integración de las Mesas Directivas de Casilla","6.3",3,"Revisión, corrección, verificación y validación de los materiales didácticos de primera etapa","INE/OPL","JLE/DECEYEC/OPL","2020-11-03","2020-12-19",null,null,{"$f":"VLOOKUP(P1757,Campos!$B$2:$C$7,2,FALSE)","v":0},"Sin información"]
[1752,12,"Guerrero",6,"Integración de las Mesas Directivas de Casilla","6.4",4,"Entrega de los materiales impresos de la primera etapa a la JLE","OPL","OPL","2021-02-05","2021-02-05",null,null,{"$f":"VLOOKUP(P1758,Campos!$B$2:$C$7,2,FALSE)","v":0},"Sin información"]
[1753,12,"Guerrero",6,"Integración de las Mesas Directivas de Casilla","6.5",5,"Sorteo del mes del calendario como base para la insaculación de las y los ciudadanos que integrarán las mesas directivas de casilla","INE","CG","2020-12-15","2020-12-19",null,null,{"$f":"VLOOKUP(P1759,Campos!$B$2:$C$7,2,FALSE)","v":0},"Sin información"]
[1754,12,"Guerrero",6,"Integración de las Mesas Directivas de Casilla","6.6",6,"Entrega para revisión y validación de materiales didácticos de segunda etapa","OPL","OPL","2021-02-03","2021-02-03",null,null,{"$f":"VLOOKUP(P1760,Campos!$B$2:$C$7,2,FALSE)","v":0},"Sin información"]
[1755,12,"Guerrero",6,"Integración de las Mesas Directivas de Casilla","6.7",7,"Revisión, corrección, verificación y validación de los materiales didácticos de la segunda etapa","INE/OPL","JLE/DECEYEC/OPL","2021-02-03","2021-03-22",null,null,{"$f":"VLOOKUP(P1761,Campos!$B$2:$C$7,2,FALSE)","v":0},"Sin información"]
[1756,12,"Guerrero",6,"Integración de las Mesas Directivas de Casilla","6.8",8,"Entrega de los materiales impresos de la segunda etapa a la JLE","OPL","OPL","2021-04-05","2021-04-05",null,null,{"$f":"VLOOKUP(P1762,Campos!$B$2:$C$7,2,FALSE)","v":0},"Sin información"]
[1757,12,"Guerrero",6,"Integración de las Mesas Directivas de Casilla","6.9",9,"Sorteo de la letra a partir de la cual, con base en el apellido paterno, se seleccionará a las y los ciudadanos que integrarán las mesas directivas de casilla","INE","CG","2021-02-02","2021-02-02",null,null,{"$f":"VLOOKUP(P1763,Campos!$B$2:$C$7,2,FALSE)","v":0},"Sin información"]
[1758,12,"Guerrero",6,"Integración de las Mesas Directivas de Casilla","6.10",10,"Entrega de la Lista Nominal de Electores para el Procedimiento de la Primera insaculación con corte al 15 de enero de 2021.","INE","DERFE/UNICOM","2021-01-21","2021-01-26",null,null,{"$f":"VLOOKUP(P1764,Campos!$B$2:$C$7,2,FALSE)","v":0},"Sin información"]
[1759,12,"Guerrero",6,"Integración de las Mesas Directivas de Casilla","6.11",11,"Primera insaculación","INE","JDE","2021-02-06","2021-02-06",null,null,{"$f":"VLOOKUP(P1765,Campos!$B$2:$C$7,2,FALSE)","v":0},"Sin información"]
[1760,12,"Guerrero",6,"Integración de las Mesas Directivas de Casilla","6.12",12,"Primera etapa de capacitación a las personas insaculadas","INE","CD","2021-02-09","2021-03-31",null,null,{"$f":"VLOOKUP(P1766,Campos!$B$2:$C$7,2,FALSE)","v":0},"Sin información"]
[1761,12,"Guerrero",6,"Integración de las Mesas Directivas de Casilla","6.13",13,"Integración de la lista de ciudadanos y ciudadanas que cumplen los requisitos legales para integrar las mesas directivas de casilla","INE","CD","2021-02-09","2021-03-31",null,null,{"$f":"VLOOKUP(P1767,Campos!$B$2:$C$7,2,FALSE)","v":0},"Sin información"]
[1762,12,"Guerrero",6,"Integración de las Mesas Directivas de Casilla","6.14",14,"Segunda insaculación y designación de funcionarios para mesas directivas de casilla","INE","CD","2021-04-08","2021-04-08",null,null,{"$f":"VLOOKUP(P1768,Campos!$B$2:$C$7,2,FALSE)","v":0},"Sin información"]
[1763,12,"Guerrero",6,"Integración de las Mesas Directivas de Casilla","6.15",15,"Segunda etapa de capacitación a funcionarios de mesa directiva de casilla y simulacros","INE","CD","2021-04-18","2021-06-05",null,null,{"$f":"VLOOKUP(P1769,Campos!$B$2:$C$7,2,FALSE)","v":0},"Sin información"]
[1764,12,"Guerrero",6,"Integración de las Mesas Directivas de Casilla","6.16",16,"Entrega de reconocimientos a funcionarios de mesas directivas de casilla","INE","CD","2021-06-07","2021-06-12",null,null,{"$f":"VLOOKUP(P1770,Campos!$B$2:$C$7,2,FALSE)","v":0},"Sin información"]
[1765,12,"Guerrero",6,"Integración de las Mesas Directivas de Casilla","6.17",17,"Periodo para contratación de CAE locales","INE/OPL","INE/OPL","Por definir","Por definir",null,null,{"$f":"VLOOKUP(P1771,Campos!$B$2:$C$7,2,FALSE)","v":0},"Sin información"]
[1766,12,"Guerrero",6,"Integración de las Mesas Directivas de Casilla","6.18",18,"Reclutamiento y selección de CAE locales","INE/OPL","INE/OPL","Por definir","Por definir",null,null,{"$f":"VLOOKUP(P1772,Campos!$B$2:$C$7,2,FALSE)","v":0},"Sin información"]
[1767,12,"Guerrero",7,"Fiscalización de los recursos de los Partidos Políticos y candidaturas independientes","7.1",1,"Aprobación de topes de gastos de precampaña Gubernatura","OPL","CG","2020-11-09","2020-11-13",null,null,{"$f":"VLOOKUP(P1773,Campos!$B$2:$C$7,2,FALSE)","v":0},"Sin información"]
[1768,12,"Guerrero",7,"Fiscalización de los recursos de los Partidos Políticos y candidaturas independientes","7.2",2,"Aprobación de topes de gastos de precampaña Diputaciones","OPL","CG","2020-11-09","2020-11-13",null,null,{"$f":"VLOOKUP(P1774,Campos!$B$2:$C$7,2,FALSE)","v":0},"Sin información"]
[1769,12,"Guerrero",7,"Fiscalización de los recursos de los Partidos Políticos y candidaturas independientes","7.3",3,"Aprobación de topes de gastos de precampaña Ayuntamientos","OPL","CG","2020-11-09","2020-11-13",null,null,{"$f":"VLOOKUP(P1775,Campos!$B$2:$C$7,2,FALSE)","v":0},"Sin información"]
[1770,12,"Guerrero",7,"Fiscalización de los recursos de los Partidos Políticos y candidaturas independientes","7.4",4,"Aprobación de los límites de financiamiento privado, aportaciones de militantes, simpatizantes y precandidatos o candidatos; así como el límite individual de aportaciones para Gubernatura","OPL","CG","2021-01-01","2021-01-15",null,null,{"$f":"VLOOKUP(P1776,Campos!$B$2:$C$7,2,FALSE)","v":0},"Sin información"]
[1771,12,"Guerrero",7,"Fiscalización de los recursos de los Partidos Políticos y candidaturas independientes","7.5",5,"Aprobación de los límites de financiamiento privado, aportaciones de militantes, simpatizantes y precandidatos o candidatos; así como el límite individual de aportaciones para Diputaciones","OPL","CG","2021-01-01","2021-01-15",null,null,{"$f":"VLOOKUP(P1777,Campos!$B$2:$C$7,2,FALSE)","v":0},"Sin información"]
[1772,12,"Guerrero",7,"Fiscalización de los recursos de los Partidos Políticos y candidaturas independientes","7.6",6,"Aprobación de los límites de financiamiento privado, aportaciones de militantes, simpatizantes y precandidatos o candidatos; así como el límite individual de aportaciones para Ayuntamientos","OPL","CG","2021-01-01","2021-01-15",null,null,{"$f":"VLOOKUP(P1778,Campos!$B$2:$C$7,2,FALSE)","v":0},"Sin información"]
[1773,12,"Guerrero",7,"Fiscalización de los recursos de los Partidos Políticos y candidaturas independientes","7.7",7,"Aprobación de topes de gastos para el periodo de obtención del apoyo ciudadano para Gubernatura","OPL","CG","2020-09-09","2020-12-07",null,null,{"$f":"VLOOKUP(P1779,Campos!$B$2:$C$7,2,FALSE)","v":0},"Sin información"]
[1774,12,"Guerrero",7,"Fiscalización de los recursos de los Partidos Políticos y candidaturas independientes","7.8",8,"Aprobación de topes de gastos para el periodo de obtención del apoyo ciudadano para Diputaciones","OPL","CG","2020-09-09","2020-12-07",null,null,{"$f":"VLOOKUP(P1780,Campos!$B$2:$C$7,2,FALSE)","v":0},"Sin información"]
[1775,12,"Guerrero",7,"Fiscalización de los recursos de los Partidos Políticos y candidaturas independientes","7.9",9,"Aprobación de topes de gastos para el periodo de obtención del apoyo ciudadano para Ayuntamientos","OPL","CG","2020-09-09","2020-12-07",null,null,{"$f":"VLOOKUP(P1781,Campos!$B$2:$C$7,2,FALSE)","v":0},"Sin información"]
[1776,12,"Guerrero",7,"Fiscalización de los recursos de los Partidos Políticos y candidaturas independientes","7.10",10,"Precampaña para Gubernatura","OPL","CG","2020-12-17","2021-02-14",null,null,{"$f":"VLOOKUP(P1782,Campos!$B$2:$C$7,2,FALSE)","v":0},"Sin información"]
[1777,12,"Guerrero",7,"Fiscalización de los recursos de los Partidos Políticos y candidaturas independientes","7.11",11,"Precampaña para Diputaciones","OPL","CG","2021-01-26","2021-03-06",null,null,{"$f":"VLOOKUP(P1783,Campos!$B$2:$C$7,2,FALSE)","v":0},"Sin información"]
[1778,12,"Guerrero",7,"Fiscalización de los recursos de los Partidos Políticos y candidaturas independientes","7.12",12,"Precampaña para Ayuntamientos","OPL","CG","2021-03-01","2021-03-26",null,null,{"$f":"VLOOKUP(P1784,Campos!$B$2:$C$7,2,FALSE)","v":0},"Sin información"]
[1779,12,"Guerrero",7,"Fiscalización de los recursos de los Partidos Políticos y candidaturas independientes","7.13",13,"Aprobación de topes de gastos de campaña para Gubernatura","OPL","CG","2021-02-01","2021-02-28",null,null,{"$f":"VLOOKUP(P1785,Campos!$B$2:$C$7,2,FALSE)","v":0},"Sin información"]
[1780,12,"Guerrero",7,"Fiscalización de los recursos de los Partidos Políticos y candidaturas independientes","7.14",14,"Aprobación de topes de gastos de campaña para Diputaciones","OPL","CG","2021-02-01","2021-02-28",null,null,{"$f":"VLOOKUP(P1786,Campos!$B$2:$C$7,2,FALSE)","v":0},"Sin información"]
[1781,12,"Guerrero",7,"Fiscalización de los recursos de los Partidos Políticos y candidaturas independientes","7.15",15,"Aprobación de topes de gastos de campaña para Ayuntamientos","OPL","CG","2021-02-01","2021-02-28",null,null,{"$f":"VLOOKUP(P1787,Campos!$B$2:$C$7,2,FALSE)","v":0},"Sin información"]
[1782,12,"Guerrero",7,"Fiscalización de los recursos de los Partidos Políticos y candidaturas independientes","7.16",16,"Campaña para Gubernatura","OPL","CG","2021-03-05","2021-06-02",null,null,{"$f":"VLOOKUP(P1788,Campos!$B$2:$C$7,2,FALSE)","v":0},"Sin información"]
[1783,12,"Guerrero",7,"Fiscalización de los recursos de los Partidos Políticos y candidaturas independientes","7.17",17,"Campaña para Diputaciones","OPL","CG","2021-04-04","2021-06-02",null,null,{"$f":"VLOOKUP(P1789,Campos!$B$2:$C$7,2,FALSE)","v":0},"Sin información"]
[1784,12,"Guerrero",7,"Fiscalización de los recursos de los Partidos Políticos y candidaturas independientes","7.18",18,"Campaña para Ayuntamientos","OPL","CG","2021-04-24","2021-06-02",null,null,{"$f":"VLOOKUP(P1790,Campos!$B$2:$C$7,2,FALSE)","v":0},"Sin información"]
[1785,12,"Guerrero",7,"Fiscalización de los recursos de los Partidos Políticos y candidaturas independientes","7.19",19,"Aprobación de la distribución de financiamiento público para partidos políticos","OPL","CG","2021-01-01","2021-01-31",null,null,{"$f":"VLOOKUP(P1791,Campos!$B$2:$C$7,2,FALSE)","v":0},"Sin información"]
[1786,12,"Guerrero",8,"Candidaturas Independientes","8.1",1,"Emisión de la convocatoria para la ciudadanía interesada en participar en Candidaturas Independientes ","OPL","CG","2020-11-26","2020-11-26",null,null,{"$f":"VLOOKUP(P1792,Campos!$B$2:$C$7,2,FALSE)","v":0},"Sin información"]
[1787,12,"Guerrero",8,"Candidaturas Independientes","8.2",2,"Recepción de escrito de intención y documentación anexa de la ciudadanía que aspire a la candidatura independiente para Gubernatura","OPL","OD","2020-11-27","2020-12-06",null,null,{"$f":"VLOOKUP(P1793,Campos!$B$2:$C$7,2,FALSE)","v":0},"Sin información"]
[1788,12,"Guerrero",8,"Candidaturas Independientes","8.3",3,"Recepción de escrito de intención y documentación anexa de la ciudadanía que aspire a la candidatura independiente para Diputaciones","OPL","OD","2020-11-27","2021-01-26",null,null,{"$f":"VLOOKUP(P1794,Campos!$B$2:$C$7,2,FALSE)","v":0},"Sin información"]
[1789,12,"Guerrero",8,"Candidaturas Independientes","8.4",4,"Recepción de escrito de intención y documentación anexa de la ciudadanía que aspire a la candidatura independiente para Ayuntamientos","OPL","SE/OD","2020-11-27","2021-02-14",null,null,{"$f":"VLOOKUP(P1795,Campos!$B$2:$C$7,2,FALSE)","v":0},"Sin información"]
[1790,12,"Guerrero",8,"Candidaturas Independientes","8.5",5,"Resolución sobre procedencia de manifestación de intención de aspirantes a candidaturas independientes para Gubernatura","OPL","CG","2020-12-07","2020-12-07",null,null,{"$f":"VLOOKUP(P1796,Campos!$B$2:$C$7,2,FALSE)","v":0},"Sin información"]
[1791,12,"Guerrero",8,"Candidaturas Independientes","8.6",6,"Resolución sobre procedencia de manifestación de intención de aspirantes a candidaturas independientes para Diputaciones","OPL","CG","2021-01-27","2021-01-27",null,null,{"$f":"VLOOKUP(P1797,Campos!$B$2:$C$7,2,FALSE)","v":0},"Sin información"]
[1792,12,"Guerrero",8,"Candidaturas Independientes","8.7",7,"Resolución sobre procedencia de manifestación de intención de aspirantes a candidaturas independientes para Ayuntamientos","OPL","CG","2021-02-15","2021-02-15",null,null,{"$f":"VLOOKUP(P1798,Campos!$B$2:$C$7,2,FALSE)","v":0},"Sin información"]
[1793,12,"Guerrero",8,"Candidaturas Independientes","8.8",8,"Plazo para obtener el apoyo ciudadano de las candidaturas independientes para Gubernatura","OPL","OD","2020-12-08","2021-02-05",null,null,{"$f":"VLOOKUP(P1799,Campos!$B$2:$C$7,2,FALSE)","v":0},"Sin información"]
[1794,12,"Guerrero",8,"Candidaturas Independientes","8.9",9,"Plazo para obtener el apoyo ciudadano de las candidaturas independientes para Diputaciones","OPL","OD","2021-01-28","2021-02-26",null,null,{"$f":"VLOOKUP(P1800,Campos!$B$2:$C$7,2,FALSE)","v":0},"Sin información"]
[1795,12,"Guerrero",8,"Candidaturas Independientes","8.10",10,"Plazo para obtener el apoyo ciudadano de las candidaturas independientes para Ayuntamientos","OPL","OD","2021-02-16","2021-03-17",null,null,{"$f":"VLOOKUP(P1801,Campos!$B$2:$C$7,2,FALSE)","v":0},"Sin información"]
[1796,12,"Guerrero",8,"Candidaturas Independientes","8.11",11,"Plazo para otorgar las constancias de porcentaje a favor de aspirantes a la candidatura independiente para Gubernatura","OPL","CG","2021-02-11","2021-02-14",null,null,{"$f":"VLOOKUP(P1802,Campos!$B$2:$C$7,2,FALSE)","v":0},"Sin información"]
[1797,12,"Guerrero",8,"Candidaturas Independientes","8.12",12,"Plazo para otorgar las constancias de porcentaje a favor de aspirantes a la candidatura independiente para Diputaciones","OPL","CG","2021-03-04","2021-03-06",null,null,{"$f":"VLOOKUP(P1803,Campos!$B$2:$C$7,2,FALSE)","v":0},"Sin información"]
[1798,12,"Guerrero",8,"Candidaturas Independientes","8.13",13,"Plazo para otorgar las constancias de porcentaje a favor de aspirantes a la candidatura independiente para Ayuntamientos","OPL","CG","2021-03-24","2021-03-26",null,null,{"$f":"VLOOKUP(P1804,Campos!$B$2:$C$7,2,FALSE)","v":0},"Sin información"]
[1799,12,"Guerrero",9,"Candidaturas","9.1",1,"Registro de plataformas electorales","OPL","CG","2021-02-21","2021-02-27",null,null,{"$f":"VLOOKUP(P1805,Campos!$B$2:$C$7,2,FALSE)","v":0},"Sin información"]
[1800,12,"Guerrero",9,"Candidaturas","9.2",2,"Solicitud de registro de convenio de coalición para Gubernatura","OPL","CG","2020-09-09","2020-12-17",null,null,{"$f":"VLOOKUP(P1806,Campos!$B$2:$C$7,2,FALSE)","v":0},"Sin información"]
[1801,12,"Guerrero",9,"Candidaturas","9.3",3,"Solicitud de registro de convenio de coalición para Diputaciones","OPL","CG","2020-09-09","2021-01-26",null,null,{"$f":"VLOOKUP(P1807,Campos!$B$2:$C$7,2,FALSE)","v":0},"Sin información"]
[1802,12,"Guerrero",9,"Candidaturas","9.4",4,"Solicitud de registro de convenio de coalición para Ayuntamientos","OPL","CG","2020-09-09","2021-03-01",null,null,{"$f":"VLOOKUP(P1808,Campos!$B$2:$C$7,2,FALSE)","v":0},"Sin información"]
[1803,12,"Guerrero",9,"Candidaturas","9.5",5,"Resolución sobre Convenio de Coalición para Gubernatura","OPL","CG","2020-09-19","2020-12-27",null,null,{"$f":"VLOOKUP(P1809,Campos!$B$2:$C$7,2,FALSE)","v":0},"Sin información"]
[1804,12,"Guerrero",9,"Candidaturas","9.6",6,"Resolución sobre Convenio de Coalición para Diputaciones","OPL","CG","2020-09-19","2021-02-05",null,null,{"$f":"VLOOKUP(P1810,Campos!$B$2:$C$7,2,FALSE)","v":0},"Sin información"]
[1805,12,"Guerrero",9,"Candidaturas","9.7",7,"Resolución sobre Convenio de Coalición para Ayuntamientos","OPL","CG","2020-09-19","2021-03-11",null,null,{"$f":"VLOOKUP(P1811,Campos!$B$2:$C$7,2,FALSE)","v":0},"Sin información"]
[1806,12,"Guerrero",9,"Candidaturas","9.8",8,"Solicitud de registro de Candidaturas para Gubernatura","OPL","CG/OD","2021-02-15","2021-03-01",null,null,{"$f":"VLOOKUP(P1812,Campos!$B$2:$C$7,2,FALSE)","v":0},"Sin información"]
[1807,12,"Guerrero",9,"Candidaturas","9.9",9,"Solicitud de registro de Candidaturas para Diputaciones","OPL","CG/OD","2021-03-07","2021-03-21",null,null,{"$f":"VLOOKUP(P1813,Campos!$B$2:$C$7,2,FALSE)","v":0},"Sin información"]
[1808,12,"Guerrero",9,"Candidaturas","9.11",11,"Solicitud de registro de Candidaturas para Ayuntamientos","OPL","CG/OD","2021-03-27","2021-04-10",null,null,{"$f":"VLOOKUP(P1814,Campos!$B$2:$C$7,2,FALSE)","v":0},"Sin información"]
[1809,12,"Guerrero",9,"Candidaturas","9.13",13,"Resolución para aprobar las candidaturas para Gubernatura","OPL","CG","2021-03-02","2021-03-04",null,null,{"$f":"VLOOKUP(P1815,Campos!$B$2:$C$7,2,FALSE)","v":0},"Sin información"]
[1810,12,"Guerrero",9,"Candidaturas","9.14",14,"Resolución para aprobar las candidaturas para Diputaciones","OPL","CG","2021-04-01","2021-04-03",null,null,{"$f":"VLOOKUP(P1816,Campos!$B$2:$C$7,2,FALSE)","v":0},"Sin información"]
[1811,12,"Guerrero",9,"Candidaturas","9.16",16,"Resolución para aprobar las candidaturas para Ayuntamientos","OPL","CG/OD","2021-04-21","2021-04-23",null,null,{"$f":"VLOOKUP(P1817,Campos!$B$2:$C$7,2,FALSE)","v":0},"Sin información"]
[1812,12,"Guerrero",9,"Candidaturas","9.17",17,"Solicitud de registro de candidaturas comunes para Gubernatura ","OPL","CG/OD","2020-09-09","2020-12-17",null,null,{"$f":"VLOOKUP(P1818,Campos!$B$2:$C$7,2,FALSE)","v":0},"Sin información"]
[1813,12,"Guerrero",9,"Candidaturas","9.18",18,"Solicitud de registro de candidaturas comunes para Diputaciones ","OPL","CG/OD","2020-09-09","2021-01-26",null,null,{"$f":"VLOOKUP(P1819,Campos!$B$2:$C$7,2,FALSE)","v":0},"Sin información"]
[1814,12,"Guerrero",9,"Candidaturas","9.19",19,"Solicitud de registro de candidaturas comunes para Ayuntamientos  ","OPL","CG/OD","2020-09-09","2021-03-01",null,null,{"$f":"VLOOKUP(P1820,Campos!$B$2:$C$7,2,FALSE)","v":0},"Sin información"]
[1815,12,"Guerrero",9,"Candidaturas","9.20",20,"Resolución para aprobar las candidaturas comunes para Gubernatura","OPL","CG/OD","2020-12-18","2020-12-22",null,null,{"$f":"VLOOKUP(P1821,Campos!$B$2:$C$7,2,FALSE)","v":0},"Sin información"]
[1816,12,"Guerrero",9,"Candidaturas","9.21",21,"Resolución para aprobar las candidaturas comunes para Diputaciones ","OPL","CG/OD","2021-01-27","2021-01-31",null,null,{"$f":"VLOOKUP(P1822,Campos!$B$2:$C$7,2,FALSE)","v":0},"Sin información"]
[1817,12,"Guerrero",9,"Candidaturas","9.22",22,"Resolución para aprobar las candidaturas comunes para Ayuntamientos ","OPL","CG/OD","2021-03-02","2021-03-06",null,null,{"$f":"VLOOKUP(P1823,Campos!$B$2:$C$7,2,FALSE)","v":0},"Sin información"]
[1818,12,"Guerrero",10,"Debates","10.1",1,"Aprobación de las fechas en que se celebrarán los debates","OPL","CG","2021-02-15","2021-03-31",null,null,{"$f":"VLOOKUP(P1824,Campos!$B$2:$C$7,2,FALSE)","v":0},"Sin información"]
[1819,12,"Guerrero",10,"Debates","10.2",2,"Realización de debate(s)","OPL","CG","2021-03-05","2021-06-02",null,null,{"$f":"VLOOKUP(P1825,Campos!$B$2:$C$7,2,FALSE)","v":0},"Sin información"]
[1820,12,"Guerrero",11,"Documentación y material electoral","11.1",1,"Entrega a la Junta Local Ejecutiva del INE, de los diseños y especificaciones técnicas de la documentación y materiales electorales, en medios impresos y electrónicos","OPL","CG","2020-09-01","2020-09-30",null,null,{"$f":"VLOOKUP(P1826,Campos!$B$2:$C$7,2,FALSE)","v":0},"Sin información"]
[1821,12,"Guerrero",11,"Documentación y material electoral","11.2",2,"Revisión de los documentos y materiales electorales y especificaciones técnicas, presentadas por el OPL","INE","JLE","2020-09-15","2020-12-16",null,null,{"$f":"VLOOKUP(P1827,Campos!$B$2:$C$7,2,FALSE)","v":0},"Sin información"]
[1822,12,"Guerrero",11,"Documentación y material electoral","11.3",3,"En su caso, atención y presentación, de los cambios pertinentes, conforme a las observaciones emitidas por la Junta Local Ejecutiva del INE","OPL","CG","2020-09-15","2020-12-16",null,null,{"$f":"VLOOKUP(P1828,Campos!$B$2:$C$7,2,FALSE)","v":0},"Sin información"]
[1823,12,"Guerrero",11,"Documentación y material electoral","11.4",4,"Validación de los documentos y materiales electorales y especificaciones técnicas, con las observaciones subsanadas","INE","DEOE","2020-10-28","2020-12-18",null,null,{"$f":"VLOOKUP(P1829,Campos!$B$2:$C$7,2,FALSE)","v":0},"Sin información"]
[1824,12,"Guerrero",11,"Documentación y material electoral","11.5",5,"Entrega a la Dirección Ejecutiva de Organización Electoral del INE, del Reporte único sobre la aprobación y adjudicación de los documentos y materiales electorales del OPL, en medios electrónicos","OPL","CG","2021-02-01","2021-02-26",null,null,{"$f":"VLOOKUP(P1830,Campos!$B$2:$C$7,2,FALSE)","v":0},"Sin información"]
[1825,12,"Guerrero",11,"Documentación y material electoral","11.6",6,"Revisión y en su caso validación, del Reporte único sobre la aprobación y adjudicación de los documentos y materiales electorales del OPL, en medios electrónicos","INE","DEOE","2021-02-15","2021-03-12",null,null,{"$f":"VLOOKUP(P1831,Campos!$B$2:$C$7,2,FALSE)","v":0},"Sin información"]
[1826,12,"Guerrero",11,"Documentación y material electoral","11.7",7,"Entrega  a la Dirección Ejecutiva de Organización Electoral del INE, del Reporte semanal sobre el avance en la producción de los documentos y materiales electorales del OPL, en medios electrónicos.","OPL","CG","2021-03-15","2021-05-22",null,null,{"$f":"VLOOKUP(P1832,Campos!$B$2:$C$7,2,FALSE)","v":0},"Sin información"]
[1827,12,"Guerrero",11,"Documentación y material electoral","11.8",8,"Aprobación de la documentación y material electoral","OPL","CG","2020-11-11","2020-12-31",null,null,{"$f":"VLOOKUP(P1833,Campos!$B$2:$C$7,2,FALSE)","v":0},"Sin información"]
[1828,12,"Guerrero",11,"Documentación y material electoral","11.9",9,"Entrega a la Dirección Ejecutiva de Organización Electoral del INE, del Reporte con los resultados de las verificaciones de las medidas de seguridad en la documentación electoral","OPL","CG","2021-05-27","2021-06-11",null,null,{"$f":"VLOOKUP(P1834,Campos!$B$2:$C$7,2,FALSE)","v":0},"Sin información"]
[1829,12,"Guerrero",11,"Documentación y material electoral","11.10",10,"Supervisiones respecto de los procedimientos de impresión y producción de la documentación y materiales electorales","INE","DEOE","2021-03-15","2021-05-22",null,null,{"$f":"VLOOKUP(P1835,Campos!$B$2:$C$7,2,FALSE)","v":0},"Sin información"]
[1830,12,"Guerrero",11,"Documentación y material electoral","11.11",11,"Designación de la persona responsable de llevar el control sobre la asignación de los folios de las boletas que se distribuirán en cada mesa directiva de casilla","OPL","CG","2021-03-01","2021-03-30",null,null,{"$f":"VLOOKUP(P1836,Campos!$B$2:$C$7,2,FALSE)","v":0},"Sin información"]
[1831,12,"Guerrero",11,"Documentación y material electoral","11.12",12,"Aprobación de SE y CAE, así como de personal que auxiliará en el procedimiento de conteo, sellado y agrupamiento de las boletas electorales; así como la integración de documentación para las casillas","OPL","CG","2021-04-24","2021-05-11",null,null,{"$f":"VLOOKUP(P1837,Campos!$B$2:$C$7,2,FALSE)","v":0},"Sin información"]
[1832,12,"Guerrero",11,"Documentación y material electoral","11.13",13,"Recepción de las boletas electorales por el órgano competente que realizará el conteo, sellado y agrupamiento","OPL","CG","2021-05-18","2021-05-22",null,null,{"$f":"VLOOKUP(P1838,Campos!$B$2:$C$7,2,FALSE)","v":0},"Sin información"]
[1833,12,"Guerrero",11,"Documentación y material electoral","11.14",14,"Conteo, sellado y agrupamiento de boletas","OPL","CG","2021-05-18","2021-05-28",null,null,{"$f":"VLOOKUP(P1839,Campos!$B$2:$C$7,2,FALSE)","v":0},"Sin información"]
[1834,12,"Guerrero",11,"Documentación y material electoral","11.15",15,"Distribución de la documentación y materiales electorales a las y los Presidentes de mesas directivas de casilla","OPL","OD","2021-05-31","2021-06-04",null,null,{"$f":"VLOOKUP(P1840,Campos!$B$2:$C$7,2,FALSE)","v":0},"Sin información"]
[1835,12,"Guerrero",11,"Documentación y material electoral","11.16",16,"Remisión de los recibos de la entrega de la documentación y materiales electorales al Consejo General del OPL","INE","JLE","2021-06-24","2021-06-30",null,null,{"$f":"VLOOKUP(P1841,Campos!$B$2:$C$7,2,FALSE)","v":0},"Sin información"]
[1836,12,"Guerrero",12,"Jornada Electoral","12.1",1,"Aprobación del Programa de Operación del SIJE 2021","INE","CCOE","2020-07-01","2020-07-31",null,null,{"$f":"VLOOKUP(P1842,Campos!$B$2:$C$7,2,FALSE)","v":0},"Sin información"]
[1837,12,"Guerrero",12,"Jornada Electoral","12.2",2,"Aprobación de las metas del SIJE 2021","INE","CG","2021-03-01","2021-03-31",null,null,{"$f":"VLOOKUP(P1843,Campos!$B$2:$C$7,2,FALSE)","v":0},"Sin información"]
[1838,12,"Guerrero",12,"Jornada Electoral","12.3",3,"Realización de pruebas del SIJE 2021","INE","DEOE","2021-04-01","2021-04-15",null,null,{"$f":"VLOOKUP(P1844,Campos!$B$2:$C$7,2,FALSE)","v":0},"Sin información"]
[1839,12,"Guerrero",12,"Jornada Electoral","12.4",4,"Desarrollo del primer simulacro del SIJE","INE/OPL","DEOE/OD","2021-04-29","2021-04-29",null,null,{"$f":"VLOOKUP(P1845,Campos!$B$2:$C$7,2,FALSE)","v":0},"Sin información"]
[1840,12,"Guerrero",12,"Jornada Electoral","12.5",5,"Desarrollo del segundo simulacro del SIJE","INE/OPL","DEOE/OD","2021-05-09","2021-05-09",null,null,{"$f":"VLOOKUP(P1846,Campos!$B$2:$C$7,2,FALSE)","v":0},"Sin información"]
[1841,12,"Guerrero",12,"Jornada Electoral","12.6",6,"Desarrollo del tercer simulacro del SIJE","INE/OPL","DEOE/OD","2021-05-23","2021-05-23",null,null,{"$f":"VLOOKUP(P1847,Campos!$B$2:$C$7,2,FALSE)","v":0},"Sin información"]
[1842,12,"Guerrero",12,"Jornada Electoral","12.7",7,"Jornada Electoral","OPL","CG/OD","2021-06-06","2021-06-06",null,null,{"$f":"VLOOKUP(P1848,Campos!$B$2:$C$7,2,FALSE)","v":0},"Sin información"]
[1843,12,"Guerrero",13,"Bodegas electorales","13.1",1,"Determinación de los lugares que ocuparán las bodegas electorales para el resguardo de la documentación electoral","OPL","CG","2021-02-01","2021-02-28",null,null,{"$f":"VLOOKUP(P1849,Campos!$B$2:$C$7,2,FALSE)","v":0},"Sin información"]
[1844,12,"Guerrero",13,"Bodegas electorales","13.2",2,"Informe que rinden las y los Presidentes sobre las condiciones de equipamiento, mecanismos de operación y medidas de seguridad de las bodegas electorales","OPL","OD","2021-03-01","2021-03-31",null,null,{"$f":"VLOOKUP(P1850,Campos!$B$2:$C$7,2,FALSE)","v":0},"Sin información"]
[1845,12,"Guerrero",13,"Bodegas electorales","13.3",3,"Designación, por parte del órgano competente del OPL, del personal que tendrá acceso a la bodega electoral","OPL","CG/OD","2021-03-01","2021-03-30",null,null,{"$f":"VLOOKUP(P1851,Campos!$B$2:$C$7,2,FALSE)","v":0},"Sin información"]
[1846,12,"Guerrero",13,"Bodegas electorales","13.4",4,"Envío a la UTVOPL, por conducto de la JLE, el informe sobre las condiciones que guardan las bodegas electorales","OPL","CG","2021-04-04","2021-04-10",null,null,{"$f":"VLOOKUP(P1852,Campos!$B$2:$C$7,2,FALSE)","v":0},"Sin información"]
[1847,12,"Guerrero",14,"Mecanismos de recolección","14.1",1,"Entrega de estudios de factibilidad al OPL","INE","CL","2021-03-15","2021-03-31",null,null,{"$f":"VLOOKUP(P1853,Campos!$B$2:$C$7,2,FALSE)","v":0},"Sin información"]
[1848,12,"Guerrero",14,"Mecanismos de recolección","14.2",2,"Entrega de observaciones a los estudios de factibilidad ","OPL","CG","2021-04-01","2021-04-24",null,null,{"$f":"VLOOKUP(P1854,Campos!$B$2:$C$7,2,FALSE)","v":0},"Sin información"]
[1849,12,"Guerrero",14,"Mecanismos de recolección","14.3",3,"Recorridos para verificar las propuestas de los mecanismos de recolección","INE/OPL","CD/OD","2021-03-16","2021-04-24",null,null,{"$f":"VLOOKUP(P1855,Campos!$B$2:$C$7,2,FALSE)","v":0},"Sin información"]
[1850,12,"Guerrero",14,"Mecanismos de recolección","14.4",4,"Aprobación de los mecanismos de recolección ","INE","CD","2021-04-26","2021-04-30",null,null,{"$f":"VLOOKUP(P1856,Campos!$B$2:$C$7,2,FALSE)","v":0},"Sin información"]
[1851,12,"Guerrero",14,"Mecanismos de recolección","14.5",5,"Traslado y recolección de los paquetes electorales","INE/OPL","CD/OD","2021-06-06","2021-06-07",null,null,{"$f":"VLOOKUP(P1857,Campos!$B$2:$C$7,2,FALSE)","v":0},"Sin información"]
[1852,12,"Guerrero",14,"Mecanismos de recolección","14.6",6,"Acreditación de representantes de partidos políticos y candidaturas independientes ante los mecanismos de recolección","INE","CL/CD","2021-04-27","2021-06-03",null,null,{"$f":"VLOOKUP(P1858,Campos!$B$2:$C$7,2,FALSE)","v":0},"Sin información"]
[1853,12,"Guerrero",14,"Mecanismos de recolección","14.7",7,"Sustitución de representantes de partidos políticos y candidaturas independientes ante los mecanismos de recolección","INE","CL/CD","2021-04-28","2021-06-04",null,null,{"$f":"VLOOKUP(P1859,Campos!$B$2:$C$7,2,FALSE)","v":0},"Sin información"]
[1854,12,"Guerrero",14,"Mecanismos de recolección","14.8",8,"Entrega a la JLE, el informe sobre la recepción de paquetes electorales en los órganos competentes","OPL","CG","2021-06-06","2021-06-28",null,null,{"$f":"VLOOKUP(P1860,Campos!$B$2:$C$7,2,FALSE)","v":0},"Sin información"]
[1855,12,"Guerrero",15,"Cómputos","15.1",1,"Aprobación de los lineamientos de cómputo y del cuadernillo de consulta sobre votos válidos y votos nulos","OPL","CG","2021-01-18","2021-01-29",null,null,{"$f":"VLOOKUP(P1861,Campos!$B$2:$C$7,2,FALSE)","v":0},"Sin información"]
[1856,12,"Guerrero",15,"Cómputos","15.2",2,"Integración por parte de los Órganos Desconcentrados del OPL, de la propuesta para la habilitación de espacios para el recuento de votos con las alternativas para todos los escenarios de cómputo","OPL","OD","2021-03-01","2021-03-07",null,null,{"$f":"VLOOKUP(P1862,Campos!$B$2:$C$7,2,FALSE)","v":0},"Sin información"]
[1857,12,"Guerrero",15,"Cómputos","15.3",3,"Informe de los escenarios de cómputos de la totalidad de sus órganos desconcentrados","OPL","CG","2021-04-01","2021-04-04",null,null,{"$f":"VLOOKUP(P1863,Campos!$B$2:$C$7,2,FALSE)","v":0},"Sin información"]
[1858,12,"Guerrero",15,"Cómputos","15.4",4,"Remisión a la JLE en la entidad, las propuestas de escenarios de cómputos, para la dictaminación de viabilidad","OPL","CG","2021-05-01","2021-05-07",null,null,{"$f":"VLOOKUP(P1864,Campos!$B$2:$C$7,2,FALSE)","v":0},"Sin información"]
[1859,12,"Guerrero",15,"Cómputos","15.5",5,"Remisión de las observaciones a los escenarios de Cómputos al OPL y a su vez informar de las mismas a la UTVOPL","INE","JLE","2021-05-08","2021-05-15",null,null,{"$f":"VLOOKUP(P1865,Campos!$B$2:$C$7,2,FALSE)","v":0},"Sin información"]
[1860,12,"Guerrero",15,"Cómputos","15.6",6,"Aprobación por parte del órgano competente del OPL, del acuerdo mediante el cual se designa al personal que participará en las tareas de apoyo a los Cómputos Municipales","OPL","CG/OD","2021-04-26","2021-05-05",null,null,{"$f":"VLOOKUP(P1866,Campos!$B$2:$C$7,2,FALSE)","v":0},"Sin información"]
[1861,12,"Guerrero",15,"Cómputos","15.7",7,"Aprobación por parte del órgano competente del OPL, del acuerdo mediante el cual se designa al personal que participará en las tareas de apoyo a los Cómputos Distritales ","OPL","CG/OD","2021-04-26","2021-05-05",null,null,{"$f":"VLOOKUP(P1867,Campos!$B$2:$C$7,2,FALSE)","v":0},"Sin información"]
[1862,12,"Guerrero",15,"Cómputos","15.8",8,"Aprobación por parte de los órganos competentes del OPL, de los distintos escenarios de cómputos","OPL","OD","2021-05-08","2021-05-15",null,null,{"$f":"VLOOKUP(P1868,Campos!$B$2:$C$7,2,FALSE)","v":0},"Sin información"]
[1863,12,"Guerrero",15,"Cómputos","15.9",9,"Aprobación por parte del órgano competente del OPL, del acuerdo por el que se habilitarán espacios para la instalación de grupos de trabajo y, en su caso, puntos de recuento","OPL","CG/OD","2021-06-08","2021-06-08",null,null,{"$f":"VLOOKUP(P1869,Campos!$B$2:$C$7,2,FALSE)","v":0},"Sin información"]
[1864,12,"Guerrero",15,"Cómputos","15.10",10,"Cómputos Distritales","OPL","OD","2021-06-09","2021-06-12",null,null,{"$f":"VLOOKUP(P1870,Campos!$B$2:$C$7,2,FALSE)","v":0},"Sin información"]
[1865,12,"Guerrero",15,"Cómputos","15.14",14,"Cómputo Estatal para la asignación diputaciones de Representación Proporcional","OPL","CG","2021-06-13","2021-06-13",null,null,{"$f":"VLOOKUP(P1871,Campos!$B$2:$C$7,2,FALSE)","v":0},"Sin información"]
[1866,12,"Guerrero",15,"Cómputos","15.13",13,"Cómputo Estatal para la Gubernatura","OPL","CG","2021-06-13","2021-06-13",null,null,{"$f":"VLOOKUP(P1872,Campos!$B$2:$C$7,2,FALSE)","v":0},"Sin información"]
[1867,12,"Guerrero",15,"Cómputos","15.16",16,"Asignación de regidurías por el principio de Representación Proporcional","OPL","CG","2021-06-09","2021-06-10",null,null,{"$f":"VLOOKUP(P1873,Campos!$B$2:$C$7,2,FALSE)","v":0},"Sin información"]
[1868,12,"Guerrero",16,"PREP","16.1",1,"Aprobación del Acuerdo por el que se designa o ratifica a la instancia interna responsable de coordinar el PREP","OPL","CG","2020-09-11","2020-09-11",null,null,{"$f":"VLOOKUP(P1874,Campos!$B$2:$C$7,2,FALSE)","v":0},"Sin información"]
[1869,12,"Guerrero",16,"PREP","16.2",2,"Aprobación del Acuerdo de Integración del COTAPREP","OPL","CG","2020-11-11","2020-11-11",null,null,{"$f":"VLOOKUP(P1875,Campos!$B$2:$C$7,2,FALSE)","v":0},"Sin información"]
[1870,12,"Guerrero",16,"PREP","16.3",3,"Documento por el que se determina la implementación del PREP por el OPL o con el apoyo de un Tercero","OPL","CG","2020-12-11","2020-12-11",null,null,{"$f":"VLOOKUP(P1876,Campos!$B$2:$C$7,2,FALSE)","v":0},"Sin información"]
[1871,12,"Guerrero",16,"PREP","16.4",4,"Aprobación del Acuerdo por el que se determina el Proceso Técnico Operativo ","OPL","CG","2021-01-11","2021-01-11",null,null,{"$f":"VLOOKUP(P1877,Campos!$B$2:$C$7,2,FALSE)","v":0},"Sin información"]
[1872,12,"Guerrero",16,"PREP","16.5",5,"Aprobación del Acuerdo por el que se determina la ubicación, instalación y habilitación de los CATD y, en su caso, CCV","OPL","CG","2021-02-11","2021-02-11",null,null,{"$f":"VLOOKUP(P1878,Campos!$B$2:$C$7,2,FALSE)","v":0},"Sin información"]
[1873,12,"Guerrero",16,"PREP","16.6",6,"Documento de Designación del Ente Auditor ","OPL","CG","2021-02-11","2021-02-11",null,null,{"$f":"VLOOKUP(P1879,Campos!$B$2:$C$7,2,FALSE)","v":0},"Sin información"]
[1874,12,"Guerrero",16,"PREP","16.7",7,"Instrumento jurídico celebrado entre el OPL y el ente auditor","OPL","CG","2021-03-11","2021-03-11",null,null,{"$f":"VLOOKUP(P1880,Campos!$B$2:$C$7,2,FALSE)","v":0},"Sin información"]
[1875,12,"Guerrero",16,"PREP","16.8",8,"Realización del primer simulacro del PREP","OPL","CG","2021-05-16","2021-05-16",null,null,{"$f":"VLOOKUP(P1881,Campos!$B$2:$C$7,2,FALSE)","v":0},"Sin información"]
[1876,12,"Guerrero",16,"PREP","16.9",9,"Realización del segundo simulacro del PREP","OPL","CG","2021-05-23","2021-05-23",null,null,{"$f":"VLOOKUP(P1882,Campos!$B$2:$C$7,2,FALSE)","v":0},"Sin información"]
[1877,12,"Guerrero",16,"PREP","16.10",10,"Realización del tercer simulacro del PREP","OPL","CG","2021-05-30","2021-05-30",null,null,{"$f":"VLOOKUP(P1883,Campos!$B$2:$C$7,2,FALSE)","v":0},"Sin información"]
[1878,12,"Guerrero",16,"PREP","16.11",11,"Operación del PREP","OPL","CG","2021-06-06","2021-06-07",null,null,{"$f":"VLOOKUP(P1884,Campos!$B$2:$C$7,2,FALSE)","v":0},"Sin información"]
[1879,12,"Guerrero",17,"Conteo Rápido","17.1",1,"Aprobación del Acuerdo de Integración del COTECORA","Por definir","Por definir","2021-02-01","2021-02-06",null,null,{"$f":"VLOOKUP(P1885,Campos!$B$2:$C$7,2,FALSE)","v":0},"Sin información"]
[1880,12,"Guerrero",17,"Conteo Rápido","17.2",2,"Realización de pruebas de captura","Por definir","Por definir","2021-04-14","2021-04-15",null,null,{"$f":"VLOOKUP(P1886,Campos!$B$2:$C$7,2,FALSE)","v":0},"Sin información"]
[1881,12,"Guerrero",17,"Conteo Rápido","17.3",3,"Realización de primer simulacro del Conteo Rápido","Por definir","Por definir","2021-04-29","2021-04-29",null,null,{"$f":"VLOOKUP(P1887,Campos!$B$2:$C$7,2,FALSE)","v":0},"Sin información"]
[1882,12,"Guerrero",17,"Conteo Rápido","17.4",4,"Realización de segundo simulacro del Conteo Rápido","Por definir","Por definir","2021-05-16","2021-05-16",null,null,{"$f":"VLOOKUP(P1888,Campos!$B$2:$C$7,2,FALSE)","v":0},"Sin información"]
[1883,12,"Guerrero",17,"Conteo Rápido","17.5",5,"Selección de la Muestra para el Conteo Rápido","Por definir","Por definir","2021-06-02","2021-06-04",null,null,{"$f":"VLOOKUP(P1889,Campos!$B$2:$C$7,2,FALSE)","v":0},"Sin información"]
[1884,12,"Guerrero",17,"Conteo Rápido","17.6",6,"Realización de tercer simulacro del Conteo Rápido","Por definir","Por definir","2021-05-23","2021-05-23",null,null,{"$f":"VLOOKUP(P1890,Campos!$B$2:$C$7,2,FALSE)","v":0},"Sin información"]
[1885,12,"Guerrero",18,"Voto de la ciudadanía residente en el extranjero","18.1",1,"Puesta a disposición de la Solicitud individual de Inscripción a la Lista Nominal de Electores Residentes en el extranjero para procesos electorales locales (SIILNERE), por los medios que determine el INE.","INE","DERFE","2020-09-01","2021-03-15",null,null,{"$f":"VLOOKUP(P1891,Campos!$B$2:$C$7,2,FALSE)","v":0},"Sin información"]
[1886,12,"Guerrero",18,"Voto de la ciudadanía residente en el extranjero","18.2",2,"Recepción de la Solicitud individual de Inscripción a la Lista Nominal de Electores Residentes en el extranjero para procesos electorales locales (SIILNERE), por los medios que determine el INE","INE","DERFE","2020-09-01","2021-03-15",null,null,{"$f":"VLOOKUP(P1892,Campos!$B$2:$C$7,2,FALSE)","v":0},"Sin información"]
[1887,12,"Guerrero",18,"Voto de la ciudadanía residente en el extranjero","18.3",3,"Conformación de la Lista Nominal de Electores Residentes en el Extranjero (subsanes, observaciones de partidos políticos e informe)","INE","DERFE","2020-09-01","2021-04-15",null,null,{"$f":"VLOOKUP(P1893,Campos!$B$2:$C$7,2,FALSE)","v":0},"Sin información"]
[1888,12,"Guerrero",18,"Voto de la ciudadanía residente en el extranjero","18.4",4,"En caso de voto postal, entrega-recepción de materiales del PEP.","INE","DERFE/UTVOPL/OPL","Por definir","2021-03-15",null,null,{"$f":"VLOOKUP(P1894,Campos!$B$2:$C$7,2,FALSE)","v":0},"Sin información"]
[1889,12,"Guerrero",18,"Voto de la ciudadanía residente en el extranjero","18.5",5,"En caso de voto postal, preparación y envío de los PEP a la ciudadanía residente en el extranjero","INE","DERFE/DEOE/UNICOM/DECEYEC","2021-04-02","2021-04-30",null,null,{"$f":"VLOOKUP(P1895,Campos!$B$2:$C$7,2,FALSE)","v":0},"Sin información"]
[1890,12,"Guerrero",18,"Voto de la ciudadanía residente en el extranjero","18.6",6,"En caso de voto postal, recepción de Sobres Voto y resguardo","INE","DERFE/DEOE","2021-04-11","2021-06-05",null,null,{"$f":"VLOOKUP(P1896,Campos!$B$2:$C$7,2,FALSE)","v":0},"Sin información"]
[1891,12,"Guerrero",18,"Voto de la ciudadanía residente en el extranjero","18.7",7,"Elaboración y aprobación del Programa de Integración de Mesas de Escrutinio y Cómputo y Capacitación Electoral para el Voto de las y los Mexicanos Residentes en el Extranjero","INE","CG","Por definir","Por definir",null,null,{"$f":"VLOOKUP(P1897,Campos!$B$2:$C$7,2,FALSE)","v":0},"Sin información"]
[1892,12,"Guerrero",18,"Voto de la ciudadanía residente en el extranjero","18.8",8,"Aprobación del número de mesas de escrutinio y cómputo a instalar","INE","CL","Por definir","Por definir",null,null,{"$f":"VLOOKUP(P1898,Campos!$B$2:$C$7,2,FALSE)","v":0},"Sin información"]
[1893,12,"Guerrero",18,"Voto de la ciudadanía residente en el extranjero","18.9",9,"Integración y aprobación del Listado del personal que realizará las suplencias en las Mesas de Escrutinio y Cómputo","INE","CL","Por definir","Por definir",null,null,{"$f":"VLOOKUP(P1899,Campos!$B$2:$C$7,2,FALSE)","v":0},"Sin información"]
[1894,12,"Guerrero",18,"Voto de la ciudadanía residente en el extranjero","18.10",10,"Logística del Local Único","OPL","CG","Por definir","Por definir",null,null,{"$f":"VLOOKUP(P1900,Campos!$B$2:$C$7,2,FALSE)","v":0},"Sin información"]
[1895,12,"Guerrero",18,"Voto de la ciudadanía residente en el extranjero","18.11",11,"Escrutinio y Cómputo de los votos de los mexicanos residentes en el extranjero","OPL","CG","2021-06-06","2021-06-06",null,null,{"$f":"VLOOKUP(P1901,Campos!$B$2:$C$7,2,FALSE)","v":0},"Sin información"]
[1896,12,"Guerrero",18,"Voto de la ciudadanía residente en el extranjero","18.12",12,"Promoción del Voto de los Mexicanos Residentes en el Extranjero (Difusión, Comunicación, Vinculación y Plataformas Digitales)","INE/OPL","CG/CG","Por definir","Por definir",null,null,{"$f":"VLOOKUP(P1902,Campos!$B$2:$C$7,2,FALSE)","v":0},"Sin información"]
[1897,12,"Guerrero",18,"Voto de la ciudadanía residente en el extranjero","18.13",13,"Entrega de la Lista Nominal de Electores Residentes en el Extranjero (LNERE), para escrutinio y cómputo.","INE","DERFE/DEOE","2021-06-05","2021-06-05",null,null,{"$f":"VLOOKUP(P1903,Campos!$B$2:$C$7,2,FALSE)","v":0},"Sin información"]
[1898,12,"Guerrero",19,"Visitantes extranjeros","19.1",1,"Emisión de la Convocatoria para visitantes extranjeros","INE","CG","2020-08-03","2020-09-30",null,null,{"$f":"VLOOKUP(P1904,Campos!$B$2:$C$7,2,FALSE)","v":0},"Sin información"]
[1899,12,"Guerrero",19,"Visitantes extranjeros","19.2",2,"Difusión de la Convocatoria para visitantes extranjeros","INE","CAI","2020-09-01","2021-05-26",null,null,{"$f":"VLOOKUP(P1905,Campos!$B$2:$C$7,2,FALSE)","v":0},"Sin información"]
[1900,12,"Guerrero",19,"Visitantes extranjeros","19.3",3,"Recepción de solicitudes de acreditación como visitantes extranjeros","INE","CAI","2020-09-01","2021-05-26",null,null,{"$f":"VLOOKUP(P1906,Campos!$B$2:$C$7,2,FALSE)","v":0},"Sin información"]
[1901,12,"Guerrero",19,"Visitantes extranjeros","19.4",4,"Resolución de solicitudes de acreditación como visitantes extranjeros","INE","CAI","2020-09-02","2021-05-30",null,null,{"$f":"VLOOKUP(P1907,Campos!$B$2:$C$7,2,FALSE)","v":0},"Sin información"]
[1902,12,"Guerrero",19,"Visitantes extranjeros","19.5",5,"Entrega de acreditaciones a los visitantes extranjeros","INE","CAI","2020-09-04","2021-06-05",null,null,{"$f":"VLOOKUP(P1908,Campos!$B$2:$C$7,2,FALSE)","v":0},"Sin información"]
[1903,11,"Guanajuato",1,"Mecanismos de coordinación","1.1",1,"Aprobar Calendarios y Planes Integrales de los Procesos Electorales Locales","INE","CG","2020-08-01","2020-08-07",null,null,{"$f":"VLOOKUP(P1909,Campos!$B$2:$C$7,2,FALSE)","v":0},"Sin información"]
[1904,11,"Guanajuato",1,"Mecanismos de coordinación","1.2",2,"Firma del Convenio General de Coordinación y Colaboración 2020-2021","INE/OPL","INE/OPL","2020-09-01","2020-10-01",null,null,{"$f":"VLOOKUP(P1910,Campos!$B$2:$C$7,2,FALSE)","v":0},"Sin información"]
[1905,11,"Guanajuato",1,"Mecanismos de coordinación","1.3",3,"Elaborar un plan de trabajo conjunto para la promoción de la participación ciudadana","INE/OPL","INE/OPL","2020-09-01","2020-12-31",null,null,{"$f":"VLOOKUP(P1911,Campos!$B$2:$C$7,2,FALSE)","v":0},"Sin información"]
[1906,11,"Guanajuato",1,"Mecanismos de coordinación","1.4",4,"Sesión para dar inicio al PEL","OPL","CG","2020-09-07","2020-09-07",null,null,{"$f":"VLOOKUP(P1912,Campos!$B$2:$C$7,2,FALSE)","v":0},"Sin información"]
[1907,11,"Guanajuato",1,"Mecanismos de coordinación","1.5",5,"Implementar un plan de trabajo conjunto para la promoción de la participación ciudadana","INE/OPL","INE/OPL","2021-02-01","2021-06-06",null,null,{"$f":"VLOOKUP(P1913,Campos!$B$2:$C$7,2,FALSE)","v":0},"Sin información"]
[1908,11,"Guanajuato",2,"Integración de órganos desconcentrados","2.1",1,"Convocatoria para la integración de los Órganos Distritales","OPL","CG","2020-07-14","2020-07-14",null,null,{"$f":"VLOOKUP(P1914,Campos!$B$2:$C$7,2,FALSE)","v":0},"Sin información"]
[1909,11,"Guanajuato",2,"Integración de órganos desconcentrados","2.2",2,"Sesión en la que se designan e integran los Órganos Distritales ","OPL","CG","2020-09-28","2020-09-30",null,null,{"$f":"VLOOKUP(P1915,Campos!$B$2:$C$7,2,FALSE)","v":0},"Sin información"]
[1910,11,"Guanajuato",2,"Integración de órganos desconcentrados","2.3",3,"Instalación de los Órganos Distritales ","OPL","OD","2020-10-15","2020-10-15",null,null,{"$f":"VLOOKUP(P1916,Campos!$B$2:$C$7,2,FALSE)","v":0},"Sin información"]
[1911,11,"Guanajuato",2,"Integración de órganos desconcentrados","2.4",4,"Convocatoria para la integración de los Órganos Municipales ","OPL","CG","2020-07-14","2020-07-14",null,null,{"$f":"VLOOKUP(P1917,Campos!$B$2:$C$7,2,FALSE)","v":0},"Sin información"]
[1912,11,"Guanajuato",2,"Integración de órganos desconcentrados","2.5",5,"Sesión en la que se designan e integran los Órganos Municipales ","OPL","CG","2020-09-28","2020-09-30",null,null,{"$f":"VLOOKUP(P1918,Campos!$B$2:$C$7,2,FALSE)","v":0},"Sin información"]
[1913,11,"Guanajuato",2,"Integración de órganos desconcentrados","2.6",6,"Instalación de los Órganos Municipales ","OPL","OD","2020-10-15","2020-10-15",null,null,{"$f":"VLOOKUP(P1919,Campos!$B$2:$C$7,2,FALSE)","v":0},"Sin información"]
[1914,11,"Guanajuato",2,"Integración de órganos desconcentrados","2.7",7,"Designación y/o ratificación de las y los Consejeros Electorales del Consejo Local ","INE","CG","2020-10-01","2020-10-15",null,null,{"$f":"VLOOKUP(P1920,Campos!$B$2:$C$7,2,FALSE)","v":0},"Sin información"]
[1915,11,"Guanajuato",2,"Integración de órganos desconcentrados","2.8",8,"Instalación del Consejo Local","INE","CL","2020-11-01","2020-11-30",null,null,{"$f":"VLOOKUP(P1921,Campos!$B$2:$C$7,2,FALSE)","v":0},"Sin información"]
[1916,11,"Guanajuato",2,"Integración de órganos desconcentrados","2.9",9,"Designación y/o ratificación de las y los Consejeros Electorales de los Consejos Distritales ","INE","CL","2020-11-01","2020-11-30",null,null,{"$f":"VLOOKUP(P1922,Campos!$B$2:$C$7,2,FALSE)","v":0},"Sin información"]
[1917,11,"Guanajuato",2,"Integración de órganos desconcentrados","2.10",10,"Instalación de los Consejos Distritales","INE","CD","2020-12-01","2020-12-15",null,null,{"$f":"VLOOKUP(P1923,Campos!$B$2:$C$7,2,FALSE)","v":0},"Sin información"]
[1918,11,"Guanajuato",3,"Lista Nominal de Electores","3.1",1,"Generación y entrega de la Lista Nominal de Electores para Revisión en medios ópticos a los representantes de los partidos políticos, y en su caso a las candidaturas independientes acreditados ante el OPL, para observaciones","INE","DERFE","2021-02-15","2021-02-15",null,null,{"$f":"VLOOKUP(P1924,Campos!$B$2:$C$7,2,FALSE)","v":0},"Sin información"]
[1919,11,"Guanajuato",3,"Lista Nominal de Electores","3.2",2,"Recepción de observaciones de los partidos políticos y en su caso, candidatos independientes, a la Lista Nominal de Electores para revisión","INE/OPL","DERFE","2021-03-14","2021-03-14",null,null,{"$f":"VLOOKUP(P1925,Campos!$B$2:$C$7,2,FALSE)","v":0},"Sin información"]
[1920,11,"Guanajuato",3,"Lista Nominal de Electores","3.3",3,"Entrega en formato digital el informe respecto de la atención a las observaciones formuladas a la Lista Nominal de Electores para Revisión","INE","DERFE","2021-04-15","2021-04-15",null,null,{"$f":"VLOOKUP(P1926,Campos!$B$2:$C$7,2,FALSE)","v":0},"Sin información"]
[1921,11,"Guanajuato",3,"Lista Nominal de Electores","3.4",4,"Entrega de la Lista Nominal de Electores Definitiva con fotografía","INE","DERFE","2021-05-06","2021-05-14",null,null,{"$f":"VLOOKUP(P1927,Campos!$B$2:$C$7,2,FALSE)","v":0},"Sin información"]
[1922,11,"Guanajuato",3,"Lista Nominal de Electores","3.5",5,"Fecha de entrega de la Lista Nominal de Electores con fotografía Producto de Instancias Administrativas y Resoluciones del Tribunal (ADENDA)","INE","DERFE","2021-05-19","2021-05-24",null,null,{"$f":"VLOOKUP(P1928,Campos!$B$2:$C$7,2,FALSE)","v":0},"Sin información"]
[1923,11,"Guanajuato",4,"Observación Electoral","4.1",1,"Emisión de la convocatoria para la ciudadanía que desee participar en la observación electoral","OPL","CG","2020-09-07","2020-09-07",null,null,{"$f":"VLOOKUP(P1929,Campos!$B$2:$C$7,2,FALSE)","v":0},"Sin información"]
[1924,11,"Guanajuato",4,"Observación Electoral","4.2",2,"Recepción de solicitudes de la ciudadanía que desee participar en observación electoral","INE/OPL","OPL/JLE/JDE","2020-09-07","2021-04-30",null,null,{"$f":"VLOOKUP(P1930,Campos!$B$2:$C$7,2,FALSE)","v":0},"Sin información"]
[1925,11,"Guanajuato",4,"Observación Electoral","4.3",3,"Impartición de los cursos de capacitación, preparación o información","INE/OPL","OPL/JLE/JDE","2020-09-07","2021-05-17",null,null,{"$f":"VLOOKUP(P1931,Campos!$B$2:$C$7,2,FALSE)","v":0},"Sin información"]
[1926,11,"Guanajuato",4,"Observación Electoral","4.4",4,"Acreditación de la ciudadanía como observadores u observadoras electorales","INE","CL/CD","2020-09-07","2021-06-05",null,null,{"$f":"VLOOKUP(P1932,Campos!$B$2:$C$7,2,FALSE)","v":0},"Sin información"]
[1927,11,"Guanajuato",4,"Observación Electoral","4.5",5,"Seguimiento a los informes mensuales de acreditación","INE","CG","2020-09-07","2021-07-31",null,null,{"$f":"VLOOKUP(P1933,Campos!$B$2:$C$7,2,FALSE)","v":0},"Sin información"]
[1928,11,"Guanajuato",4,"Observación Electoral","4.6",6,"Remisión de materiales de capacitación a la JLE para revisión","OPL","CG","2020-10-08","2020-10-08",null,null,{"$f":"VLOOKUP(P1934,Campos!$B$2:$C$7,2,FALSE)","v":0},"Sin información"]
[1929,11,"Guanajuato",4,"Observación Electoral","4.7",7,"Revisión, corrección, verificación y validación de materiales de capacitación para observación electoral ","INE","JLE","2020-10-09","2020-10-30",null,null,{"$f":"VLOOKUP(P1935,Campos!$B$2:$C$7,2,FALSE)","v":0},"Sin información"]
[1930,11,"Guanajuato",4,"Observación Electoral","4.8",8,"Entrega de materiales de capacitación para observación electoral entre OPL e INE","INE/OPL","VEL/OPL","2020-11-01","2020-11-23",null,null,{"$f":"VLOOKUP(P1936,Campos!$B$2:$C$7,2,FALSE)","v":0},"Sin información"]
[1931,11,"Guanajuato",5,"Ubicación de casillas","5.1",1,"Recorridos por las secciones de los distritos para localizar los lugares donde se ubicarán las casillas","INE/OPL","JDE/OPL","2021-01-15","2021-02-15",null,null,{"$f":"VLOOKUP(P1937,Campos!$B$2:$C$7,2,FALSE)","v":0},"Sin información"]
[1932,11,"Guanajuato",5,"Ubicación de casillas","5.2",2,"Presentación a los Consejos Distritales del listado de lugares propuestos para ubicar casillas","INE","JDE","2021-02-24","2021-02-24",null,null,{"$f":"VLOOKUP(P1938,Campos!$B$2:$C$7,2,FALSE)","v":0},"Sin información"]
[1933,11,"Guanajuato",5,"Ubicación de casillas","5.3",3,"Visitas de examinación en los lugares propuestos para ubicar casillas básicas, contiguas, especiales y extraordinarias","INE/OPL","CD/OPL","2021-02-25","2021-03-16",null,null,{"$f":"VLOOKUP(P1939,Campos!$B$2:$C$7,2,FALSE)","v":0},"Sin información"]
[1934,11,"Guanajuato",5,"Ubicación de casillas","5.4",4,"Aprobación del número y ubicación de casillas extraordinarias y especiales","INE","CD","2021-03-16","2021-03-16",null,null,{"$f":"VLOOKUP(P1940,Campos!$B$2:$C$7,2,FALSE)","v":0},"Sin información"]
[1935,11,"Guanajuato",5,"Ubicación de casillas","5.5",5,"Aprobación del número y ubicación de casillas básicas y contiguas","INE","CD","2021-03-25","2021-03-25",null,null,{"$f":"VLOOKUP(P1941,Campos!$B$2:$C$7,2,FALSE)","v":0},"Sin información"]
[1936,11,"Guanajuato",5,"Ubicación de casillas","5.6",6,"Entrega de la base de datos de la Lista Nominal Definitiva a UNICOM con corte al 10 de abril","INE","DERFE","2021-04-15","2021-04-16",null,null,{"$f":"VLOOKUP(P1942,Campos!$B$2:$C$7,2,FALSE)","v":0},"Sin información"]
[1937,11,"Guanajuato",5,"Ubicación de casillas","5.7",7,"Realizar la primera publicación de la lista de ubicación de casillas en los lugares más concurridos del distrito electoral  y en los medios electrónicos del Instituto","INE","CD","2021-04-15","2021-04-15",null,null,{"$f":"VLOOKUP(P1943,Campos!$B$2:$C$7,2,FALSE)","v":0},"Sin información"]
[1938,11,"Guanajuato",5,"Ubicación de casillas","5.8",8,"En su caso, segunda publicación de la lista de ubicación de casillas por causas supervenientes en los lugares más concurridos del distrito y en los medios electrónicos del Instituto","INE","CD","2021-05-15","2021-05-25",null,null,{"$f":"VLOOKUP(P1944,Campos!$B$2:$C$7,2,FALSE)","v":0},"Sin información"]
[1939,11,"Guanajuato",5,"Ubicación de casillas","5.9",9,"Publicación de los encartes y difusión en medios electrónicos del Instituto","INE/OPL","DEOE/CG","2021-06-05","2021-06-06",null,null,{"$f":"VLOOKUP(P1945,Campos!$B$2:$C$7,2,FALSE)","v":0},"Sin información"]
[1940,11,"Guanajuato",5,"Ubicación de casillas","5.10",10,"Registro de representantes generales y ante mesas directivas de casilla","INE","CD","2021-04-16","2021-05-24",null,null,{"$f":"VLOOKUP(P1946,Campos!$B$2:$C$7,2,FALSE)","v":0},"Sin información"]
[1941,11,"Guanajuato",5,"Ubicación de casillas","5.11",11,"Sustitución de representantes generales y ante mesas directivas de casilla","INE","CD","2021-04-16","2021-05-27",null,null,{"$f":"VLOOKUP(P1947,Campos!$B$2:$C$7,2,FALSE)","v":0},"Sin información"]
[1942,11,"Guanajuato",5,"Ubicación de casillas","5.12",12,"Entrega de listados de representantes generales y ante casilla al OPL","INE","CD","2021-05-30","2021-05-30",null,null,{"$f":"VLOOKUP(P1948,Campos!$B$2:$C$7,2,FALSE)","v":0},"Sin información"]
[1943,11,"Guanajuato",5,"Ubicación de casillas","5.13",13,"Notificación ciudadana de ubicación de casillas en secciones electorales involucradas en la actualización del Marco Geográfico Electoral","INE/OPL","DERFE/OPL","2021-04-01","2021-06-15",null,null,{"$f":"VLOOKUP(P1949,Campos!$B$2:$C$7,2,FALSE)","v":0},"Sin información"]
[1944,11,"Guanajuato",6,"Integración de las Mesas Directivas de Casilla","6.1",1,"Aprobación de la Estrategia de Capacitación y Asistencia Electoral","INE","CG","2020-08-01","2020-08-15",null,null,{"$f":"VLOOKUP(P1950,Campos!$B$2:$C$7,2,FALSE)","v":0},"Sin información"]
[1945,11,"Guanajuato",6,"Integración de las Mesas Directivas de Casilla","6.2",2,"Entrega para revisión y validación de materiales didácticos de primera etapa","OPL","CG","2020-11-03","2020-11-03",null,null,{"$f":"VLOOKUP(P1951,Campos!$B$2:$C$7,2,FALSE)","v":0},"Sin información"]
[1946,11,"Guanajuato",6,"Integración de las Mesas Directivas de Casilla","6.3",3,"Revisión, corrección, verificación y validación de los materiales didácticos de primera etapa","INE/OPL","JLE/DECEYEC/OPL","2020-11-03","2020-12-19",null,null,{"$f":"VLOOKUP(P1952,Campos!$B$2:$C$7,2,FALSE)","v":0},"Sin información"]
[1947,11,"Guanajuato",6,"Integración de las Mesas Directivas de Casilla","6.4",4,"Entrega de los materiales impresos de la primera etapa a la JLE","OPL","OPL","2021-02-05","2021-02-05",null,null,{"$f":"VLOOKUP(P1953,Campos!$B$2:$C$7,2,FALSE)","v":0},"Sin información"]
[1948,11,"Guanajuato",6,"Integración de las Mesas Directivas de Casilla","6.5",5,"Sorteo del mes del calendario como base para la insaculación de las y los ciudadanos que integrarán las mesas directivas de casilla","INE","CG","2020-12-15","2020-12-19",null,null,{"$f":"VLOOKUP(P1954,Campos!$B$2:$C$7,2,FALSE)","v":0},"Sin información"]
[1949,11,"Guanajuato",6,"Integración de las Mesas Directivas de Casilla","6.6",6,"Entrega para revisión y validación de materiales didácticos de segunda etapa","OPL","OPL","2021-02-03","2021-02-03",null,null,{"$f":"VLOOKUP(P1955,Campos!$B$2:$C$7,2,FALSE)","v":0},"Sin información"]
[1950,11,"Guanajuato",6,"Integración de las Mesas Directivas de Casilla","6.7",7,"Revisión, corrección, verificación y validación de los materiales didácticos de la segunda etapa","INE/OPL","JLE/DECEYEC/OPL","2021-02-03","2021-03-22",null,null,{"$f":"VLOOKUP(P1956,Campos!$B$2:$C$7,2,FALSE)","v":0},"Sin información"]
[1951,11,"Guanajuato",6,"Integración de las Mesas Directivas de Casilla","6.8",8,"Entrega de los materiales impresos de la segunda etapa a la JLE","OPL","OPL","2021-04-05","2021-04-05",null,null,{"$f":"VLOOKUP(P1957,Campos!$B$2:$C$7,2,FALSE)","v":0},"Sin información"]
[1952,11,"Guanajuato",6,"Integración de las Mesas Directivas de Casilla","6.9",9,"Sorteo de la letra a partir de la cual, con base en el apellido paterno, se seleccionará a las y los ciudadanos que integrarán las mesas directivas de casilla","INE","CG","2021-02-02","2021-02-02",null,null,{"$f":"VLOOKUP(P1958,Campos!$B$2:$C$7,2,FALSE)","v":0},"Sin información"]
[1953,11,"Guanajuato",6,"Integración de las Mesas Directivas de Casilla","6.10",10,"Entrega de la Lista Nominal de Electores para el Procedimiento de la Primera insaculación con corte al 15 de enero de 2021.","INE","DERFE/UNICOM","2021-01-21","2021-01-26",null,null,{"$f":"VLOOKUP(P1959,Campos!$B$2:$C$7,2,FALSE)","v":0},"Sin información"]
[1954,11,"Guanajuato",6,"Integración de las Mesas Directivas de Casilla","6.11",11,"Primera insaculación","INE","JDE","2021-02-06","2021-02-06",null,null,{"$f":"VLOOKUP(P1960,Campos!$B$2:$C$7,2,FALSE)","v":0},"Sin información"]
[1955,11,"Guanajuato",6,"Integración de las Mesas Directivas de Casilla","6.12",12,"Primera etapa de capacitación a las personas insaculadas","INE","CD","2021-02-09","2021-03-31",null,null,{"$f":"VLOOKUP(P1961,Campos!$B$2:$C$7,2,FALSE)","v":0},"Sin información"]
[1956,11,"Guanajuato",6,"Integración de las Mesas Directivas de Casilla","6.13",13,"Integración de la lista de ciudadanos y ciudadanas que cumplen los requisitos legales para integrar las mesas directivas de casilla","INE","CD","2021-02-09","2021-03-31",null,null,{"$f":"VLOOKUP(P1962,Campos!$B$2:$C$7,2,FALSE)","v":0},"Sin información"]
[1957,11,"Guanajuato",6,"Integración de las Mesas Directivas de Casilla","6.14",14,"Segunda insaculación y designación de funcionarios para mesas directivas de casilla","INE","CD","2021-04-08","2021-04-08",null,null,{"$f":"VLOOKUP(P1963,Campos!$B$2:$C$7,2,FALSE)","v":0},"Sin información"]
[1958,11,"Guanajuato",6,"Integración de las Mesas Directivas de Casilla","6.15",15,"Segunda etapa de capacitación a funcionarios de mesa directiva de casilla y simulacros","INE","CD","2021-04-18","2021-06-05",null,null,{"$f":"VLOOKUP(P1964,Campos!$B$2:$C$7,2,FALSE)","v":0},"Sin información"]
[1959,11,"Guanajuato",6,"Integración de las Mesas Directivas de Casilla","6.16",16,"Entrega de reconocimientos a funcionarios de mesas directivas de casilla","INE","CD","2021-06-07","2021-06-12",null,null,{"$f":"VLOOKUP(P1965,Campos!$B$2:$C$7,2,FALSE)","v":0},"Sin información"]
[1960,11,"Guanajuato",6,"Integración de las Mesas Directivas de Casilla","6.17",17,"Periodo para contratación de CAE locales","INE/OPL","INE/OPL","Por definir","Por definir",null,null,{"$f":"VLOOKUP(P1966,Campos!$B$2:$C$7,2,FALSE)","v":0},"Sin información"]
[1961,11,"Guanajuato",6,"Integración de las Mesas Directivas de Casilla","6.18",18,"Reclutamiento y selección de CAE locales","INE/OPL","INE/OPL","Por definir","Por definir",null,null,{"$f":"VLOOKUP(P1967,Campos!$B$2:$C$7,2,FALSE)","v":0},"Sin información"]
[1962,11,"Guanajuato",7,"Fiscalización de los recursos de los Partidos Políticos y candidaturas independientes","7.2",2,"Aprobación de topes de gastos de precampaña Diputaciones","OPL","CG","2020-09-01","2020-09-30",null,null,{"$f":"VLOOKUP(P1968,Campos!$B$2:$C$7,2,FALSE)","v":0},"Sin información"]
[1963,11,"Guanajuato",7,"Fiscalización de los recursos de los Partidos Políticos y candidaturas independientes","7.3",3,"Aprobación de topes de gastos de precampaña Ayuntamientos","OPL","CG","2020-09-01","2020-09-30",null,null,{"$f":"VLOOKUP(P1969,Campos!$B$2:$C$7,2,FALSE)","v":0},"Sin información"]
[1964,11,"Guanajuato",7,"Fiscalización de los recursos de los Partidos Políticos y candidaturas independientes","7.5",5,"Aprobación de los límites de financiamiento privado, aportaciones de militantes, simpatizantes y precandidatos o candidatos; así como el límite individual de aportaciones para Diputaciones","OPL","CG","2020-09-01","2020-09-30",null,null,{"$f":"VLOOKUP(P1970,Campos!$B$2:$C$7,2,FALSE)","v":0},"Sin información"]
[1965,11,"Guanajuato",7,"Fiscalización de los recursos de los Partidos Políticos y candidaturas independientes","7.6",6,"Aprobación de los límites de financiamiento privado, aportaciones de militantes, simpatizantes y precandidatos o candidatos; así como el límite individual de aportaciones para Ayuntamientos","OPL","CG","2020-09-01","2020-09-30",null,null,{"$f":"VLOOKUP(P1971,Campos!$B$2:$C$7,2,FALSE)","v":0},"Sin información"]
[1966,11,"Guanajuato",7,"Fiscalización de los recursos de los Partidos Políticos y candidaturas independientes","7.8",8,"Aprobación de topes de gastos para el periodo de obtención del apoyo ciudadano para Diputaciones","OPL","CG","2020-09-06","2020-09-12",null,null,{"$f":"VLOOKUP(P1972,Campos!$B$2:$C$7,2,FALSE)","v":0},"Sin información"]
[1967,11,"Guanajuato",7,"Fiscalización de los recursos de los Partidos Políticos y candidaturas independientes","7.9",9,"Aprobación de topes de gastos para el periodo de obtención del apoyo ciudadano para Ayuntamientos","OPL","CG","2020-09-06","2020-09-12",null,null,{"$f":"VLOOKUP(P1973,Campos!$B$2:$C$7,2,FALSE)","v":0},"Sin información"]
[1968,11,"Guanajuato",7,"Fiscalización de los recursos de los Partidos Políticos y candidaturas independientes","7.11",11,"Precampaña para Diputaciones","OPL","CG","2021-01-04","2021-02-02",null,null,{"$f":"VLOOKUP(P1974,Campos!$B$2:$C$7,2,FALSE)","v":0},"Sin información"]
[1969,11,"Guanajuato",7,"Fiscalización de los recursos de los Partidos Políticos y candidaturas independientes","7.12",12,"Precampaña para Ayuntamientos","OPL","CG","2021-01-04","2021-02-12",null,null,{"$f":"VLOOKUP(P1975,Campos!$B$2:$C$7,2,FALSE)","v":0},"Sin información"]
[1970,11,"Guanajuato",7,"Fiscalización de los recursos de los Partidos Políticos y candidaturas independientes","7.14",14,"Aprobación de topes de gastos de campaña para Diputaciones","OPL","CG","2021-02-01","2021-02-15",null,null,{"$f":"VLOOKUP(P1976,Campos!$B$2:$C$7,2,FALSE)","v":0},"Sin información"]
[1971,11,"Guanajuato",7,"Fiscalización de los recursos de los Partidos Políticos y candidaturas independientes","7.15",15,"Aprobación de topes de gastos de campaña para Ayuntamientos","OPL","CG","2021-02-01","2021-02-15",null,null,{"$f":"VLOOKUP(P1977,Campos!$B$2:$C$7,2,FALSE)","v":0},"Sin información"]
[1972,11,"Guanajuato",7,"Fiscalización de los recursos de los Partidos Políticos y candidaturas independientes","7.17",17,"Campaña para Diputaciones","OPL","CG","2021-04-20","2021-06-02",null,null,{"$f":"VLOOKUP(P1978,Campos!$B$2:$C$7,2,FALSE)","v":0},"Sin información"]
[1973,11,"Guanajuato",7,"Fiscalización de los recursos de los Partidos Políticos y candidaturas independientes","7.18",18,"Campaña para Ayuntamientos","OPL","CG","2021-04-05","2021-06-02",null,null,{"$f":"VLOOKUP(P1979,Campos!$B$2:$C$7,2,FALSE)","v":0},"Sin información"]
[1974,11,"Guanajuato",7,"Fiscalización de los recursos de los Partidos Políticos y candidaturas independientes","7.19",19,"Aprobación de la distribución de financiamiento público para partidos políticos","OPL","CG","2020-08-01","2020-08-31",null,null,{"$f":"VLOOKUP(P1980,Campos!$B$2:$C$7,2,FALSE)","v":0},"Sin información"]
[1975,11,"Guanajuato",8,"Candidaturas Independientes","8.1",1,"Emisión de la convocatoria para la ciudadanía interesada en participar en Candidaturas Independientes ","OPL","CG","2020-09-06","2020-09-12",null,null,{"$f":"VLOOKUP(P1981,Campos!$B$2:$C$7,2,FALSE)","v":0},"Sin información"]
[1976,11,"Guanajuato",8,"Candidaturas Independientes","8.3",3,"Recepción de escrito de intención y documentación anexa de la ciudadanía que aspire a la candidatura independiente para Diputaciones","OPL","SE/OD","2020-09-24","2020-09-30",null,null,{"$f":"VLOOKUP(P1982,Campos!$B$2:$C$7,2,FALSE)","v":0},"Sin información"]
[1977,11,"Guanajuato",8,"Candidaturas Independientes","8.4",4,"Recepción de escrito de intención y documentación anexa de la ciudadanía que aspire a la candidatura independiente para Ayuntamientos","OPL","SE/OD","2020-09-24","2020-09-30",null,null,{"$f":"VLOOKUP(P1983,Campos!$B$2:$C$7,2,FALSE)","v":0},"Sin información"]
[1978,11,"Guanajuato",8,"Candidaturas Independientes","8.6",6,"Resolución sobre procedencia de manifestación de intención de aspirantes a candidaturas independientes para Diputaciones","OPL","CG","2020-10-02","2020-10-07",null,null,{"$f":"VLOOKUP(P1984,Campos!$B$2:$C$7,2,FALSE)","v":0},"Sin información"]
[1979,11,"Guanajuato",8,"Candidaturas Independientes","8.7",7,"Resolución sobre procedencia de manifestación de intención de aspirantes a candidaturas independientes para Ayuntamientos","OPL","CG","2020-10-02","2020-10-07",null,null,{"$f":"VLOOKUP(P1985,Campos!$B$2:$C$7,2,FALSE)","v":0},"Sin información"]
[1980,11,"Guanajuato",8,"Candidaturas Independientes","8.9",9,"Plazo para obtener el apoyo ciudadano de las candidaturas independientes para Diputaciones","OPL","OD","2021-01-04","2021-02-02",null,null,{"$f":"VLOOKUP(P1986,Campos!$B$2:$C$7,2,FALSE)","v":0},"Sin información"]
[1981,11,"Guanajuato",8,"Candidaturas Independientes","8.10",10,"Plazo para obtener el apoyo ciudadano de las candidaturas independientes para Ayuntamientos","OPL","OD","2021-01-04","2021-02-17",null,null,{"$f":"VLOOKUP(P1987,Campos!$B$2:$C$7,2,FALSE)","v":0},"Sin información"]
[1982,11,"Guanajuato",8,"Candidaturas Independientes","8.12",12,"Plazo para otorgar las constancias de porcentaje a favor de aspirantes a la candidatura independiente para Diputaciones","OPL","CG","2021-02-13","2021-03-01",null,null,{"$f":"VLOOKUP(P1988,Campos!$B$2:$C$7,2,FALSE)","v":0},"Sin información"]
[1983,11,"Guanajuato",8,"Candidaturas Independientes","8.13",13,"Plazo para otorgar las constancias de porcentaje a favor de aspirantes a la candidatura independiente para Ayuntamientos","OPL","CG","2021-02-28","2021-03-17",null,null,{"$f":"VLOOKUP(P1989,Campos!$B$2:$C$7,2,FALSE)","v":0},"Sin información"]
[1984,11,"Guanajuato",9,"Candidaturas","9.1",1,"Registro de plataformas electorales","OPL","CG","2021-01-01","2021-01-15",null,null,{"$f":"VLOOKUP(P1990,Campos!$B$2:$C$7,2,FALSE)","v":0},"Sin información"]
[1985,11,"Guanajuato",9,"Candidaturas","9.3",3,"Solicitud de registro de convenio de coalición para Diputaciones","OPL","CG","2020-09-07","2021-01-04",null,null,{"$f":"VLOOKUP(P1991,Campos!$B$2:$C$7,2,FALSE)","v":0},"Sin información"]
[1986,11,"Guanajuato",9,"Candidaturas","9.4",4,"Solicitud de registro de convenio de coalición para Ayuntamientos","OPL","CG","2020-09-07","2021-01-04",null,null,{"$f":"VLOOKUP(P1992,Campos!$B$2:$C$7,2,FALSE)","v":0},"Sin información"]
[1987,11,"Guanajuato",9,"Candidaturas","9.6",6,"Resolución sobre Convenio de Coalición para Diputaciones","OPL","CG","2020-09-17","2021-01-14",null,null,{"$f":"VLOOKUP(P1993,Campos!$B$2:$C$7,2,FALSE)","v":0},"Sin información"]
[1988,11,"Guanajuato",9,"Candidaturas","9.7",7,"Resolución sobre Convenio de Coalición para Ayuntamientos","OPL","CG","2020-09-17","2021-01-14",null,null,{"$f":"VLOOKUP(P1994,Campos!$B$2:$C$7,2,FALSE)","v":0},"Sin información"]
[1989,11,"Guanajuato",9,"Candidaturas","9.9",9,"Solicitud de registro de Candidaturas para Diputaciones","OPL","CG/OD","2021-04-04","2021-04-10",null,null,{"$f":"VLOOKUP(P1995,Campos!$B$2:$C$7,2,FALSE)","v":0},"Sin información"]
[1990,11,"Guanajuato",9,"Candidaturas","9.10",10,"Solicitud de registro de Candidaturas para Diputaciones de Representación Proporcional","OPL","CG/OD","2021-04-11","2021-04-17",null,null,{"$f":"VLOOKUP(P1996,Campos!$B$2:$C$7,2,FALSE)","v":0},"Sin información"]
[1991,11,"Guanajuato",9,"Candidaturas","9.11",11,"Solicitud de registro de Candidaturas para Ayuntamientos","OPL","CG/OD","2021-03-20","2021-03-26",null,null,{"$f":"VLOOKUP(P1997,Campos!$B$2:$C$7,2,FALSE)","v":0},"Sin información"]
[1992,11,"Guanajuato",9,"Candidaturas","9.14",14,"Resolución para aprobar las candidaturas para Diputaciones","OPL","CG","2021-04-19","2021-04-19",null,null,{"$f":"VLOOKUP(P1998,Campos!$B$2:$C$7,2,FALSE)","v":0},"Sin información"]
[1993,11,"Guanajuato",9,"Candidaturas","9.15",15,"Resolución para aprobar las candidaturas para Diputaciones de Representación Proporcional","OPL","CG","2021-04-26","2021-04-26",null,null,{"$f":"VLOOKUP(P1999,Campos!$B$2:$C$7,2,FALSE)","v":0},"Sin información"]
[1994,11,"Guanajuato",9,"Candidaturas","9.16",16,"Resolución para aprobar las candidaturas para Ayuntamientos","OPL","CG/OD","2021-04-04","2021-04-04",null,null,{"$f":"VLOOKUP(P2000,Campos!$B$2:$C$7,2,FALSE)","v":0},"Sin información"]
[1995,11,"Guanajuato",11,"Documentación y material electoral","11.1",1,"Entrega a la Junta Local Ejecutiva del INE, de los diseños y especificaciones técnicas de la documentación y materiales electorales, en medios impresos y electrónicos","OPL","CG","2020-09-01","2020-09-30",null,null,{"$f":"VLOOKUP(P2001,Campos!$B$2:$C$7,2,FALSE)","v":0},"Sin información"]
[1996,11,"Guanajuato",11,"Documentación y material electoral","11.2",2,"Revisión de los documentos y materiales electorales y especificaciones técnicas, presentadas por el OPL","INE","JLE","2020-09-15","2020-12-16",null,null,{"$f":"VLOOKUP(P2002,Campos!$B$2:$C$7,2,FALSE)","v":0},"Sin información"]
[1997,11,"Guanajuato",11,"Documentación y material electoral","11.3",3,"En su caso, atención y presentación, de los cambios pertinentes, conforme a las observaciones emitidas por la Junta Local Ejecutiva del INE","OPL","CG","2020-09-15","2020-12-16",null,null,{"$f":"VLOOKUP(P2003,Campos!$B$2:$C$7,2,FALSE)","v":0},"Sin información"]
[1998,11,"Guanajuato",11,"Documentación y material electoral","11.4",4,"Validación de los documentos y materiales electorales y especificaciones técnicas, con las observaciones subsanadas","INE","DEOE","2020-10-28","2020-12-18",null,null,{"$f":"VLOOKUP(P2004,Campos!$B$2:$C$7,2,FALSE)","v":0},"Sin información"]
[1999,11,"Guanajuato",11,"Documentación y material electoral","11.5",5,"Entrega a la Dirección Ejecutiva de Organización Electoral del INE, del Reporte único sobre la aprobación y adjudicación de los documentos y materiales electorales del OPL, en medios electrónicos","OPL","CG","2021-02-01","2021-02-26",null,null,{"$f":"VLOOKUP(P2005,Campos!$B$2:$C$7,2,FALSE)","v":0},"Sin información"]
[2000,11,"Guanajuato",11,"Documentación y material electoral","11.6",6,"Revisión y en su caso validación, del Reporte único sobre la aprobación y adjudicación de los documentos y materiales electorales del OPL, en medios electrónicos","INE","DEOE","2021-02-15","2021-03-12",null,null,{"$f":"VLOOKUP(P2006,Campos!$B$2:$C$7,2,FALSE)","v":0},"Sin información"]
[2001,11,"Guanajuato",11,"Documentación y material electoral","11.7",7,"Entrega  a la Dirección Ejecutiva de Organización Electoral del INE, del Reporte semanal sobre el avance en la producción de los documentos y materiales electorales del OPL, en medios electrónicos.","OPL","CG","2021-03-15","2021-05-22",null,null,{"$f":"VLOOKUP(P2007,Campos!$B$2:$C$7,2,FALSE)","v":0},"Sin información"]
[2002,11,"Guanajuato",11,"Documentación y material electoral","11.8",8,"Aprobación de la documentación y material electoral","OPL","CG","2020-11-11","2020-12-31",null,null,{"$f":"VLOOKUP(P2008,Campos!$B$2:$C$7,2,FALSE)","v":0},"Sin información"]
[2003,11,"Guanajuato",11,"Documentación y material electoral","11.9",9,"Entrega a la Dirección Ejecutiva de Organización Electoral del INE, del Reporte con los resultados de las verificaciones de las medidas de seguridad en la documentación electoral","OPL","CG","2021-05-27","2021-06-11",null,null,{"$f":"VLOOKUP(P2009,Campos!$B$2:$C$7,2,FALSE)","v":0},"Sin información"]
[2004,11,"Guanajuato",11,"Documentación y material electoral","11.10",10,"Supervisiones respecto de los procedimientos de impresión y producción de la documentación y materiales electorales","INE","DEOE","2021-03-15","2021-05-22",null,null,{"$f":"VLOOKUP(P2010,Campos!$B$2:$C$7,2,FALSE)","v":0},"Sin información"]
[2005,11,"Guanajuato",11,"Documentación y material electoral","11.11",11,"Designación de la persona responsable de llevar el control sobre la asignación de los folios de las boletas que se distribuirán en cada mesa directiva de casilla","OPL","CG","2021-03-01","2021-03-30",null,null,{"$f":"VLOOKUP(P2011,Campos!$B$2:$C$7,2,FALSE)","v":0},"Sin información"]
[2006,11,"Guanajuato",11,"Documentación y material electoral","11.12",12,"Aprobación de SE y CAE, así como de personal que auxiliará en el procedimiento de conteo, sellado y agrupamiento de las boletas electorales; así como la integración de documentación para las casillas","OPL","CG","2021-04-24","2021-05-11",null,null,{"$f":"VLOOKUP(P2012,Campos!$B$2:$C$7,2,FALSE)","v":0},"Sin información"]
[2007,11,"Guanajuato",11,"Documentación y material electoral","11.13",13,"Recepción de las boletas electorales por el órgano competente que realizará el conteo, sellado y agrupamiento","OPL","CG","2021-05-18","2021-05-22",null,null,{"$f":"VLOOKUP(P2013,Campos!$B$2:$C$7,2,FALSE)","v":0},"Sin información"]
[2008,11,"Guanajuato",11,"Documentación y material electoral","11.14",14,"Conteo, sellado y agrupamiento de boletas","OPL","CG","2021-05-18","2021-05-28",null,null,{"$f":"VLOOKUP(P2014,Campos!$B$2:$C$7,2,FALSE)","v":0},"Sin información"]
[2009,11,"Guanajuato",11,"Documentación y material electoral","11.15",15,"Distribución de la documentación y materiales electorales a las y los Presidentes de mesas directivas de casilla","OPL","OD","2021-05-31","2021-06-04",null,null,{"$f":"VLOOKUP(P2015,Campos!$B$2:$C$7,2,FALSE)","v":0},"Sin información"]
[2010,11,"Guanajuato",11,"Documentación y material electoral","11.16",16,"Remisión de los recibos de la entrega de la documentación y materiales electorales al Consejo General del OPL","INE","JLE","2021-06-24","2021-06-30",null,null,{"$f":"VLOOKUP(P2016,Campos!$B$2:$C$7,2,FALSE)","v":0},"Sin información"]
[2011,11,"Guanajuato",12,"Jornada Electoral","12.1",1,"Aprobación del Programa de Operación del SIJE 2021","INE","CCOE","2020-07-01","2020-07-31",null,null,{"$f":"VLOOKUP(P2017,Campos!$B$2:$C$7,2,FALSE)","v":0},"Sin información"]
[2012,11,"Guanajuato",12,"Jornada Electoral","12.2",2,"Aprobación de las metas del SIJE 2021","INE","CG","2021-03-01","2021-03-31",null,null,{"$f":"VLOOKUP(P2018,Campos!$B$2:$C$7,2,FALSE)","v":0},"Sin información"]
[2013,11,"Guanajuato",12,"Jornada Electoral","12.3",3,"Realización de pruebas del SIJE 2021","INE","DEOE","2021-04-01","2021-04-15",null,null,{"$f":"VLOOKUP(P2019,Campos!$B$2:$C$7,2,FALSE)","v":0},"Sin información"]
[2014,11,"Guanajuato",12,"Jornada Electoral","12.4",4,"Desarrollo del primer simulacro del SIJE","INE/OPL","DEOE/OD","2021-04-29","2021-04-29",null,null,{"$f":"VLOOKUP(P2020,Campos!$B$2:$C$7,2,FALSE)","v":0},"Sin información"]
[2015,11,"Guanajuato",12,"Jornada Electoral","12.5",5,"Desarrollo del segundo simulacro del SIJE","INE/OPL","DEOE/OD","2021-05-09","2021-05-09",null,null,{"$f":"VLOOKUP(P2021,Campos!$B$2:$C$7,2,FALSE)","v":0},"Sin información"]
[2016,11,"Guanajuato",12,"Jornada Electoral","12.6",6,"Desarrollo del tercer simulacro del SIJE","INE/OPL","DEOE/OD","2021-05-23","2021-05-23",null,null,{"$f":"VLOOKUP(P2022,Campos!$B$2:$C$7,2,FALSE)","v":0},"Sin información"]
[2017,11,"Guanajuato",12,"Jornada Electoral","12.7",7,"Jornada Electoral","OPL","CG/OD","2021-06-06","2021-06-06",null,null,{"$f":"VLOOKUP(P2023,Campos!$B$2:$C$7,2,FALSE)","v":0},"Sin información"]
[2018,11,"Guanajuato",13,"Bodegas electorales","13.1",1,"Determinación de los lugares que ocuparán las bodegas electorales para el resguardo de la documentación electoral","OPL","CG","2021-02-01","2021-02-28",null,null,{"$f":"VLOOKUP(P2024,Campos!$B$2:$C$7,2,FALSE)","v":0},"Sin información"]
[2019,11,"Guanajuato",13,"Bodegas electorales","13.2",2,"Informe que rinden las y los Presidentes sobre las condiciones de equipamiento, mecanismos de operación y medidas de seguridad de las bodegas electorales","OPL","OD","2021-03-01","2021-03-31",null,null,{"$f":"VLOOKUP(P2025,Campos!$B$2:$C$7,2,FALSE)","v":0},"Sin información"]
[2020,11,"Guanajuato",13,"Bodegas electorales","13.3",3,"Designación, por parte del órgano competente del OPL, del personal que tendrá acceso a la bodega electoral","OPL","CG/OD","2021-03-01","2021-03-30",null,null,{"$f":"VLOOKUP(P2026,Campos!$B$2:$C$7,2,FALSE)","v":0},"Sin información"]
[2021,11,"Guanajuato",13,"Bodegas electorales","13.4",4,"Envío a la UTVOPL, por conducto de la JLE, el informe sobre las condiciones que guardan las bodegas electorales","OPL","CG","2021-04-04","2021-04-10",null,null,{"$f":"VLOOKUP(P2027,Campos!$B$2:$C$7,2,FALSE)","v":0},"Sin información"]
[2022,11,"Guanajuato",14,"Mecanismos de recolección","14.1",1,"Entrega de estudios de factibilidad al OPL","INE","CL","2021-03-15","2021-03-31",null,null,{"$f":"VLOOKUP(P2028,Campos!$B$2:$C$7,2,FALSE)","v":0},"Sin información"]
[2023,11,"Guanajuato",14,"Mecanismos de recolección","14.2",2,"Entrega de observaciones a los estudios de factibilidad ","OPL","CG","2021-04-01","2021-04-24",null,null,{"$f":"VLOOKUP(P2029,Campos!$B$2:$C$7,2,FALSE)","v":0},"Sin información"]
[2024,11,"Guanajuato",14,"Mecanismos de recolección","14.3",3,"Recorridos para verificar las propuestas de los mecanismos de recolección","INE/OPL","CD/OD","2021-03-16","2021-04-24",null,null,{"$f":"VLOOKUP(P2030,Campos!$B$2:$C$7,2,FALSE)","v":0},"Sin información"]
[2025,11,"Guanajuato",14,"Mecanismos de recolección","14.4",4,"Aprobación de los mecanismos de recolección ","INE","CD","2021-04-26","2021-04-30",null,null,{"$f":"VLOOKUP(P2031,Campos!$B$2:$C$7,2,FALSE)","v":0},"Sin información"]
[2026,11,"Guanajuato",14,"Mecanismos de recolección","14.5",5,"Traslado y recolección de los paquetes electorales","INE/OPL","CD/OD","2021-06-06","2021-06-07",null,null,{"$f":"VLOOKUP(P2032,Campos!$B$2:$C$7,2,FALSE)","v":0},"Sin información"]
[2027,11,"Guanajuato",14,"Mecanismos de recolección","14.6",6,"Acreditación de representantes de partidos políticos y candidaturas independientes ante los mecanismos de recolección","INE","CL/CD","2021-04-27","2021-06-03",null,null,{"$f":"VLOOKUP(P2033,Campos!$B$2:$C$7,2,FALSE)","v":0},"Sin información"]
[2028,11,"Guanajuato",14,"Mecanismos de recolección","14.7",7,"Sustitución de representantes de partidos políticos y candidaturas independientes ante los mecanismos de recolección","INE","CL/CD","2021-04-28","2021-06-04",null,null,{"$f":"VLOOKUP(P2034,Campos!$B$2:$C$7,2,FALSE)","v":0},"Sin información"]
[2029,11,"Guanajuato",14,"Mecanismos de recolección","14.8",8,"Entrega a la JLE, el informe sobre la recepción de paquetes electorales en los órganos competentes","OPL","CG","2021-06-06","2021-06-28",null,null,{"$f":"VLOOKUP(P2035,Campos!$B$2:$C$7,2,FALSE)","v":0},"Sin información"]
[2030,11,"Guanajuato",15,"Cómputos","15.1",1,"Aprobación de los lineamientos de cómputo y del cuadernillo de consulta sobre votos válidos y votos nulos","OPL","CG","2021-01-18","2021-01-29",null,null,{"$f":"VLOOKUP(P2036,Campos!$B$2:$C$7,2,FALSE)","v":0},"Sin información"]
[2031,11,"Guanajuato",15,"Cómputos","15.2",2,"Integración por parte de los Órganos Desconcentrados del OPL, de la propuesta para la habilitación de espacios para el recuento de votos con las alternativas para todos los escenarios de cómputo","OPL","OD","2021-03-01","2021-03-07",null,null,{"$f":"VLOOKUP(P2037,Campos!$B$2:$C$7,2,FALSE)","v":0},"Sin información"]
[2032,11,"Guanajuato",15,"Cómputos","15.3",3,"Informe de los escenarios de cómputos de la totalidad de sus órganos desconcentrados","OPL","CG","2021-04-01","2021-04-04",null,null,{"$f":"VLOOKUP(P2038,Campos!$B$2:$C$7,2,FALSE)","v":0},"Sin información"]
[2033,11,"Guanajuato",15,"Cómputos","15.4",4,"Remisión a la JLE en la entidad, las propuestas de escenarios de cómputos, para la dictaminación de viabilidad","OPL","CG","2021-05-01","2021-05-07",null,null,{"$f":"VLOOKUP(P2039,Campos!$B$2:$C$7,2,FALSE)","v":0},"Sin información"]
[2034,11,"Guanajuato",15,"Cómputos","15.5",5,"Remisión de las observaciones a los escenarios de Cómputos al OPL y a su vez informar de las mismas a la UTVOPL","INE","JLE","2021-05-08","2021-05-15",null,null,{"$f":"VLOOKUP(P2040,Campos!$B$2:$C$7,2,FALSE)","v":0},"Sin información"]
[2035,11,"Guanajuato",15,"Cómputos","15.6",6,"Aprobación por parte del órgano competente del OPL, del acuerdo mediante el cual se designa al personal que participará en las tareas de apoyo a los Cómputos Municipales","OPL","CG/OD","2021-04-26","2021-05-05",null,null,{"$f":"VLOOKUP(P2041,Campos!$B$2:$C$7,2,FALSE)","v":0},"Sin información"]
[2036,11,"Guanajuato",15,"Cómputos","15.7",7,"Aprobación por parte del órgano competente del OPL, del acuerdo mediante el cual se designa al personal que participará en las tareas de apoyo a los Cómputos Distritales ","OPL","CG/OD","2021-04-26","2021-05-05",null,null,{"$f":"VLOOKUP(P2042,Campos!$B$2:$C$7,2,FALSE)","v":0},"Sin información"]
[2037,11,"Guanajuato",15,"Cómputos","15.8",8,"Aprobación por parte de los órganos competentes del OPL, de los distintos escenarios de cómputos","OPL","OD","2021-05-08","2021-05-15",null,null,{"$f":"VLOOKUP(P2043,Campos!$B$2:$C$7,2,FALSE)","v":0},"Sin información"]
[2038,11,"Guanajuato",15,"Cómputos","15.9",9,"Aprobación por parte del órgano competente del OPL, del acuerdo por el que se habilitarán espacios para la instalación de grupos de trabajo y, en su caso, puntos de recuento","OPL","CG/OD","2021-06-08","2021-06-08",null,null,{"$f":"VLOOKUP(P2044,Campos!$B$2:$C$7,2,FALSE)","v":0},"Sin información"]
[2039,11,"Guanajuato",15,"Cómputos","15.10",10,"Cómputos Distritales","OPL","OD","2021-06-09","2021-06-11",null,null,{"$f":"VLOOKUP(P2045,Campos!$B$2:$C$7,2,FALSE)","v":0},"Sin información"]
[2040,11,"Guanajuato",15,"Cómputos","15.14",14,"Cómputo Estatal para la asignación diputaciones de Representación Proporcional","OPL","CG","2021-06-13","2021-06-13",null,null,{"$f":"VLOOKUP(P2046,Campos!$B$2:$C$7,2,FALSE)","v":0},"Sin información"]
[2041,11,"Guanajuato",15,"Cómputos","15.11",11,"Cómputos Municipales","OPL","OD","2021-06-09","2021-06-11",null,null,{"$f":"VLOOKUP(P2047,Campos!$B$2:$C$7,2,FALSE)","v":0},"Sin información"]
[2042,11,"Guanajuato",15,"Cómputos","15.16",16,"Asignación de regidurías por el principio de Representación Proporcional","OPL","CG","2021-06-09","2021-06-11",null,null,{"$f":"VLOOKUP(P2048,Campos!$B$2:$C$7,2,FALSE)","v":0},"Sin información"]
[2043,11,"Guanajuato",16,"PREP","16.1",1,"Aprobación del Acuerdo por el que se designa o ratifica a la instancia interna responsable de coordinar el PREP","OPL","CG","2020-09-11","2020-09-11",null,null,{"$f":"VLOOKUP(P2049,Campos!$B$2:$C$7,2,FALSE)","v":0},"Sin información"]
[2044,11,"Guanajuato",16,"PREP","16.2",2,"Aprobación del Acuerdo de Integración del COTAPREP","OPL","CG","2020-11-11","2020-11-11",null,null,{"$f":"VLOOKUP(P2050,Campos!$B$2:$C$7,2,FALSE)","v":0},"Sin información"]
[2045,11,"Guanajuato",16,"PREP","16.3",3,"Documento por el que se determina la implementación del PREP por el OPL o con el apoyo de un Tercero","OPL","CG","2020-12-11","2020-12-11",null,null,{"$f":"VLOOKUP(P2051,Campos!$B$2:$C$7,2,FALSE)","v":0},"Sin información"]
[2046,11,"Guanajuato",16,"PREP","16.4",4,"Aprobación del Acuerdo por el que se determina el Proceso Técnico Operativo ","OPL","CG","2021-01-11","2021-01-11",null,null,{"$f":"VLOOKUP(P2052,Campos!$B$2:$C$7,2,FALSE)","v":0},"Sin información"]
[2047,11,"Guanajuato",16,"PREP","16.5",5,"Aprobación del Acuerdo por el que se determina la ubicación, instalación y habilitación de los CATD y, en su caso, CCV","OPL","CG","2021-02-11","2021-02-11",null,null,{"$f":"VLOOKUP(P2053,Campos!$B$2:$C$7,2,FALSE)","v":0},"Sin información"]
[2048,11,"Guanajuato",16,"PREP","16.6",6,"Documento de Designación del Ente Auditor ","OPL","CG","2021-02-11","2021-02-11",null,null,{"$f":"VLOOKUP(P2054,Campos!$B$2:$C$7,2,FALSE)","v":0},"Sin información"]
[2049,11,"Guanajuato",16,"PREP","16.7",7,"Instrumento jurídico celebrado entre el OPL y el ente auditor","OPL","CG","2021-03-11","2021-03-11",null,null,{"$f":"VLOOKUP(P2055,Campos!$B$2:$C$7,2,FALSE)","v":0},"Sin información"]
[2050,11,"Guanajuato",16,"PREP","16.8",8,"Realización del primer simulacro del PREP","OPL","CG","2021-05-16","2021-05-16",null,null,{"$f":"VLOOKUP(P2056,Campos!$B$2:$C$7,2,FALSE)","v":0},"Sin información"]
[2051,11,"Guanajuato",16,"PREP","16.9",9,"Realización del segundo simulacro del PREP","OPL","CG","2021-05-23","2021-05-23",null,null,{"$f":"VLOOKUP(P2057,Campos!$B$2:$C$7,2,FALSE)","v":0},"Sin información"]
[2052,11,"Guanajuato",16,"PREP","16.10",10,"Realización del tercer simulacro del PREP","OPL","CG","2021-05-30","2021-05-30",null,null,{"$f":"VLOOKUP(P2058,Campos!$B$2:$C$7,2,FALSE)","v":0},"Sin información"]
[2053,11,"Guanajuato",16,"PREP","16.11",11,"Operación del PREP","OPL","CG","2021-06-06","2021-06-07",null,null,{"$f":"VLOOKUP(P2059,Campos!$B$2:$C$7,2,FALSE)","v":0},"Sin información"]
[2054,11,"Guanajuato",19,"Visitantes extranjeros","19.1",1,"Emisión de la Convocatoria para visitantes extranjeros","INE","CG","2020-08-03","2020-09-30",null,null,{"$f":"VLOOKUP(P2060,Campos!$B$2:$C$7,2,FALSE)","v":0},"Sin información"]
[2055,11,"Guanajuato",19,"Visitantes extranjeros","19.2",2,"Difusión de la Convocatoria para visitantes extranjeros","INE","CAI","2020-09-01","2021-05-26",null,null,{"$f":"VLOOKUP(P2061,Campos!$B$2:$C$7,2,FALSE)","v":0},"Sin información"]
[2056,11,"Guanajuato",19,"Visitantes extranjeros","19.3",3,"Recepción de solicitudes de acreditación como visitantes extranjeros","INE","CAI","2020-09-01","2021-05-26",null,null,{"$f":"VLOOKUP(P2062,Campos!$B$2:$C$7,2,FALSE)","v":0},"Sin información"]
[2057,11,"Guanajuato",19,"Visitantes extranjeros","19.4",4,"Resolución de solicitudes de acreditación como visitantes extranjeros","INE","CAI","2020-09-02","2021-05-30",null,null,{"$f":"VLOOKUP(P2063,Campos!$B$2:$C$7,2,FALSE)","v":0},"Sin información"]
[2058,11,"Guanajuato",19,"Visitantes extranjeros","19.5",5,"Entrega de acreditaciones a los visitantes extranjeros","INE","CAI","2020-09-04","2021-06-05",null,null,{"$f":"VLOOKUP(P2064,Campos!$B$2:$C$7,2,FALSE)","v":0},"Sin información"]
[2059,13,"Hidalgo",1,"Mecanismos de coordinación","1.1",1,"Aprobar Calendarios y Planes Integrales de los Procesos Electorales Locales","INE","CG","2020-08-01","2020-08-07",null,null,{"$f":"VLOOKUP(P2065,Campos!$B$2:$C$7,2,FALSE)","v":0},"Sin información"]
[2060,13,"Hidalgo",1,"Mecanismos de coordinación","1.2",2,"Firma del Convenio General de Coordinación y Colaboración 2020-2021","INE/OPL","INE/OPL","2020-09-01","2020-10-01",null,null,{"$f":"VLOOKUP(P2066,Campos!$B$2:$C$7,2,FALSE)","v":0},"Sin información"]
[2061,13,"Hidalgo",1,"Mecanismos de coordinación","1.3",3,"Elaborar un plan de trabajo conjunto para la promoción de la participación ciudadana","INE/OPL","INE/OPL","2020-09-01","2020-12-31",null,null,{"$f":"VLOOKUP(P2067,Campos!$B$2:$C$7,2,FALSE)","v":0},"Sin información"]
[2062,13,"Hidalgo",1,"Mecanismos de coordinación","1.4",4,"Sesión para dar inicio al PEL","OPL","CG","2020-12-15","2020-12-15",null,null,{"$f":"VLOOKUP(P2068,Campos!$B$2:$C$7,2,FALSE)","v":0},"Sin información"]
[2063,13,"Hidalgo",1,"Mecanismos de coordinación","1.5",5,"Implementar un plan de trabajo conjunto para la promoción de la participación ciudadana","INE/OPL","INE/OPL","2021-02-01","2021-06-06",null,null,{"$f":"VLOOKUP(P2069,Campos!$B$2:$C$7,2,FALSE)","v":0},"Sin información"]
[2064,13,"Hidalgo",2,"Integración de órganos desconcentrados","2.1",1,"Convocatoria para la integración de los Órganos Distritales","OPL","CG","2020-08-01","2020-08-31",null,null,{"$f":"VLOOKUP(P2070,Campos!$B$2:$C$7,2,FALSE)","v":0},"Sin información"]
[2065,13,"Hidalgo",2,"Integración de órganos desconcentrados","2.2",2,"Sesión en la que se designan e integran los Órganos Distritales ","OPL","CG","2020-12-01","2020-12-31",null,null,{"$f":"VLOOKUP(P2071,Campos!$B$2:$C$7,2,FALSE)","v":0},"Sin información"]
[2066,13,"Hidalgo",2,"Integración de órganos desconcentrados","2.3",3,"Instalación de los Órganos Distritales ","OPL","CG","2021-01-01","2021-01-10",null,null,{"$f":"VLOOKUP(P2072,Campos!$B$2:$C$7,2,FALSE)","v":0},"Sin información"]
[2067,13,"Hidalgo",2,"Integración de órganos desconcentrados","2.7",7,"Designación y/o ratificación de las y los Consejeros Electorales del Consejo Local ","INE","CG","2020-10-01","2020-10-15",null,null,{"$f":"VLOOKUP(P2073,Campos!$B$2:$C$7,2,FALSE)","v":0},"Sin información"]
[2068,13,"Hidalgo",2,"Integración de órganos desconcentrados","2.8",8,"Instalación del Consejo Local","INE","CL","2020-11-01","2020-11-30",null,null,{"$f":"VLOOKUP(P2074,Campos!$B$2:$C$7,2,FALSE)","v":0},"Sin información"]
[2069,13,"Hidalgo",2,"Integración de órganos desconcentrados","2.9",9,"Designación y/o ratificación de las y los Consejeros Electorales de los Consejos Distritales ","INE","CL","2020-11-01","2020-11-30",null,null,{"$f":"VLOOKUP(P2075,Campos!$B$2:$C$7,2,FALSE)","v":0},"Sin información"]
[2070,13,"Hidalgo",2,"Integración de órganos desconcentrados","2.10",10,"Instalación de los Consejos Distritales","INE","CD","2020-12-01","2020-12-15",null,null,{"$f":"VLOOKUP(P2076,Campos!$B$2:$C$7,2,FALSE)","v":0},"Sin información"]
[2071,13,"Hidalgo",3,"Lista Nominal de Electores","3.1",1,"Generación y entrega de la Lista Nominal de Electores para Revisión en medios ópticos a los representantes de los partidos políticos, y en su caso a las candidaturas independientes acreditados ante el OPL, para observaciones","INE","DERFE","2021-02-15","2021-02-15",null,null,{"$f":"VLOOKUP(P2077,Campos!$B$2:$C$7,2,FALSE)","v":0},"Sin información"]
[2072,13,"Hidalgo",3,"Lista Nominal de Electores","3.2",2,"Recepción de observaciones de los partidos políticos y en su caso, candidatos independientes, a la Lista Nominal de Electores para revisión","INE/OPL","DERFE","2021-03-14","2021-03-14",null,null,{"$f":"VLOOKUP(P2078,Campos!$B$2:$C$7,2,FALSE)","v":0},"Sin información"]
[2073,13,"Hidalgo",3,"Lista Nominal de Electores","3.3",3,"Entrega en formato digital el informe respecto de la atención a las observaciones formuladas a la Lista Nominal de Electores para Revisión","INE","DERFE","2021-04-15","2021-04-15",null,null,{"$f":"VLOOKUP(P2079,Campos!$B$2:$C$7,2,FALSE)","v":0},"Sin información"]
[2074,13,"Hidalgo",3,"Lista Nominal de Electores","3.4",4,"Entrega de la Lista Nominal de Electores Definitiva con fotografía","INE","DERFE","2021-05-06","2021-05-14",null,null,{"$f":"VLOOKUP(P2080,Campos!$B$2:$C$7,2,FALSE)","v":0},"Sin información"]
[2075,13,"Hidalgo",3,"Lista Nominal de Electores","3.5",5,"Fecha de entrega de la Lista Nominal de Electores con fotografía Producto de Instancias Administrativas y Resoluciones del Tribunal (ADENDA)","INE","DERFE","2021-05-19","2021-05-24",null,null,{"$f":"VLOOKUP(P2081,Campos!$B$2:$C$7,2,FALSE)","v":0},"Sin información"]
[2076,13,"Hidalgo",4,"Observación Electoral","4.1",1,"Emisión de la convocatoria para la ciudadanía que desee participar en la observación electoral","OPL","CG","2020-12-15","2020-12-15",null,null,{"$f":"VLOOKUP(P2082,Campos!$B$2:$C$7,2,FALSE)","v":0},"Sin información"]
[2077,13,"Hidalgo",4,"Observación Electoral","4.2",2,"Recepción de solicitudes de la ciudadanía que desee participar en observación electoral","INE/OPL","OPL/JLE/JDE","2020-12-15","2021-04-30",null,null,{"$f":"VLOOKUP(P2083,Campos!$B$2:$C$7,2,FALSE)","v":0},"Sin información"]
[2078,13,"Hidalgo",4,"Observación Electoral","4.3",3,"Impartición de los cursos de capacitación, preparación o información","INE/OPL","OPL/JLE/JDE","2020-12-15","2021-05-17",null,null,{"$f":"VLOOKUP(P2084,Campos!$B$2:$C$7,2,FALSE)","v":0},"Sin información"]
[2079,13,"Hidalgo",4,"Observación Electoral","4.4",4,"Acreditación de la ciudadanía como observadores u observadoras electorales","INE","CL/CD","2020-12-15","2021-06-05",null,null,{"$f":"VLOOKUP(P2085,Campos!$B$2:$C$7,2,FALSE)","v":0},"Sin información"]
[2080,13,"Hidalgo",4,"Observación Electoral","4.5",5,"Seguimiento a los informes mensuales de acreditación","INE","CG","2020-12-15","2021-07-31",null,null,{"$f":"VLOOKUP(P2086,Campos!$B$2:$C$7,2,FALSE)","v":0},"Sin información"]
[2081,13,"Hidalgo",4,"Observación Electoral","4.6",6,"Remisión de materiales de capacitación a la JLE para revisión","OPL","CG","2020-10-08","2020-10-08",null,null,{"$f":"VLOOKUP(P2087,Campos!$B$2:$C$7,2,FALSE)","v":0},"Sin información"]
[2082,13,"Hidalgo",4,"Observación Electoral","4.7",7,"Revisión, corrección, verificación y validación de materiales de capacitación para observación electoral ","INE","JLE","2020-10-09","2020-10-30",null,null,{"$f":"VLOOKUP(P2088,Campos!$B$2:$C$7,2,FALSE)","v":0},"Sin información"]
[2083,13,"Hidalgo",4,"Observación Electoral","4.8",8,"Entrega de materiales de capacitación para observación electoral entre OPL e INE","INE/OPL","VEL/OPL","2020-11-01","2020-11-23",null,null,{"$f":"VLOOKUP(P2089,Campos!$B$2:$C$7,2,FALSE)","v":0},"Sin información"]
[2084,13,"Hidalgo",5,"Ubicación de casillas","5.1",1,"Recorridos por las secciones de los distritos para localizar los lugares donde se ubicarán las casillas","INE/OPL","JDE/OPL","2021-01-15","2021-02-15",null,null,{"$f":"VLOOKUP(P2090,Campos!$B$2:$C$7,2,FALSE)","v":0},"Sin información"]
[2085,13,"Hidalgo",5,"Ubicación de casillas","5.2",2,"Presentación a los Consejos Distritales del listado de lugares propuestos para ubicar casillas","INE","JDE","2021-02-24","2021-02-24",null,null,{"$f":"VLOOKUP(P2091,Campos!$B$2:$C$7,2,FALSE)","v":0},"Sin información"]
[2086,13,"Hidalgo",5,"Ubicación de casillas","5.3",3,"Visitas de examinación en los lugares propuestos para ubicar casillas básicas, contiguas, especiales y extraordinarias","INE/OPL","CD/OPL","2021-02-25","2021-03-16",null,null,{"$f":"VLOOKUP(P2092,Campos!$B$2:$C$7,2,FALSE)","v":0},"Sin información"]
[2087,13,"Hidalgo",5,"Ubicación de casillas","5.4",4,"Aprobación del número y ubicación de casillas extraordinarias y especiales","INE","CD","2021-03-16","2021-03-16",null,null,{"$f":"VLOOKUP(P2093,Campos!$B$2:$C$7,2,FALSE)","v":0},"Sin información"]
[2088,13,"Hidalgo",5,"Ubicación de casillas","5.5",5,"Aprobación del número y ubicación de casillas básicas y contiguas","INE","CD","2021-03-25","2021-03-25",null,null,{"$f":"VLOOKUP(P2094,Campos!$B$2:$C$7,2,FALSE)","v":0},"Sin información"]
[2089,13,"Hidalgo",5,"Ubicación de casillas","5.6",6,"Entrega de la base de datos de la Lista Nominal Definitiva a UNICOM con corte al 10 de abril","INE","DERFE","2021-04-15","2021-04-16",null,null,{"$f":"VLOOKUP(P2095,Campos!$B$2:$C$7,2,FALSE)","v":0},"Sin información"]
[2090,13,"Hidalgo",5,"Ubicación de casillas","5.7",7,"Realizar la primera publicación de la lista de ubicación de casillas en los lugares más concurridos del distrito electoral  y en los medios electrónicos del Instituto","INE","CD","2021-04-15","2021-04-15",null,null,{"$f":"VLOOKUP(P2096,Campos!$B$2:$C$7,2,FALSE)","v":0},"Sin información"]
[2091,13,"Hidalgo",5,"Ubicación de casillas","5.8",8,"En su caso, segunda publicación de la lista de ubicación de casillas por causas supervenientes en los lugares más concurridos del distrito y en los medios electrónicos del Instituto","INE","CD","2021-05-15","2021-05-25",null,null,{"$f":"VLOOKUP(P2097,Campos!$B$2:$C$7,2,FALSE)","v":0},"Sin información"]
[2092,13,"Hidalgo",5,"Ubicación de casillas","5.9",9,"Publicación de los encartes y difusión en medios electrónicos del Instituto","INE/OPL","DEOE/CG","2021-06-05","2021-06-06",null,null,{"$f":"VLOOKUP(P2098,Campos!$B$2:$C$7,2,FALSE)","v":0},"Sin información"]
[2093,13,"Hidalgo",5,"Ubicación de casillas","5.10",10,"Registro de representantes generales y ante mesas directivas de casilla","INE","CD","2021-04-16","2021-05-24",null,null,{"$f":"VLOOKUP(P2099,Campos!$B$2:$C$7,2,FALSE)","v":0},"Sin información"]
[2094,13,"Hidalgo",5,"Ubicación de casillas","5.11",11,"Sustitución de representantes generales y ante mesas directivas de casilla","INE","CD","2021-04-16","2021-05-27",null,null,{"$f":"VLOOKUP(P2100,Campos!$B$2:$C$7,2,FALSE)","v":0},"Sin información"]
[2095,13,"Hidalgo",5,"Ubicación de casillas","5.12",12,"Entrega de listados de representantes generales y ante casilla al OPL","INE","CD","2021-05-30","2021-05-30",null,null,{"$f":"VLOOKUP(P2101,Campos!$B$2:$C$7,2,FALSE)","v":0},"Sin información"]
[2096,13,"Hidalgo",5,"Ubicación de casillas","5.13",13,"Notificación ciudadana de ubicación de casillas en secciones electorales involucradas en la actualización del Marco Geográfico Electoral","INE/OPL","DERFE/OPL","2021-04-01","2021-06-15",null,null,{"$f":"VLOOKUP(P2102,Campos!$B$2:$C$7,2,FALSE)","v":0},"Sin información"]
[2097,13,"Hidalgo",6,"Integración de las Mesas Directivas de Casilla","6.1",1,"Aprobación de la Estrategia de Capacitación y Asistencia Electoral","INE","CG","2020-08-01","2020-08-15",null,null,{"$f":"VLOOKUP(P2103,Campos!$B$2:$C$7,2,FALSE)","v":0},"Sin información"]
[2098,13,"Hidalgo",6,"Integración de las Mesas Directivas de Casilla","6.2",2,"Entrega para revisión y validación de materiales didácticos de primera etapa","OPL","CG","2020-11-03","2020-11-03",null,null,{"$f":"VLOOKUP(P2104,Campos!$B$2:$C$7,2,FALSE)","v":0},"Sin información"]
[2099,13,"Hidalgo",6,"Integración de las Mesas Directivas de Casilla","6.3",3,"Revisión, corrección, verificación y validación de los materiales didácticos de primera etapa","INE/OPL","JLE/DECEYEC/OPL","2020-11-03","2020-12-19",null,null,{"$f":"VLOOKUP(P2105,Campos!$B$2:$C$7,2,FALSE)","v":0},"Sin información"]
[2100,13,"Hidalgo",6,"Integración de las Mesas Directivas de Casilla","6.4",4,"Entrega de los materiales impresos de la primera etapa a la JLE","OPL","OPL","2021-02-05","2021-02-05",null,null,{"$f":"VLOOKUP(P2106,Campos!$B$2:$C$7,2,FALSE)","v":0},"Sin información"]
[2101,13,"Hidalgo",6,"Integración de las Mesas Directivas de Casilla","6.5",5,"Sorteo del mes del calendario como base para la insaculación de las y los ciudadanos que integrarán las mesas directivas de casilla","INE","CG","2020-12-15","2020-12-19",null,null,{"$f":"VLOOKUP(P2107,Campos!$B$2:$C$7,2,FALSE)","v":0},"Sin información"]
[2102,13,"Hidalgo",6,"Integración de las Mesas Directivas de Casilla","6.6",6,"Entrega para revisión y validación de materiales didácticos de segunda etapa","OPL","OPL","2021-02-03","2021-02-03",null,null,{"$f":"VLOOKUP(P2108,Campos!$B$2:$C$7,2,FALSE)","v":0},"Sin información"]
[2103,13,"Hidalgo",6,"Integración de las Mesas Directivas de Casilla","6.7",7,"Revisión, corrección, verificación y validación de los materiales didácticos de la segunda etapa","INE/OPL","JLE/DECEYEC/OPL","2021-02-03","2021-03-22",null,null,{"$f":"VLOOKUP(P2109,Campos!$B$2:$C$7,2,FALSE)","v":0},"Sin información"]
[2104,13,"Hidalgo",6,"Integración de las Mesas Directivas de Casilla","6.8",8,"Entrega de los materiales impresos de la segunda etapa a la JLE","OPL","OPL","2021-04-05","2021-04-05",null,null,{"$f":"VLOOKUP(P2110,Campos!$B$2:$C$7,2,FALSE)","v":0},"Sin información"]
[2105,13,"Hidalgo",6,"Integración de las Mesas Directivas de Casilla","6.9",9,"Sorteo de la letra a partir de la cual, con base en el apellido paterno, se seleccionará a las y los ciudadanos que integrarán las mesas directivas de casilla","INE","CG","2021-02-02","2021-02-02",null,null,{"$f":"VLOOKUP(P2111,Campos!$B$2:$C$7,2,FALSE)","v":0},"Sin información"]
[2106,13,"Hidalgo",6,"Integración de las Mesas Directivas de Casilla","6.10",10,"Entrega de la Lista Nominal de Electores para el Procedimiento de la Primera insaculación con corte al 15 de enero de 2021.","INE","DERFE/UNICOM","2021-01-21","2021-01-26",null,null,{"$f":"VLOOKUP(P2112,Campos!$B$2:$C$7,2,FALSE)","v":0},"Sin información"]
[2107,13,"Hidalgo",6,"Integración de las Mesas Directivas de Casilla","6.11",11,"Primera insaculación","INE","JDE","2021-02-06","2021-02-06",null,null,{"$f":"VLOOKUP(P2113,Campos!$B$2:$C$7,2,FALSE)","v":0},"Sin información"]
[2108,13,"Hidalgo",6,"Integración de las Mesas Directivas de Casilla","6.12",12,"Primera etapa de capacitación a las personas insaculadas","INE","CD","2021-02-09","2021-03-31",null,null,{"$f":"VLOOKUP(P2114,Campos!$B$2:$C$7,2,FALSE)","v":0},"Sin información"]
[2109,13,"Hidalgo",6,"Integración de las Mesas Directivas de Casilla","6.13",13,"Integración de la lista de ciudadanos y ciudadanas que cumplen los requisitos legales para integrar las mesas directivas de casilla","INE","CD","2021-02-09","2021-03-31",null,null,{"$f":"VLOOKUP(P2115,Campos!$B$2:$C$7,2,FALSE)","v":0},"Sin información"]
[2110,13,"Hidalgo",6,"Integración de las Mesas Directivas de Casilla","6.14",14,"Segunda insaculación y designación de funcionarios para mesas directivas de casilla","INE","CD","2021-04-08","2021-04-08",null,null,{"$f":"VLOOKUP(P2116,Campos!$B$2:$C$7,2,FALSE)","v":0},"Sin información"]
[2111,13,"Hidalgo",6,"Integración de las Mesas Directivas de Casilla","6.15",15,"Segunda etapa de capacitación a funcionarios de mesa directiva de casilla y simulacros","INE","CD","2021-04-18","2021-06-05",null,null,{"$f":"VLOOKUP(P2117,Campos!$B$2:$C$7,2,FALSE)","v":0},"Sin información"]
[2112,13,"Hidalgo",6,"Integración de las Mesas Directivas de Casilla","6.16",16,"Entrega de reconocimientos a funcionarios de mesas directivas de casilla","INE","CD","2021-06-07","2021-06-12",null,null,{"$f":"VLOOKUP(P2118,Campos!$B$2:$C$7,2,FALSE)","v":0},"Sin información"]
[2113,13,"Hidalgo",6,"Integración de las Mesas Directivas de Casilla","6.17",17,"Periodo para contratación de CAE locales","INE/OPL","INE/OPL","Por definir","Por definir",null,null,{"$f":"VLOOKUP(P2119,Campos!$B$2:$C$7,2,FALSE)","v":0},"Sin información"]
[2114,13,"Hidalgo",7,"Fiscalización de los recursos de los Partidos Políticos y candidaturas independientes","7.2",2,"Aprobación de topes de gastos de precampaña Diputaciones","OPL","CG","2020-09-01","2020-09-30",null,null,{"$f":"VLOOKUP(P2120,Campos!$B$2:$C$7,2,FALSE)","v":0},"Sin información"]
[2115,13,"Hidalgo",7,"Fiscalización de los recursos de los Partidos Políticos y candidaturas independientes","7.5",5,"Aprobación de los límites de financiamiento privado, aportaciones de militantes, simpatizantes y precandidatos o candidatos; así como el límite individual de aportaciones para Diputaciones","OPL","CG","2020-10-01","2020-10-30",null,null,{"$f":"VLOOKUP(P2121,Campos!$B$2:$C$7,2,FALSE)","v":0},"Sin información"]
[2116,13,"Hidalgo",7,"Fiscalización de los recursos de los Partidos Políticos y candidaturas independientes","7.8",8,"Aprobación de topes de gastos para el periodo de obtención del apoyo ciudadano para Diputaciones","OPL","CG","2020-10-01","2020-10-30",null,null,{"$f":"VLOOKUP(P2122,Campos!$B$2:$C$7,2,FALSE)","v":0},"Sin información"]
[2117,13,"Hidalgo",7,"Fiscalización de los recursos de los Partidos Políticos y candidaturas independientes","7.11",11,"Precampaña para Diputaciones","OPL","CG","2021-01-14","2021-02-22",null,null,{"$f":"VLOOKUP(P2123,Campos!$B$2:$C$7,2,FALSE)","v":0},"Sin información"]
[2118,13,"Hidalgo",7,"Fiscalización de los recursos de los Partidos Políticos y candidaturas independientes","7.14",14,"Aprobación de topes de gastos de campaña para Diputaciones","OPL","CG","2021-01-01","2021-03-19",null,null,{"$f":"VLOOKUP(P2124,Campos!$B$2:$C$7,2,FALSE)","v":0},"Sin información"]
[2119,13,"Hidalgo",7,"Fiscalización de los recursos de los Partidos Políticos y candidaturas independientes","7.17",17,"Campaña para Diputaciones","OPL","CG","2021-04-04","2021-06-02",null,null,{"$f":"VLOOKUP(P2125,Campos!$B$2:$C$7,2,FALSE)","v":0},"Sin información"]
[2120,13,"Hidalgo",8,"Candidaturas Independientes","8.1",1,"Emisión de la convocatoria para la ciudadanía interesada en participar en Candidaturas Independientes ","OPL","CG","2020-10-01","2020-10-30",null,null,{"$f":"VLOOKUP(P2126,Campos!$B$2:$C$7,2,FALSE)","v":0},"Sin información"]
[2121,13,"Hidalgo",8,"Candidaturas Independientes","8.3",3,"Recepción de escrito de intención y documentación anexa de la ciudadanía que aspire a la candidatura independiente para Diputaciones","OPL","OD","2020-11-02","2021-01-23",null,null,{"$f":"VLOOKUP(P2127,Campos!$B$2:$C$7,2,FALSE)","v":0},"Sin información"]
[2122,13,"Hidalgo",8,"Candidaturas Independientes","8.6",6,"Resolución sobre procedencia de manifestación de intención de aspirantes a candidaturas independientes para Diputaciones","OPL","CG","2021-01-24","2021-01-26",null,null,{"$f":"VLOOKUP(P2128,Campos!$B$2:$C$7,2,FALSE)","v":0},"Sin información"]
[2123,13,"Hidalgo",8,"Candidaturas Independientes","8.9",9,"Plazo para obtener el apoyo ciudadano de las candidaturas independientes para Diputaciones","OPL","OD","2021-01-27","2021-03-12",null,null,{"$f":"VLOOKUP(P2129,Campos!$B$2:$C$7,2,FALSE)","v":0},"Sin información"]
[2124,13,"Hidalgo",8,"Candidaturas Independientes","8.12",12,"Plazo para otorgar las constancias de porcentaje a favor de aspirantes a la candidatura independiente para Diputaciones","OPL","CG","2021-03-13","2021-03-19",null,null,{"$f":"VLOOKUP(P2130,Campos!$B$2:$C$7,2,FALSE)","v":0},"Sin información"]
[2125,13,"Hidalgo",9,"Candidaturas","9.1",1,"Registro de plataformas electorales","OPL","CG","2020-12-16","2020-12-30",null,null,{"$f":"VLOOKUP(P2131,Campos!$B$2:$C$7,2,FALSE)","v":0},"Sin información"]
[2126,13,"Hidalgo",9,"Candidaturas","9.3",3,"Solicitud de registro de convenio de coalición para Diputaciones","OPL","CG","2020-12-15","2021-01-14",null,null,{"$f":"VLOOKUP(P2132,Campos!$B$2:$C$7,2,FALSE)","v":0},"Sin información"]
[2127,13,"Hidalgo",9,"Candidaturas","9.6",6,"Resolución sobre Convenio de Coalición para Diputaciones","OPL","CG","2020-12-25","2021-01-24",null,null,{"$f":"VLOOKUP(P2133,Campos!$B$2:$C$7,2,FALSE)","v":0},"Sin información"]
[2128,13,"Hidalgo",9,"Candidaturas","9.9",9,"Solicitud de registro de Candidaturas para Diputaciones","OPL","CG/OD","2021-03-20","2021-03-24",null,null,{"$f":"VLOOKUP(P2134,Campos!$B$2:$C$7,2,FALSE)","v":0},"Sin información"]
[2129,13,"Hidalgo",9,"Candidaturas","9.14",14,"Resolución para aprobar las candidaturas para Diputaciones","OPL","CG","2021-04-03","2021-04-03",null,null,{"$f":"VLOOKUP(P2135,Campos!$B$2:$C$7,2,FALSE)","v":0},"Sin información"]
[2130,13,"Hidalgo",9,"Candidaturas","9.18",18,"Solicitud de registro de candidaturas comunes para Diputaciones ","OPL","CG/OD","2021-02-23","2021-03-05",null,null,{"$f":"VLOOKUP(P2136,Campos!$B$2:$C$7,2,FALSE)","v":0},"Sin información"]
[2131,13,"Hidalgo",9,"Candidaturas","9.21",21,"Resolución para aprobar las candidaturas comunes para Diputaciones ","OPL","CG/OD","2021-02-28","2021-03-14",null,null,{"$f":"VLOOKUP(P2137,Campos!$B$2:$C$7,2,FALSE)","v":0},"Sin información"]
[2132,13,"Hidalgo",10,"Debates","10.2",2,"Realización de debate(s)","OPL","CG","Por definir","Por definir",null,null,{"$f":"VLOOKUP(P2138,Campos!$B$2:$C$7,2,FALSE)","v":0},"Sin información"]
[2133,13,"Hidalgo",11,"Documentación y material electoral","11.1",1,"Entrega a la Junta Local Ejecutiva del INE, de los diseños y especificaciones técnicas de la documentación y materiales electorales, en medios impresos y electrónicos","OPL","CG","2020-09-01","2020-09-30",null,null,{"$f":"VLOOKUP(P2139,Campos!$B$2:$C$7,2,FALSE)","v":0},"Sin información"]
[2134,13,"Hidalgo",11,"Documentación y material electoral","11.2",2,"Revisión de los documentos y materiales electorales y especificaciones técnicas, presentadas por el OPL","INE","JLE","2020-09-15","2020-12-16",null,null,{"$f":"VLOOKUP(P2140,Campos!$B$2:$C$7,2,FALSE)","v":0},"Sin información"]
[2135,13,"Hidalgo",11,"Documentación y material electoral","11.3",3,"En su caso, atención y presentación, de los cambios pertinentes, conforme a las observaciones emitidas por la Junta Local Ejecutiva del INE","OPL","CG","2020-09-15","2020-12-16",null,null,{"$f":"VLOOKUP(P2141,Campos!$B$2:$C$7,2,FALSE)","v":0},"Sin información"]
[2136,13,"Hidalgo",11,"Documentación y material electoral","11.4",4,"Validación de los documentos y materiales electorales y especificaciones técnicas, con las observaciones subsanadas","INE","DEOE","2020-10-28","2020-12-18",null,null,{"$f":"VLOOKUP(P2142,Campos!$B$2:$C$7,2,FALSE)","v":0},"Sin información"]
[2137,13,"Hidalgo",11,"Documentación y material electoral","11.5",5,"Entrega a la Dirección Ejecutiva de Organización Electoral del INE, del Reporte único sobre la aprobación y adjudicación de los documentos y materiales electorales del OPL, en medios electrónicos","OPL","CG","2021-02-01","2021-02-26",null,null,{"$f":"VLOOKUP(P2143,Campos!$B$2:$C$7,2,FALSE)","v":0},"Sin información"]
[2138,13,"Hidalgo",11,"Documentación y material electoral","11.6",6,"Revisión y en su caso validación, del Reporte único sobre la aprobación y adjudicación de los documentos y materiales electorales del OPL, en medios electrónicos","INE","DEOE","2021-02-15","2021-03-12",null,null,{"$f":"VLOOKUP(P2144,Campos!$B$2:$C$7,2,FALSE)","v":0},"Sin información"]
[2139,13,"Hidalgo",11,"Documentación y material electoral","11.7",7,"Entrega  a la Dirección Ejecutiva de Organización Electoral del INE, del Reporte semanal sobre el avance en la producción de los documentos y materiales electorales del OPL, en medios electrónicos.","OPL","CG","2021-03-15","2021-05-22",null,null,{"$f":"VLOOKUP(P2145,Campos!$B$2:$C$7,2,FALSE)","v":0},"Sin información"]
[2140,13,"Hidalgo",11,"Documentación y material electoral","11.8",8,"Aprobación de la documentación y material electoral","OPL","CG","2020-11-11","2020-12-31",null,null,{"$f":"VLOOKUP(P2146,Campos!$B$2:$C$7,2,FALSE)","v":0},"Sin información"]
[2141,13,"Hidalgo",11,"Documentación y material electoral","11.9",9,"Entrega a la Dirección Ejecutiva de Organización Electoral del INE, del Reporte con los resultados de las verificaciones de las medidas de seguridad en la documentación electoral","OPL","CG","2021-05-27","2021-06-11",null,null,{"$f":"VLOOKUP(P2147,Campos!$B$2:$C$7,2,FALSE)","v":0},"Sin información"]
[2142,13,"Hidalgo",11,"Documentación y material electoral","11.10",10,"Supervisiones respecto de los procedimientos de impresión y producción de la documentación y materiales electorales","INE","DEOE","2021-03-15","2021-05-22",null,null,{"$f":"VLOOKUP(P2148,Campos!$B$2:$C$7,2,FALSE)","v":0},"Sin información"]
[2143,13,"Hidalgo",11,"Documentación y material electoral","11.11",11,"Designación de la persona responsable de llevar el control sobre la asignación de los folios de las boletas que se distribuirán en cada mesa directiva de casilla","OPL","CG","2021-03-01","2021-03-30",null,null,{"$f":"VLOOKUP(P2149,Campos!$B$2:$C$7,2,FALSE)","v":0},"Sin información"]
[2144,13,"Hidalgo",11,"Documentación y material electoral","11.12",12,"Aprobación de SE y CAE, así como de personal que auxiliará en el procedimiento de conteo, sellado y agrupamiento de las boletas electorales; así como la integración de documentación para las casillas","OPL","CG","2021-04-24","2021-05-11",null,null,{"$f":"VLOOKUP(P2150,Campos!$B$2:$C$7,2,FALSE)","v":0},"Sin información"]
[2145,13,"Hidalgo",11,"Documentación y material electoral","11.13",13,"Recepción de las boletas electorales por el órgano competente que realizará el conteo, sellado y agrupamiento","OPL","CG","2021-05-18","2021-05-22",null,null,{"$f":"VLOOKUP(P2151,Campos!$B$2:$C$7,2,FALSE)","v":0},"Sin información"]
[2146,13,"Hidalgo",11,"Documentación y material electoral","11.14",14,"Conteo, sellado y agrupamiento de boletas","OPL","CG","2021-05-18","2021-05-28",null,null,{"$f":"VLOOKUP(P2152,Campos!$B$2:$C$7,2,FALSE)","v":0},"Sin información"]
[2147,13,"Hidalgo",11,"Documentación y material electoral","11.15",15,"Distribución de la documentación y materiales electorales a las y los Presidentes de mesas directivas de casilla","OPL","OD","2021-05-31","2021-06-04",null,null,{"$f":"VLOOKUP(P2153,Campos!$B$2:$C$7,2,FALSE)","v":0},"Sin información"]
[2148,13,"Hidalgo",11,"Documentación y material electoral","11.16",16,"Remisión de los recibos de la entrega de la documentación y materiales electorales al Consejo General del OPL","INE","JLE","2021-06-24","2021-06-30",null,null,{"$f":"VLOOKUP(P2154,Campos!$B$2:$C$7,2,FALSE)","v":0},"Sin información"]
[2149,13,"Hidalgo",12,"Jornada Electoral","12.1",1,"Aprobación del Programa de Operación del SIJE 2021","INE","CCOE","2020-07-01","2020-07-31",null,null,{"$f":"VLOOKUP(P2155,Campos!$B$2:$C$7,2,FALSE)","v":0},"Sin información"]
[2150,13,"Hidalgo",12,"Jornada Electoral","12.2",2,"Aprobación de las metas del SIJE 2021","INE","CG","2021-03-01","2021-03-31",null,null,{"$f":"VLOOKUP(P2156,Campos!$B$2:$C$7,2,FALSE)","v":0},"Sin información"]
[2151,13,"Hidalgo",12,"Jornada Electoral","12.3",3,"Realización de pruebas del SIJE 2021","INE","DEOE","2021-04-01","2021-04-15",null,null,{"$f":"VLOOKUP(P2157,Campos!$B$2:$C$7,2,FALSE)","v":0},"Sin información"]
[2152,13,"Hidalgo",12,"Jornada Electoral","12.4",4,"Desarrollo del primer simulacro del SIJE","INE/OPL","DEOE/OD","2021-04-29","2021-04-29",null,null,{"$f":"VLOOKUP(P2158,Campos!$B$2:$C$7,2,FALSE)","v":0},"Sin información"]
[2153,13,"Hidalgo",12,"Jornada Electoral","12.5",5,"Desarrollo del segundo simulacro del SIJE","INE/OPL","DEOE/OD","2021-05-09","2021-05-09",null,null,{"$f":"VLOOKUP(P2159,Campos!$B$2:$C$7,2,FALSE)","v":0},"Sin información"]
[2154,13,"Hidalgo",12,"Jornada Electoral","12.6",6,"Desarrollo del tercer simulacro del SIJE","INE/OPL","DEOE/OD","2021-05-23","2021-05-23",null,null,{"$f":"VLOOKUP(P2160,Campos!$B$2:$C$7,2,FALSE)","v":0},"Sin información"]
[2155,13,"Hidalgo",12,"Jornada Electoral","12.7",7,"Jornada Electoral","OPL","CG/OD","2021-06-06","2021-06-06",null,null,{"$f":"VLOOKUP(P2161,Campos!$B$2:$C$7,2,FALSE)","v":0},"Sin información"]
[2156,13,"Hidalgo",13,"Bodegas electorales","13.1",1,"Determinación de los lugares que ocuparán las bodegas electorales para el resguardo de la documentación electoral","OPL","CG","2021-02-01","2021-02-28",null,null,{"$f":"VLOOKUP(P2162,Campos!$B$2:$C$7,2,FALSE)","v":0},"Sin información"]
[2157,13,"Hidalgo",13,"Bodegas electorales","13.2",2,"Informe que rinden las y los Presidentes sobre las condiciones de equipamiento, mecanismos de operación y medidas de seguridad de las bodegas electorales","OPL","OD","2021-03-01","2021-03-31",null,null,{"$f":"VLOOKUP(P2163,Campos!$B$2:$C$7,2,FALSE)","v":0},"Sin información"]
[2158,13,"Hidalgo",13,"Bodegas electorales","13.3",3,"Designación, por parte del órgano competente del OPL, del personal que tendrá acceso a la bodega electoral","OPL","CG/OD","2021-03-01","2021-03-30",null,null,{"$f":"VLOOKUP(P2164,Campos!$B$2:$C$7,2,FALSE)","v":0},"Sin información"]
[2159,13,"Hidalgo",13,"Bodegas electorales","13.4",4,"Envío a la UTVOPL, por conducto de la JLE, el informe sobre las condiciones que guardan las bodegas electorales","OPL","CG","2021-04-04","2021-04-10",null,null,{"$f":"VLOOKUP(P2165,Campos!$B$2:$C$7,2,FALSE)","v":0},"Sin información"]
[2160,13,"Hidalgo",14,"Mecanismos de recolección","14.1",1,"Entrega de estudios de factibilidad al OPL","INE","CL","2021-03-15","2021-03-31",null,null,{"$f":"VLOOKUP(P2166,Campos!$B$2:$C$7,2,FALSE)","v":0},"Sin información"]
[2161,13,"Hidalgo",14,"Mecanismos de recolección","14.2",2,"Entrega de observaciones a los estudios de factibilidad ","OPL","CG","2021-04-01","2021-04-24",null,null,{"$f":"VLOOKUP(P2167,Campos!$B$2:$C$7,2,FALSE)","v":0},"Sin información"]
[2162,13,"Hidalgo",14,"Mecanismos de recolección","14.3",3,"Recorridos para verificar las propuestas de los mecanismos de recolección","INE/OPL","CD/OD","2021-03-16","2021-04-24",null,null,{"$f":"VLOOKUP(P2168,Campos!$B$2:$C$7,2,FALSE)","v":0},"Sin información"]
[2163,13,"Hidalgo",14,"Mecanismos de recolección","14.4",4,"Aprobación de los mecanismos de recolección ","INE","CD","2021-04-26","2021-04-30",null,null,{"$f":"VLOOKUP(P2169,Campos!$B$2:$C$7,2,FALSE)","v":0},"Sin información"]
[2164,13,"Hidalgo",14,"Mecanismos de recolección","14.5",5,"Traslado y recolección de los paquetes electorales","INE/OPL","CD/OD","2021-06-06","2021-06-07",null,null,{"$f":"VLOOKUP(P2170,Campos!$B$2:$C$7,2,FALSE)","v":0},"Sin información"]
[2165,13,"Hidalgo",14,"Mecanismos de recolección","14.6",6,"Acreditación de representantes de partidos políticos y candidaturas independientes ante los mecanismos de recolección","INE","CL/CD","2021-04-27","2021-06-03",null,null,{"$f":"VLOOKUP(P2171,Campos!$B$2:$C$7,2,FALSE)","v":0},"Sin información"]
[2166,13,"Hidalgo",14,"Mecanismos de recolección","14.7",7,"Sustitución de representantes de partidos políticos y candidaturas independientes ante los mecanismos de recolección","INE","CL/CD","2021-04-28","2021-06-04",null,null,{"$f":"VLOOKUP(P2172,Campos!$B$2:$C$7,2,FALSE)","v":0},"Sin información"]
[2167,13,"Hidalgo",14,"Mecanismos de recolección","14.8",8,"Entrega a la JLE, el informe sobre la recepción de paquetes electorales en los órganos competentes","OPL","CG","2021-06-06","2021-06-28",null,null,{"$f":"VLOOKUP(P2173,Campos!$B$2:$C$7,2,FALSE)","v":0},"Sin información"]
[2168,13,"Hidalgo",15,"Cómputos","15.1",1,"Aprobación de los lineamientos de cómputo y del cuadernillo de consulta sobre votos válidos y votos nulos","OPL","CG","2021-01-18","2021-01-29",null,null,{"$f":"VLOOKUP(P2174,Campos!$B$2:$C$7,2,FALSE)","v":0},"Sin información"]
[2169,13,"Hidalgo",15,"Cómputos","15.2",2,"Integración por parte de los Órganos Desconcentrados del OPL, de la propuesta para la habilitación de espacios para el recuento de votos con las alternativas para todos los escenarios de cómputo","OPL","OD","2021-03-01","2021-03-07",null,null,{"$f":"VLOOKUP(P2175,Campos!$B$2:$C$7,2,FALSE)","v":0},"Sin información"]
[2170,13,"Hidalgo",15,"Cómputos","15.3",3,"Informe de los escenarios de cómputos de la totalidad de sus órganos desconcentrados","OPL","CG","2021-04-01","2021-04-04",null,null,{"$f":"VLOOKUP(P2176,Campos!$B$2:$C$7,2,FALSE)","v":0},"Sin información"]
[2171,13,"Hidalgo",15,"Cómputos","15.4",4,"Remisión a la JLE en la entidad, las propuestas de escenarios de cómputos, para la dictaminación de viabilidad","OPL","CG","2021-05-01","2021-05-07",null,null,{"$f":"VLOOKUP(P2177,Campos!$B$2:$C$7,2,FALSE)","v":0},"Sin información"]
[2172,13,"Hidalgo",15,"Cómputos","15.5",5,"Remisión de las observaciones a los escenarios de Cómputos al OPL y a su vez informar de las mismas a la UTVOPL","INE","JLE","2021-05-08","2021-05-15",null,null,{"$f":"VLOOKUP(P2178,Campos!$B$2:$C$7,2,FALSE)","v":0},"Sin información"]
[2173,13,"Hidalgo",15,"Cómputos","15.7",7,"Aprobación por parte del órgano competente del OPL, del acuerdo mediante el cual se designa al personal que participará en las tareas de apoyo a los Cómputos Distritales ","OPL","CG/OD","2021-04-26","2021-05-05",null,null,{"$f":"VLOOKUP(P2179,Campos!$B$2:$C$7,2,FALSE)","v":0},"Sin información"]
[2174,13,"Hidalgo",15,"Cómputos","15.8",8,"Aprobación por parte de los órganos competentes del OPL, de los distintos escenarios de cómputos","OPL","OD","2021-05-08","2021-05-15",null,null,{"$f":"VLOOKUP(P2180,Campos!$B$2:$C$7,2,FALSE)","v":0},"Sin información"]
[2175,13,"Hidalgo",15,"Cómputos","15.9",9,"Aprobación por parte del órgano competente del OPL, del acuerdo por el que se habilitarán espacios para la instalación de grupos de trabajo y, en su caso, puntos de recuento","OPL","CG/OD","2021-06-08","2021-06-08",null,null,{"$f":"VLOOKUP(P2181,Campos!$B$2:$C$7,2,FALSE)","v":0},"Sin información"]
[2176,13,"Hidalgo",15,"Cómputos","15.10",10,"Cómputos Distritales","OPL","OD","2021-06-09","2021-06-13",null,null,{"$f":"VLOOKUP(P2182,Campos!$B$2:$C$7,2,FALSE)","v":0},"Sin información"]
[2177,13,"Hidalgo",15,"Cómputos","15.14",14,"Cómputo Estatal para la asignación diputaciones de Representación Proporcional","OPL","CG","2021-06-14","2021-09-04",null,null,{"$f":"VLOOKUP(P2183,Campos!$B$2:$C$7,2,FALSE)","v":0},"Sin información"]
[2178,13,"Hidalgo",16,"PREP","16.1",1,"Aprobación del Acuerdo por el que se designa o ratifica a la instancia interna responsable de coordinar el PREP","OPL","CG","2020-09-11","2020-09-11",null,null,{"$f":"VLOOKUP(P2184,Campos!$B$2:$C$7,2,FALSE)","v":0},"Sin información"]
[2179,13,"Hidalgo",16,"PREP","16.2",2,"Aprobación del Acuerdo de Integración del COTAPREP","OPL","CG","2020-11-11","2020-11-11",null,null,{"$f":"VLOOKUP(P2185,Campos!$B$2:$C$7,2,FALSE)","v":0},"Sin información"]
[2180,13,"Hidalgo",16,"PREP","16.3",3,"Documento por el que se determina la implementación del PREP por el OPL o con el apoyo de un Tercero","OPL","CG","2020-12-11","2020-12-11",null,null,{"$f":"VLOOKUP(P2186,Campos!$B$2:$C$7,2,FALSE)","v":0},"Sin información"]
[2181,13,"Hidalgo",16,"PREP","16.4",4,"Aprobación del acuerdo por el que se determina el Proceso Técnico Operativo ","OPL","CG","2021-01-11","2021-01-11",null,null,{"$f":"VLOOKUP(P2187,Campos!$B$2:$C$7,2,FALSE)","v":0},"Sin información"]
[2182,13,"Hidalgo",16,"PREP","16.5",5,"Aprobación del Acuerdo por el que se determina la ubicación, instalación y habilitación de los CATD y, en su caso, CCV","OPL","CG","2021-02-11","2021-02-11",null,null,{"$f":"VLOOKUP(P2188,Campos!$B$2:$C$7,2,FALSE)","v":0},"Sin información"]
[2183,13,"Hidalgo",16,"PREP","16.7",7,"Instrumento jurídico celebrado entre el OPL y el ente auditor","OPL","CG","2021-03-11","2021-03-11",null,null,{"$f":"VLOOKUP(P2189,Campos!$B$2:$C$7,2,FALSE)","v":0},"Sin información"]
[2184,13,"Hidalgo",16,"PREP","16.6",6,"Documento de Designación del Ente Auditor ","OPL","CG","2021-02-11","2021-02-11",null,null,{"$f":"VLOOKUP(P2190,Campos!$B$2:$C$7,2,FALSE)","v":0},"Sin información"]
[2185,13,"Hidalgo",16,"PREP","16.8",8,"Realización del primer simulacro del PREP","OPL","CG","2021-05-16","2021-05-16",null,null,{"$f":"VLOOKUP(P2191,Campos!$B$2:$C$7,2,FALSE)","v":0},"Sin información"]
[2186,13,"Hidalgo",16,"PREP","16.9",9,"Realización del segundo simulacro del PREP","OPL","CG","2021-05-23","2021-05-23",null,null,{"$f":"VLOOKUP(P2192,Campos!$B$2:$C$7,2,FALSE)","v":0},"Sin información"]
[2187,13,"Hidalgo",16,"PREP","16.10",10,"Realización del tercer simulacro del PREP","OPL","CG","2021-05-30","2021-05-30",null,null,{"$f":"VLOOKUP(P2193,Campos!$B$2:$C$7,2,FALSE)","v":0},"Sin información"]
[2188,13,"Hidalgo",16,"PREP","16.11",11,"Operación del PREP","OPL","CG","2021-06-06","2021-06-07",null,null,{"$f":"VLOOKUP(P2194,Campos!$B$2:$C$7,2,FALSE)","v":0},"Sin información"]
[2189,13,"Hidalgo",19,"Visitantes extranjeros","19.1",1,"Emisión de la Convocatoria para visitantes extranjeros","OPL ","CG","2020-08-03","2020-09-30",null,null,{"$f":"VLOOKUP(P2195,Campos!$B$2:$C$7,2,FALSE)","v":0},"Sin información"]
[2190,13,"Hidalgo",19,"Visitantes extranjeros","19.2",2,"Difusión de la Convocatoria para visitantes extranjeros","INE","CAI","2020-09-01","2021-05-26",null,null,{"$f":"VLOOKUP(P2196,Campos!$B$2:$C$7,2,FALSE)","v":0},"Sin información"]
[2191,13,"Hidalgo",19,"Visitantes extranjeros","19.3",3,"Recepción de solicitudes de acreditación como visitantes extranjeros","INE","CAI","2020-09-01","2021-05-26",null,null,{"$f":"VLOOKUP(P2197,Campos!$B$2:$C$7,2,FALSE)","v":0},"Sin información"]
[2192,13,"Hidalgo",19,"Visitantes extranjeros","19.4",4,"Resolución de solicitudes de acreditación como visitantes extranjeros","INE","CAI","2020-09-02","2021-05-30",null,null,{"$f":"VLOOKUP(P2198,Campos!$B$2:$C$7,2,FALSE)","v":0},"Sin información"]
[2193,13,"Hidalgo",19,"Visitantes extranjeros","19.5",5,"Entrega de acreditaciones a los visitantes extranjeros","INE","CAI","2020-09-04","2021-06-05",null,null,{"$f":"VLOOKUP(P2199,Campos!$B$2:$C$7,2,FALSE)","v":0},"Sin información"]
[2194,14,"Jalisco",1,"Mecanismos de coordinación","1.1",1,"Aprobar Calendarios y Planes Integrales de los Procesos Electorales Locales","INE","CG","2020-08-01","2020-08-07",null,null,{"$f":"VLOOKUP(P2200,Campos!$B$2:$C$7,2,FALSE)","v":0},"Sin información"]
[2195,14,"Jalisco",1,"Mecanismos de coordinación","1.2",2,"Firma del Convenio General de Coordinación y Colaboración 2020-2021","INE/OPL","INE/OPL","2020-09-01","2020-10-01",null,null,{"$f":"VLOOKUP(P2201,Campos!$B$2:$C$7,2,FALSE)","v":0},"Sin información"]
[2196,14,"Jalisco",1,"Mecanismos de coordinación","1.3",3,"Elaborar un plan de trabajo conjunto para la promoción de la participación ciudadana","INE/OPL","INE/OPL","2020-09-01","2020-12-31",null,null,{"$f":"VLOOKUP(P2202,Campos!$B$2:$C$7,2,FALSE)","v":0},"Sin información"]
[2197,14,"Jalisco",1,"Mecanismos de coordinación","1.4",4,"Sesión para dar inicio al PEL","OPL","CG","2021-01-04","2021-01-04",null,null,{"$f":"VLOOKUP(P2203,Campos!$B$2:$C$7,2,FALSE)","v":0},"Sin información"]
[2198,14,"Jalisco",1,"Mecanismos de coordinación","1.5",5,"Implementar un plan de trabajo conjunto para la promoción de la participación ciudadana","INE/OPL","INE/OPL","2021-02-01","2021-06-06",null,null,{"$f":"VLOOKUP(P2204,Campos!$B$2:$C$7,2,FALSE)","v":0},"Sin información"]
[2199,14,"Jalisco",2,"Integración de órganos desconcentrados","2.1",1,"Convocatoria para la integración de los Órganos Distritales","OPL","CG","2020-12-01","2020-12-30",null,null,{"$f":"VLOOKUP(P2205,Campos!$B$2:$C$7,2,FALSE)","v":0},"Sin información"]
[2200,14,"Jalisco",2,"Integración de órganos desconcentrados","2.2",2,"Sesión en la que se designan e integran los Órganos Distritales ","OPL","CG","2021-01-05","2021-01-05",null,null,{"$f":"VLOOKUP(P2206,Campos!$B$2:$C$7,2,FALSE)","v":0},"Sin información"]
[2201,14,"Jalisco",2,"Integración de órganos desconcentrados","2.3",3,"Instalación de los Órganos Distritales ","OPL","OD","2021-01-05","2021-01-11",null,null,{"$f":"VLOOKUP(P2207,Campos!$B$2:$C$7,2,FALSE)","v":0},"Sin información"]
[2202,14,"Jalisco",2,"Integración de órganos desconcentrados","2.4",4,"Convocatoria para la integración de los Órganos Municipales ","OPL","CG","2020-12-01","2020-12-30",null,null,{"$f":"VLOOKUP(P2208,Campos!$B$2:$C$7,2,FALSE)","v":0},"Sin información"]
[2203,14,"Jalisco",2,"Integración de órganos desconcentrados","2.5",5,"Sesión en la que se designan e integran los Órganos Municipales ","OPL","CG","2021-04-20","2021-04-28",null,null,{"$f":"VLOOKUP(P2209,Campos!$B$2:$C$7,2,FALSE)","v":0},"Sin información"]
[2204,14,"Jalisco",2,"Integración de órganos desconcentrados","2.6",6,"Instalación de los Órganos Municipales ","OPL","OD","2021-04-30","2021-04-30",null,null,{"$f":"VLOOKUP(P2210,Campos!$B$2:$C$7,2,FALSE)","v":0},"Sin información"]
[2205,14,"Jalisco",2,"Integración de órganos desconcentrados","2.7",7,"Designación y/o ratificación de las y los Consejeros Electorales del Consejo Local ","INE","CG","2020-10-01","2020-10-15",null,null,{"$f":"VLOOKUP(P2211,Campos!$B$2:$C$7,2,FALSE)","v":0},"Sin información"]
[2206,14,"Jalisco",2,"Integración de órganos desconcentrados","2.8",8,"Instalación del Consejo Local","INE","CL","2020-11-01","2020-11-30",null,null,{"$f":"VLOOKUP(P2212,Campos!$B$2:$C$7,2,FALSE)","v":0},"Sin información"]
[2207,14,"Jalisco",2,"Integración de órganos desconcentrados","2.9",9,"Designación y/o ratificación de las y los Consejeros Electorales de los Consejos Distritales ","INE","CL","2020-11-01","2020-11-30",null,null,{"$f":"VLOOKUP(P2213,Campos!$B$2:$C$7,2,FALSE)","v":0},"Sin información"]
[2208,14,"Jalisco",2,"Integración de órganos desconcentrados","2.10",10,"Instalación de los Consejos Distritales","INE","CD","2020-12-01","2020-12-15",null,null,{"$f":"VLOOKUP(P2214,Campos!$B$2:$C$7,2,FALSE)","v":0},"Sin información"]
[2209,14,"Jalisco",3,"Lista Nominal de Electores","3.1",1,"Generación y entrega de la Lista Nominal de Electores para Revisión en medios ópticos a los representantes de los partidos políticos, y en su caso a las candidaturas independientes acreditados ante el OPL, para observaciones","INE","DERFE","2021-02-15","2021-02-15",null,null,{"$f":"VLOOKUP(P2215,Campos!$B$2:$C$7,2,FALSE)","v":0},"Sin información"]
[2210,14,"Jalisco",3,"Lista Nominal de Electores","3.2",2,"Recepción de observaciones de los partidos políticos y en su caso, candidatos independientes, a la Lista Nominal de Electores para revisión","INE/OPL","DERFE","2021-03-14","2021-03-14",null,null,{"$f":"VLOOKUP(P2216,Campos!$B$2:$C$7,2,FALSE)","v":0},"Sin información"]
[2211,14,"Jalisco",3,"Lista Nominal de Electores","3.3",3,"Entrega en formato digital el informe respecto de la atención a las observaciones formuladas a la Lista Nominal de Electores para Revisión","INE","DERFE","2021-04-15","2021-04-15",null,null,{"$f":"VLOOKUP(P2217,Campos!$B$2:$C$7,2,FALSE)","v":0},"Sin información"]
[2212,14,"Jalisco",3,"Lista Nominal de Electores","3.4",4,"Entrega de la Lista Nominal de Electores Definitiva con fotografía","INE","DERFE","2021-05-06","2021-05-14",null,null,{"$f":"VLOOKUP(P2218,Campos!$B$2:$C$7,2,FALSE)","v":0},"Sin información"]
[2213,14,"Jalisco",3,"Lista Nominal de Electores","3.5",5,"Fecha de entrega de la Lista Nominal de Electores con fotografía Producto de Instancias Administrativas y Resoluciones del Tribunal (ADENDA)","INE","DERFE","2021-05-19","2021-05-24",null,null,{"$f":"VLOOKUP(P2219,Campos!$B$2:$C$7,2,FALSE)","v":0},"Sin información"]
[2214,14,"Jalisco",4,"Observación Electoral","4.1",1,"Emisión de la convocatoria para la ciudadanía que desee participar en la observación electoral","OPL","CG","2021-01-04","2021-01-04",null,null,{"$f":"VLOOKUP(P2220,Campos!$B$2:$C$7,2,FALSE)","v":0},"Sin información"]
[2215,14,"Jalisco",4,"Observación Electoral","4.2",2,"Recepción de solicitudes de la ciudadanía que desee participar en observación electoral","INE/OPL","OPL/JLE/JDE","2021-01-04","2021-04-30",null,null,{"$f":"VLOOKUP(P2221,Campos!$B$2:$C$7,2,FALSE)","v":0},"Sin información"]
[2216,14,"Jalisco",4,"Observación Electoral","4.3",3,"Impartición de los cursos de capacitación, preparación o información","INE/OPL","OPL/JLE/JDE","2021-01-04","2021-05-17",null,null,{"$f":"VLOOKUP(P2222,Campos!$B$2:$C$7,2,FALSE)","v":0},"Sin información"]
[2217,14,"Jalisco",4,"Observación Electoral","4.4",4,"Acreditación de la ciudadanía como observadores u observadoras electorales","INE","CL/CD","2021-01-04","2021-06-05",null,null,{"$f":"VLOOKUP(P2223,Campos!$B$2:$C$7,2,FALSE)","v":0},"Sin información"]
[2218,14,"Jalisco",4,"Observación Electoral","4.5",5,"Seguimiento a los informes mensuales de acreditación","INE","CG","2021-01-04","2021-07-31",null,null,{"$f":"VLOOKUP(P2224,Campos!$B$2:$C$7,2,FALSE)","v":0},"Sin información"]
[2219,14,"Jalisco",4,"Observación Electoral","4.6",6,"Remisión de materiales de capacitación a la JLE para revisión","OPL","CG","2020-10-08","2020-10-08",null,null,{"$f":"VLOOKUP(P2225,Campos!$B$2:$C$7,2,FALSE)","v":0},"Sin información"]
[2220,14,"Jalisco",4,"Observación Electoral","4.7",7,"Revisión, corrección, verificación y validación de materiales de capacitación para observación electoral ","INE","JLE","2020-10-09","2020-10-30",null,null,{"$f":"VLOOKUP(P2226,Campos!$B$2:$C$7,2,FALSE)","v":0},"Sin información"]
[2221,14,"Jalisco",4,"Observación Electoral","4.8",8,"Entrega de materiales de capacitación para observación electoral entre OPL e INE","INE/OPL","VEL/OPL","2020-11-01","2020-11-23",null,null,{"$f":"VLOOKUP(P2227,Campos!$B$2:$C$7,2,FALSE)","v":0},"Sin información"]
[2222,14,"Jalisco",5,"Ubicación de casillas","5.1",1,"Recorridos por las secciones de los distritos para localizar los lugares donde se ubicarán las casillas","INE/OPL","JDE/OPL","2021-01-15","2021-02-15",null,null,{"$f":"VLOOKUP(P2228,Campos!$B$2:$C$7,2,FALSE)","v":0},"Sin información"]
[2223,14,"Jalisco",5,"Ubicación de casillas","5.2",2,"Presentación a los Consejos Distritales del listado de lugares propuestos para ubicar casillas","INE","JDE","2021-02-24","2021-02-24",null,null,{"$f":"VLOOKUP(P2229,Campos!$B$2:$C$7,2,FALSE)","v":0},"Sin información"]
[2224,14,"Jalisco",5,"Ubicación de casillas","5.3",3,"Visitas de examinación en los lugares propuestos para ubicar casillas básicas, contiguas, especiales y extraordinarias","INE/OPL","CD/OPL","2021-02-25","2021-03-16",null,null,{"$f":"VLOOKUP(P2230,Campos!$B$2:$C$7,2,FALSE)","v":0},"Sin información"]
[2225,14,"Jalisco",5,"Ubicación de casillas","5.4",4,"Aprobación del número y ubicación de casillas extraordinarias y especiales","INE","CD","2021-03-16","2021-03-16",null,null,{"$f":"VLOOKUP(P2231,Campos!$B$2:$C$7,2,FALSE)","v":0},"Sin información"]
[2226,14,"Jalisco",5,"Ubicación de casillas","5.5",5,"Aprobación del número y ubicación de casillas básicas y contiguas","INE","CD","2021-03-25","2021-03-25",null,null,{"$f":"VLOOKUP(P2232,Campos!$B$2:$C$7,2,FALSE)","v":0},"Sin información"]
[2227,14,"Jalisco",5,"Ubicación de casillas","5.6",6,"Entrega de la base de datos de la Lista Nominal Definitiva a UNICOM con corte al 10 de abril","INE","DERFE","2021-04-15","2021-04-16",null,null,{"$f":"VLOOKUP(P2233,Campos!$B$2:$C$7,2,FALSE)","v":0},"Sin información"]
[2228,14,"Jalisco",5,"Ubicación de casillas","5.7",7,"Realizar la primera publicación de la lista de ubicación de casillas en los lugares más concurridos del distrito electoral  y en los medios electrónicos del Instituto","INE","CD","2021-04-15","2021-04-15",null,null,{"$f":"VLOOKUP(P2234,Campos!$B$2:$C$7,2,FALSE)","v":0},"Sin información"]
[2229,14,"Jalisco",5,"Ubicación de casillas","5.8",8,"En su caso, segunda publicación de la lista de ubicación de casillas por causas supervenientes en los lugares más concurridos del distrito y en los medios electrónicos del Instituto","INE","CD","2021-05-15","2021-05-25",null,null,{"$f":"VLOOKUP(P2235,Campos!$B$2:$C$7,2,FALSE)","v":0},"Sin información"]
[2230,14,"Jalisco",5,"Ubicación de casillas","5.9",9,"Publicación de los encartes y difusión en medios electrónicos del Instituto","INE/OPL","DEOE/CG","2021-06-05","2021-06-06",null,null,{"$f":"VLOOKUP(P2236,Campos!$B$2:$C$7,2,FALSE)","v":0},"Sin información"]
[2231,14,"Jalisco",5,"Ubicación de casillas","5.10",10,"Registro de representantes generales y ante mesas directivas de casilla","INE","CD","2021-04-16","2021-05-24",null,null,{"$f":"VLOOKUP(P2237,Campos!$B$2:$C$7,2,FALSE)","v":0},"Sin información"]
[2232,14,"Jalisco",5,"Ubicación de casillas","5.11",11,"Sustitución de representantes generales y ante mesas directivas de casilla","INE","CD","2021-04-16","2021-05-27",null,null,{"$f":"VLOOKUP(P2238,Campos!$B$2:$C$7,2,FALSE)","v":0},"Sin información"]
[2233,14,"Jalisco",5,"Ubicación de casillas","5.12",12,"Entrega de listados de representantes generales y ante casilla al OPL","INE","CD","2021-05-30","2021-05-30",null,null,{"$f":"VLOOKUP(P2239,Campos!$B$2:$C$7,2,FALSE)","v":0},"Sin información"]
[2234,14,"Jalisco",5,"Ubicación de casillas","5.13",13,"Notificación ciudadana de ubicación de casillas en secciones electorales involucradas en la actualización del Marco Geográfico Electoral","INE/OPL","DERFE/OPL","2021-04-01","2021-06-15",null,null,{"$f":"VLOOKUP(P2240,Campos!$B$2:$C$7,2,FALSE)","v":0},"Sin información"]
[2235,14,"Jalisco",6,"Integración de las Mesas Directivas de Casilla","6.1",1,"Aprobación de la Estrategia de Capacitación y Asistencia Electoral","INE","CG","2020-08-01","2020-08-15",null,null,{"$f":"VLOOKUP(P2241,Campos!$B$2:$C$7,2,FALSE)","v":0},"Sin información"]
[2236,14,"Jalisco",6,"Integración de las Mesas Directivas de Casilla","6.2",2,"Entrega para revisión y validación de materiales didácticos de primera etapa","OPL","CG","2020-11-03","2020-11-03",null,null,{"$f":"VLOOKUP(P2242,Campos!$B$2:$C$7,2,FALSE)","v":0},"Sin información"]
[2237,14,"Jalisco",6,"Integración de las Mesas Directivas de Casilla","6.3",3,"Revisión, corrección, verificación y validación de los materiales didácticos de primera etapa","INE/OPL","JLE/DECEYEC/OPL","2020-11-03","2020-12-19",null,null,{"$f":"VLOOKUP(P2243,Campos!$B$2:$C$7,2,FALSE)","v":0},"Sin información"]
[2238,14,"Jalisco",6,"Integración de las Mesas Directivas de Casilla","6.4",4,"Entrega de los materiales impresos de la primera etapa a la JLE","OPL","OPL","2021-02-05","2021-02-05",null,null,{"$f":"VLOOKUP(P2244,Campos!$B$2:$C$7,2,FALSE)","v":0},"Sin información"]
[2239,14,"Jalisco",6,"Integración de las Mesas Directivas de Casilla","6.5",5,"Sorteo del mes del calendario como base para la insaculación de las y los ciudadanos que integrarán las mesas directivas de casilla","INE","CG","2020-12-15","2020-12-19",null,null,{"$f":"VLOOKUP(P2245,Campos!$B$2:$C$7,2,FALSE)","v":0},"Sin información"]
[2240,14,"Jalisco",6,"Integración de las Mesas Directivas de Casilla","6.6",6,"Entrega para revisión y validación de materiales didácticos de segunda etapa","OPL","OPL","2021-02-03","2021-02-03",null,null,{"$f":"VLOOKUP(P2246,Campos!$B$2:$C$7,2,FALSE)","v":0},"Sin información"]
[2241,14,"Jalisco",6,"Integración de las Mesas Directivas de Casilla","6.7",7,"Revisión, corrección, verificación y validación de los materiales didácticos de la segunda etapa","INE/OPL","JLE/DECEYEC/OPL","2021-02-03","2021-03-22",null,null,{"$f":"VLOOKUP(P2247,Campos!$B$2:$C$7,2,FALSE)","v":0},"Sin información"]
[2242,14,"Jalisco",6,"Integración de las Mesas Directivas de Casilla","6.8",8,"Entrega de los materiales impresos de la segunda etapa a la JLE","OPL","OPL","2021-04-05","2021-04-05",null,null,{"$f":"VLOOKUP(P2248,Campos!$B$2:$C$7,2,FALSE)","v":0},"Sin información"]
[2243,14,"Jalisco",6,"Integración de las Mesas Directivas de Casilla","6.9",9,"Sorteo de la letra a partir de la cual, con base en el apellido paterno, se seleccionará a las y los ciudadanos que integrarán las mesas directivas de casilla","INE","CG","2021-02-02","2021-02-02",null,null,{"$f":"VLOOKUP(P2249,Campos!$B$2:$C$7,2,FALSE)","v":0},"Sin información"]
[2244,14,"Jalisco",6,"Integración de las Mesas Directivas de Casilla","6.10",10,"Entrega de la Lista Nominal de Electores para el Procedimiento de la Primera insaculación con corte al 15 de enero de 2021.","INE","DERFE/UNICOM","2021-01-21","2021-01-26",null,null,{"$f":"VLOOKUP(P2250,Campos!$B$2:$C$7,2,FALSE)","v":0},"Sin información"]
[2245,14,"Jalisco",6,"Integración de las Mesas Directivas de Casilla","6.11",11,"Primera insaculación","INE","JDE","2021-02-06","2021-02-06",null,null,{"$f":"VLOOKUP(P2251,Campos!$B$2:$C$7,2,FALSE)","v":0},"Sin información"]
[2246,14,"Jalisco",6,"Integración de las Mesas Directivas de Casilla","6.12",12,"Primera etapa de capacitación a las personas insaculadas","INE","CD","2021-02-09","2021-03-31",null,null,{"$f":"VLOOKUP(P2252,Campos!$B$2:$C$7,2,FALSE)","v":0},"Sin información"]
[2247,14,"Jalisco",6,"Integración de las Mesas Directivas de Casilla","6.13",13,"Integración de la lista de ciudadanos y ciudadanas que cumplen los requisitos legales para integrar las mesas directivas de casilla","INE","CD","2021-02-09","2021-03-31",null,null,{"$f":"VLOOKUP(P2253,Campos!$B$2:$C$7,2,FALSE)","v":0},"Sin información"]
[2248,14,"Jalisco",6,"Integración de las Mesas Directivas de Casilla","6.14",14,"Segunda insaculación y designación de funcionarios para mesas directivas de casilla","INE","CD","2021-04-08","2021-04-08",null,null,{"$f":"VLOOKUP(P2254,Campos!$B$2:$C$7,2,FALSE)","v":0},"Sin información"]
[2249,14,"Jalisco",6,"Integración de las Mesas Directivas de Casilla","6.15",15,"Segunda etapa de capacitación a funcionarios de mesa directiva de casilla y simulacros","INE","CD","2021-04-18","2021-06-05",null,null,{"$f":"VLOOKUP(P2255,Campos!$B$2:$C$7,2,FALSE)","v":0},"Sin información"]
[2250,14,"Jalisco",6,"Integración de las Mesas Directivas de Casilla","6.16",16,"Entrega de reconocimientos a funcionarios de mesas directivas de casilla","INE","CD","2021-06-07","2021-06-12",null,null,{"$f":"VLOOKUP(P2256,Campos!$B$2:$C$7,2,FALSE)","v":0},"Sin información"]
[2251,14,"Jalisco",6,"Integración de las Mesas Directivas de Casilla","6.17",17,"Periodo para contratación de CAE locales","INE/OPL","INE/OPL","Por definir","Por definir",null,null,{"$f":"VLOOKUP(P2257,Campos!$B$2:$C$7,2,FALSE)","v":0},"Sin información"]
[2252,14,"Jalisco",6,"Integración de las Mesas Directivas de Casilla","6.18",18,"Reclutamiento y selección de CAE locales","INE/OPL","INE/OPL","Por definir","Por definir",null,null,{"$f":"VLOOKUP(P2258,Campos!$B$2:$C$7,2,FALSE)","v":0},"Sin información"]
[2253,14,"Jalisco",7,"Fiscalización de los recursos de los Partidos Políticos y candidaturas independientes","7.2",2,"Aprobación de topes de gastos de precampaña Diputaciones","OPL","CG","2021-01-04","2021-01-08",null,null,{"$f":"VLOOKUP(P2259,Campos!$B$2:$C$7,2,FALSE)","v":0},"Sin información"]
[2254,14,"Jalisco",7,"Fiscalización de los recursos de los Partidos Políticos y candidaturas independientes","7.3",3,"Aprobación de topes de gastos de precampaña Ayuntamientos","OPL","CG","2021-01-04","2021-01-08",null,null,{"$f":"VLOOKUP(P2260,Campos!$B$2:$C$7,2,FALSE)","v":0},"Sin información"]
[2255,14,"Jalisco",7,"Fiscalización de los recursos de los Partidos Políticos y candidaturas independientes","7.5",5,"Aprobación de los límites de financiamiento privado, aportaciones de militantes, simpatizantes y precandidatos o candidatos; así como el límite individual de aportaciones para Diputaciones","OPL","CG","2021-01-04","2021-01-08",null,null,{"$f":"VLOOKUP(P2261,Campos!$B$2:$C$7,2,FALSE)","v":0},"Sin información"]
[2256,14,"Jalisco",7,"Fiscalización de los recursos de los Partidos Políticos y candidaturas independientes","7.6",6,"Aprobación de los límites de financiamiento privado, aportaciones de militantes, simpatizantes y precandidatos o candidatos; así como el límite individual de aportaciones para Ayuntamientos","OPL","CG","2021-01-04","2021-01-08",null,null,{"$f":"VLOOKUP(P2262,Campos!$B$2:$C$7,2,FALSE)","v":0},"Sin información"]
[2257,14,"Jalisco",7,"Fiscalización de los recursos de los Partidos Políticos y candidaturas independientes","7.8",8,"Aprobación de topes de gastos para el periodo de obtención del apoyo ciudadano para Diputaciones","OPL","CG","2021-01-04","2021-01-08",null,null,{"$f":"VLOOKUP(P2263,Campos!$B$2:$C$7,2,FALSE)","v":0},"Sin información"]
[2258,14,"Jalisco",7,"Fiscalización de los recursos de los Partidos Políticos y candidaturas independientes","7.9",9,"Aprobación de topes de gastos para el periodo de obtención del apoyo ciudadano para Ayuntamientos","OPL","CG","2021-01-04","2021-01-08",null,null,{"$f":"VLOOKUP(P2264,Campos!$B$2:$C$7,2,FALSE)","v":0},"Sin información"]
[2259,14,"Jalisco",7,"Fiscalización de los recursos de los Partidos Políticos y candidaturas independientes","7.11",11,"Precampaña para Diputaciones","OPL","CG","2021-02-07","2021-02-26",null,null,{"$f":"VLOOKUP(P2265,Campos!$B$2:$C$7,2,FALSE)","v":0},"Sin información"]
[2260,14,"Jalisco",7,"Fiscalización de los recursos de los Partidos Políticos y candidaturas independientes","7.12",12,"Precampaña para Ayuntamientos","OPL","CG","2021-02-07","2021-02-26",null,null,{"$f":"VLOOKUP(P2266,Campos!$B$2:$C$7,2,FALSE)","v":0},"Sin información"]
[2261,14,"Jalisco",7,"Fiscalización de los recursos de los Partidos Políticos y candidaturas independientes","7.14",14,"Aprobación de topes de gastos de campaña para Diputaciones","OPL","CG","2021-01-04","2021-01-08",null,null,{"$f":"VLOOKUP(P2267,Campos!$B$2:$C$7,2,FALSE)","v":0},"Sin información"]
[2262,14,"Jalisco",7,"Fiscalización de los recursos de los Partidos Políticos y candidaturas independientes","7.15",15,"Aprobación de topes de gastos de campaña para Ayuntamientos","OPL","CG","2021-01-04","2021-01-08",null,null,{"$f":"VLOOKUP(P2268,Campos!$B$2:$C$7,2,FALSE)","v":0},"Sin información"]
[2263,14,"Jalisco",7,"Fiscalización de los recursos de los Partidos Políticos y candidaturas independientes","7.17",17,"Campaña para Diputaciones","OPL","CG","2021-05-04","2021-06-02",null,null,{"$f":"VLOOKUP(P2269,Campos!$B$2:$C$7,2,FALSE)","v":0},"Sin información"]
[2264,14,"Jalisco",7,"Fiscalización de los recursos de los Partidos Políticos y candidaturas independientes","7.18",18,"Campaña para Ayuntamientos","OPL","CG","2021-05-04","2021-06-02",null,null,{"$f":"VLOOKUP(P2270,Campos!$B$2:$C$7,2,FALSE)","v":0},"Sin información"]
[2265,14,"Jalisco",7,"Fiscalización de los recursos de los Partidos Políticos y candidaturas independientes","7.19",19,"Aprobación de la distribución de financiamiento público para partidos políticos","OPL","CG","2020-12-01","2020-12-31",null,null,{"$f":"VLOOKUP(P2271,Campos!$B$2:$C$7,2,FALSE)","v":0},"Sin información"]
[2266,14,"Jalisco",8,"Candidaturas Independientes","8.1",1,"Emisión de la convocatoria para la ciudadanía interesada en participar en Candidaturas Independientes ","OPL","CG","2021-01-24","2021-01-24",null,null,{"$f":"VLOOKUP(P2272,Campos!$B$2:$C$7,2,FALSE)","v":0},"Sin información"]
[2267,14,"Jalisco",8,"Candidaturas Independientes","8.3",3,"Recepción de escrito de intención y documentación anexa de la ciudadanía que aspire a la candidatura independiente para Diputaciones","OPL","OD","2021-02-01","2021-02-03",null,null,{"$f":"VLOOKUP(P2273,Campos!$B$2:$C$7,2,FALSE)","v":0},"Sin información"]
[2268,14,"Jalisco",8,"Candidaturas Independientes","8.4",4,"Recepción de escrito de intención y documentación anexa de la ciudadanía que aspire a la candidatura independiente para Ayuntamientos","OPL","SE/OD","2021-02-01","2021-02-03",null,null,{"$f":"VLOOKUP(P2274,Campos!$B$2:$C$7,2,FALSE)","v":0},"Sin información"]
[2269,14,"Jalisco",8,"Candidaturas Independientes","8.6",6,"Resolución sobre procedencia de manifestación de intención de aspirantes a candidaturas independientes para Diputaciones","OPL","CG","2021-02-06","2021-02-06",null,null,{"$f":"VLOOKUP(P2275,Campos!$B$2:$C$7,2,FALSE)","v":0},"Sin información"]
[2270,14,"Jalisco",8,"Candidaturas Independientes","8.7",7,"Resolución sobre procedencia de manifestación de intención de aspirantes a candidaturas independientes para Ayuntamientos","OPL","CG","2021-02-06","2021-02-06",null,null,{"$f":"VLOOKUP(P2276,Campos!$B$2:$C$7,2,FALSE)","v":0},"Sin información"]
[2271,14,"Jalisco",8,"Candidaturas Independientes","8.9",9,"Plazo para obtener el apoyo ciudadano de las candidaturas independientes para Diputaciones","OPL","OD","2021-02-07","2021-02-26",null,null,{"$f":"VLOOKUP(P2277,Campos!$B$2:$C$7,2,FALSE)","v":0},"Sin información"]
[2272,14,"Jalisco",8,"Candidaturas Independientes","8.10",10,"Plazo para obtener el apoyo ciudadano de las candidaturas independientes para Ayuntamientos","OPL","OD","2021-02-07","2021-02-26",null,null,{"$f":"VLOOKUP(P2278,Campos!$B$2:$C$7,2,FALSE)","v":0},"Sin información"]
[2273,14,"Jalisco",8,"Candidaturas Independientes","8.12",12,"Plazo para otorgar las constancias de porcentaje a favor de aspirantes a la candidatura independiente para Diputaciones","OPL","CG","2021-02-15","2021-02-28",null,null,{"$f":"VLOOKUP(P2279,Campos!$B$2:$C$7,2,FALSE)","v":0},"Sin información"]
[2274,14,"Jalisco",8,"Candidaturas Independientes","8.13",13,"Plazo para otorgar las constancias de porcentaje a favor de aspirantes a la candidatura independiente para Ayuntamientos","OPL","CG","2021-02-15","2021-02-28",null,null,{"$f":"VLOOKUP(P2280,Campos!$B$2:$C$7,2,FALSE)","v":0},"Sin información"]
[2275,14,"Jalisco",9,"Candidaturas","9.1",1,"Registro de plataformas electorales","OPL","CG","2021-02-01","2021-02-05",null,null,{"$f":"VLOOKUP(P2281,Campos!$B$2:$C$7,2,FALSE)","v":0},"Sin información"]
[2276,14,"Jalisco",9,"Candidaturas","9.3",3,"Solicitud de registro de convenio de coalición para Diputaciones","OPL","CG","2021-01-04","2021-02-07",null,null,{"$f":"VLOOKUP(P2282,Campos!$B$2:$C$7,2,FALSE)","v":0},"Sin información"]
[2277,14,"Jalisco",9,"Candidaturas","9.4",4,"Solicitud de registro de convenio de coalición para Ayuntamientos","OPL","CG","2021-01-04","2021-02-07",null,null,{"$f":"VLOOKUP(P2283,Campos!$B$2:$C$7,2,FALSE)","v":0},"Sin información"]
[2278,14,"Jalisco",9,"Candidaturas","9.6",6,"Resolución sobre Convenio de Coalición para Diputaciones","OPL","CG","2021-01-14","2021-02-17",null,null,{"$f":"VLOOKUP(P2284,Campos!$B$2:$C$7,2,FALSE)","v":0},"Sin información"]
[2279,14,"Jalisco",9,"Candidaturas","9.7",7,"Resolución sobre Convenio de Coalición para Ayuntamientos","OPL","CG","2021-01-14","2021-02-17",null,null,{"$f":"VLOOKUP(P2285,Campos!$B$2:$C$7,2,FALSE)","v":0},"Sin información"]
[2280,14,"Jalisco",9,"Candidaturas","9.9",9,"Solicitud de registro de Candidaturas para Diputaciones","OPL","CG/OD","2021-03-22","2021-04-04",null,null,{"$f":"VLOOKUP(P2286,Campos!$B$2:$C$7,2,FALSE)","v":0},"Sin información"]
[2281,14,"Jalisco",9,"Candidaturas","9.11",11,"Solicitud de registro de Candidaturas para Ayuntamientos","OPL","CG/OD","2021-03-22","2021-04-11",null,null,{"$f":"VLOOKUP(P2287,Campos!$B$2:$C$7,2,FALSE)","v":0},"Sin información"]
[2282,14,"Jalisco",9,"Candidaturas","9.14",14,"Resolución para aprobar las candidaturas para Diputaciones","OPL","CG","2021-04-16","2021-05-03",null,null,{"$f":"VLOOKUP(P2288,Campos!$B$2:$C$7,2,FALSE)","v":0},"Sin información"]
[2283,14,"Jalisco",9,"Candidaturas","9.16",16,"Resolución para aprobar las candidaturas para Ayuntamientos","OPL","CG/OD","2021-04-16","2021-05-03",null,null,{"$f":"VLOOKUP(P2289,Campos!$B$2:$C$7,2,FALSE)","v":0},"Sin información"]
[2284,14,"Jalisco",11,"Documentación y material electoral","11.1",1,"Entrega a la Junta Local Ejecutiva del INE, de los diseños y especificaciones técnicas de la documentación y materiales electorales, en medios impresos y electrónicos","OPL","CG","2020-09-01","2020-09-30",null,null,{"$f":"VLOOKUP(P2290,Campos!$B$2:$C$7,2,FALSE)","v":0},"Sin información"]
[2285,14,"Jalisco",11,"Documentación y material electoral","11.2",2,"Revisión de los documentos y materiales electorales y especificaciones técnicas, presentadas por el OPL","INE","JLE","2020-09-15","2020-12-16",null,null,{"$f":"VLOOKUP(P2291,Campos!$B$2:$C$7,2,FALSE)","v":0},"Sin información"]
[2286,14,"Jalisco",11,"Documentación y material electoral","11.3",3,"En su caso, atención y presentación, de los cambios pertinentes, conforme a las observaciones emitidas por la Junta Local Ejecutiva del INE","OPL","CG","2020-09-15","2020-12-16",null,null,{"$f":"VLOOKUP(P2292,Campos!$B$2:$C$7,2,FALSE)","v":0},"Sin información"]
[2287,14,"Jalisco",11,"Documentación y material electoral","11.4",4,"Validación de los documentos y materiales electorales y especificaciones técnicas, con las observaciones subsanadas","INE","DEOE","2020-10-28","2020-12-18",null,null,{"$f":"VLOOKUP(P2293,Campos!$B$2:$C$7,2,FALSE)","v":0},"Sin información"]
[2288,14,"Jalisco",11,"Documentación y material electoral","11.5",5,"Entrega a la Dirección Ejecutiva de Organización Electoral del INE, del Reporte único sobre la aprobación y adjudicación de los documentos y materiales electorales del OPL, en medios electrónicos","OPL","CG","2021-02-01","2021-02-26",null,null,{"$f":"VLOOKUP(P2294,Campos!$B$2:$C$7,2,FALSE)","v":0},"Sin información"]
[2289,14,"Jalisco",11,"Documentación y material electoral","11.6",6,"Revisión y en su caso validación, del Reporte único sobre la aprobación y adjudicación de los documentos y materiales electorales del OPL, en medios electrónicos","INE","DEOE","2021-02-15","2021-03-12",null,null,{"$f":"VLOOKUP(P2295,Campos!$B$2:$C$7,2,FALSE)","v":0},"Sin información"]
[2290,14,"Jalisco",11,"Documentación y material electoral","11.7",7,"Entrega  a la Dirección Ejecutiva de Organización Electoral del INE, del Reporte semanal sobre el avance en la producción de los documentos y materiales electorales del OPL, en medios electrónicos.","OPL","CG","2021-03-15","2021-05-22",null,null,{"$f":"VLOOKUP(P2296,Campos!$B$2:$C$7,2,FALSE)","v":0},"Sin información"]
[2291,14,"Jalisco",11,"Documentación y material electoral","11.8",8,"Aprobación de la documentación y material electoral","OPL","CG","2020-11-11","2020-12-31",null,null,{"$f":"VLOOKUP(P2297,Campos!$B$2:$C$7,2,FALSE)","v":0},"Sin información"]
[2292,14,"Jalisco",11,"Documentación y material electoral","11.9",9,"Entrega a la Dirección Ejecutiva de Organización Electoral del INE, del Reporte con los resultados de las verificaciones de las medidas de seguridad en la documentación electoral","OPL","CG","2021-05-27","2021-06-11",null,null,{"$f":"VLOOKUP(P2298,Campos!$B$2:$C$7,2,FALSE)","v":0},"Sin información"]
[2293,14,"Jalisco",11,"Documentación y material electoral","11.10",10,"Supervisiones respecto de los procedimientos de impresión y producción de la documentación y materiales electorales","INE","DEOE","2021-03-15","2021-05-22",null,null,{"$f":"VLOOKUP(P2299,Campos!$B$2:$C$7,2,FALSE)","v":0},"Sin información"]
[2294,14,"Jalisco",11,"Documentación y material electoral","11.11",11,"Designación de la persona responsable de llevar el control sobre la asignación de los folios de las boletas que se distribuirán en cada mesa directiva de casilla","OPL","CG","2021-03-01","2021-03-30",null,null,{"$f":"VLOOKUP(P2300,Campos!$B$2:$C$7,2,FALSE)","v":0},"Sin información"]
[2295,14,"Jalisco",11,"Documentación y material electoral","11.12",12,"Aprobación de SE y CAE, así como de personal que auxiliará en el procedimiento de conteo, sellado y agrupamiento de las boletas electorales; así como la integración de documentación para las casillas","OPL","CG","2021-04-24","2021-05-11",null,null,{"$f":"VLOOKUP(P2301,Campos!$B$2:$C$7,2,FALSE)","v":0},"Sin información"]
[2296,14,"Jalisco",11,"Documentación y material electoral","11.13",13,"Recepción de las boletas electorales por el órgano competente que realizará el conteo, sellado y agrupamiento","OPL","CG","2021-05-18","2021-05-22",null,null,{"$f":"VLOOKUP(P2302,Campos!$B$2:$C$7,2,FALSE)","v":0},"Sin información"]
[2297,14,"Jalisco",11,"Documentación y material electoral","11.14",14,"Conteo, sellado y agrupamiento de boletas","OPL","CG","2021-05-18","2021-05-28",null,null,{"$f":"VLOOKUP(P2303,Campos!$B$2:$C$7,2,FALSE)","v":0},"Sin información"]
[2298,14,"Jalisco",11,"Documentación y material electoral","11.15",15,"Distribución de la documentación y materiales electorales a las y los Presidentes de mesas directivas de casilla","OPL","OD","2021-05-31","2021-06-04",null,null,{"$f":"VLOOKUP(P2304,Campos!$B$2:$C$7,2,FALSE)","v":0},"Sin información"]
[2299,14,"Jalisco",11,"Documentación y material electoral","11.16",16,"Remisión de los recibos de la entrega de la documentación y materiales electorales al Consejo General del OPL","INE","JLE","2021-06-24","2021-06-30",null,null,{"$f":"VLOOKUP(P2305,Campos!$B$2:$C$7,2,FALSE)","v":0},"Sin información"]
[2300,14,"Jalisco",12,"Jornada Electoral","12.1",1,"Aprobación del Programa de Operación del SIJE 2021","INE","CCOE","2020-07-01","2020-07-31",null,null,{"$f":"VLOOKUP(P2306,Campos!$B$2:$C$7,2,FALSE)","v":0},"Sin información"]
[2301,14,"Jalisco",12,"Jornada Electoral","12.2",2,"Aprobación de las metas del SIJE 2021","INE","CG","2021-03-01","2021-03-31",null,null,{"$f":"VLOOKUP(P2307,Campos!$B$2:$C$7,2,FALSE)","v":0},"Sin información"]
[2302,14,"Jalisco",12,"Jornada Electoral","12.3",3,"Realización de pruebas del SIJE 2021","INE","DEOE","2021-04-01","2021-04-15",null,null,{"$f":"VLOOKUP(P2308,Campos!$B$2:$C$7,2,FALSE)","v":0},"Sin información"]
[2303,14,"Jalisco",12,"Jornada Electoral","12.4",4,"Desarrollo del primer simulacro del SIJE","INE/OPL","DEOE/OD","2021-04-29","2021-04-29",null,null,{"$f":"VLOOKUP(P2309,Campos!$B$2:$C$7,2,FALSE)","v":0},"Sin información"]
[2304,14,"Jalisco",12,"Jornada Electoral","12.5",5,"Desarrollo del segundo simulacro del SIJE","INE/OPL","DEOE/OD","2021-05-09","2021-05-09",null,null,{"$f":"VLOOKUP(P2310,Campos!$B$2:$C$7,2,FALSE)","v":0},"Sin información"]
[2305,14,"Jalisco",12,"Jornada Electoral","12.6",6,"Desarrollo del tercer simulacro del SIJE","INE/OPL","DEOE/OD","2021-05-23","2021-05-23",null,null,{"$f":"VLOOKUP(P2311,Campos!$B$2:$C$7,2,FALSE)","v":0},"Sin información"]
[2306,14,"Jalisco",12,"Jornada Electoral","12.7",7,"Jornada Electoral","OPL","CG/OD","2021-06-06","2021-06-06",null,null,{"$f":"VLOOKUP(P2312,Campos!$B$2:$C$7,2,FALSE)","v":0},"Sin información"]
[2307,14,"Jalisco",13,"Bodegas electorales","13.1",1,"Determinación de los lugares que ocuparán las bodegas electorales para el resguardo de la documentación electoral","OPL","CG","2021-02-01","2021-02-28",null,null,{"$f":"VLOOKUP(P2313,Campos!$B$2:$C$7,2,FALSE)","v":0},"Sin información"]
[2308,14,"Jalisco",13,"Bodegas electorales","13.2",2,"Informe que rinden las y los Presidentes sobre las condiciones de equipamiento, mecanismos de operación y medidas de seguridad de las bodegas electorales","OPL","OD","2021-03-01","2021-03-31",null,null,{"$f":"VLOOKUP(P2314,Campos!$B$2:$C$7,2,FALSE)","v":0},"Sin información"]
[2309,14,"Jalisco",13,"Bodegas electorales","13.3",3,"Designación, por parte del órgano competente del OPL, del personal que tendrá acceso a la bodega electoral","OPL","CG/OD","2021-03-01","2021-03-30",null,null,{"$f":"VLOOKUP(P2315,Campos!$B$2:$C$7,2,FALSE)","v":0},"Sin información"]
[2310,14,"Jalisco",13,"Bodegas electorales","13.4",4,"Envío a la UTVOPL, por conducto de la JLE, el informe sobre las condiciones que guardan las bodegas electorales","OPL","CG","2021-04-04","2021-04-10",null,null,{"$f":"VLOOKUP(P2316,Campos!$B$2:$C$7,2,FALSE)","v":0},"Sin información"]
[2311,14,"Jalisco",14,"Mecanismos de recolección","14.1",1,"Entrega de estudios de factibilidad al OPL","INE","CL","2021-03-15","2021-03-31",null,null,{"$f":"VLOOKUP(P2317,Campos!$B$2:$C$7,2,FALSE)","v":0},"Sin información"]
[2312,14,"Jalisco",14,"Mecanismos de recolección","14.2",2,"Entrega de observaciones a los estudios de factibilidad ","OPL","CG","2021-04-01","2021-04-24",null,null,{"$f":"VLOOKUP(P2318,Campos!$B$2:$C$7,2,FALSE)","v":0},"Sin información"]
[2313,14,"Jalisco",14,"Mecanismos de recolección","14.3",3,"Recorridos para verificar las propuestas de los mecanismos de recolección","INE/OPL","CD/OD","2021-03-16","2021-04-24",null,null,{"$f":"VLOOKUP(P2319,Campos!$B$2:$C$7,2,FALSE)","v":0},"Sin información"]
[2314,14,"Jalisco",14,"Mecanismos de recolección","14.4",4,"Aprobación de los mecanismos de recolección ","INE","CD","2021-04-26","2021-04-30",null,null,{"$f":"VLOOKUP(P2320,Campos!$B$2:$C$7,2,FALSE)","v":0},"Sin información"]
[2315,14,"Jalisco",14,"Mecanismos de recolección","14.5",5,"Traslado y recolección de los paquetes electorales","INE/OPL","CD/OD","2021-06-06","2021-06-07",null,null,{"$f":"VLOOKUP(P2321,Campos!$B$2:$C$7,2,FALSE)","v":0},"Sin información"]
[2316,14,"Jalisco",14,"Mecanismos de recolección","14.6",6,"Acreditación de representantes de partidos políticos y candidaturas independientes ante los mecanismos de recolección","INE","CL/CD","2021-04-27","2021-06-03",null,null,{"$f":"VLOOKUP(P2322,Campos!$B$2:$C$7,2,FALSE)","v":0},"Sin información"]
[2317,14,"Jalisco",14,"Mecanismos de recolección","14.7",7,"Sustitución de representantes de partidos políticos y candidaturas independientes ante los mecanismos de recolección","INE","CL/CD","2021-04-28","2021-06-04",null,null,{"$f":"VLOOKUP(P2323,Campos!$B$2:$C$7,2,FALSE)","v":0},"Sin información"]
[2318,14,"Jalisco",14,"Mecanismos de recolección","14.8",8,"Entrega a la JLE, el informe sobre la recepción de paquetes electorales en los órganos competentes","OPL","CG","2021-06-06","2021-06-28",null,null,{"$f":"VLOOKUP(P2324,Campos!$B$2:$C$7,2,FALSE)","v":0},"Sin información"]
[2319,14,"Jalisco",15,"Cómputos","15.1",1,"Aprobación de los lineamientos de cómputo y del cuadernillo de consulta sobre votos válidos y votos nulos","OPL","CG","2021-01-18","2021-01-29",null,null,{"$f":"VLOOKUP(P2325,Campos!$B$2:$C$7,2,FALSE)","v":0},"Sin información"]
[2320,14,"Jalisco",15,"Cómputos","15.2",2,"Integración por parte de los Órganos Desconcentrados del OPL, de la propuesta para la habilitación de espacios para el recuento de votos con las alternativas para todos los escenarios de cómputo","OPL","OD","2021-03-01","2021-03-07",null,null,{"$f":"VLOOKUP(P2326,Campos!$B$2:$C$7,2,FALSE)","v":0},"Sin información"]
[2321,14,"Jalisco",15,"Cómputos","15.3",3,"Informe de los escenarios de cómputos de la totalidad de sus órganos desconcentrados","OPL","CG","2021-04-01","2021-04-04",null,null,{"$f":"VLOOKUP(P2327,Campos!$B$2:$C$7,2,FALSE)","v":0},"Sin información"]
[2322,14,"Jalisco",15,"Cómputos","15.4",4,"Remisión a la JLE en la entidad, las propuestas de escenarios de cómputos, para la dictaminación de viabilidad","OPL","CG","2021-05-01","2021-05-07",null,null,{"$f":"VLOOKUP(P2328,Campos!$B$2:$C$7,2,FALSE)","v":0},"Sin información"]
[2323,14,"Jalisco",15,"Cómputos","15.5",5,"Remisión de las observaciones a los escenarios de Cómputos al OPL y a su vez informar de las mismas a la UTVOPL","INE","JLE","2021-05-08","2021-05-15",null,null,{"$f":"VLOOKUP(P2329,Campos!$B$2:$C$7,2,FALSE)","v":0},"Sin información"]
[2324,14,"Jalisco",15,"Cómputos","15.6",6,"Aprobación por parte del órgano competente del OPL, del acuerdo mediante el cual se designa al personal que participará en las tareas de apoyo a los Cómputos Municipales","OPL","CG/OD","2021-04-26","2021-05-05",null,null,{"$f":"VLOOKUP(P2330,Campos!$B$2:$C$7,2,FALSE)","v":0},"Sin información"]
[2325,14,"Jalisco",15,"Cómputos","15.7",7,"Aprobación por parte del órgano competente del OPL, del acuerdo mediante el cual se designa al personal que participará en las tareas de apoyo a los Cómputos Distritales ","OPL","CG/OD","2021-04-26","2021-05-05",null,null,{"$f":"VLOOKUP(P2331,Campos!$B$2:$C$7,2,FALSE)","v":0},"Sin información"]
[2326,14,"Jalisco",15,"Cómputos","15.8",8,"Aprobación por parte de los órganos competentes del OPL, de los distintos escenarios de cómputos","OPL","OD","2021-05-08","2021-05-15",null,null,{"$f":"VLOOKUP(P2332,Campos!$B$2:$C$7,2,FALSE)","v":0},"Sin información"]
[2327,14,"Jalisco",15,"Cómputos","15.9",9,"Aprobación por parte del órgano competente del OPL, del acuerdo por el que se habilitarán espacios para la instalación de grupos de trabajo y, en su caso, puntos de recuento","OPL","CG/OD","2021-06-08","2021-06-08",null,null,{"$f":"VLOOKUP(P2333,Campos!$B$2:$C$7,2,FALSE)","v":0},"Sin información"]
[2328,14,"Jalisco",15,"Cómputos","15.10",10,"Cómputos Distritales","OPL","OD","2021-06-09","2021-06-12",null,null,{"$f":"VLOOKUP(P2334,Campos!$B$2:$C$7,2,FALSE)","v":0},"Sin información"]
[2329,14,"Jalisco",15,"Cómputos","15.14",14,"Cómputo Estatal para la asignación diputaciones de Representación Proporcional","OPL","CG","2021-06-13","2021-06-13",null,null,{"$f":"VLOOKUP(P2335,Campos!$B$2:$C$7,2,FALSE)","v":0},"Sin información"]
[2330,14,"Jalisco",15,"Cómputos","15.11",11,"Cómputos Municipales","OPL","OD","2021-06-09","2021-06-12",null,null,{"$f":"VLOOKUP(P2336,Campos!$B$2:$C$7,2,FALSE)","v":0},"Sin información"]
[2331,14,"Jalisco",15,"Cómputos","15.16",16,"Asignación de regidurías por el principio de Representación Proporcional","OPL","CG","2021-06-13","2021-06-13",null,null,{"$f":"VLOOKUP(P2337,Campos!$B$2:$C$7,2,FALSE)","v":0},"Sin información"]
[2332,14,"Jalisco",16,"PREP","16.1",1,"Aprobación del Acuerdo por el que se designa o ratifica a la instancia interna responsable de coordinar el PREP","OPL","CG","2020-09-11","2020-09-11",null,null,{"$f":"VLOOKUP(P2338,Campos!$B$2:$C$7,2,FALSE)","v":0},"Sin información"]
[2333,14,"Jalisco",16,"PREP","16.2",2,"Aprobación del Acuerdo de Integración del COTAPREP","OPL","CG","2020-11-11","2020-11-11",null,null,{"$f":"VLOOKUP(P2339,Campos!$B$2:$C$7,2,FALSE)","v":0},"Sin información"]
[2334,14,"Jalisco",16,"PREP","16.3",3,"Documento por el que se determina la implementación del PREP por el OPL o con el apoyo de un Tercero","OPL","CG","2020-12-11","2020-12-11",null,null,{"$f":"VLOOKUP(P2340,Campos!$B$2:$C$7,2,FALSE)","v":0},"Sin información"]
[2335,14,"Jalisco",16,"PREP","16.4",4,"Aprobación del Acuerdo por el que se determina el Proceso Técnico Operativo ","OPL","CG","2021-01-11","2021-01-11",null,null,{"$f":"VLOOKUP(P2341,Campos!$B$2:$C$7,2,FALSE)","v":0},"Sin información"]
[2336,14,"Jalisco",16,"PREP","16.5",5,"Aprobación del Acuerdo por el que se determina la ubicación, instalación y habilitación de los CATD y, en su caso, CCV","OPL","CG","2021-02-11","2021-02-11",null,null,{"$f":"VLOOKUP(P2342,Campos!$B$2:$C$7,2,FALSE)","v":0},"Sin información"]
[2337,14,"Jalisco",16,"PREP","16.6",6,"Documento de Designación del Ente Auditor ","OPL","CG","2021-02-11","2021-02-11",null,null,{"$f":"VLOOKUP(P2343,Campos!$B$2:$C$7,2,FALSE)","v":0},"Sin información"]
[2338,14,"Jalisco",16,"PREP","16.7",7,"Instrumento jurídico celebrado entre el OPL y el ente auditor","OPL","CG","2021-03-11","2021-03-11",null,null,{"$f":"VLOOKUP(P2344,Campos!$B$2:$C$7,2,FALSE)","v":0},"Sin información"]
[2339,14,"Jalisco",16,"PREP","16.8",8,"Realización del primer simulacro del PREP","OPL","CG","2021-05-16","2021-05-16",null,null,{"$f":"VLOOKUP(P2345,Campos!$B$2:$C$7,2,FALSE)","v":0},"Sin información"]
[2340,14,"Jalisco",16,"PREP","16.9",9,"Realización del segundo simulacro del PREP","OPL","CG","2021-05-23","2021-05-23",null,null,{"$f":"VLOOKUP(P2346,Campos!$B$2:$C$7,2,FALSE)","v":0},"Sin información"]
[2341,14,"Jalisco",16,"PREP","16.10",10,"Realización del tercer simulacro del PREP","OPL","CG","2021-05-30","2021-05-30",null,null,{"$f":"VLOOKUP(P2347,Campos!$B$2:$C$7,2,FALSE)","v":0},"Sin información"]
[2342,14,"Jalisco",16,"PREP","16.11",11,"Operación del PREP","OPL","CG","2021-06-06","2021-06-07",null,null,{"$f":"VLOOKUP(P2348,Campos!$B$2:$C$7,2,FALSE)","v":0},"Sin información"]
[2343,14,"Jalisco",18,"Voto de la ciudadanía residente en el extranjero","18.1",1,"Puesta a disposición de la Solicitud individual de Inscripción a la Lista Nominal de Electores Residentes en el extranjero para procesos electorales locales (SIILNERE), por los medios que determine el INE.","INE","DERFE","2020-09-01","2021-03-15",null,null,{"$f":"VLOOKUP(P2349,Campos!$B$2:$C$7,2,FALSE)","v":0},"Sin información"]
[2344,14,"Jalisco",18,"Voto de la ciudadanía residente en el extranjero","18.2",2,"Recepción de la Solicitud individual de Inscripción a la Lista Nominal de Electores Residentes en el extranjero para procesos electorales locales (SIILNERE), por los medios que determine el INE","INE","DERFE","2020-09-01","2021-03-15",null,null,{"$f":"VLOOKUP(P2350,Campos!$B$2:$C$7,2,FALSE)","v":0},"Sin información"]
[2345,14,"Jalisco",18,"Voto de la ciudadanía residente en el extranjero","18.3",3,"Conformación de la Lista Nominal de Electores Residentes en el Extranjero (subsanes, observaciones de partidos políticos e informe)","INE","DERFE","2020-09-01","2021-04-15",null,null,{"$f":"VLOOKUP(P2351,Campos!$B$2:$C$7,2,FALSE)","v":0},"Sin información"]
[2346,14,"Jalisco",18,"Voto de la ciudadanía residente en el extranjero","18.4",4,"En caso de voto postal, entrega-recepción de materiales del PEP.","INE","DERFE/UTVOPL/OPL","Por definir","2021-03-15",null,null,{"$f":"VLOOKUP(P2352,Campos!$B$2:$C$7,2,FALSE)","v":0},"Sin información"]
[2347,14,"Jalisco",18,"Voto de la ciudadanía residente en el extranjero","18.5",5,"En caso de voto postal, preparación y envío de los PEP a la ciudadanía residente en el extranjero","INE","DERFE/DEOE/UNICOM/DECEYEC","2021-04-02","2021-04-30",null,null,{"$f":"VLOOKUP(P2353,Campos!$B$2:$C$7,2,FALSE)","v":0},"Sin información"]
[2348,14,"Jalisco",18,"Voto de la ciudadanía residente en el extranjero","18.6",6,"En caso de voto postal, recepción de Sobres Voto y resguardo","INE","DERFE/DEOE","2021-04-11","2021-06-05",null,null,{"$f":"VLOOKUP(P2354,Campos!$B$2:$C$7,2,FALSE)","v":0},"Sin información"]
[2349,14,"Jalisco",18,"Voto de la ciudadanía residente en el extranjero","18.7",7,"Elaboración y aprobación del Programa de Integración de Mesas de Escrutinio y Cómputo y Capacitación Electoral para el Voto de las y los Mexicanos Residentes en el Extranjero","INE","CG","Por definir","Por definir",null,null,{"$f":"VLOOKUP(P2355,Campos!$B$2:$C$7,2,FALSE)","v":0},"Sin información"]
[2350,14,"Jalisco",18,"Voto de la ciudadanía residente en el extranjero","18.8",8,"Aprobación del número de mesas de escrutinio y cómputo a instalar","INE","CL","Por definir","Por definir",null,null,{"$f":"VLOOKUP(P2356,Campos!$B$2:$C$7,2,FALSE)","v":0},"Sin información"]
[2351,14,"Jalisco",18,"Voto de la ciudadanía residente en el extranjero","18.9",9,"Integración y aprobación del Listado del personal que realizará las suplencias en las Mesas de Escrutinio y Cómputo","INE","CL","Por definir","Por definir",null,null,{"$f":"VLOOKUP(P2357,Campos!$B$2:$C$7,2,FALSE)","v":0},"Sin información"]
[2352,14,"Jalisco",18,"Voto de la ciudadanía residente en el extranjero","18.10",10,"Logística del Local Único","OPL","CG","Por definir","Por definir",null,null,{"$f":"VLOOKUP(P2358,Campos!$B$2:$C$7,2,FALSE)","v":0},"Sin información"]
[2353,14,"Jalisco",18,"Voto de la ciudadanía residente en el extranjero","18.11",11,"Escrutinio y Cómputo de los votos de los mexicanos residentes en el extranjero","OPL","CG","2021-06-06","2021-06-06",null,null,{"$f":"VLOOKUP(P2359,Campos!$B$2:$C$7,2,FALSE)","v":0},"Sin información"]
[2354,14,"Jalisco",18,"Voto de la ciudadanía residente en el extranjero","18.12",12,"Promoción del Voto de los Mexicanos Residentes en el Extranjero (Difusión, Comunicación, Vinculación y Plataformas Digitales)","INE/OPL","CG/CG","Por definir","Por definir",null,null,{"$f":"VLOOKUP(P2360,Campos!$B$2:$C$7,2,FALSE)","v":0},"Sin información"]
[2355,14,"Jalisco",18,"Voto de la ciudadanía residente en el extranjero","18.13",13,"Entrega de la Lista Nominal de Electores Residentes en el Extranjero (LNERE), para escrutinio y cómputo.","INE","DERFE/DEOE","2021-06-05","2021-06-05",null,null,{"$f":"VLOOKUP(P2361,Campos!$B$2:$C$7,2,FALSE)","v":0},"Sin información"]
[2356,14,"Jalisco",19,"Visitantes extranjeros","19.1",1,"Emisión de la Convocatoria para visitantes extranjeros","INE","CG","2020-08-03","2020-09-30",null,null,{"$f":"VLOOKUP(P2362,Campos!$B$2:$C$7,2,FALSE)","v":0},"Sin información"]
[2357,14,"Jalisco",19,"Visitantes extranjeros","19.2",2,"Difusión de la Convocatoria para visitantes extranjeros","INE","CAI","2020-09-01","2021-05-26",null,null,{"$f":"VLOOKUP(P2363,Campos!$B$2:$C$7,2,FALSE)","v":0},"Sin información"]
[2358,14,"Jalisco",19,"Visitantes extranjeros","19.3",3,"Recepción de solicitudes de acreditación como visitantes extranjeros","INE","CAI","2020-09-01","2021-05-26",null,null,{"$f":"VLOOKUP(P2364,Campos!$B$2:$C$7,2,FALSE)","v":0},"Sin información"]
[2359,14,"Jalisco",19,"Visitantes extranjeros","19.4",4,"Resolución de solicitudes de acreditación como visitantes extranjeros","INE","CAI","2020-09-02","2021-05-30",null,null,{"$f":"VLOOKUP(P2365,Campos!$B$2:$C$7,2,FALSE)","v":0},"Sin información"]
[2360,14,"Jalisco",19,"Visitantes extranjeros","19.5",5,"Entrega de acreditaciones a los visitantes extranjeros","INE","CAI","2020-09-04","2021-06-05",null,null,{"$f":"VLOOKUP(P2366,Campos!$B$2:$C$7,2,FALSE)","v":0},"Sin información"]
[2361,15,"Estado de México",1,"Mecanismos de coordinación","1.1",1,"Aprobar Calendarios y Planes Integrales de los Procesos Electorales Locales","INE","CG","2020-08-01","2020-08-07",null,null,{"$f":"VLOOKUP(P2367,Campos!$B$2:$C$7,2,FALSE)","v":0},"Sin información"]
[2362,15,"Estado de México",1,"Mecanismos de coordinación","1.2",2,"Firma del Convenio General de Coordinación y Colaboración 2020-2021","INE/OPL","INE/OPL","2020-09-01","2020-10-01",null,null,{"$f":"VLOOKUP(P2368,Campos!$B$2:$C$7,2,FALSE)","v":0},"Sin información"]
[2363,15,"Estado de México",1,"Mecanismos de coordinación","1.3",3,"Elaborar un plan de trabajo conjunto para la promoción de la participación ciudadana","INE/OPL","INE/OPL","2020-09-01","2020-12-31",null,null,{"$f":"VLOOKUP(P2369,Campos!$B$2:$C$7,2,FALSE)","v":0},"Sin información"]
[2364,15,"Estado de México",1,"Mecanismos de coordinación","1.4",4,"Sesión para dar inicio al PEL","OPL","CG","2021-01-01","2021-01-07",null,null,{"$f":"VLOOKUP(P2370,Campos!$B$2:$C$7,2,FALSE)","v":0},"Sin información"]
[2365,15,"Estado de México",1,"Mecanismos de coordinación","1.5",5,"Implementar un plan de trabajo conjunto para la promoción de la participación ciudadana","INE/OPL","INE/OPL","2021-02-01","2021-06-06",null,null,{"$f":"VLOOKUP(P2371,Campos!$B$2:$C$7,2,FALSE)","v":0},"Sin información"]
[2366,15,"Estado de México",2,"Integración de órganos desconcentrados","2.1",1,"Convocatoria para la integración de los Órganos Distritales","OPL","CG","2020-08-12","2020-08-12",null,null,{"$f":"VLOOKUP(P2372,Campos!$B$2:$C$7,2,FALSE)","v":0},"Sin información"]
[2367,15,"Estado de México",2,"Integración de órganos desconcentrados","2.2",2,"Sesión en la que se designan e integran los Órganos Distritales ","OPL","CG","2021-01-01","2021-01-06",null,null,{"$f":"VLOOKUP(P2373,Campos!$B$2:$C$7,2,FALSE)","v":0},"Sin información"]
[2368,15,"Estado de México",2,"Integración de órganos desconcentrados","2.3",3,"Instalación de los Órganos Distritales ","OPL","OD","2021-01-08","2021-01-14",null,null,{"$f":"VLOOKUP(P2374,Campos!$B$2:$C$7,2,FALSE)","v":0},"Sin información"]
[2369,15,"Estado de México",2,"Integración de órganos desconcentrados","2.4",4,"Convocatoria para la integración de los Órganos Municipales ","OPL","CG","2020-08-12","2020-08-12",null,null,{"$f":"VLOOKUP(P2375,Campos!$B$2:$C$7,2,FALSE)","v":0},"Sin información"]
[2370,15,"Estado de México",2,"Integración de órganos desconcentrados","2.5",5,"Sesión en la que se designan e integran los Órganos Municipales ","OPL","CG","2021-01-01","2021-01-06",null,null,{"$f":"VLOOKUP(P2376,Campos!$B$2:$C$7,2,FALSE)","v":0},"Sin información"]
[2371,15,"Estado de México",2,"Integración de órganos desconcentrados","2.6",6,"Instalación de los Órganos Municipales ","OPL","OD","2021-01-08","2021-01-14",null,null,{"$f":"VLOOKUP(P2377,Campos!$B$2:$C$7,2,FALSE)","v":0},"Sin información"]
[2372,15,"Estado de México",2,"Integración de órganos desconcentrados","2.7",7,"Designación y/o ratificación de las y los Consejeros Electorales del Consejo Local ","INE","CG","2020-10-01","2020-10-15",null,null,{"$f":"VLOOKUP(P2378,Campos!$B$2:$C$7,2,FALSE)","v":0},"Sin información"]
[2373,15,"Estado de México",2,"Integración de órganos desconcentrados","2.8",8,"Instalación del Consejo Local","INE","CL","2020-11-01","2020-11-30",null,null,{"$f":"VLOOKUP(P2379,Campos!$B$2:$C$7,2,FALSE)","v":0},"Sin información"]
[2374,15,"Estado de México",2,"Integración de órganos desconcentrados","2.9",9,"Designación y/o ratificación de las y los Consejeros Electorales de los Consejos Distritales ","INE","CL","2020-11-01","2020-11-30",null,null,{"$f":"VLOOKUP(P2380,Campos!$B$2:$C$7,2,FALSE)","v":0},"Sin información"]
[2375,15,"Estado de México",2,"Integración de órganos desconcentrados","2.10",10,"Instalación de los Consejos Distritales","INE","CD","2020-12-01","2020-12-15",null,null,{"$f":"VLOOKUP(P2381,Campos!$B$2:$C$7,2,FALSE)","v":0},"Sin información"]
[2376,15,"Estado de México",3,"Lista Nominal de Electores","3.1",1,"Generación y entrega de la Lista Nominal de Electores para Revisión en medios ópticos a los representantes de los partidos políticos, y en su caso a las candidaturas independientes acreditados ante el OPL, para observaciones","INE","DERFE","2021-02-15","2021-02-15",null,null,{"$f":"VLOOKUP(P2382,Campos!$B$2:$C$7,2,FALSE)","v":0},"Sin información"]
[2377,15,"Estado de México",3,"Lista Nominal de Electores","3.2",2,"Recepción de observaciones de los partidos políticos y en su caso, candidatos independientes, a la Lista Nominal de Electores para revisión","INE/OPL","DERFE","2021-03-14","2021-03-14",null,null,{"$f":"VLOOKUP(P2383,Campos!$B$2:$C$7,2,FALSE)","v":0},"Sin información"]
[2378,15,"Estado de México",3,"Lista Nominal de Electores","3.3",3,"Entrega en formato digital el informe respecto de la atención a las observaciones formuladas a la Lista Nominal de Electores para Revisión","INE","DERFE","2021-04-15","2021-04-15",null,null,{"$f":"VLOOKUP(P2384,Campos!$B$2:$C$7,2,FALSE)","v":0},"Sin información"]
[2379,15,"Estado de México",3,"Lista Nominal de Electores","3.4",4,"Entrega de la Lista Nominal de Electores Definitiva con fotografía","INE","DERFE","2021-05-06","2021-05-14",null,null,{"$f":"VLOOKUP(P2385,Campos!$B$2:$C$7,2,FALSE)","v":0},"Sin información"]
[2380,15,"Estado de México",3,"Lista Nominal de Electores","3.5",5,"Fecha de entrega de la Lista Nominal de Electores con fotografía Producto de Instancias Administrativas y Resoluciones del Tribunal (ADENDA)","INE","DERFE","2021-05-19","2021-05-24",null,null,{"$f":"VLOOKUP(P2386,Campos!$B$2:$C$7,2,FALSE)","v":0},"Sin información"]
[2381,15,"Estado de México",4,"Observación Electoral","4.1",1,"Emisión de la convocatoria para la ciudadanía que desee participar en la observación electoral","OPL","CG","2021-01-01","2021-01-07",null,null,{"$f":"VLOOKUP(P2387,Campos!$B$2:$C$7,2,FALSE)","v":0},"Sin información"]
[2382,15,"Estado de México",4,"Observación Electoral","4.2",2,"Recepción de solicitudes de la ciudadanía que desee participar en observación electoral","INE/OPL","OPL/JLE/JDE","2021-01-01","2021-04-30",null,null,{"$f":"VLOOKUP(P2388,Campos!$B$2:$C$7,2,FALSE)","v":0},"Sin información"]
[2383,15,"Estado de México",4,"Observación Electoral","4.3",3,"Impartición de los cursos de capacitación, preparación o información","INE/OPL","OPL/JLE/JDE","2021-01-01","2021-05-17",null,null,{"$f":"VLOOKUP(P2389,Campos!$B$2:$C$7,2,FALSE)","v":0},"Sin información"]
[2384,15,"Estado de México",4,"Observación Electoral","4.4",4,"Acreditación de la ciudadanía como observadores u observadoras electorales","INE","CL/CD","2021-01-01","2021-06-05",null,null,{"$f":"VLOOKUP(P2390,Campos!$B$2:$C$7,2,FALSE)","v":0},"Sin información"]
[2385,15,"Estado de México",4,"Observación Electoral","4.5",5,"Seguimiento a los informes mensuales de acreditación","INE","CG","2021-01-01","2021-07-31",null,null,{"$f":"VLOOKUP(P2391,Campos!$B$2:$C$7,2,FALSE)","v":0},"Sin información"]
[2386,15,"Estado de México",4,"Observación Electoral","4.6",6,"Remisión de materiales de capacitación a la JLE para revisión","OPL","CG","2020-10-08","2020-10-08",null,null,{"$f":"VLOOKUP(P2392,Campos!$B$2:$C$7,2,FALSE)","v":0},"Sin información"]
[2387,15,"Estado de México",4,"Observación Electoral","4.7",7,"Revisión, corrección, verificación y validación de materiales de capacitación para observación electoral ","INE","JLE","2020-10-09","2020-10-30",null,null,{"$f":"VLOOKUP(P2393,Campos!$B$2:$C$7,2,FALSE)","v":0},"Sin información"]
[2388,15,"Estado de México",4,"Observación Electoral","4.8",8,"Entrega de materiales de capacitación para observación electoral entre OPL e INE","INE/OPL","VEL/OPL","2020-11-01","2020-11-23",null,null,{"$f":"VLOOKUP(P2394,Campos!$B$2:$C$7,2,FALSE)","v":0},"Sin información"]
[2389,15,"Estado de México",5,"Ubicación de casillas","5.1",1,"Recorridos por las secciones de los distritos para localizar los lugares donde se ubicarán las casillas","INE/OPL","JDE/OPL","2021-01-15","2021-02-15",null,null,{"$f":"VLOOKUP(P2395,Campos!$B$2:$C$7,2,FALSE)","v":0},"Sin información"]
[2390,15,"Estado de México",5,"Ubicación de casillas","5.2",2,"Presentación a los Consejos Distritales del listado de lugares propuestos para ubicar casillas","INE","JDE","2021-02-24","2021-02-24",null,null,{"$f":"VLOOKUP(P2396,Campos!$B$2:$C$7,2,FALSE)","v":0},"Sin información"]
[2391,15,"Estado de México",5,"Ubicación de casillas","5.3",3,"Visitas de examinación en los lugares propuestos para ubicar casillas básicas, contiguas, especiales y extraordinarias","INE/OPL","CD/OPL","2021-02-25","2021-03-16",null,null,{"$f":"VLOOKUP(P2397,Campos!$B$2:$C$7,2,FALSE)","v":0},"Sin información"]
[2392,15,"Estado de México",5,"Ubicación de casillas","5.4",4,"Aprobación del número y ubicación de casillas extraordinarias y especiales","INE","CD","2021-03-16","2021-03-16",null,null,{"$f":"VLOOKUP(P2398,Campos!$B$2:$C$7,2,FALSE)","v":0},"Sin información"]
[2393,15,"Estado de México",5,"Ubicación de casillas","5.5",5,"Aprobación del número y ubicación de casillas básicas y contiguas","INE","CD","2021-03-25","2021-03-25",null,null,{"$f":"VLOOKUP(P2399,Campos!$B$2:$C$7,2,FALSE)","v":0},"Sin información"]
[2394,15,"Estado de México",5,"Ubicación de casillas","5.6",6,"Entrega de la base de datos de la Lista Nominal Definitiva a UNICOM con corte al 10 de abril","INE","DERFE","2021-04-15","2021-04-16",null,null,{"$f":"VLOOKUP(P2400,Campos!$B$2:$C$7,2,FALSE)","v":0},"Sin información"]
[2395,15,"Estado de México",5,"Ubicación de casillas","5.7",7,"Realizar la primera publicación de la lista de ubicación de casillas en los lugares más concurridos del distrito electoral  y en los medios electrónicos del Instituto","INE","CD","2021-04-15","2021-04-15",null,null,{"$f":"VLOOKUP(P2401,Campos!$B$2:$C$7,2,FALSE)","v":0},"Sin información"]
[2396,15,"Estado de México",5,"Ubicación de casillas","5.8",8,"En su caso, segunda publicación de la lista de ubicación de casillas por causas supervenientes en los lugares más concurridos del distrito y en los medios electrónicos del Instituto","INE","CD","2021-05-15","2021-05-25",null,null,{"$f":"VLOOKUP(P2402,Campos!$B$2:$C$7,2,FALSE)","v":0},"Sin información"]
[2397,15,"Estado de México",5,"Ubicación de casillas","5.9",9,"Publicación de los encartes y difusión en medios electrónicos del Instituto","INE/OPL","DEOE/CG","2021-06-05","2021-06-06",null,null,{"$f":"VLOOKUP(P2403,Campos!$B$2:$C$7,2,FALSE)","v":0},"Sin información"]
[2398,15,"Estado de México",5,"Ubicación de casillas","5.10",10,"Registro de representantes generales y ante mesas directivas de casilla","INE","CD","2021-04-16","2021-05-24",null,null,{"$f":"VLOOKUP(P2404,Campos!$B$2:$C$7,2,FALSE)","v":0},"Sin información"]
[2399,15,"Estado de México",5,"Ubicación de casillas","5.11",11,"Sustitución de representantes generales y ante mesas directivas de casilla","INE","CD","2021-04-16","2021-05-27",null,null,{"$f":"VLOOKUP(P2405,Campos!$B$2:$C$7,2,FALSE)","v":0},"Sin información"]
[2400,15,"Estado de México",5,"Ubicación de casillas","5.12",12,"Entrega de listados de representantes generales y ante casilla al OPL","INE","CD","2021-05-30","2021-05-30",null,null,{"$f":"VLOOKUP(P2406,Campos!$B$2:$C$7,2,FALSE)","v":0},"Sin información"]
[2401,15,"Estado de México",5,"Ubicación de casillas","5.13",13,"Notificación ciudadana de ubicación de casillas en secciones electorales involucradas en la actualización del Marco Geográfico Electoral","INE/OPL","DERFE/OPL","2021-04-01","2021-06-15",null,null,{"$f":"VLOOKUP(P2407,Campos!$B$2:$C$7,2,FALSE)","v":0},"Sin información"]
[2402,15,"Estado de México",6,"Integración de las Mesas Directivas de Casilla","6.1",1,"Aprobación de la Estrategia de Capacitación y Asistencia Electoral","INE","CG","2020-08-01","2020-08-15",null,null,{"$f":"VLOOKUP(P2408,Campos!$B$2:$C$7,2,FALSE)","v":0},"Sin información"]
[2403,15,"Estado de México",6,"Integración de las Mesas Directivas de Casilla","6.2",2,"Entrega para revisión y validación de materiales didácticos de primera etapa","OPL","CG","2020-11-03","2020-11-03",null,null,{"$f":"VLOOKUP(P2409,Campos!$B$2:$C$7,2,FALSE)","v":0},"Sin información"]
[2404,15,"Estado de México",6,"Integración de las Mesas Directivas de Casilla","6.3",3,"Revisión, corrección, verificación y validación de los materiales didácticos de primera etapa","INE/OPL","JLE/DECEYEC/OPL","2020-11-03","2020-12-19",null,null,{"$f":"VLOOKUP(P2410,Campos!$B$2:$C$7,2,FALSE)","v":0},"Sin información"]
[2405,15,"Estado de México",6,"Integración de las Mesas Directivas de Casilla","6.4",4,"Entrega de los materiales impresos de la primera etapa a la JLE","OPL","OPL","2021-02-05","2021-02-05",null,null,{"$f":"VLOOKUP(P2411,Campos!$B$2:$C$7,2,FALSE)","v":0},"Sin información"]
[2406,15,"Estado de México",6,"Integración de las Mesas Directivas de Casilla","6.5",5,"Sorteo del mes del calendario como base para la insaculación de las y los ciudadanos que integrarán las mesas directivas de casilla","INE","CG","2020-12-15","2020-12-19",null,null,{"$f":"VLOOKUP(P2412,Campos!$B$2:$C$7,2,FALSE)","v":0},"Sin información"]
[2407,15,"Estado de México",6,"Integración de las Mesas Directivas de Casilla","6.6",6,"Entrega para revisión y validación de materiales didácticos de segunda etapa","OPL","OPL","2021-02-03","2021-02-03",null,null,{"$f":"VLOOKUP(P2413,Campos!$B$2:$C$7,2,FALSE)","v":0},"Sin información"]
[2408,15,"Estado de México",6,"Integración de las Mesas Directivas de Casilla","6.7",7,"Revisión, corrección, verificación y validación de los materiales didácticos de la segunda etapa","INE/OPL","JLE/DECEYEC/OPL","2021-02-03","2021-03-22",null,null,{"$f":"VLOOKUP(P2414,Campos!$B$2:$C$7,2,FALSE)","v":0},"Sin información"]
[2409,15,"Estado de México",6,"Integración de las Mesas Directivas de Casilla","6.8",8,"Entrega de los materiales impresos de la segunda etapa a la JLE","OPL","OPL","2021-04-05","2021-04-05",null,null,{"$f":"VLOOKUP(P2415,Campos!$B$2:$C$7,2,FALSE)","v":0},"Sin información"]
[2410,15,"Estado de México",6,"Integración de las Mesas Directivas de Casilla","6.9",9,"Sorteo de la letra a partir de la cual, con base en el apellido paterno, se seleccionará a las y los ciudadanos que integrarán las mesas directivas de casilla","INE","CG","2021-02-02","2021-02-02",null,null,{"$f":"VLOOKUP(P2416,Campos!$B$2:$C$7,2,FALSE)","v":0},"Sin información"]
[2411,15,"Estado de México",6,"Integración de las Mesas Directivas de Casilla","6.10",10,"Entrega de la Lista Nominal de Electores para el Procedimiento de la Primera insaculación con corte al 15 de enero de 2021.","INE","DERFE/UNICOM","2021-01-21","2021-01-26",null,null,{"$f":"VLOOKUP(P2417,Campos!$B$2:$C$7,2,FALSE)","v":0},"Sin información"]
[2412,15,"Estado de México",6,"Integración de las Mesas Directivas de Casilla","6.11",11,"Primera insaculación","INE","JDE","2021-02-06","2021-02-06",null,null,{"$f":"VLOOKUP(P2418,Campos!$B$2:$C$7,2,FALSE)","v":0},"Sin información"]
[2413,15,"Estado de México",6,"Integración de las Mesas Directivas de Casilla","6.12",12,"Primera etapa de capacitación a las personas insaculadas","INE","CD","2021-02-09","2021-03-31",null,null,{"$f":"VLOOKUP(P2419,Campos!$B$2:$C$7,2,FALSE)","v":0},"Sin información"]
[2414,15,"Estado de México",6,"Integración de las Mesas Directivas de Casilla","6.13",13,"Integración de la lista de ciudadanos y ciudadanas que cumplen los requisitos legales para integrar las mesas directivas de casilla","INE","CD","2021-02-09","2021-03-31",null,null,{"$f":"VLOOKUP(P2420,Campos!$B$2:$C$7,2,FALSE)","v":0},"Sin información"]
[2415,15,"Estado de México",6,"Integración de las Mesas Directivas de Casilla","6.14",14,"Segunda insaculación y designación de funcionarios para mesas directivas de casilla","INE","CD","2021-04-08","2021-04-08",null,null,{"$f":"VLOOKUP(P2421,Campos!$B$2:$C$7,2,FALSE)","v":0},"Sin información"]
[2416,15,"Estado de México",6,"Integración de las Mesas Directivas de Casilla","6.15",15,"Segunda etapa de capacitación a funcionarios de mesa directiva de casilla y simulacros","INE","CD","2021-04-18","2021-06-05",null,null,{"$f":"VLOOKUP(P2422,Campos!$B$2:$C$7,2,FALSE)","v":0},"Sin información"]
[2417,15,"Estado de México",6,"Integración de las Mesas Directivas de Casilla","6.16",16,"Entrega de reconocimientos a funcionarios de mesas directivas de casilla","INE","CD","2021-06-07","2021-06-12",null,null,{"$f":"VLOOKUP(P2423,Campos!$B$2:$C$7,2,FALSE)","v":0},"Sin información"]
[2418,15,"Estado de México",6,"Integración de las Mesas Directivas de Casilla","6.17",17,"Periodo para contratación de CAE locales","INE/OPL","INE/OPL","Por definir","Por definir",null,null,{"$f":"VLOOKUP(P2424,Campos!$B$2:$C$7,2,FALSE)","v":0},"Sin información"]
[2419,15,"Estado de México",7,"Fiscalización de los recursos de los Partidos Políticos y candidaturas independientes","7.2",2,"Aprobación de topes de gastos de precampaña Diputaciones","OPL","CG","2021-01-01","2021-02-21",null,null,{"$f":"VLOOKUP(P2425,Campos!$B$2:$C$7,2,FALSE)","v":0},"Sin información"]
[2420,15,"Estado de México",7,"Fiscalización de los recursos de los Partidos Políticos y candidaturas independientes","7.3",3,"Aprobación de topes de gastos de precampaña Ayuntamientos","OPL","CG","2021-01-01","2021-02-21",null,null,{"$f":"VLOOKUP(P2426,Campos!$B$2:$C$7,2,FALSE)","v":0},"Sin información"]
[2421,15,"Estado de México",7,"Fiscalización de los recursos de los Partidos Políticos y candidaturas independientes","7.5",5,"Aprobación de los límites de financiamiento privado, aportaciones de militantes, simpatizantes y precandidatos o candidatos; así como el límite individual de aportaciones para Diputaciones","OPL","CG","2021-01-01","2021-02-21",null,null,{"$f":"VLOOKUP(P2427,Campos!$B$2:$C$7,2,FALSE)","v":0},"Sin información"]
[2422,15,"Estado de México",7,"Fiscalización de los recursos de los Partidos Políticos y candidaturas independientes","7.6",6,"Aprobación de los límites de financiamiento privado, aportaciones de militantes, simpatizantes y precandidatos o candidatos; así como el límite individual de aportaciones para Ayuntamientos","OPL","CG","2021-01-01","2021-02-21",null,null,{"$f":"VLOOKUP(P2428,Campos!$B$2:$C$7,2,FALSE)","v":0},"Sin información"]
[2423,15,"Estado de México",7,"Fiscalización de los recursos de los Partidos Políticos y candidaturas independientes","7.8",8,"Aprobación de topes de gastos para el periodo de obtención del apoyo ciudadano para Diputaciones","OPL","CG","2020-09-01","2021-01-19",null,null,{"$f":"VLOOKUP(P2429,Campos!$B$2:$C$7,2,FALSE)","v":0},"Sin información"]
[2424,15,"Estado de México",7,"Fiscalización de los recursos de los Partidos Políticos y candidaturas independientes","7.9",9,"Aprobación de topes de gastos para el periodo de obtención del apoyo ciudadano para Ayuntamientos","OPL","CG","2020-09-06","2020-10-19",null,null,{"$f":"VLOOKUP(P2430,Campos!$B$2:$C$7,2,FALSE)","v":0},"Sin información"]
[2425,15,"Estado de México",7,"Fiscalización de los recursos de los Partidos Políticos y candidaturas independientes","7.11",11,"Precampaña para Diputaciones","OPL","CG","2021-02-22","2021-03-15",null,null,{"$f":"VLOOKUP(P2431,Campos!$B$2:$C$7,2,FALSE)","v":0},"Sin información"]
[2426,15,"Estado de México",7,"Fiscalización de los recursos de los Partidos Políticos y candidaturas independientes","7.12",12,"Precampaña para Ayuntamientos","OPL","CG","2021-02-22","2021-03-15",null,null,{"$f":"VLOOKUP(P2432,Campos!$B$2:$C$7,2,FALSE)","v":0},"Sin información"]
[2427,15,"Estado de México",7,"Fiscalización de los recursos de los Partidos Políticos y candidaturas independientes","7.14",14,"Aprobación de topes de gastos de campaña para Diputaciones","OPL","CG","2021-01-01","2021-03-28",null,null,{"$f":"VLOOKUP(P2433,Campos!$B$2:$C$7,2,FALSE)","v":0},"Sin información"]
[2428,15,"Estado de México",7,"Fiscalización de los recursos de los Partidos Políticos y candidaturas independientes","7.15",15,"Aprobación de topes de gastos de campaña para Ayuntamientos","OPL","CG","2021-01-01","2021-03-28",null,null,{"$f":"VLOOKUP(P2434,Campos!$B$2:$C$7,2,FALSE)","v":0},"Sin información"]
[2429,15,"Estado de México",7,"Fiscalización de los recursos de los Partidos Políticos y candidaturas independientes","7.17",17,"Campaña para Diputaciones","OPL","CG","2021-04-30","2021-06-02",null,null,{"$f":"VLOOKUP(P2435,Campos!$B$2:$C$7,2,FALSE)","v":0},"Sin información"]
[2430,15,"Estado de México",7,"Fiscalización de los recursos de los Partidos Políticos y candidaturas independientes","7.18",18,"Campaña para Ayuntamientos","OPL","CG","2021-04-30","2021-06-02",null,null,{"$f":"VLOOKUP(P2436,Campos!$B$2:$C$7,2,FALSE)","v":0},"Sin información"]
[2431,15,"Estado de México",7,"Fiscalización de los recursos de los Partidos Políticos y candidaturas independientes","7.19",19,"Aprobación de la distribución de financiamiento público para partidos políticos","OPL","CG","2021-01-01","2021-04-28",null,null,{"$f":"VLOOKUP(P2437,Campos!$B$2:$C$7,2,FALSE)","v":0},"Sin información"]
[2432,15,"Estado de México",8,"Candidaturas Independientes","8.1",1,"Emisión de la convocatoria para la ciudadanía interesada en participar en Candidaturas Independientes ","OPL","CG","2020-09-06","2020-10-19",null,null,{"$f":"VLOOKUP(P2438,Campos!$B$2:$C$7,2,FALSE)","v":0},"Sin información"]
[2433,15,"Estado de México",8,"Candidaturas Independientes","8.3",3,"Recepción de escrito de intención y documentación anexa de la ciudadanía que aspire a la candidatura independiente para Diputaciones","OPL","OD","2020-10-20","2020-12-17",null,null,{"$f":"VLOOKUP(P2439,Campos!$B$2:$C$7,2,FALSE)","v":0},"Sin información"]
[2434,15,"Estado de México",8,"Candidaturas Independientes","8.4",4,"Recepción de escrito de intención y documentación anexa de la ciudadanía que aspire a la candidatura independiente para Ayuntamientos","OPL","SE/OD","2020-10-20","2020-12-17",null,null,{"$f":"VLOOKUP(P2440,Campos!$B$2:$C$7,2,FALSE)","v":0},"Sin información"]
[2435,15,"Estado de México",8,"Candidaturas Independientes","8.6",6,"Resolución sobre procedencia de manifestación de intención de aspirantes a candidaturas independientes para Diputaciones","OPL","CG","2020-12-18","2021-01-28",null,null,{"$f":"VLOOKUP(P2441,Campos!$B$2:$C$7,2,FALSE)","v":0},"Sin información"]
[2436,15,"Estado de México",8,"Candidaturas Independientes","8.7",7,"Resolución sobre procedencia de manifestación de intención de aspirantes a candidaturas independientes para Ayuntamientos","OPL","CG","2020-12-18","2021-02-12",null,null,{"$f":"VLOOKUP(P2442,Campos!$B$2:$C$7,2,FALSE)","v":0},"Sin información"]
[2437,15,"Estado de México",8,"Candidaturas Independientes","8.9",9,"Plazo para obtener el apoyo ciudadano de las candidaturas independientes para Diputaciones","OPL","OD","2021-01-01","2021-02-15",null,null,{"$f":"VLOOKUP(P2443,Campos!$B$2:$C$7,2,FALSE)","v":0},"Sin información"]
[2438,15,"Estado de México",8,"Candidaturas Independientes","8.10",10,"Plazo para obtener el apoyo ciudadano de las candidaturas independientes para Ayuntamientos","OPL","OD","2021-01-01","2021-02-15",null,null,{"$f":"VLOOKUP(P2444,Campos!$B$2:$C$7,2,FALSE)","v":0},"Sin información"]
[2439,15,"Estado de México",8,"Candidaturas Independientes","8.12",12,"Plazo para otorgar las constancias de porcentaje a favor de aspirantes a la candidatura independiente para Diputaciones","OPL","CG","2021-03-14","2021-03-20",null,null,{"$f":"VLOOKUP(P2445,Campos!$B$2:$C$7,2,FALSE)","v":0},"Sin información"]
[2440,15,"Estado de México",8,"Candidaturas Independientes","8.13",13,"Plazo para otorgar las constancias de porcentaje a favor de aspirantes a la candidatura independiente para Ayuntamientos","OPL","CG","2021-03-14","2021-03-19",null,null,{"$f":"VLOOKUP(P2446,Campos!$B$2:$C$7,2,FALSE)","v":0},"Sin información"]
[2441,15,"Estado de México",9,"Candidaturas","9.1",1,"Registro de plataformas electorales","OPL","CG","2021-04-06","2021-04-10",null,null,{"$f":"VLOOKUP(P2447,Campos!$B$2:$C$7,2,FALSE)","v":0},"Sin información"]
[2442,15,"Estado de México",9,"Candidaturas","9.3",3,"Solicitud de registro de convenio de coalición para Diputaciones","OPL","CG","2021-01-01","2021-02-22",null,null,{"$f":"VLOOKUP(P2448,Campos!$B$2:$C$7,2,FALSE)","v":0},"Sin información"]
[2443,15,"Estado de México",9,"Candidaturas","9.4",4,"Solicitud de registro de convenio de coalición para Ayuntamientos","OPL","CG","2021-01-01","2021-02-22",null,null,{"$f":"VLOOKUP(P2449,Campos!$B$2:$C$7,2,FALSE)","v":0},"Sin información"]
[2444,15,"Estado de México",9,"Candidaturas","9.6",6,"Resolución sobre Convenio de Coalición para Diputaciones","OPL","CG","2021-01-11","2021-03-04",null,null,{"$f":"VLOOKUP(P2450,Campos!$B$2:$C$7,2,FALSE)","v":0},"Sin información"]
[2445,15,"Estado de México",9,"Candidaturas","9.7",7,"Resolución sobre Convenio de Coalición para Ayuntamientos","OPL","CG","2021-01-11","2021-03-04",null,null,{"$f":"VLOOKUP(P2451,Campos!$B$2:$C$7,2,FALSE)","v":0},"Sin información"]
[2446,15,"Estado de México",9,"Candidaturas","9.9",9,"Solicitud de registro de Candidaturas para Diputaciones","OPL","CG/OD","2021-04-11","2021-04-25",null,null,{"$f":"VLOOKUP(P2452,Campos!$B$2:$C$7,2,FALSE)","v":0},"Sin información"]
[2447,15,"Estado de México",9,"Candidaturas","9.11",11,"Solicitud de registro de Candidaturas para Ayuntamientos","OPL","CG/OD","2021-04-11","2021-04-25",null,null,{"$f":"VLOOKUP(P2453,Campos!$B$2:$C$7,2,FALSE)","v":0},"Sin información"]
[2448,15,"Estado de México",9,"Candidaturas","9.14",14,"Resolución para aprobar las candidaturas para Diputaciones","OPL","CG","2021-04-29","2021-04-29",null,null,{"$f":"VLOOKUP(P2454,Campos!$B$2:$C$7,2,FALSE)","v":0},"Sin información"]
[2449,15,"Estado de México",9,"Candidaturas","9.16",16,"Resolución para aprobar las candidaturas para Ayuntamientos","OPL","CG/OD","2021-04-29","2021-04-29",null,null,{"$f":"VLOOKUP(P2455,Campos!$B$2:$C$7,2,FALSE)","v":0},"Sin información"]
[2450,15,"Estado de México",9,"Candidaturas","9.18",18,"Solicitud de registro de candidaturas comunes para Diputaciones ","OPL","CG/OD","2021-01-01","2021-01-23",null,null,{"$f":"VLOOKUP(P2456,Campos!$B$2:$C$7,2,FALSE)","v":0},"Sin información"]
[2451,15,"Estado de México",9,"Candidaturas","9.19",19,"Solicitud de registro de candidaturas comunes para Ayuntamientos  ","OPL","CG/OD","2021-01-01","2021-01-23",null,null,{"$f":"VLOOKUP(P2457,Campos!$B$2:$C$7,2,FALSE)","v":0},"Sin información"]
[2452,15,"Estado de México",9,"Candidaturas","9.21",21,"Resolución para aprobar las candidaturas comunes para Diputaciones ","OPL","CG","2021-01-02","2021-01-28",null,null,{"$f":"VLOOKUP(P2458,Campos!$B$2:$C$7,2,FALSE)","v":0},"Sin información"]
[2453,15,"Estado de México",9,"Candidaturas","9.22",22,"Resolución para aprobar las candidaturas comunes para Ayuntamientos ","OPL","CG/OD","2021-01-02","2021-01-28",null,null,{"$f":"VLOOKUP(P2459,Campos!$B$2:$C$7,2,FALSE)","v":0},"Sin información"]
[2454,15,"Estado de México",11,"Documentación y material electoral","11.1",1,"Entrega a la Junta Local Ejecutiva del INE, de los diseños y especificaciones técnicas de la documentación y materiales electorales, en medios impresos y electrónicos","OPL","CG","2020-09-01","2020-09-30",null,null,{"$f":"VLOOKUP(P2460,Campos!$B$2:$C$7,2,FALSE)","v":0},"Sin información"]
[2455,15,"Estado de México",11,"Documentación y material electoral","11.2",2,"Revisión de los documentos y materiales electorales y especificaciones técnicas, presentadas por el OPL","INE","JLE","2020-09-15","2020-12-16",null,null,{"$f":"VLOOKUP(P2461,Campos!$B$2:$C$7,2,FALSE)","v":0},"Sin información"]
[2456,15,"Estado de México",11,"Documentación y material electoral","11.3",3,"En su caso, atención y presentación, de los cambios pertinentes, conforme a las observaciones emitidas por la Junta Local Ejecutiva del INE","OPL","CG","2020-09-15","2020-12-16",null,null,{"$f":"VLOOKUP(P2462,Campos!$B$2:$C$7,2,FALSE)","v":0},"Sin información"]
[2457,15,"Estado de México",11,"Documentación y material electoral","11.4",4,"Validación de los documentos y materiales electorales y especificaciones técnicas, con las observaciones subsanadas","INE","DEOE","2020-10-28","2020-12-18",null,null,{"$f":"VLOOKUP(P2463,Campos!$B$2:$C$7,2,FALSE)","v":0},"Sin información"]
[2458,15,"Estado de México",11,"Documentación y material electoral","11.5",5,"Entrega a la Dirección Ejecutiva de Organización Electoral del INE, del Reporte único sobre la aprobación y adjudicación de los documentos y materiales electorales del OPL, en medios electrónicos","OPL","CG","2021-02-01","2021-02-26",null,null,{"$f":"VLOOKUP(P2464,Campos!$B$2:$C$7,2,FALSE)","v":0},"Sin información"]
[2459,15,"Estado de México",11,"Documentación y material electoral","11.6",6,"Revisión y en su caso validación, del Reporte único sobre la aprobación y adjudicación de los documentos y materiales electorales del OPL, en medios electrónicos","INE","DEOE","2021-02-15","2021-03-12",null,null,{"$f":"VLOOKUP(P2465,Campos!$B$2:$C$7,2,FALSE)","v":0},"Sin información"]
[2460,15,"Estado de México",11,"Documentación y material electoral","11.7",7,"Entrega  a la Dirección Ejecutiva de Organización Electoral del INE, del Reporte semanal sobre el avance en la producción de los documentos y materiales electorales del OPL, en medios electrónicos.","OPL","CG","2021-03-15","2021-05-22",null,null,{"$f":"VLOOKUP(P2466,Campos!$B$2:$C$7,2,FALSE)","v":0},"Sin información"]
[2461,15,"Estado de México",11,"Documentación y material electoral","11.8",8,"Aprobación de la documentación y material electoral","OPL","CG","2020-11-11","2020-12-31",null,null,{"$f":"VLOOKUP(P2467,Campos!$B$2:$C$7,2,FALSE)","v":0},"Sin información"]
[2462,15,"Estado de México",11,"Documentación y material electoral","11.9",9,"Entrega a la Dirección Ejecutiva de Organización Electoral del INE, del Reporte con los resultados de las verificaciones de las medidas de seguridad en la documentación electoral","OPL","CG","2021-05-27","2021-06-11",null,null,{"$f":"VLOOKUP(P2468,Campos!$B$2:$C$7,2,FALSE)","v":0},"Sin información"]
[2463,15,"Estado de México",11,"Documentación y material electoral","11.10",10,"Supervisiones respecto de los procedimientos de impresión y producción de la documentación y materiales electorales","INE","DEOE","2021-03-15","2021-05-22",null,null,{"$f":"VLOOKUP(P2469,Campos!$B$2:$C$7,2,FALSE)","v":0},"Sin información"]
[2464,15,"Estado de México",11,"Documentación y material electoral","11.11",11,"Designación de la persona responsable de llevar el control sobre la asignación de los folios de las boletas que se distribuirán en cada mesa directiva de casilla","OPL","CG","2021-03-01","2021-03-30",null,null,{"$f":"VLOOKUP(P2470,Campos!$B$2:$C$7,2,FALSE)","v":0},"Sin información"]
[2465,15,"Estado de México",11,"Documentación y material electoral","11.12",12,"Aprobación de SE y CAE, así como de personal que auxiliará en el procedimiento de conteo, sellado y agrupamiento de las boletas electorales; así como la integración de documentación para las casillas","OPL","CG","2021-04-24","2021-05-11",null,null,{"$f":"VLOOKUP(P2471,Campos!$B$2:$C$7,2,FALSE)","v":0},"Sin información"]
[2466,15,"Estado de México",11,"Documentación y material electoral","11.13",13,"Recepción de las boletas electorales por el órgano competente que realizará el conteo, sellado y agrupamiento","OPL","CG","2021-05-18","2021-05-22",null,null,{"$f":"VLOOKUP(P2472,Campos!$B$2:$C$7,2,FALSE)","v":0},"Sin información"]
[2467,15,"Estado de México",11,"Documentación y material electoral","11.14",14,"Conteo, sellado y agrupamiento de boletas","OPL","CG","2021-05-18","2021-05-28",null,null,{"$f":"VLOOKUP(P2473,Campos!$B$2:$C$7,2,FALSE)","v":0},"Sin información"]
[2468,15,"Estado de México",11,"Documentación y material electoral","11.15",15,"Distribución de la documentación y materiales electorales a las y los Presidentes de mesas directivas de casilla","OPL","OD","2021-05-31","2021-06-04",null,null,{"$f":"VLOOKUP(P2474,Campos!$B$2:$C$7,2,FALSE)","v":0},"Sin información"]
[2469,15,"Estado de México",11,"Documentación y material electoral","11.16",16,"Remisión de los recibos de la entrega de la documentación y materiales electorales al Consejo General del OPL","INE","JLE","2021-06-24","2021-06-30",null,null,{"$f":"VLOOKUP(P2475,Campos!$B$2:$C$7,2,FALSE)","v":0},"Sin información"]
[2470,15,"Estado de México",12,"Jornada Electoral","12.1",1,"Aprobación del Programa de Operación del SIJE 2021","INE","CCOE","2020-07-01","2020-07-31",null,null,{"$f":"VLOOKUP(P2476,Campos!$B$2:$C$7,2,FALSE)","v":0},"Sin información"]
[2471,15,"Estado de México",12,"Jornada Electoral","12.2",2,"Aprobación de las metas del SIJE 2021","INE","CG","2021-03-01","2021-03-31",null,null,{"$f":"VLOOKUP(P2477,Campos!$B$2:$C$7,2,FALSE)","v":0},"Sin información"]
[2472,15,"Estado de México",12,"Jornada Electoral","12.3",3,"Realización de pruebas del SIJE 2021","INE","DEOE","2021-04-01","2021-04-15",null,null,{"$f":"VLOOKUP(P2478,Campos!$B$2:$C$7,2,FALSE)","v":0},"Sin información"]
[2473,15,"Estado de México",12,"Jornada Electoral","12.4",4,"Desarrollo del primer simulacro del SIJE","INE/OPL","DEOE/OD","2021-04-29","2021-04-29",null,null,{"$f":"VLOOKUP(P2479,Campos!$B$2:$C$7,2,FALSE)","v":0},"Sin información"]
[2474,15,"Estado de México",12,"Jornada Electoral","12.5",5,"Desarrollo del segundo simulacro del SIJE","INE/OPL","DEOE/OD","2021-05-09","2021-05-09",null,null,{"$f":"VLOOKUP(P2480,Campos!$B$2:$C$7,2,FALSE)","v":0},"Sin información"]
[2475,15,"Estado de México",12,"Jornada Electoral","12.6",6,"Desarrollo del tercer simulacro del SIJE","INE/OPL","DEOE/OD","2021-05-23","2021-05-23",null,null,{"$f":"VLOOKUP(P2481,Campos!$B$2:$C$7,2,FALSE)","v":0},"Sin información"]
[2476,15,"Estado de México",12,"Jornada Electoral","12.7",7,"Jornada Electoral","OPL","CG/OD","2021-06-06","2021-06-06",null,null,{"$f":"VLOOKUP(P2482,Campos!$B$2:$C$7,2,FALSE)","v":0},"Sin información"]
[2477,15,"Estado de México",13,"Bodegas electorales","13.1",1,"Determinación de los lugares que ocuparán las bodegas electorales para el resguardo de la documentación electoral","OPL","CG","2021-02-01","2021-02-28",null,null,{"$f":"VLOOKUP(P2483,Campos!$B$2:$C$7,2,FALSE)","v":0},"Sin información"]
[2478,15,"Estado de México",13,"Bodegas electorales","13.2",2,"Informe que rinden las y los Presidentes sobre las condiciones de equipamiento, mecanismos de operación y medidas de seguridad de las bodegas electorales","OPL","OD","2021-03-01","2021-03-31",null,null,{"$f":"VLOOKUP(P2484,Campos!$B$2:$C$7,2,FALSE)","v":0},"Sin información"]
[2479,15,"Estado de México",13,"Bodegas electorales","13.3",3,"Designación, por parte del órgano competente del OPL, del personal que tendrá acceso a la bodega electoral","OPL","CG/OD","2021-03-01","2021-03-30",null,null,{"$f":"VLOOKUP(P2485,Campos!$B$2:$C$7,2,FALSE)","v":0},"Sin información"]
[2480,15,"Estado de México",13,"Bodegas electorales","13.4",4,"Envío a la UTVOPL, por conducto de la JLE, el informe sobre las condiciones que guardan las bodegas electorales","OPL","CG","2021-04-04","2021-04-10",null,null,{"$f":"VLOOKUP(P2486,Campos!$B$2:$C$7,2,FALSE)","v":0},"Sin información"]
[2481,15,"Estado de México",14,"Mecanismos de recolección","14.1",1,"Entrega de estudios de factibilidad al OPL","INE","CL","2021-03-15","2021-03-31",null,null,{"$f":"VLOOKUP(P2487,Campos!$B$2:$C$7,2,FALSE)","v":0},"Sin información"]
[2482,15,"Estado de México",14,"Mecanismos de recolección","14.2",2,"Entrega de observaciones a los estudios de factibilidad ","OPL","CG","2021-04-01","2021-04-24",null,null,{"$f":"VLOOKUP(P2488,Campos!$B$2:$C$7,2,FALSE)","v":0},"Sin información"]
[2483,15,"Estado de México",14,"Mecanismos de recolección","14.3",3,"Recorridos para verificar las propuestas de los mecanismos de recolección","INE/OPL","CD/OD","2021-03-16","2021-04-24",null,null,{"$f":"VLOOKUP(P2489,Campos!$B$2:$C$7,2,FALSE)","v":0},"Sin información"]
[2484,15,"Estado de México",14,"Mecanismos de recolección","14.4",4,"Aprobación de los mecanismos de recolección ","INE","CD","2021-04-26","2021-04-30",null,null,{"$f":"VLOOKUP(P2490,Campos!$B$2:$C$7,2,FALSE)","v":0},"Sin información"]
[2485,15,"Estado de México",14,"Mecanismos de recolección","14.5",5,"Traslado y recolección de los paquetes electorales","INE/OPL","CD/OD","2021-06-06","2021-06-07",null,null,{"$f":"VLOOKUP(P2491,Campos!$B$2:$C$7,2,FALSE)","v":0},"Sin información"]
[2486,15,"Estado de México",14,"Mecanismos de recolección","14.6",6,"Acreditación de representantes de partidos políticos y candidaturas independientes ante los mecanismos de recolección","INE","CL/CD","2021-04-27","2021-06-03",null,null,{"$f":"VLOOKUP(P2492,Campos!$B$2:$C$7,2,FALSE)","v":0},"Sin información"]
[2487,15,"Estado de México",14,"Mecanismos de recolección","14.7",7,"Sustitución de representantes de partidos políticos y candidaturas independientes ante los mecanismos de recolección","INE","CL/CD","2021-04-28","2021-06-04",null,null,{"$f":"VLOOKUP(P2493,Campos!$B$2:$C$7,2,FALSE)","v":0},"Sin información"]
[2488,15,"Estado de México",14,"Mecanismos de recolección","14.8",8,"Entrega a la JLE, el informe sobre la recepción de paquetes electorales en los órganos competentes","OPL","CG","2021-06-06","2021-06-28",null,null,{"$f":"VLOOKUP(P2494,Campos!$B$2:$C$7,2,FALSE)","v":0},"Sin información"]
[2489,15,"Estado de México",15,"Cómputos","15.1",1,"Aprobación de los lineamientos de cómputo y del cuadernillo de consulta sobre votos válidos y votos nulos","OPL","CG","2021-01-18","2021-01-29",null,null,{"$f":"VLOOKUP(P2495,Campos!$B$2:$C$7,2,FALSE)","v":0},"Sin información"]
[2490,15,"Estado de México",15,"Cómputos","15.2",2,"Integración por parte de los Órganos Desconcentrados del OPL, de la propuesta para la habilitación de espacios para el recuento de votos con las alternativas para todos los escenarios de cómputo","OPL","OD","2021-03-01","2021-03-07",null,null,{"$f":"VLOOKUP(P2496,Campos!$B$2:$C$7,2,FALSE)","v":0},"Sin información"]
[2491,15,"Estado de México",15,"Cómputos","15.3",3,"Informe de los escenarios de cómputos de la totalidad de sus órganos desconcentrados","OPL","CG","2021-04-01","2021-04-04",null,null,{"$f":"VLOOKUP(P2497,Campos!$B$2:$C$7,2,FALSE)","v":0},"Sin información"]
[2492,15,"Estado de México",15,"Cómputos","15.4",4,"Remisión a la JLE en la entidad, las propuestas de escenarios de cómputos, para la dictaminación de viabilidad","OPL","CG","2021-05-01","2021-05-07",null,null,{"$f":"VLOOKUP(P2498,Campos!$B$2:$C$7,2,FALSE)","v":0},"Sin información"]
[2493,15,"Estado de México",15,"Cómputos","15.5",5,"Remisión de las observaciones a los escenarios de Cómputos al OPL y a su vez informar de las mismas a la UTVOPL","INE","JLE","2021-05-08","2021-05-15",null,null,{"$f":"VLOOKUP(P2499,Campos!$B$2:$C$7,2,FALSE)","v":0},"Sin información"]
[2494,15,"Estado de México",15,"Cómputos","15.6",6,"Aprobación por parte del órgano competente del OPL, del acuerdo mediante el cual se designa al personal que participará en las tareas de apoyo a los Cómputos Municipales","OPL","CG/OD","2021-04-26","2021-05-05",null,null,{"$f":"VLOOKUP(P2500,Campos!$B$2:$C$7,2,FALSE)","v":0},"Sin información"]
[2495,15,"Estado de México",15,"Cómputos","15.7",7,"Aprobación por parte del órgano competente del OPL, del acuerdo mediante el cual se designa al personal que participará en las tareas de apoyo a los Cómputos Distritales ","OPL","CG/OD","2021-04-26","2021-05-05",null,null,{"$f":"VLOOKUP(P2501,Campos!$B$2:$C$7,2,FALSE)","v":0},"Sin información"]
[2496,15,"Estado de México",15,"Cómputos","15.8",8,"Aprobación por parte de los órganos competentes del OPL, de los distintos escenarios de cómputos","OPL","OD","2021-05-08","2021-05-15",null,null,{"$f":"VLOOKUP(P2502,Campos!$B$2:$C$7,2,FALSE)","v":0},"Sin información"]
[2497,15,"Estado de México",15,"Cómputos","15.9",9,"Aprobación por parte del órgano competente del OPL, del acuerdo por el que se habilitarán espacios para la instalación de grupos de trabajo y, en su caso, puntos de recuento","OPL","CG/OD","2021-06-08","2021-06-08",null,null,{"$f":"VLOOKUP(P2503,Campos!$B$2:$C$7,2,FALSE)","v":0},"Sin información"]
[2498,15,"Estado de México",15,"Cómputos","15.10",10,"Cómputos Distritales","OPL","OD","2021-06-09","2021-06-12",null,null,{"$f":"VLOOKUP(P2504,Campos!$B$2:$C$7,2,FALSE)","v":0},"Sin información"]
[2499,15,"Estado de México",15,"Cómputos","15.14",14,"Cómputo Estatal para la asignación diputaciones de Representación Proporcional","OPL","CG","2021-06-13","2021-06-13",null,null,{"$f":"VLOOKUP(P2505,Campos!$B$2:$C$7,2,FALSE)","v":0},"Sin información"]
[2500,15,"Estado de México",15,"Cómputos","15.11",11,"Cómputos Municipales","OPL","OD","2021-06-09","2021-06-12",null,null,{"$f":"VLOOKUP(P2506,Campos!$B$2:$C$7,2,FALSE)","v":0},"Sin información"]
[2501,15,"Estado de México",15,"Cómputos","15.16",16,"Asignación de regidurías por el principio de Representación Proporcional","OPL","CG","2021-06-09","2021-06-12",null,null,{"$f":"VLOOKUP(P2507,Campos!$B$2:$C$7,2,FALSE)","v":0},"Sin información"]
[2502,15,"Estado de México",16,"PREP","16.1",1,"Aprobación del Acuerdo por el que se designa o ratifica a la instancia interna responsable de coordinar el PREP","OPL","CG","2020-09-11","2020-09-11",null,null,{"$f":"VLOOKUP(P2508,Campos!$B$2:$C$7,2,FALSE)","v":0},"Sin información"]
[2503,15,"Estado de México",16,"PREP","16.2",2,"Aprobación del Acuerdo de Integración del COTAPREP","OPL","CG","2020-11-11","2020-11-11",null,null,{"$f":"VLOOKUP(P2509,Campos!$B$2:$C$7,2,FALSE)","v":0},"Sin información"]
[2504,15,"Estado de México",16,"PREP","16.3",3,"Documento por el que se determina la implementación del PREP por el OPL o con el apoyo de un Tercero","OPL","CG","2020-12-11","2020-12-11",null,null,{"$f":"VLOOKUP(P2510,Campos!$B$2:$C$7,2,FALSE)","v":0},"Sin información"]
[2505,15,"Estado de México",16,"PREP","16.4",4,"Aprobación del Acuerdo por el que se determina el Proceso Técnico Operativo ","OPL","CG","2021-01-11","2021-01-11",null,null,{"$f":"VLOOKUP(P2511,Campos!$B$2:$C$7,2,FALSE)","v":0},"Sin información"]
[2506,15,"Estado de México",16,"PREP","16.5",5,"Aprobación del Acuerdo por el que se determina la ubicación, instalación y habilitación de los CATD y, en su caso, CCV","OPL","CG","2021-02-11","2021-02-11",null,null,{"$f":"VLOOKUP(P2512,Campos!$B$2:$C$7,2,FALSE)","v":0},"Sin información"]
[2507,15,"Estado de México",16,"PREP","16.6",6,"Documento de Designación del Ente Auditor ","OPL","CG","2021-02-11","2021-02-11",null,null,{"$f":"VLOOKUP(P2513,Campos!$B$2:$C$7,2,FALSE)","v":0},"Sin información"]
[2508,15,"Estado de México",16,"PREP","16.7",7,"Instrumento jurídico celebrado entre el OPL y el ente auditor","OPL","CG","2021-03-11","2021-03-11",null,null,{"$f":"VLOOKUP(P2514,Campos!$B$2:$C$7,2,FALSE)","v":0},"Sin información"]
[2509,15,"Estado de México",16,"PREP","16.8",8,"Realización del primer simulacro del PREP","OPL","CG","2021-05-16","2021-05-16",null,null,{"$f":"VLOOKUP(P2515,Campos!$B$2:$C$7,2,FALSE)","v":0},"Sin información"]
[2510,15,"Estado de México",16,"PREP","16.9",9,"Realización del segundo simulacro del PREP","OPL","CG","2021-05-23","2021-05-23",null,null,{"$f":"VLOOKUP(P2516,Campos!$B$2:$C$7,2,FALSE)","v":0},"Sin información"]
[2511,15,"Estado de México",16,"PREP","16.10",10,"Realización del tercer simulacro del PREP","OPL","CG","2021-05-30","2021-05-30",null,null,{"$f":"VLOOKUP(P2517,Campos!$B$2:$C$7,2,FALSE)","v":0},"Sin información"]
[2512,15,"Estado de México",16,"PREP","16.11",11,"Operación del PREP","OPL","CG","2021-06-06","2021-06-07",null,null,{"$f":"VLOOKUP(P2518,Campos!$B$2:$C$7,2,FALSE)","v":0},"Sin información"]
[2513,15,"Estado de México",19,"Visitantes extranjeros","19.1",1,"Emisión de la Convocatoria para visitantes extranjeros","INE","CG","2020-08-03","2020-09-30",null,null,{"$f":"VLOOKUP(P2519,Campos!$B$2:$C$7,2,FALSE)","v":0},"Sin información"]
[2514,15,"Estado de México",19,"Visitantes extranjeros","19.2",2,"Difusión de la Convocatoria para visitantes extranjeros","INE","CAI","2020-09-01","2021-05-26",null,null,{"$f":"VLOOKUP(P2520,Campos!$B$2:$C$7,2,FALSE)","v":0},"Sin información"]
[2515,15,"Estado de México",19,"Visitantes extranjeros","19.3",3,"Recepción de solicitudes de acreditación como visitantes extranjeros","INE","CAI","2020-09-01","2021-05-26",null,null,{"$f":"VLOOKUP(P2521,Campos!$B$2:$C$7,2,FALSE)","v":0},"Sin información"]
[2516,15,"Estado de México",19,"Visitantes extranjeros","19.4",4,"Resolución de solicitudes de acreditación como visitantes extranjeros","INE","CAI","2020-09-02","2021-05-30",null,null,{"$f":"VLOOKUP(P2522,Campos!$B$2:$C$7,2,FALSE)","v":0},"Sin información"]
[2517,15,"Estado de México",19,"Visitantes extranjeros","19.5",5,"Entrega de acreditaciones a los visitantes extranjeros","INE","CAI","2020-09-04","2021-06-05",null,null,{"$f":"VLOOKUP(P2523,Campos!$B$2:$C$7,2,FALSE)","v":0},"Sin información"]
[2518,16,"Michoacán",1,"Mecanismos de coordinación","1.1",1,"Aprobar Calendarios y Planes Integrales de los Procesos Electorales Locales","INE","CG","2020-08-01","2020-08-07",null,null,{"$f":"VLOOKUP(P2524,Campos!$B$2:$C$7,2,FALSE)","v":0},"Sin información"]
[2519,16,"Michoacán",1,"Mecanismos de coordinación","1.2",2,"Firma del Convenio General de Coordinación y Colaboración 2020-2021","INE/OPL","INE/OPL","2020-09-01","2020-10-01",null,null,{"$f":"VLOOKUP(P2525,Campos!$B$2:$C$7,2,FALSE)","v":0},"Sin información"]
[2520,16,"Michoacán",1,"Mecanismos de coordinación","1.3",3,"Elaborar un plan de trabajo conjunto para la promoción de la participación ciudadana","INE/OPL","INE/OPL","2020-09-01","2020-12-31",null,null,{"$f":"VLOOKUP(P2526,Campos!$B$2:$C$7,2,FALSE)","v":0},"Sin información"]
[2521,16,"Michoacán",1,"Mecanismos de coordinación","1.4",4,"Sesión para dar inicio al PEL","OPL","CG","2020-09-06","2020-09-12",null,null,{"$f":"VLOOKUP(P2527,Campos!$B$2:$C$7,2,FALSE)","v":0},"Sin información"]
[2522,16,"Michoacán",1,"Mecanismos de coordinación","1.5",5,"Implementar un plan de trabajo conjunto para la promoción de la participación ciudadana","INE/OPL","INE/OPL","2021-02-01","2021-06-06",null,null,{"$f":"VLOOKUP(P2528,Campos!$B$2:$C$7,2,FALSE)","v":0},"Sin información"]
[2523,16,"Michoacán",2,"Integración de órganos desconcentrados","2.1",1,"Convocatoria para la integración de los Órganos Distritales","OPL","CG","2020-07-01","2020-07-05",null,null,{"$f":"VLOOKUP(P2529,Campos!$B$2:$C$7,2,FALSE)","v":0},"Sin información"]
[2524,16,"Michoacán",2,"Integración de órganos desconcentrados","2.2",2,"Sesión en la que se designan e integran los Órganos Distritales ","OPL","CG","2020-11-03","2020-11-07",null,null,{"$f":"VLOOKUP(P2530,Campos!$B$2:$C$7,2,FALSE)","v":0},"Sin información"]
[2525,16,"Michoacán",2,"Integración de órganos desconcentrados","2.3",3,"Instalación de los Órganos Distritales ","OPL","OD","2020-11-20","2020-11-20",null,null,{"$f":"VLOOKUP(P2531,Campos!$B$2:$C$7,2,FALSE)","v":0},"Sin información"]
[2526,16,"Michoacán",2,"Integración de órganos desconcentrados","2.4",4,"Convocatoria para la integración de los Órganos Municipales ","OPL","CG","2020-07-01","2020-07-05",null,null,{"$f":"VLOOKUP(P2532,Campos!$B$2:$C$7,2,FALSE)","v":0},"Sin información"]
[2527,16,"Michoacán",2,"Integración de órganos desconcentrados","2.5",5,"Sesión en la que se designan e integran los Órganos Municipales ","OPL","CG","2020-11-03","2020-11-07",null,null,{"$f":"VLOOKUP(P2533,Campos!$B$2:$C$7,2,FALSE)","v":0},"Sin información"]
[2528,16,"Michoacán",2,"Integración de órganos desconcentrados","2.6",6,"Instalación de los Órganos Municipales ","OPL","OD","2020-11-20","2020-11-20",null,null,{"$f":"VLOOKUP(P2534,Campos!$B$2:$C$7,2,FALSE)","v":0},"Sin información"]
[2529,16,"Michoacán",2,"Integración de órganos desconcentrados","2.7",7,"Designación y/o ratificación de las y los Consejeros Electorales del Consejo Local ","INE","CG","2020-10-01","2020-10-15",null,null,{"$f":"VLOOKUP(P2535,Campos!$B$2:$C$7,2,FALSE)","v":0},"Sin información"]
[2530,16,"Michoacán",2,"Integración de órganos desconcentrados","2.8",8,"Instalación del Consejo Local","INE","CL","2020-11-01","2020-11-30",null,null,{"$f":"VLOOKUP(P2536,Campos!$B$2:$C$7,2,FALSE)","v":0},"Sin información"]
[2531,16,"Michoacán",2,"Integración de órganos desconcentrados","2.9",9,"Designación y/o ratificación de las y los Consejeros Electorales de los Consejos Distritales ","INE","CL","2020-11-01","2020-11-30",null,null,{"$f":"VLOOKUP(P2537,Campos!$B$2:$C$7,2,FALSE)","v":0},"Sin información"]
[2532,16,"Michoacán",2,"Integración de órganos desconcentrados","2.10",10,"Instalación de los Consejos Distritales","INE","CD","2020-12-01","2020-12-15",null,null,{"$f":"VLOOKUP(P2538,Campos!$B$2:$C$7,2,FALSE)","v":0},"Sin información"]
[2533,16,"Michoacán",3,"Lista Nominal de Electores","3.1",1,"Generación y entrega de la Lista Nominal de Electores para Revisión en medios ópticos a los representantes de los partidos políticos, y en su caso a las candidaturas independientes acreditados ante el OPL, para observaciones","INE","DERFE","2021-02-15","2021-02-15",null,null,{"$f":"VLOOKUP(P2539,Campos!$B$2:$C$7,2,FALSE)","v":0},"Sin información"]
[2534,16,"Michoacán",3,"Lista Nominal de Electores","3.2",2,"Recepción de observaciones de los partidos políticos y en su caso, candidatos independientes, a la Lista Nominal de Electores para revisión","INE/OPL","DERFE","2021-03-14","2021-03-14",null,null,{"$f":"VLOOKUP(P2540,Campos!$B$2:$C$7,2,FALSE)","v":0},"Sin información"]
[2535,16,"Michoacán",3,"Lista Nominal de Electores","3.3",3,"Entrega en formato digital el informe respecto de la atención a las observaciones formuladas a la Lista Nominal de Electores para Revisión","INE","DERFE","2021-04-15","2021-04-15",null,null,{"$f":"VLOOKUP(P2541,Campos!$B$2:$C$7,2,FALSE)","v":0},"Sin información"]
[2536,16,"Michoacán",3,"Lista Nominal de Electores","3.4",4,"Entrega de la Lista Nominal de Electores Definitiva con fotografía","INE","DERFE","2021-05-06","2021-05-14",null,null,{"$f":"VLOOKUP(P2542,Campos!$B$2:$C$7,2,FALSE)","v":0},"Sin información"]
[2537,16,"Michoacán",3,"Lista Nominal de Electores","3.5",5,"Fecha de entrega de la Lista Nominal de Electores con fotografía Producto de Instancias Administrativas y Resoluciones del Tribunal (ADENDA)","INE","DERFE","2021-05-19","2021-05-24",null,null,{"$f":"VLOOKUP(P2543,Campos!$B$2:$C$7,2,FALSE)","v":0},"Sin información"]
[2538,16,"Michoacán",4,"Observación Electoral","4.1",1,"Emisión de la convocatoria para la ciudadanía que desee participar en la observación electoral","OPL","CG","2020-09-06","2020-09-12",null,null,{"$f":"VLOOKUP(P2544,Campos!$B$2:$C$7,2,FALSE)","v":0},"Sin información"]
[2539,16,"Michoacán",4,"Observación Electoral","4.2",2,"Recepción de solicitudes de la ciudadanía que desee participar en observación electoral","INE/OPL","OPL/JLE/JDE","2020-09-06","2021-04-30",null,null,{"$f":"VLOOKUP(P2545,Campos!$B$2:$C$7,2,FALSE)","v":0},"Sin información"]
[2540,16,"Michoacán",4,"Observación Electoral","4.3",3,"Impartición de los cursos de capacitación, preparación o información","INE/OPL","OPL/JLE/JDE","2020-09-06","2021-05-17",null,null,{"$f":"VLOOKUP(P2546,Campos!$B$2:$C$7,2,FALSE)","v":0},"Sin información"]
[2541,16,"Michoacán",4,"Observación Electoral","4.4",4,"Acreditación de la ciudadanía como observadores u observadoras electorales","INE","CL/CD","2020-09-06","2021-06-05",null,null,{"$f":"VLOOKUP(P2547,Campos!$B$2:$C$7,2,FALSE)","v":0},"Sin información"]
[2542,16,"Michoacán",4,"Observación Electoral","4.5",5,"Seguimiento a los informes mensuales de acreditación","INE","CG","2020-09-06","2021-07-31",null,null,{"$f":"VLOOKUP(P2548,Campos!$B$2:$C$7,2,FALSE)","v":0},"Sin información"]
[2543,16,"Michoacán",4,"Observación Electoral","4.6",6,"Remisión de materiales de capacitación a la JLE para revisión","OPL","CG","2020-10-08","2020-10-08",null,null,{"$f":"VLOOKUP(P2549,Campos!$B$2:$C$7,2,FALSE)","v":0},"Sin información"]
[2544,16,"Michoacán",4,"Observación Electoral","4.7",7,"Revisión, corrección, verificación y validación de materiales de capacitación para observación electoral ","INE","JLE","2020-10-09","2020-10-30",null,null,{"$f":"VLOOKUP(P2550,Campos!$B$2:$C$7,2,FALSE)","v":0},"Sin información"]
[2545,16,"Michoacán",4,"Observación Electoral","4.8",8,"Entrega de materiales de capacitación para observación electoral entre OPL e INE","INE/OPL","VEL/OPL","2020-11-01","2020-11-23",null,null,{"$f":"VLOOKUP(P2551,Campos!$B$2:$C$7,2,FALSE)","v":0},"Sin información"]
[2546,16,"Michoacán",5,"Ubicación de casillas","5.1",1,"Recorridos por las secciones de los distritos para localizar los lugares donde se ubicarán las casillas","INE/OPL","JDE/OPL","2021-01-15","2021-02-15",null,null,{"$f":"VLOOKUP(P2552,Campos!$B$2:$C$7,2,FALSE)","v":0},"Sin información"]
[2547,16,"Michoacán",5,"Ubicación de casillas","5.2",2,"Presentación a los Consejos Distritales del listado de lugares propuestos para ubicar casillas","INE","JDE","2021-02-24","2021-02-24",null,null,{"$f":"VLOOKUP(P2553,Campos!$B$2:$C$7,2,FALSE)","v":0},"Sin información"]
[2548,16,"Michoacán",5,"Ubicación de casillas","5.3",3,"Visitas de examinación en los lugares propuestos para ubicar casillas básicas, contiguas, especiales y extraordinarias","INE/OPL","CD/OPL","2021-02-25","2021-03-16",null,null,{"$f":"VLOOKUP(P2554,Campos!$B$2:$C$7,2,FALSE)","v":0},"Sin información"]
[2549,16,"Michoacán",5,"Ubicación de casillas","5.4",4,"Aprobación del número y ubicación de casillas extraordinarias y especiales","INE","CD","2021-03-16","2021-03-16",null,null,{"$f":"VLOOKUP(P2555,Campos!$B$2:$C$7,2,FALSE)","v":0},"Sin información"]
[2550,16,"Michoacán",5,"Ubicación de casillas","5.5",5,"Aprobación del número y ubicación de casillas básicas y contiguas","INE","CD","2021-03-25","2021-03-25",null,null,{"$f":"VLOOKUP(P2556,Campos!$B$2:$C$7,2,FALSE)","v":0},"Sin información"]
[2551,16,"Michoacán",5,"Ubicación de casillas","5.6",6,"Entrega de la base de datos de la Lista Nominal Definitiva a UNICOM con corte al 10 de abril","INE","DERFE","2021-04-15","2021-04-16",null,null,{"$f":"VLOOKUP(P2557,Campos!$B$2:$C$7,2,FALSE)","v":0},"Sin información"]
[2552,16,"Michoacán",5,"Ubicación de casillas","5.7",7,"Realizar la primera publicación de la lista de ubicación de casillas en los lugares más concurridos del distrito electoral  y en los medios electrónicos del Instituto","INE","CD","2021-04-15","2021-04-15",null,null,{"$f":"VLOOKUP(P2558,Campos!$B$2:$C$7,2,FALSE)","v":0},"Sin información"]
[2553,16,"Michoacán",5,"Ubicación de casillas","5.8",8,"En su caso, segunda publicación de la lista de ubicación de casillas por causas supervenientes en los lugares más concurridos del distrito y en los medios electrónicos del Instituto","INE","CD","2021-05-15","2021-05-25",null,null,{"$f":"VLOOKUP(P2559,Campos!$B$2:$C$7,2,FALSE)","v":0},"Sin información"]
[2554,16,"Michoacán",5,"Ubicación de casillas","5.9",9,"Publicación de los encartes y difusión en medios electrónicos del Instituto","INE/OPL","DEOE/CG","2021-06-05","2021-06-06",null,null,{"$f":"VLOOKUP(P2560,Campos!$B$2:$C$7,2,FALSE)","v":0},"Sin información"]
[2555,16,"Michoacán",5,"Ubicación de casillas","5.10",10,"Registro de representantes generales y ante mesas directivas de casilla","INE","CD","2021-04-16","2021-05-24",null,null,{"$f":"VLOOKUP(P2561,Campos!$B$2:$C$7,2,FALSE)","v":0},"Sin información"]
[2556,16,"Michoacán",5,"Ubicación de casillas","5.11",11,"Sustitución de representantes generales y ante mesas directivas de casilla","INE","CD","2021-04-16","2021-05-27",null,null,{"$f":"VLOOKUP(P2562,Campos!$B$2:$C$7,2,FALSE)","v":0},"Sin información"]
[2557,16,"Michoacán",5,"Ubicación de casillas","5.12",12,"Entrega de listados de representantes generales y ante casilla al OPL","INE","CD","2021-05-30","2021-05-30",null,null,{"$f":"VLOOKUP(P2563,Campos!$B$2:$C$7,2,FALSE)","v":0},"Sin información"]
[2558,16,"Michoacán",5,"Ubicación de casillas","5.13",13,"Notificación ciudadana de ubicación de casillas en secciones electorales involucradas en la actualización del Marco Geográfico Electoral","INE/OPL","DERFE/OPL","2021-04-01","2021-06-15",null,null,{"$f":"VLOOKUP(P2564,Campos!$B$2:$C$7,2,FALSE)","v":0},"Sin información"]
[2559,16,"Michoacán",6,"Integración de las Mesas Directivas de Casilla","6.1",1,"Aprobación de la Estrategia de Capacitación y Asistencia Electoral","INE","CG","2020-08-01","2020-08-15",null,null,{"$f":"VLOOKUP(P2565,Campos!$B$2:$C$7,2,FALSE)","v":0},"Sin información"]
[2560,16,"Michoacán",6,"Integración de las Mesas Directivas de Casilla","6.2",2,"Entrega para revisión y validación de materiales didácticos de primera etapa","OPL","CG","2020-11-03","2020-11-03",null,null,{"$f":"VLOOKUP(P2566,Campos!$B$2:$C$7,2,FALSE)","v":0},"Sin información"]
[2561,16,"Michoacán",6,"Integración de las Mesas Directivas de Casilla","6.3",3,"Revisión, corrección, verificación y validación de los materiales didácticos de primera etapa","INE/OPL","JLE/DECEYEC/OPL","2020-11-03","2020-12-19",null,null,{"$f":"VLOOKUP(P2567,Campos!$B$2:$C$7,2,FALSE)","v":0},"Sin información"]
[2562,16,"Michoacán",6,"Integración de las Mesas Directivas de Casilla","6.4",4,"Entrega de los materiales impresos de la primera etapa a la JLE","OPL","OPL","2021-02-05","2021-02-05",null,null,{"$f":"VLOOKUP(P2568,Campos!$B$2:$C$7,2,FALSE)","v":0},"Sin información"]
[2563,16,"Michoacán",6,"Integración de las Mesas Directivas de Casilla","6.5",5,"Sorteo del mes del calendario como base para la insaculación de las y los ciudadanos que integrarán las mesas directivas de casilla","INE","CG","2020-12-15","2020-12-19",null,null,{"$f":"VLOOKUP(P2569,Campos!$B$2:$C$7,2,FALSE)","v":0},"Sin información"]
[2564,16,"Michoacán",6,"Integración de las Mesas Directivas de Casilla","6.6",6,"Entrega para revisión y validación de materiales didácticos de segunda etapa","OPL","OPL","2021-02-03","2021-02-03",null,null,{"$f":"VLOOKUP(P2570,Campos!$B$2:$C$7,2,FALSE)","v":0},"Sin información"]
[2565,16,"Michoacán",6,"Integración de las Mesas Directivas de Casilla","6.7",7,"Revisión, corrección, verificación y validación de los materiales didácticos de la segunda etapa","INE/OPL","JLE/DECEYEC/OPL","2021-02-03","2021-03-22",null,null,{"$f":"VLOOKUP(P2571,Campos!$B$2:$C$7,2,FALSE)","v":0},"Sin información"]
[2566,16,"Michoacán",6,"Integración de las Mesas Directivas de Casilla","6.8",8,"Entrega de los materiales impresos de la segunda etapa a la JLE","OPL","OPL","2021-04-05","2021-04-05",null,null,{"$f":"VLOOKUP(P2572,Campos!$B$2:$C$7,2,FALSE)","v":0},"Sin información"]
[2567,16,"Michoacán",6,"Integración de las Mesas Directivas de Casilla","6.9",9,"Sorteo de la letra a partir de la cual, con base en el apellido paterno, se seleccionará a las y los ciudadanos que integrarán las mesas directivas de casilla","INE","CG","2021-02-02","2021-02-02",null,null,{"$f":"VLOOKUP(P2573,Campos!$B$2:$C$7,2,FALSE)","v":0},"Sin información"]
[2568,16,"Michoacán",6,"Integración de las Mesas Directivas de Casilla","6.10",10,"Entrega de la Lista Nominal de Electores para el Procedimiento de la Primera insaculación con corte al 15 de enero de 2021.","INE","DERFE/UNICOM","2021-01-21","2021-01-26",null,null,{"$f":"VLOOKUP(P2574,Campos!$B$2:$C$7,2,FALSE)","v":0},"Sin información"]
[2569,16,"Michoacán",6,"Integración de las Mesas Directivas de Casilla","6.11",11,"Primera insaculación","INE","JDE","2021-02-06","2021-02-06",null,null,{"$f":"VLOOKUP(P2575,Campos!$B$2:$C$7,2,FALSE)","v":0},"Sin información"]
[2570,16,"Michoacán",6,"Integración de las Mesas Directivas de Casilla","6.12",12,"Primera etapa de capacitación a las personas insaculadas","INE","CD","2021-02-09","2021-03-31",null,null,{"$f":"VLOOKUP(P2576,Campos!$B$2:$C$7,2,FALSE)","v":0},"Sin información"]
[2571,16,"Michoacán",6,"Integración de las Mesas Directivas de Casilla","6.13",13,"Integración de la lista de ciudadanos y ciudadanas que cumplen los requisitos legales para integrar las mesas directivas de casilla","INE","CD","2021-02-09","2021-03-31",null,null,{"$f":"VLOOKUP(P2577,Campos!$B$2:$C$7,2,FALSE)","v":0},"Sin información"]
[2572,16,"Michoacán",6,"Integración de las Mesas Directivas de Casilla","6.14",14,"Segunda insaculación y designación de funcionarios para mesas directivas de casilla","INE","CD","2021-04-08","2021-04-08",null,null,{"$f":"VLOOKUP(P2578,Campos!$B$2:$C$7,2,FALSE)","v":0},"Sin información"]
[2573,16,"Michoacán",6,"Integración de las Mesas Directivas de Casilla","6.15",15,"Segunda etapa de capacitación a funcionarios de mesa directiva de casilla y simulacros","INE","CD","2021-04-18","2021-06-05",null,null,{"$f":"VLOOKUP(P2579,Campos!$B$2:$C$7,2,FALSE)","v":0},"Sin información"]
[2574,16,"Michoacán",6,"Integración de las Mesas Directivas de Casilla","6.16",16,"Entrega de reconocimientos a funcionarios de mesas directivas de casilla","INE","CD","2021-06-07","2021-06-12",null,null,{"$f":"VLOOKUP(P2580,Campos!$B$2:$C$7,2,FALSE)","v":0},"Sin información"]
[2575,16,"Michoacán",6,"Integración de las Mesas Directivas de Casilla","6.17",17,"Periodo para contratación de CAE locales","INE/OPL","INE/OPL","Por definir","Por definir",null,null,{"$f":"VLOOKUP(P2581,Campos!$B$2:$C$7,2,FALSE)","v":0},"Sin información"]
[2576,16,"Michoacán",6,"Integración de las Mesas Directivas de Casilla","6.18",18,"Reclutamiento y selección de CAE locales","INE/OPL","INE/OPL","Por definir","Por definir",null,null,{"$f":"VLOOKUP(P2582,Campos!$B$2:$C$7,2,FALSE)","v":0},"Sin información"]
[2577,16,"Michoacán",7,"Fiscalización de los recursos de los Partidos Políticos y candidaturas independientes","7.1",1,"Aprobación de topes de gastos de precampaña Gubernatura","OPL","CG","2020-11-01","2020-11-20",null,null,{"$f":"VLOOKUP(P2583,Campos!$B$2:$C$7,2,FALSE)","v":0},"Sin información"]
[2578,16,"Michoacán",7,"Fiscalización de los recursos de los Partidos Políticos y candidaturas independientes","7.2",2,"Aprobación de topes de gastos de precampaña Diputaciones","OPL","CG","2020-11-01","2020-11-20",null,null,{"$f":"VLOOKUP(P2584,Campos!$B$2:$C$7,2,FALSE)","v":0},"Sin información"]
[2579,16,"Michoacán",7,"Fiscalización de los recursos de los Partidos Políticos y candidaturas independientes","7.3",3,"Aprobación de topes de gastos de precampaña Ayuntamientos","OPL","CG","2020-11-01","2020-11-20",null,null,{"$f":"VLOOKUP(P2585,Campos!$B$2:$C$7,2,FALSE)","v":0},"Sin información"]
[2580,16,"Michoacán",7,"Fiscalización de los recursos de los Partidos Políticos y candidaturas independientes","7.4",4,"Aprobación de los límites de financiamiento privado, aportaciones de militantes, simpatizantes y precandidatos o candidatos; así como el límite individual de aportaciones para Gubernatura","OPL","CG","2020-12-01","2020-12-31",null,null,{"$f":"VLOOKUP(P2586,Campos!$B$2:$C$7,2,FALSE)","v":0},"Sin información"]
[2581,16,"Michoacán",7,"Fiscalización de los recursos de los Partidos Políticos y candidaturas independientes","7.5",5,"Aprobación de los límites de financiamiento privado, aportaciones de militantes, simpatizantes y precandidatos o candidatos; así como el límite individual de aportaciones para Diputaciones","OPL","CG","2020-12-01","2020-12-31",null,null,{"$f":"VLOOKUP(P2587,Campos!$B$2:$C$7,2,FALSE)","v":0},"Sin información"]
[2582,16,"Michoacán",7,"Fiscalización de los recursos de los Partidos Políticos y candidaturas independientes","7.6",6,"Aprobación de los límites de financiamiento privado, aportaciones de militantes, simpatizantes y precandidatos o candidatos; así como el límite individual de aportaciones para Ayuntamientos","OPL","CG","2020-12-01","2020-12-31",null,null,{"$f":"VLOOKUP(P2588,Campos!$B$2:$C$7,2,FALSE)","v":0},"Sin información"]
[2583,16,"Michoacán",7,"Fiscalización de los recursos de los Partidos Políticos y candidaturas independientes","7.7",7,"Aprobación de topes de gastos para el periodo de obtención del apoyo ciudadano para Gubernatura","OPL","CG","2020-11-01","2020-11-22",null,null,{"$f":"VLOOKUP(P2589,Campos!$B$2:$C$7,2,FALSE)","v":0},"Sin información"]
[2584,16,"Michoacán",7,"Fiscalización de los recursos de los Partidos Políticos y candidaturas independientes","7.8",8,"Aprobación de topes de gastos para el periodo de obtención del apoyo ciudadano para Diputaciones","OPL","CG","2020-11-01","2020-11-22",null,null,{"$f":"VLOOKUP(P2590,Campos!$B$2:$C$7,2,FALSE)","v":0},"Sin información"]
[2585,16,"Michoacán",7,"Fiscalización de los recursos de los Partidos Políticos y candidaturas independientes","7.9",9,"Aprobación de topes de gastos para el periodo de obtención del apoyo ciudadano para Ayuntamientos","OPL","CG","2020-11-01","2020-11-22",null,null,{"$f":"VLOOKUP(P2591,Campos!$B$2:$C$7,2,FALSE)","v":0},"Sin información"]
[2586,16,"Michoacán",7,"Fiscalización de los recursos de los Partidos Políticos y candidaturas independientes","7.10",10,"Precampaña para Gubernatura","OPL","CG","2021-01-03","2021-02-11",null,null,{"$f":"VLOOKUP(P2592,Campos!$B$2:$C$7,2,FALSE)","v":0},"Sin información"]
[2587,16,"Michoacán",7,"Fiscalización de los recursos de los Partidos Políticos y candidaturas independientes","7.11",11,"Precampaña para Diputaciones","OPL","CG","2021-01-10","2021-02-08",null,null,{"$f":"VLOOKUP(P2593,Campos!$B$2:$C$7,2,FALSE)","v":0},"Sin información"]
[2588,16,"Michoacán",7,"Fiscalización de los recursos de los Partidos Políticos y candidaturas independientes","7.12",12,"Precampaña para Ayuntamientos","OPL","CG","2021-01-10","2021-02-08",null,null,{"$f":"VLOOKUP(P2594,Campos!$B$2:$C$7,2,FALSE)","v":0},"Sin información"]
[2589,16,"Michoacán",7,"Fiscalización de los recursos de los Partidos Políticos y candidaturas independientes","7.13",13,"Aprobación de topes de gastos de campaña para Gubernatura","OPL","CG","2020-09-11","2020-09-14",null,null,{"$f":"VLOOKUP(P2595,Campos!$B$2:$C$7,2,FALSE)","v":0},"Sin información"]
[2590,16,"Michoacán",7,"Fiscalización de los recursos de los Partidos Políticos y candidaturas independientes","7.14",14,"Aprobación de topes de gastos de campaña para Diputaciones","OPL","CG","2020-09-11","2020-09-14",null,null,{"$f":"VLOOKUP(P2596,Campos!$B$2:$C$7,2,FALSE)","v":0},"Sin información"]
[2591,16,"Michoacán",7,"Fiscalización de los recursos de los Partidos Políticos y candidaturas independientes","7.15",15,"Aprobación de topes de gastos de campaña para Ayuntamientos","OPL","CG","2020-09-11","2020-09-14",null,null,{"$f":"VLOOKUP(P2597,Campos!$B$2:$C$7,2,FALSE)","v":0},"Sin información"]
[2592,16,"Michoacán",7,"Fiscalización de los recursos de los Partidos Políticos y candidaturas independientes","7.16",16,"Campaña para Gubernatura","OPL","CG","2021-04-04","2021-06-02",null,null,{"$f":"VLOOKUP(P2598,Campos!$B$2:$C$7,2,FALSE)","v":0},"Sin información"]
[2593,16,"Michoacán",7,"Fiscalización de los recursos de los Partidos Políticos y candidaturas independientes","7.17",17,"Campaña para Diputaciones","OPL","CG","2021-04-19","2021-06-02",null,null,{"$f":"VLOOKUP(P2599,Campos!$B$2:$C$7,2,FALSE)","v":0},"Sin información"]
[2594,16,"Michoacán",7,"Fiscalización de los recursos de los Partidos Políticos y candidaturas independientes","7.18",18,"Campaña para Ayuntamientos","OPL","CG","2021-04-19","2021-06-02",null,null,{"$f":"VLOOKUP(P2600,Campos!$B$2:$C$7,2,FALSE)","v":0},"Sin información"]
[2595,16,"Michoacán",7,"Fiscalización de los recursos de los Partidos Políticos y candidaturas independientes","7.19",19,"Aprobación de la distribución de financiamiento público para partidos políticos","OPL","CG","2021-01-01","2021-01-31",null,null,{"$f":"VLOOKUP(P2601,Campos!$B$2:$C$7,2,FALSE)","v":0},"Sin información"]
[2596,16,"Michoacán",8,"Candidaturas Independientes","8.1",1,"Emisión de la convocatoria para la ciudadanía interesada en participar en Candidaturas Independientes ","OPL","CG","2020-09-01","2020-09-30",null,null,{"$f":"VLOOKUP(P2602,Campos!$B$2:$C$7,2,FALSE)","v":0},"Sin información"]
[2597,16,"Michoacán",8,"Candidaturas Independientes","8.2",2,"Recepción de escrito de intención y documentación anexa de la ciudadanía que aspire a la candidatura independiente para Gubernatura","OPL","OD","2020-11-07","2020-11-11",null,null,{"$f":"VLOOKUP(P2603,Campos!$B$2:$C$7,2,FALSE)","v":0},"Sin información"]
[2598,16,"Michoacán",8,"Candidaturas Independientes","8.3",3,"Recepción de escrito de intención y documentación anexa de la ciudadanía que aspire a la candidatura independiente para Diputaciones","OPL","OD","2020-11-17","2020-11-21",null,null,{"$f":"VLOOKUP(P2604,Campos!$B$2:$C$7,2,FALSE)","v":0},"Sin información"]
[2599,16,"Michoacán",8,"Candidaturas Independientes","8.4",4,"Recepción de escrito de intención y documentación anexa de la ciudadanía que aspire a la candidatura independiente para Ayuntamientos","OPL","SE/OD","2020-11-17","2020-11-21",null,null,{"$f":"VLOOKUP(P2605,Campos!$B$2:$C$7,2,FALSE)","v":0},"Sin información"]
[2600,16,"Michoacán",8,"Candidaturas Independientes","8.5",5,"Resolución sobre procedencia de manifestación de intención de aspirantes a candidaturas independientes para Gubernatura","OPL","CG","2020-11-18","2020-11-22",null,null,{"$f":"VLOOKUP(P2606,Campos!$B$2:$C$7,2,FALSE)","v":0},"Sin información"]
[2601,16,"Michoacán",8,"Candidaturas Independientes","8.6",6,"Resolución sobre procedencia de manifestación de intención de aspirantes a candidaturas independientes para Diputaciones","OPL","CG","2020-11-28","2020-12-02",null,null,{"$f":"VLOOKUP(P2607,Campos!$B$2:$C$7,2,FALSE)","v":0},"Sin información"]
[2602,16,"Michoacán",8,"Candidaturas Independientes","8.7",7,"Resolución sobre procedencia de manifestación de intención de aspirantes a candidaturas independientes para Ayuntamientos","OPL","CG","2020-11-28","2020-12-02",null,null,{"$f":"VLOOKUP(P2608,Campos!$B$2:$C$7,2,FALSE)","v":0},"Sin información"]
[2603,16,"Michoacán",8,"Candidaturas Independientes","8.8",8,"Plazo para obtener el apoyo ciudadano de las candidaturas independientes para Gubernatura","OPL","OD","2020-11-23","2020-12-22",null,null,{"$f":"VLOOKUP(P2609,Campos!$B$2:$C$7,2,FALSE)","v":0},"Sin información"]
[2604,16,"Michoacán",8,"Candidaturas Independientes","8.9",9,"Plazo para obtener el apoyo ciudadano de las candidaturas independientes para Diputaciones","OPL","OD","2020-12-03","2020-12-22",null,null,{"$f":"VLOOKUP(P2610,Campos!$B$2:$C$7,2,FALSE)","v":0},"Sin información"]
[2605,16,"Michoacán",8,"Candidaturas Independientes","8.10",10,"Plazo para obtener el apoyo ciudadano de las candidaturas independientes para Ayuntamientos","OPL","OD","2020-12-03","2020-12-22",null,null,{"$f":"VLOOKUP(P2611,Campos!$B$2:$C$7,2,FALSE)","v":0},"Sin información"]
[2606,16,"Michoacán",8,"Candidaturas Independientes","8.11",11,"Plazo para otorgar las constancias de porcentaje a favor de aspirantes a la candidatura independiente para Gubernatura","OPL","CG","2020-12-31","2021-01-04",null,null,{"$f":"VLOOKUP(P2612,Campos!$B$2:$C$7,2,FALSE)","v":0},"Sin información"]
[2607,16,"Michoacán",8,"Candidaturas Independientes","8.12",12,"Plazo para otorgar las constancias de porcentaje a favor de aspirantes a la candidatura independiente para Diputaciones","OPL","CG","2020-12-31","2021-01-04",null,null,{"$f":"VLOOKUP(P2613,Campos!$B$2:$C$7,2,FALSE)","v":0},"Sin información"]
[2608,16,"Michoacán",8,"Candidaturas Independientes","8.13",13,"Plazo para otorgar las constancias de porcentaje a favor de aspirantes a la candidatura independiente para Ayuntamientos","OPL","CG","2020-12-31","2021-01-04",null,null,{"$f":"VLOOKUP(P2614,Campos!$B$2:$C$7,2,FALSE)","v":0},"Sin información"]
[2609,16,"Michoacán",9,"Candidaturas","9.1",1,"Registro de plataformas electorales","OPL","CG","2021-03-10","2021-02-22",null,null,{"$f":"VLOOKUP(P2615,Campos!$B$2:$C$7,2,FALSE)","v":0},"Sin información"]
[2610,16,"Michoacán",9,"Candidaturas","9.2",2,"Solicitud de registro de convenio de coalición para Gubernatura","OPL","CG","2020-09-06","2021-02-22",null,null,{"$f":"VLOOKUP(P2616,Campos!$B$2:$C$7,2,FALSE)","v":0},"Sin información"]
[2611,16,"Michoacán",9,"Candidaturas","9.3",3,"Solicitud de registro de convenio de coalición para Diputaciones","OPL","CG","2020-09-06","2021-03-04",null,null,{"$f":"VLOOKUP(P2617,Campos!$B$2:$C$7,2,FALSE)","v":0},"Sin información"]
[2612,16,"Michoacán",9,"Candidaturas","9.4",4,"Solicitud de registro de convenio de coalición para Ayuntamientos","OPL","CG","2020-09-06","2021-03-04",null,null,{"$f":"VLOOKUP(P2618,Campos!$B$2:$C$7,2,FALSE)","v":0},"Sin información"]
[2613,16,"Michoacán",9,"Candidaturas","9.5",5,"Resolución sobre Convenio de Coalición para Gubernatura","OPL","CG","2020-09-16","2021-01-13",null,null,{"$f":"VLOOKUP(P2619,Campos!$B$2:$C$7,2,FALSE)","v":0},"Sin información"]
[2614,16,"Michoacán",9,"Candidaturas","9.6",6,"Resolución sobre Convenio de Coalición para Diputaciones","OPL","CG","2020-09-16","2021-01-20",null,null,{"$f":"VLOOKUP(P2620,Campos!$B$2:$C$7,2,FALSE)","v":0},"Sin información"]
[2615,16,"Michoacán",9,"Candidaturas","9.7",7,"Resolución sobre Convenio de Coalición para Ayuntamientos","OPL","CG","2020-09-16","2021-01-20",null,null,{"$f":"VLOOKUP(P2621,Campos!$B$2:$C$7,2,FALSE)","v":0},"Sin información"]
[2616,16,"Michoacán",9,"Candidaturas","9.8",8,"Solicitud de registro de Candidaturas para Gubernatura","OPL","CG/OD","2021-03-10","2021-03-24",null,null,{"$f":"VLOOKUP(P2622,Campos!$B$2:$C$7,2,FALSE)","v":0},"Sin información"]
[2617,16,"Michoacán",9,"Candidaturas","9.9",9,"Solicitud de registro de Candidaturas para Diputaciones","OPL","CG/OD","2021-03-25","2021-04-08",null,null,{"$f":"VLOOKUP(P2623,Campos!$B$2:$C$7,2,FALSE)","v":0},"Sin información"]
[2618,16,"Michoacán",9,"Candidaturas","9.10",10,"Solicitud de registro de Candidaturas para Diputaciones de Representación Proporcional","OPL","CG/OD","2021-04-08","2021-04-22",null,null,{"$f":"VLOOKUP(P2624,Campos!$B$2:$C$7,2,FALSE)","v":0},"Sin información"]
[2619,16,"Michoacán",9,"Candidaturas","9.11",11,"Solicitud de registro de Candidaturas para Ayuntamientos","OPL","CG/OD","2021-03-25","2021-04-08",null,null,{"$f":"VLOOKUP(P2625,Campos!$B$2:$C$7,2,FALSE)","v":0},"Sin información"]
[2620,16,"Michoacán",9,"Candidaturas","9.13",13,"Resolución para aprobar las candidaturas para Gubernatura","OPL","CG","2021-03-25","2021-04-03",null,null,{"$f":"VLOOKUP(P2626,Campos!$B$2:$C$7,2,FALSE)","v":0},"Sin información"]
[2621,16,"Michoacán",9,"Candidaturas","9.14",14,"Resolución para aprobar las candidaturas para Diputaciones","OPL","CG","2021-04-09","2021-04-18",null,null,{"$f":"VLOOKUP(P2627,Campos!$B$2:$C$7,2,FALSE)","v":0},"Sin información"]
[2622,16,"Michoacán",9,"Candidaturas","9.16",16,"Resolución para aprobar las candidaturas para Ayuntamientos","OPL","CG/OD","2021-04-09","2021-04-18",null,null,{"$f":"VLOOKUP(P2628,Campos!$B$2:$C$7,2,FALSE)","v":0},"Sin información"]
[2623,16,"Michoacán",9,"Candidaturas","9.17",17,"Solicitud de registro de candidaturas comunes para Gubernatura ","OPL","CG/OD","2021-03-10","2021-03-24",null,null,{"$f":"VLOOKUP(P2629,Campos!$B$2:$C$7,2,FALSE)","v":0},"Sin información"]
[2624,16,"Michoacán",9,"Candidaturas","9.18",18,"Solicitud de registro de candidaturas comunes para Diputaciones ","OPL","CG/OD","2021-03-25","2021-04-08",null,null,{"$f":"VLOOKUP(P2630,Campos!$B$2:$C$7,2,FALSE)","v":0},"Sin información"]
[2625,16,"Michoacán",9,"Candidaturas","9.19",19,"Solicitud de registro de candidaturas comunes para Ayuntamientos  ","OPL","CG/OD","2021-03-25","2021-04-08",null,null,{"$f":"VLOOKUP(P2631,Campos!$B$2:$C$7,2,FALSE)","v":0},"Sin información"]
[2626,16,"Michoacán",9,"Candidaturas","9.20",20,"Resolución para aprobar las candidaturas comunes para Gubernatura","OPL","CG/OD","2021-03-25","2021-04-03",null,null,{"$f":"VLOOKUP(P2632,Campos!$B$2:$C$7,2,FALSE)","v":0},"Sin información"]
[2627,16,"Michoacán",9,"Candidaturas","9.21",21,"Resolución para aprobar las candidaturas comunes para Diputaciones ","OPL","CG/OD","2021-04-09","2021-04-18",null,null,{"$f":"VLOOKUP(P2633,Campos!$B$2:$C$7,2,FALSE)","v":0},"Sin información"]
[2628,16,"Michoacán",9,"Candidaturas","9.22",22,"Resolución para aprobar las candidaturas comunes para Ayuntamientos ","OPL","CG/OD","2021-04-09","2021-04-18",null,null,{"$f":"VLOOKUP(P2634,Campos!$B$2:$C$7,2,FALSE)","v":0},"Sin información"]
[2629,16,"Michoacán",10,"Debates","10.1",1,"Aprobación de las fechas en que se celebrarán los debates","OPL","CG","2021-04-04","2021-04-13",null,null,{"$f":"VLOOKUP(P2635,Campos!$B$2:$C$7,2,FALSE)","v":0},"Sin información"]
[2630,16,"Michoacán",10,"Debates","10.2",2,"Realización de debate(s)","OPL","CG","2021-04-18","2021-04-25",null,null,{"$f":"VLOOKUP(P2636,Campos!$B$2:$C$7,2,FALSE)","v":0},"Sin información"]
[2631,16,"Michoacán",11,"Documentación y material electoral","11.1",1,"Entrega a la Junta Local Ejecutiva del INE, de los diseños y especificaciones técnicas de la documentación y materiales electorales, en medios impresos y electrónicos","OPL","CG","2020-09-01","2020-09-30",null,null,{"$f":"VLOOKUP(P2637,Campos!$B$2:$C$7,2,FALSE)","v":0},"Sin información"]
[2632,16,"Michoacán",11,"Documentación y material electoral","11.2",2,"Revisión de los documentos y materiales electorales y especificaciones técnicas, presentadas por el OPL","INE","JLE","2020-09-15","2020-12-16",null,null,{"$f":"VLOOKUP(P2638,Campos!$B$2:$C$7,2,FALSE)","v":0},"Sin información"]
[2633,16,"Michoacán",11,"Documentación y material electoral","11.3",3,"En su caso, atención y presentación, de los cambios pertinentes, conforme a las observaciones emitidas por la Junta Local Ejecutiva del INE","OPL","CG","2020-09-15","2020-12-16",null,null,{"$f":"VLOOKUP(P2639,Campos!$B$2:$C$7,2,FALSE)","v":0},"Sin información"]
[2634,16,"Michoacán",11,"Documentación y material electoral","11.4",4,"Validación de los documentos y materiales electorales y especificaciones técnicas, con las observaciones subsanadas","INE","DEOE","2020-10-28","2020-12-18",null,null,{"$f":"VLOOKUP(P2640,Campos!$B$2:$C$7,2,FALSE)","v":0},"Sin información"]
[2635,16,"Michoacán",11,"Documentación y material electoral","11.5",5,"Entrega a la Dirección Ejecutiva de Organización Electoral del INE, del Reporte único sobre la aprobación y adjudicación de los documentos y materiales electorales del OPL, en medios electrónicos","OPL","CG","2021-02-01","2021-02-26",null,null,{"$f":"VLOOKUP(P2641,Campos!$B$2:$C$7,2,FALSE)","v":0},"Sin información"]
[2636,16,"Michoacán",11,"Documentación y material electoral","11.6",6,"Revisión y en su caso validación, del Reporte único sobre la aprobación y adjudicación de los documentos y materiales electorales del OPL, en medios electrónicos","INE","DEOE","2021-02-15","2021-03-12",null,null,{"$f":"VLOOKUP(P2642,Campos!$B$2:$C$7,2,FALSE)","v":0},"Sin información"]
[2637,16,"Michoacán",11,"Documentación y material electoral","11.7",7,"Entrega  a la Dirección Ejecutiva de Organización Electoral del INE, del Reporte semanal sobre el avance en la producción de los documentos y materiales electorales del OPL, en medios electrónicos.","OPL","CG","2021-03-15","2021-05-22",null,null,{"$f":"VLOOKUP(P2643,Campos!$B$2:$C$7,2,FALSE)","v":0},"Sin información"]
[2638,16,"Michoacán",11,"Documentación y material electoral","11.8",8,"Aprobación de la documentación y material electoral","OPL","CG","2020-11-11","2020-12-31",null,null,{"$f":"VLOOKUP(P2644,Campos!$B$2:$C$7,2,FALSE)","v":0},"Sin información"]
[2639,16,"Michoacán",11,"Documentación y material electoral","11.9",9,"Entrega a la Dirección Ejecutiva de Organización Electoral del INE, del Reporte con los resultados de las verificaciones de las medidas de seguridad en la documentación electoral","OPL","CG","2021-05-27","2021-06-11",null,null,{"$f":"VLOOKUP(P2645,Campos!$B$2:$C$7,2,FALSE)","v":0},"Sin información"]
[2640,16,"Michoacán",11,"Documentación y material electoral","11.10",10,"Supervisiones respecto de los procedimientos de impresión y producción de la documentación y materiales electorales","INE","DEOE","2021-03-15","2021-05-22",null,null,{"$f":"VLOOKUP(P2646,Campos!$B$2:$C$7,2,FALSE)","v":0},"Sin información"]
[2641,16,"Michoacán",11,"Documentación y material electoral","11.11",11,"Designación de la persona responsable de llevar el control sobre la asignación de los folios de las boletas que se distribuirán en cada mesa directiva de casilla","OPL","CG","2021-03-01","2021-03-30",null,null,{"$f":"VLOOKUP(P2647,Campos!$B$2:$C$7,2,FALSE)","v":0},"Sin información"]
[2642,16,"Michoacán",11,"Documentación y material electoral","11.12",12,"Aprobación de SE y CAE, así como de personal que auxiliará en el procedimiento de conteo, sellado y agrupamiento de las boletas electorales; así como la integración de documentación para las casillas","OPL","CG","2021-04-24","2021-05-11",null,null,{"$f":"VLOOKUP(P2648,Campos!$B$2:$C$7,2,FALSE)","v":0},"Sin información"]
[2643,16,"Michoacán",11,"Documentación y material electoral","11.13",13,"Recepción de las boletas electorales por el órgano competente que realizará el conteo, sellado y agrupamiento","OPL","CG","2021-05-18","2021-05-22",null,null,{"$f":"VLOOKUP(P2649,Campos!$B$2:$C$7,2,FALSE)","v":0},"Sin información"]
[2644,16,"Michoacán",11,"Documentación y material electoral","11.14",14,"Conteo, sellado y agrupamiento de boletas","OPL","CG","2021-05-18","2021-05-28",null,null,{"$f":"VLOOKUP(P2650,Campos!$B$2:$C$7,2,FALSE)","v":0},"Sin información"]
[2645,16,"Michoacán",11,"Documentación y material electoral","11.15",15,"Distribución de la documentación y materiales electorales a las y los Presidentes de mesas directivas de casilla","OPL","OD","2021-05-31","2021-06-04",null,null,{"$f":"VLOOKUP(P2651,Campos!$B$2:$C$7,2,FALSE)","v":0},"Sin información"]
[2646,16,"Michoacán",11,"Documentación y material electoral","11.16",16,"Remisión de los recibos de la entrega de la documentación y materiales electorales al Consejo General del OPL","INE","JLE","2021-06-24","2021-06-30",null,null,{"$f":"VLOOKUP(P2652,Campos!$B$2:$C$7,2,FALSE)","v":0},"Sin información"]
[2647,16,"Michoacán",12,"Jornada Electoral","12.1",1,"Aprobación del Programa de Operación del SIJE 2021","INE","CCOE","2020-07-01","2020-07-31",null,null,{"$f":"VLOOKUP(P2653,Campos!$B$2:$C$7,2,FALSE)","v":0},"Sin información"]
[2648,16,"Michoacán",12,"Jornada Electoral","12.2",2,"Aprobación de las metas del SIJE 2021","INE","CG","2021-03-01","2021-03-31",null,null,{"$f":"VLOOKUP(P2654,Campos!$B$2:$C$7,2,FALSE)","v":0},"Sin información"]
[2649,16,"Michoacán",12,"Jornada Electoral","12.3",3,"Realización de pruebas del SIJE 2021","INE","DEOE","2021-04-01","2021-04-15",null,null,{"$f":"VLOOKUP(P2655,Campos!$B$2:$C$7,2,FALSE)","v":0},"Sin información"]
[2650,16,"Michoacán",12,"Jornada Electoral","12.4",4,"Desarrollo del primer simulacro del SIJE","INE/OPL","DEOE/OD","2021-04-29","2021-04-29",null,null,{"$f":"VLOOKUP(P2656,Campos!$B$2:$C$7,2,FALSE)","v":0},"Sin información"]
[2651,16,"Michoacán",12,"Jornada Electoral","12.5",5,"Desarrollo del segundo simulacro del SIJE","INE/OPL","DEOE/OD","2021-05-09","2021-05-09",null,null,{"$f":"VLOOKUP(P2657,Campos!$B$2:$C$7,2,FALSE)","v":0},"Sin información"]
[2652,16,"Michoacán",12,"Jornada Electoral","12.6",6,"Desarrollo del tercer simulacro del SIJE","INE/OPL","DEOE/OD","2021-05-23","2021-05-23",null,null,{"$f":"VLOOKUP(P2658,Campos!$B$2:$C$7,2,FALSE)","v":0},"Sin información"]
[2653,16,"Michoacán",12,"Jornada Electoral","12.7",7,"Jornada Electoral","OPL","CG/OD","2021-06-06","2021-06-06",null,null,{"$f":"VLOOKUP(P2659,Campos!$B$2:$C$7,2,FALSE)","v":0},"Sin información"]
[2654,16,"Michoacán",13,"Bodegas electorales","13.1",1,"Determinación de los lugares que ocuparán las bodegas electorales para el resguardo de la documentación electoral","OPL","CG","2021-02-01","2021-02-28",null,null,{"$f":"VLOOKUP(P2660,Campos!$B$2:$C$7,2,FALSE)","v":0},"Sin información"]
[2655,16,"Michoacán",13,"Bodegas electorales","13.2",2,"Informe que rinden las y los Presidentes sobre las condiciones de equipamiento, mecanismos de operación y medidas de seguridad de las bodegas electorales","OPL","OD","2021-03-01","2021-03-31",null,null,{"$f":"VLOOKUP(P2661,Campos!$B$2:$C$7,2,FALSE)","v":0},"Sin información"]
[2656,16,"Michoacán",13,"Bodegas electorales","13.3",3,"Designación, por parte del órgano competente del OPL, del personal que tendrá acceso a la bodega electoral","OPL","CG/OD","2021-03-01","2021-03-30",null,null,{"$f":"VLOOKUP(P2662,Campos!$B$2:$C$7,2,FALSE)","v":0},"Sin información"]
[2657,16,"Michoacán",13,"Bodegas electorales","13.4",4,"Envío a la UTVOPL, por conducto de la JLE, el informe sobre las condiciones que guardan las bodegas electorales","OPL","CG","2021-04-04","2021-04-10",null,null,{"$f":"VLOOKUP(P2663,Campos!$B$2:$C$7,2,FALSE)","v":0},"Sin información"]
[2658,16,"Michoacán",14,"Mecanismos de recolección","14.1",1,"Entrega de estudios de factibilidad al OPL","INE","CL","2021-03-15","2021-03-31",null,null,{"$f":"VLOOKUP(P2664,Campos!$B$2:$C$7,2,FALSE)","v":0},"Sin información"]
[2659,16,"Michoacán",14,"Mecanismos de recolección","14.2",2,"Entrega de observaciones a los estudios de factibilidad ","OPL","CG","2021-04-01","2021-04-24",null,null,{"$f":"VLOOKUP(P2665,Campos!$B$2:$C$7,2,FALSE)","v":0},"Sin información"]
[2660,16,"Michoacán",14,"Mecanismos de recolección","14.3",3,"Recorridos para verificar las propuestas de los mecanismos de recolección","INE/OPL","CD/OD","2021-03-16","2021-04-24",null,null,{"$f":"VLOOKUP(P2666,Campos!$B$2:$C$7,2,FALSE)","v":0},"Sin información"]
[2661,16,"Michoacán",14,"Mecanismos de recolección","14.4",4,"Aprobación de los mecanismos de recolección ","INE","CD","2021-04-26","2021-04-30",null,null,{"$f":"VLOOKUP(P2667,Campos!$B$2:$C$7,2,FALSE)","v":0},"Sin información"]
[2662,16,"Michoacán",14,"Mecanismos de recolección","14.5",5,"Traslado y recolección de los paquetes electorales","INE/OPL","CD/OD","2021-06-06","2021-06-07",null,null,{"$f":"VLOOKUP(P2668,Campos!$B$2:$C$7,2,FALSE)","v":0},"Sin información"]
[2663,16,"Michoacán",14,"Mecanismos de recolección","14.6",6,"Acreditación de representantes de partidos políticos y candidaturas independientes ante los mecanismos de recolección","INE","CL/CD","2021-04-27","2021-06-03",null,null,{"$f":"VLOOKUP(P2669,Campos!$B$2:$C$7,2,FALSE)","v":0},"Sin información"]
[2664,16,"Michoacán",14,"Mecanismos de recolección","14.7",7,"Sustitución de representantes de partidos políticos y candidaturas independientes ante los mecanismos de recolección","INE","CL/CD","2021-04-28","2021-06-04",null,null,{"$f":"VLOOKUP(P2670,Campos!$B$2:$C$7,2,FALSE)","v":0},"Sin información"]
[2665,16,"Michoacán",14,"Mecanismos de recolección","14.8",8,"Entrega a la JLE, el informe sobre la recepción de paquetes electorales en los órganos competentes","OPL","CG","2021-06-06","2021-06-28",null,null,{"$f":"VLOOKUP(P2671,Campos!$B$2:$C$7,2,FALSE)","v":0},"Sin información"]
[2666,16,"Michoacán",15,"Cómputos","15.1",1,"Aprobación de los lineamientos de cómputo y del cuadernillo de consulta sobre votos válidos y votos nulos","OPL","CG","2021-01-18","2021-01-29",null,null,{"$f":"VLOOKUP(P2672,Campos!$B$2:$C$7,2,FALSE)","v":0},"Sin información"]
[2667,16,"Michoacán",15,"Cómputos","15.2",2,"Integración por parte de los Órganos Desconcentrados del OPL, de la propuesta para la habilitación de espacios para el recuento de votos con las alternativas para todos los escenarios de cómputo","OPL","OD","2021-03-01","2021-03-07",null,null,{"$f":"VLOOKUP(P2673,Campos!$B$2:$C$7,2,FALSE)","v":0},"Sin información"]
[2668,16,"Michoacán",15,"Cómputos","15.3",3,"Informe de los escenarios de cómputos de la totalidad de sus órganos desconcentrados","OPL","CG","2021-04-01","2021-04-04",null,null,{"$f":"VLOOKUP(P2674,Campos!$B$2:$C$7,2,FALSE)","v":0},"Sin información"]
[2669,16,"Michoacán",15,"Cómputos","15.4",4,"Remisión a la JLE en la entidad, las propuestas de escenarios de cómputos, para la dictaminación de viabilidad","OPL","CG","2021-05-01","2021-05-07",null,null,{"$f":"VLOOKUP(P2675,Campos!$B$2:$C$7,2,FALSE)","v":0},"Sin información"]
[2670,16,"Michoacán",15,"Cómputos","15.5",5,"Remisión de las observaciones a los escenarios de Cómputos al OPL y a su vez informar de las mismas a la UTVOPL","INE","JLE","2021-05-08","2021-05-15",null,null,{"$f":"VLOOKUP(P2676,Campos!$B$2:$C$7,2,FALSE)","v":0},"Sin información"]
[2671,16,"Michoacán",15,"Cómputos","15.6",6,"Aprobación por parte del órgano competente del OPL, del acuerdo mediante el cual se designa al personal que participará en las tareas de apoyo a los Cómputos Municipales","OPL","CG/OD","2021-04-26","2021-05-05",null,null,{"$f":"VLOOKUP(P2677,Campos!$B$2:$C$7,2,FALSE)","v":0},"Sin información"]
[2672,16,"Michoacán",15,"Cómputos","15.7",7,"Aprobación por parte del órgano competente del OPL, del acuerdo mediante el cual se designa al personal que participará en las tareas de apoyo a los Cómputos Distritales ","OPL","CG/OD","2021-04-26","2021-05-05",null,null,{"$f":"VLOOKUP(P2678,Campos!$B$2:$C$7,2,FALSE)","v":0},"Sin información"]
[2673,16,"Michoacán",15,"Cómputos","15.8",8,"Aprobación por parte de los órganos competentes del OPL, de los distintos escenarios de cómputos","OPL","OD","2021-05-08","2021-05-15",null,null,{"$f":"VLOOKUP(P2679,Campos!$B$2:$C$7,2,FALSE)","v":0},"Sin información"]
[2674,16,"Michoacán",15,"Cómputos","15.9",9,"Aprobación por parte del órgano competente del OPL, del acuerdo por el que se habilitarán espacios para la instalación de grupos de trabajo y, en su caso, puntos de recuento","OPL","CG/OD","2021-06-08","2021-06-08",null,null,{"$f":"VLOOKUP(P2680,Campos!$B$2:$C$7,2,FALSE)","v":0},"Sin información"]
[2675,16,"Michoacán",15,"Cómputos","15.10",10,"Cómputos Distritales","OPL","OD","2021-06-09","2021-06-12",null,null,{"$f":"VLOOKUP(P2681,Campos!$B$2:$C$7,2,FALSE)","v":0},"Sin información"]
[2676,16,"Michoacán",15,"Cómputos","15.14",14,"Cómputo Estatal para la asignación diputaciones de Representación Proporcional","OPL","CG","2021-06-13","2021-06-13",null,null,{"$f":"VLOOKUP(P2682,Campos!$B$2:$C$7,2,FALSE)","v":0},"Sin información"]
[2677,16,"Michoacán",15,"Cómputos","15.13",13,"Cómputo Estatal para la Gubernatura","OPL","CG","2021-06-13","2021-06-13",null,null,{"$f":"VLOOKUP(P2683,Campos!$B$2:$C$7,2,FALSE)","v":0},"Sin información"]
[2678,16,"Michoacán",15,"Cómputos","15.11",11,"Cómputos Municipales","OPL","OD","2021-06-09","2021-06-12",null,null,{"$f":"VLOOKUP(P2684,Campos!$B$2:$C$7,2,FALSE)","v":0},"Sin información"]
[2679,16,"Michoacán",15,"Cómputos","15.16",16,"Asignación de regidurías por el principio de Representación Proporcional","OPL","OD","2021-06-09","2021-06-12",null,null,{"$f":"VLOOKUP(P2685,Campos!$B$2:$C$7,2,FALSE)","v":0},"Sin información"]
[2680,16,"Michoacán",16,"PREP","16.1",1,"Aprobación del Acuerdo por el que se designa o ratifica a la instancia interna responsable de coordinar el PREP","OPL","CG","2020-09-11","2020-09-11",null,null,{"$f":"VLOOKUP(P2686,Campos!$B$2:$C$7,2,FALSE)","v":0},"Sin información"]
[2681,16,"Michoacán",16,"PREP","16.2",2,"Aprobación del Acuerdo de Integración del COTAPREP","OPL","CG","2020-11-11","2020-11-11",null,null,{"$f":"VLOOKUP(P2687,Campos!$B$2:$C$7,2,FALSE)","v":0},"Sin información"]
[2682,16,"Michoacán",16,"PREP","16.3",3,"Documento por el que se determina la implementación del PREP por el OPL o con el apoyo de un Tercero","OPL","CG","2020-12-11","2020-12-11",null,null,{"$f":"VLOOKUP(P2688,Campos!$B$2:$C$7,2,FALSE)","v":0},"Sin información"]
[2683,16,"Michoacán",16,"PREP","16.4",4,"Aprobación del Acuerdo por el que se determina el Proceso Técnico Operativo ","OPL","CG","2021-01-11","2021-01-11",null,null,{"$f":"VLOOKUP(P2689,Campos!$B$2:$C$7,2,FALSE)","v":0},"Sin información"]
[2684,16,"Michoacán",16,"PREP","16.5",5,"Aprobación del Acuerdo por el que se determina la ubicación, instalación y habilitación de los CATD y, en su caso, CCV","OPL","CG","2021-02-11","2021-02-11",null,null,{"$f":"VLOOKUP(P2690,Campos!$B$2:$C$7,2,FALSE)","v":0},"Sin información"]
[2685,16,"Michoacán",16,"PREP","16.6",6,"Documento de Designación del Ente Auditor ","OPL","CG","2021-02-11","2021-02-11",null,null,{"$f":"VLOOKUP(P2691,Campos!$B$2:$C$7,2,FALSE)","v":0},"Sin información"]
[2686,16,"Michoacán",16,"PREP","16.7",7,"Instrumento jurídico celebrado entre el OPL y el ente auditor","OPL","CG","2021-03-11","2021-03-11",null,null,{"$f":"VLOOKUP(P2692,Campos!$B$2:$C$7,2,FALSE)","v":0},"Sin información"]
[2687,16,"Michoacán",16,"PREP","16.8",8,"Realización del primer simulacro del PREP","OPL","CG","2021-05-16","2021-05-16",null,null,{"$f":"VLOOKUP(P2693,Campos!$B$2:$C$7,2,FALSE)","v":0},"Sin información"]
[2688,16,"Michoacán",16,"PREP","16.9",9,"Realización del segundo simulacro del PREP","OPL","CG","2021-05-23","2021-05-23",null,null,{"$f":"VLOOKUP(P2694,Campos!$B$2:$C$7,2,FALSE)","v":0},"Sin información"]
[2689,16,"Michoacán",16,"PREP","16.10",10,"Realización del tercer simulacro del PREP","OPL","CG","2021-05-30","2021-05-30",null,null,{"$f":"VLOOKUP(P2695,Campos!$B$2:$C$7,2,FALSE)","v":0},"Sin información"]
[2690,16,"Michoacán",16,"PREP","16.11",11,"Operación del PREP","OPL","CG","2021-06-06","2021-06-07",null,null,{"$f":"VLOOKUP(P2696,Campos!$B$2:$C$7,2,FALSE)","v":0},"Sin información"]
[2691,16,"Michoacán",17,"Conteo Rápido","17.1",1,"Aprobación del Acuerdo de Integración del COTECORA","Por definir","Por definir","2021-02-01","2021-02-06",null,null,{"$f":"VLOOKUP(P2697,Campos!$B$2:$C$7,2,FALSE)","v":0},"Sin información"]
[2692,16,"Michoacán",17,"Conteo Rápido","17.2",2,"Realización de pruebas de captura","Por definir","Por definir","2021-04-14","2021-04-15",null,null,{"$f":"VLOOKUP(P2698,Campos!$B$2:$C$7,2,FALSE)","v":0},"Sin información"]
[2693,16,"Michoacán",17,"Conteo Rápido","17.3",3,"Realización de primer simulacro del Conteo Rápido","Por definir","Por definir","2021-04-29","2021-04-29",null,null,{"$f":"VLOOKUP(P2699,Campos!$B$2:$C$7,2,FALSE)","v":0},"Sin información"]
[2694,16,"Michoacán",17,"Conteo Rápido","17.4",4,"Realización de segundo simulacro del Conteo Rápido","Por definir","Por definir","2021-05-16","2021-05-16",null,null,{"$f":"VLOOKUP(P2700,Campos!$B$2:$C$7,2,FALSE)","v":0},"Sin información"]
[2695,16,"Michoacán",17,"Conteo Rápido","17.5",5,"Selección de la Muestra para el Conteo Rápido","Por definir","Por definir","2021-06-02","2021-06-04",null,null,{"$f":"VLOOKUP(P2701,Campos!$B$2:$C$7,2,FALSE)","v":0},"Sin información"]
[2696,16,"Michoacán",17,"Conteo Rápido","17.6",6,"Realización de tercer simulacro del Conteo Rápido","Por definir","Por definir","2021-05-23","2021-05-23",null,null,{"$f":"VLOOKUP(P2702,Campos!$B$2:$C$7,2,FALSE)","v":0},"Sin información"]
[2697,16,"Michoacán",18,"Voto de la ciudadanía residente en el extranjero","18.1",1,"Puesta a disposición de la Solicitud individual de Inscripción a la Lista Nominal de Electores Residentes en el extranjero para procesos electorales locales (SIILNERE), por los medios que determine el INE.","INE","DERFE","2020-09-01","2021-03-15",null,null,{"$f":"VLOOKUP(P2703,Campos!$B$2:$C$7,2,FALSE)","v":0},"Sin información"]
[2698,16,"Michoacán",18,"Voto de la ciudadanía residente en el extranjero","18.2",2,"Recepción de la Solicitud individual de Inscripción a la Lista Nominal de Electores Residentes en el extranjero para procesos electorales locales (SIILNERE), por los medios que determine el INE","INE","DERFE","2020-09-01","2021-03-15",null,null,{"$f":"VLOOKUP(P2704,Campos!$B$2:$C$7,2,FALSE)","v":0},"Sin información"]
[2699,16,"Michoacán",18,"Voto de la ciudadanía residente en el extranjero","18.3",3,"Conformación de la Lista Nominal de Electores Residentes en el Extranjero (subsanes, observaciones de partidos políticos e informe)","INE","DERFE","2020-09-01","2021-04-15",null,null,{"$f":"VLOOKUP(P2705,Campos!$B$2:$C$7,2,FALSE)","v":0},"Sin información"]
[2700,16,"Michoacán",18,"Voto de la ciudadanía residente en el extranjero","18.4",4,"En caso de voto postal, entrega-recepción de materiales del PEP.","INE","DERFE/UTVOPL/OPL","Por definir","2021-03-15",null,null,{"$f":"VLOOKUP(P2706,Campos!$B$2:$C$7,2,FALSE)","v":0},"Sin información"]
[2701,16,"Michoacán",18,"Voto de la ciudadanía residente en el extranjero","18.5",5,"En caso de voto postal, preparación y envío de los PEP a la ciudadanía residente en el extranjero","INE","DERFE/DEOE/UNICOM/DECEYEC","2021-04-02","2021-04-30",null,null,{"$f":"VLOOKUP(P2707,Campos!$B$2:$C$7,2,FALSE)","v":0},"Sin información"]
[2702,16,"Michoacán",18,"Voto de la ciudadanía residente en el extranjero","18.6",6,"En caso de voto postal, recepción de Sobres Voto y resguardo","INE","DERFE/DEOE","2021-04-11","2021-06-05",null,null,{"$f":"VLOOKUP(P2708,Campos!$B$2:$C$7,2,FALSE)","v":0},"Sin información"]
[2703,16,"Michoacán",18,"Voto de la ciudadanía residente en el extranjero","18.7",7,"Elaboración y aprobación del Programa de Integración de Mesas de Escrutinio y Cómputo y Capacitación Electoral para el Voto de las y los Mexicanos Residentes en el Extranjero","INE","CG","Por definir","Por definir",null,null,{"$f":"VLOOKUP(P2709,Campos!$B$2:$C$7,2,FALSE)","v":0},"Sin información"]
[2704,16,"Michoacán",18,"Voto de la ciudadanía residente en el extranjero","18.8",8,"Aprobación del número de mesas de escrutinio y cómputo a instalar","INE","CL","Por definir","Por definir",null,null,{"$f":"VLOOKUP(P2710,Campos!$B$2:$C$7,2,FALSE)","v":0},"Sin información"]
[2705,16,"Michoacán",18,"Voto de la ciudadanía residente en el extranjero","18.9",9,"Integración y aprobación del Listado del personal que realizará las suplencias en las Mesas de Escrutinio y Cómputo","INE","CL","Por definir","Por definir",null,null,{"$f":"VLOOKUP(P2711,Campos!$B$2:$C$7,2,FALSE)","v":0},"Sin información"]
[2706,16,"Michoacán",18,"Voto de la ciudadanía residente en el extranjero","18.10",10,"Logística del Local Único","OPL","CG","Por definir","Por definir",null,null,{"$f":"VLOOKUP(P2712,Campos!$B$2:$C$7,2,FALSE)","v":0},"Sin información"]
[2707,16,"Michoacán",18,"Voto de la ciudadanía residente en el extranjero","18.11",11,"Escrutinio y Cómputo de los votos de los mexicanos residentes en el extranjero","OPL","CG","2021-06-06","2021-06-06",null,null,{"$f":"VLOOKUP(P2713,Campos!$B$2:$C$7,2,FALSE)","v":0},"Sin información"]
[2708,16,"Michoacán",18,"Voto de la ciudadanía residente en el extranjero","18.12",12,"Promoción del Voto de los Mexicanos Residentes en el Extranjero (Difusión, Comunicación, Vinculación y Plataformas Digitales)","INE/OPL","CG/CG","Por definir","Por definir",null,null,{"$f":"VLOOKUP(P2714,Campos!$B$2:$C$7,2,FALSE)","v":0},"Sin información"]
[2709,16,"Michoacán",18,"Voto de la ciudadanía residente en el extranjero","18.13",13,"Entrega de la Lista Nominal de Electores Residentes en el Extranjero (LNERE), para escrutinio y cómputo.","INE","DERFE/DEOE","2021-06-05","2021-06-05",null,null,{"$f":"VLOOKUP(P2715,Campos!$B$2:$C$7,2,FALSE)","v":0},"Sin información"]
[2710,16,"Michoacán",19,"Visitantes extranjeros","19.1",1,"Emisión de la Convocatoria para visitantes extranjeros","INE","CG","2020-08-03","2020-09-30",null,null,{"$f":"VLOOKUP(P2716,Campos!$B$2:$C$7,2,FALSE)","v":0},"Sin información"]
[2711,16,"Michoacán",19,"Visitantes extranjeros","19.2",2,"Difusión de la Convocatoria para visitantes extranjeros","INE","CAI","2020-09-01","2021-05-26",null,null,{"$f":"VLOOKUP(P2717,Campos!$B$2:$C$7,2,FALSE)","v":0},"Sin información"]
[2712,16,"Michoacán",19,"Visitantes extranjeros","19.3",3,"Recepción de solicitudes de acreditación como visitantes extranjeros","INE","CAI","2020-09-01","2021-05-26",null,null,{"$f":"VLOOKUP(P2718,Campos!$B$2:$C$7,2,FALSE)","v":0},"Sin información"]
[2713,16,"Michoacán",19,"Visitantes extranjeros","19.4",4,"Resolución de solicitudes de acreditación como visitantes extranjeros","INE","CAI","2020-09-02","2021-05-30",null,null,{"$f":"VLOOKUP(P2719,Campos!$B$2:$C$7,2,FALSE)","v":0},"Sin información"]
[2714,16,"Michoacán",19,"Visitantes extranjeros","19.5",5,"Entrega de acreditaciones a los visitantes extranjeros","INE","CAI","2020-09-04","2021-06-05",null,null,{"$f":"VLOOKUP(P2720,Campos!$B$2:$C$7,2,FALSE)","v":0},"Sin información"]
[2715,17,"Morelos",1,"Mecanismos de coordinación","1.1",1,"Aprobar Calendarios y Planes Integrales de los Procesos Electorales Locales","INE","CG","2020-08-01","2020-08-07",null,null,{"$f":"VLOOKUP(P2721,Campos!$B$2:$C$7,2,FALSE)","v":0},"Sin información"]
[2716,17,"Morelos",1,"Mecanismos de coordinación","1.2",2,"Firma del Convenio General de Coordinación y Colaboración 2020-2021","INE/OPL","INE/OPL","2020-09-01","2020-10-01",null,null,{"$f":"VLOOKUP(P2722,Campos!$B$2:$C$7,2,FALSE)","v":0},"Sin información"]
[2717,17,"Morelos",1,"Mecanismos de coordinación","1.3",3,"Elaborar un plan de trabajo conjunto para la promoción de la participación ciudadana","INE/OPL","INE/OPL","2020-09-01","2020-12-31",null,null,{"$f":"VLOOKUP(P2723,Campos!$B$2:$C$7,2,FALSE)","v":0},"Sin información"]
[2718,17,"Morelos",1,"Mecanismos de coordinación","1.4",4,"Sesión para dar inicio al PEL","OPL","CG","2020-09-06","2020-09-12",null,null,{"$f":"VLOOKUP(P2724,Campos!$B$2:$C$7,2,FALSE)","v":0},"Sin información"]
[2719,17,"Morelos",1,"Mecanismos de coordinación","1.5",5,"Implementar un plan de trabajo conjunto para la promoción de la participación ciudadana","INE/OPL","INE/OPL","2021-02-01","2021-06-06",null,null,{"$f":"VLOOKUP(P2725,Campos!$B$2:$C$7,2,FALSE)","v":0},"Sin información"]
[2720,17,"Morelos",2,"Integración de órganos desconcentrados","2.1",1,"Convocatoria para la integración de los Órganos Distritales","OPL","CG","2020-08-01","2020-08-31",null,null,{"$f":"VLOOKUP(P2726,Campos!$B$2:$C$7,2,FALSE)","v":0},"Sin información"]
[2721,17,"Morelos",2,"Integración de órganos desconcentrados","2.2",2,"Sesión en la que se designan e integran los Órganos Distritales ","OPL","CG","2020-11-01","2020-11-15",null,null,{"$f":"VLOOKUP(P2727,Campos!$B$2:$C$7,2,FALSE)","v":0},"Sin información"]
[2722,17,"Morelos",2,"Integración de órganos desconcentrados","2.3",3,"Instalación de los Órganos Distritales ","OPL","CG","2020-11-16","2020-11-30",null,null,{"$f":"VLOOKUP(P2728,Campos!$B$2:$C$7,2,FALSE)","v":0},"Sin información"]
[2723,17,"Morelos",2,"Integración de órganos desconcentrados","2.4",4,"Convocatoria para la integración de los Órganos Municipales ","OPL","CG","2020-08-01","2020-08-31",null,null,{"$f":"VLOOKUP(P2729,Campos!$B$2:$C$7,2,FALSE)","v":0},"Sin información"]
[2724,17,"Morelos",2,"Integración de órganos desconcentrados","2.5",5,"Sesión en la que se designan e integran los Órganos Municipales ","OPL","CG","2020-11-01","2020-11-15",null,null,{"$f":"VLOOKUP(P2730,Campos!$B$2:$C$7,2,FALSE)","v":0},"Sin información"]
[2725,17,"Morelos",2,"Integración de órganos desconcentrados","2.6",6,"Instalación de los Órganos Municipales ","OPL","CG","2020-11-16","2020-11-30",null,null,{"$f":"VLOOKUP(P2731,Campos!$B$2:$C$7,2,FALSE)","v":0},"Sin información"]
[2726,17,"Morelos",2,"Integración de órganos desconcentrados","2.7",7,"Designación y/o ratificación de las y los Consejeros Electorales del Consejo Local ","INE","CG","2020-10-01","2020-10-15",null,null,{"$f":"VLOOKUP(P2732,Campos!$B$2:$C$7,2,FALSE)","v":0},"Sin información"]
[2727,17,"Morelos",2,"Integración de órganos desconcentrados","2.8",8,"Instalación del Consejo Local","INE","CL","2020-11-01","2020-11-30",null,null,{"$f":"VLOOKUP(P2733,Campos!$B$2:$C$7,2,FALSE)","v":0},"Sin información"]
[2728,17,"Morelos",2,"Integración de órganos desconcentrados","2.9",9,"Designación y/o ratificación de las y los Consejeros Electorales de los Consejos Distritales ","INE","CL","2020-11-01","2020-11-30",null,null,{"$f":"VLOOKUP(P2734,Campos!$B$2:$C$7,2,FALSE)","v":0},"Sin información"]
[2729,17,"Morelos",2,"Integración de órganos desconcentrados","2.10",10,"Instalación de los Consejos Distritales","INE","CD","2020-12-01","2020-12-15",null,null,{"$f":"VLOOKUP(P2735,Campos!$B$2:$C$7,2,FALSE)","v":0},"Sin información"]
[2730,17,"Morelos",3,"Lista Nominal de Electores","3.1",1,"Generación y entrega de la Lista Nominal de Electores para Revisión en medios ópticos a los representantes de los partidos políticos, y en su caso a las candidaturas independientes acreditados ante el OPL, para observaciones","INE","DERFE","2021-02-15","2021-02-15",null,null,{"$f":"VLOOKUP(P2736,Campos!$B$2:$C$7,2,FALSE)","v":0},"Sin información"]
[2731,17,"Morelos",3,"Lista Nominal de Electores","3.2",2,"Recepción de observaciones de los partidos políticos y en su caso, candidatos independientes, a la Lista Nominal de Electores para revisión","INE/OPL","DERFE","2021-03-14","2021-03-14",null,null,{"$f":"VLOOKUP(P2737,Campos!$B$2:$C$7,2,FALSE)","v":0},"Sin información"]
[2732,17,"Morelos",3,"Lista Nominal de Electores","3.3",3,"Entrega en formato digital el informe respecto de la atención a las observaciones formuladas a la Lista Nominal de Electores para Revisión","INE","DERFE","2021-04-15","2021-04-15",null,null,{"$f":"VLOOKUP(P2738,Campos!$B$2:$C$7,2,FALSE)","v":0},"Sin información"]
[2733,17,"Morelos",3,"Lista Nominal de Electores","3.4",4,"Entrega de la Lista Nominal de Electores Definitiva con fotografía","INE","DERFE","2021-05-06","2021-05-14",null,null,{"$f":"VLOOKUP(P2739,Campos!$B$2:$C$7,2,FALSE)","v":0},"Sin información"]
[2734,17,"Morelos",3,"Lista Nominal de Electores","3.5",5,"Fecha de entrega de la Lista Nominal de Electores con fotografía Producto de Instancias Administrativas y Resoluciones del Tribunal (ADENDA)","INE","DERFE","2021-05-19","2021-05-24",null,null,{"$f":"VLOOKUP(P2740,Campos!$B$2:$C$7,2,FALSE)","v":0},"Sin información"]
[2735,17,"Morelos",4,"Observación Electoral","4.1",1,"Emisión de la convocatoria para la ciudadanía que desee participar en la observación electoral","OPL","CG","2020-09-06","2020-09-12",null,null,{"$f":"VLOOKUP(P2741,Campos!$B$2:$C$7,2,FALSE)","v":0},"Sin información"]
[2736,17,"Morelos",4,"Observación Electoral","4.2",2,"Recepción de solicitudes de la ciudadanía que desee participar en observación electoral","INE/OPL","OPL/JLE/JDE","2020-09-06","2021-04-30",null,null,{"$f":"VLOOKUP(P2742,Campos!$B$2:$C$7,2,FALSE)","v":0},"Sin información"]
[2737,17,"Morelos",4,"Observación Electoral","4.3",3,"Impartición de los cursos de capacitación, preparación o información","INE/OPL","OPL/JLE/JDE","2020-09-06","2021-05-17",null,null,{"$f":"VLOOKUP(P2743,Campos!$B$2:$C$7,2,FALSE)","v":0},"Sin información"]
[2738,17,"Morelos",4,"Observación Electoral","4.4",4,"Acreditación de la ciudadanía como observadores u observadoras electorales","INE","CL/CD","2020-09-06","2021-06-05",null,null,{"$f":"VLOOKUP(P2744,Campos!$B$2:$C$7,2,FALSE)","v":0},"Sin información"]
[2739,17,"Morelos",4,"Observación Electoral","4.5",5,"Seguimiento a los informes mensuales de acreditación","INE","CG","2020-09-06","2021-07-31",null,null,{"$f":"VLOOKUP(P2745,Campos!$B$2:$C$7,2,FALSE)","v":0},"Sin información"]
[2740,17,"Morelos",4,"Observación Electoral","4.6",6,"Remisión de materiales de capacitación a la JLE para revisión","OPL","CG","2020-10-08","2020-10-08",null,null,{"$f":"VLOOKUP(P2746,Campos!$B$2:$C$7,2,FALSE)","v":0},"Sin información"]
[2741,17,"Morelos",4,"Observación Electoral","4.7",7,"Revisión, corrección, verificación y validación de materiales de capacitación para observación electoral ","INE","JLE","2020-10-09","2020-10-30",null,null,{"$f":"VLOOKUP(P2747,Campos!$B$2:$C$7,2,FALSE)","v":0},"Sin información"]
[2742,17,"Morelos",4,"Observación Electoral","4.8",8,"Entrega de materiales de capacitación para observación electoral entre OPL e INE","INE/OPL","VEL/OPL","2020-11-01","2020-11-23",null,null,{"$f":"VLOOKUP(P2748,Campos!$B$2:$C$7,2,FALSE)","v":0},"Sin información"]
[2743,17,"Morelos",5,"Ubicación de casillas","5.1",1,"Recorridos por las secciones de los distritos para localizar los lugares donde se ubicarán las casillas","INE/OPL","JDE/OPL","2021-01-15","2021-02-15",null,null,{"$f":"VLOOKUP(P2749,Campos!$B$2:$C$7,2,FALSE)","v":0},"Sin información"]
[2744,17,"Morelos",5,"Ubicación de casillas","5.2",2,"Presentación a los Consejos Distritales del listado de lugares propuestos para ubicar casillas","INE","JDE","2021-02-24","2021-02-24",null,null,{"$f":"VLOOKUP(P2750,Campos!$B$2:$C$7,2,FALSE)","v":0},"Sin información"]
[2745,17,"Morelos",5,"Ubicación de casillas","5.3",3,"Visitas de examinación en los lugares propuestos para ubicar casillas básicas, contiguas, especiales y extraordinarias","INE/OPL","CD/OPL","2021-02-25","2021-03-16",null,null,{"$f":"VLOOKUP(P2751,Campos!$B$2:$C$7,2,FALSE)","v":0},"Sin información"]
[2746,17,"Morelos",5,"Ubicación de casillas","5.4",4,"Aprobación del número y ubicación de casillas extraordinarias y especiales","INE","CD","2021-03-16","2021-03-16",null,null,{"$f":"VLOOKUP(P2752,Campos!$B$2:$C$7,2,FALSE)","v":0},"Sin información"]
[2747,17,"Morelos",5,"Ubicación de casillas","5.5",5,"Aprobación del número y ubicación de casillas básicas y contiguas","INE","CD","2021-03-25","2021-03-25",null,null,{"$f":"VLOOKUP(P2753,Campos!$B$2:$C$7,2,FALSE)","v":0},"Sin información"]
[2748,17,"Morelos",5,"Ubicación de casillas","5.6",6,"Entrega de la base de datos de la Lista Nominal Definitiva a UNICOM con corte al 10 de abril","INE","DERFE","2021-04-15","2021-04-16",null,null,{"$f":"VLOOKUP(P2754,Campos!$B$2:$C$7,2,FALSE)","v":0},"Sin información"]
[2749,17,"Morelos",5,"Ubicación de casillas","5.7",7,"Realizar la primera publicación de la lista de ubicación de casillas en los lugares más concurridos del distrito electoral  y en los medios electrónicos del Instituto","INE","CD","2021-04-15","2021-04-15",null,null,{"$f":"VLOOKUP(P2755,Campos!$B$2:$C$7,2,FALSE)","v":0},"Sin información"]
[2750,17,"Morelos",5,"Ubicación de casillas","5.8",8,"En su caso, segunda publicación de la lista de ubicación de casillas por causas supervenientes en los lugares más concurridos del distrito y en los medios electrónicos del Instituto","INE","CD","2021-05-15","2021-05-25",null,null,{"$f":"VLOOKUP(P2756,Campos!$B$2:$C$7,2,FALSE)","v":0},"Sin información"]
[2751,17,"Morelos",5,"Ubicación de casillas","5.9",9,"Publicación de los encartes y difusión en medios electrónicos del Instituto","INE/OPL","DEOE/CG","2021-06-05","2021-06-06",null,null,{"$f":"VLOOKUP(P2757,Campos!$B$2:$C$7,2,FALSE)","v":0},"Sin información"]
[2752,17,"Morelos",5,"Ubicación de casillas","5.10",10,"Registro de representantes generales y ante mesas directivas de casilla","INE","CD","2021-04-16","2021-05-24",null,null,{"$f":"VLOOKUP(P2758,Campos!$B$2:$C$7,2,FALSE)","v":0},"Sin información"]
[2753,17,"Morelos",5,"Ubicación de casillas","5.11",11,"Sustitución de representantes generales y ante mesas directivas de casilla","INE","CD","2021-04-16","2021-05-27",null,null,{"$f":"VLOOKUP(P2759,Campos!$B$2:$C$7,2,FALSE)","v":0},"Sin información"]
[2754,17,"Morelos",5,"Ubicación de casillas","5.12",12,"Entrega de listados de representantes generales y ante casilla al OPL","INE","CD","2021-05-30","2021-05-30",null,null,{"$f":"VLOOKUP(P2760,Campos!$B$2:$C$7,2,FALSE)","v":0},"Sin información"]
[2755,17,"Morelos",5,"Ubicación de casillas","5.13",13,"Notificación ciudadana de ubicación de casillas en secciones electorales involucradas en la actualización del Marco Geográfico Electoral","INE/OPL","DERFE/OPL","2021-04-01","2021-06-15",null,null,{"$f":"VLOOKUP(P2761,Campos!$B$2:$C$7,2,FALSE)","v":0},"Sin información"]
[2756,17,"Morelos",6,"Integración de las Mesas Directivas de Casilla","6.1",1,"Aprobación de la Estrategia de Capacitación y Asistencia Electoral","INE","CG","2020-08-01","2020-08-15",null,null,{"$f":"VLOOKUP(P2762,Campos!$B$2:$C$7,2,FALSE)","v":0},"Sin información"]
[2757,17,"Morelos",6,"Integración de las Mesas Directivas de Casilla","6.2",2,"Entrega para revisión y validación de materiales didácticos de primera etapa","OPL","CG","2020-11-03","2020-11-03",null,null,{"$f":"VLOOKUP(P2763,Campos!$B$2:$C$7,2,FALSE)","v":0},"Sin información"]
[2758,17,"Morelos",6,"Integración de las Mesas Directivas de Casilla","6.3",3,"Revisión, corrección, verificación y validación de los materiales didácticos de primera etapa","INE/OPL","JLE/DECEYEC/OPL","2020-11-03","2020-12-19",null,null,{"$f":"VLOOKUP(P2764,Campos!$B$2:$C$7,2,FALSE)","v":0},"Sin información"]
[2759,17,"Morelos",6,"Integración de las Mesas Directivas de Casilla","6.4",4,"Entrega de los materiales impresos de la primera etapa a la JLE","OPL","OPL","2021-02-05","2021-02-05",null,null,{"$f":"VLOOKUP(P2765,Campos!$B$2:$C$7,2,FALSE)","v":0},"Sin información"]
[2760,17,"Morelos",6,"Integración de las Mesas Directivas de Casilla","6.5",5,"Sorteo del mes del calendario como base para la insaculación de las y los ciudadanos que integrarán las mesas directivas de casilla","INE","CG","2020-12-15","2020-12-19",null,null,{"$f":"VLOOKUP(P2766,Campos!$B$2:$C$7,2,FALSE)","v":0},"Sin información"]
[2761,17,"Morelos",6,"Integración de las Mesas Directivas de Casilla","6.6",6,"Entrega para revisión y validación de materiales didácticos de segunda etapa","OPL","OPL","2021-02-03","2021-02-03",null,null,{"$f":"VLOOKUP(P2767,Campos!$B$2:$C$7,2,FALSE)","v":0},"Sin información"]
[2762,17,"Morelos",6,"Integración de las Mesas Directivas de Casilla","6.7",7,"Revisión, corrección, verificación y validación de los materiales didácticos de la segunda etapa","INE/OPL","JLE/DECEYEC/OPL","2021-02-03","2021-03-22",null,null,{"$f":"VLOOKUP(P2768,Campos!$B$2:$C$7,2,FALSE)","v":0},"Sin información"]
[2763,17,"Morelos",6,"Integración de las Mesas Directivas de Casilla","6.8",8,"Entrega de los materiales impresos de la segunda etapa a la JLE","OPL","OPL","2021-04-05","2021-04-05",null,null,{"$f":"VLOOKUP(P2769,Campos!$B$2:$C$7,2,FALSE)","v":0},"Sin información"]
[2764,17,"Morelos",6,"Integración de las Mesas Directivas de Casilla","6.9",9,"Sorteo de la letra a partir de la cual, con base en el apellido paterno, se seleccionará a las y los ciudadanos que integrarán las mesas directivas de casilla","INE","CG","2021-02-02","2021-02-02",null,null,{"$f":"VLOOKUP(P2770,Campos!$B$2:$C$7,2,FALSE)","v":0},"Sin información"]
[2765,17,"Morelos",6,"Integración de las Mesas Directivas de Casilla","6.10",10,"Entrega de la Lista Nominal de Electores para el Procedimiento de la Primera insaculación con corte al 15 de enero de 2021.","INE","DERFE/UNICOM","2021-01-21","2021-01-26",null,null,{"$f":"VLOOKUP(P2771,Campos!$B$2:$C$7,2,FALSE)","v":0},"Sin información"]
[2766,17,"Morelos",6,"Integración de las Mesas Directivas de Casilla","6.11",11,"Primera insaculación","INE","JDE","2021-02-06","2021-02-06",null,null,{"$f":"VLOOKUP(P2772,Campos!$B$2:$C$7,2,FALSE)","v":0},"Sin información"]
[2767,17,"Morelos",6,"Integración de las Mesas Directivas de Casilla","6.12",12,"Primera etapa de capacitación a las personas insaculadas","INE","CD","2021-02-09","2021-03-31",null,null,{"$f":"VLOOKUP(P2773,Campos!$B$2:$C$7,2,FALSE)","v":0},"Sin información"]
[2768,17,"Morelos",6,"Integración de las Mesas Directivas de Casilla","6.13",13,"Integración de la lista de ciudadanos y ciudadanas que cumplen los requisitos legales para integrar las mesas directivas de casilla","INE","CD","2021-02-09","2021-03-31",null,null,{"$f":"VLOOKUP(P2774,Campos!$B$2:$C$7,2,FALSE)","v":0},"Sin información"]
[2769,17,"Morelos",6,"Integración de las Mesas Directivas de Casilla","6.14",14,"Segunda insaculación y designación de funcionarios para mesas directivas de casilla","INE","CD","2021-04-08","2021-04-08",null,null,{"$f":"VLOOKUP(P2775,Campos!$B$2:$C$7,2,FALSE)","v":0},"Sin información"]
[2770,17,"Morelos",6,"Integración de las Mesas Directivas de Casilla","6.15",15,"Segunda etapa de capacitación a funcionarios de mesa directiva de casilla y simulacros","INE","CD","2021-04-18","2021-06-05",null,null,{"$f":"VLOOKUP(P2776,Campos!$B$2:$C$7,2,FALSE)","v":0},"Sin información"]
[2771,17,"Morelos",6,"Integración de las Mesas Directivas de Casilla","6.16",16,"Entrega de reconocimientos a funcionarios de mesas directivas de casilla","INE","CD","2021-06-07","2021-06-12",null,null,{"$f":"VLOOKUP(P2777,Campos!$B$2:$C$7,2,FALSE)","v":0},"Sin información"]
[2772,17,"Morelos",6,"Integración de las Mesas Directivas de Casilla","6.17",17,"Periodo para contratación de CAE locales","INE/OPL","INE/OPL","Por definir","Por definir",null,null,{"$f":"VLOOKUP(P2778,Campos!$B$2:$C$7,2,FALSE)","v":0},"Sin información"]
[2773,17,"Morelos",6,"Integración de las Mesas Directivas de Casilla","6.18",18,"Reclutamiento y selección de CAE locales","INE/OPL","INE/OPL","Por definir","Por definir",null,null,{"$f":"VLOOKUP(P2779,Campos!$B$2:$C$7,2,FALSE)","v":0},"Sin información"]
[2774,17,"Morelos",7,"Fiscalización de los recursos de los Partidos Políticos y candidaturas independientes","7.2",2,"Aprobación de topes de gastos de precampaña Diputaciones","OPL","CG","2020-08-05","2020-09-05",null,null,{"$f":"VLOOKUP(P2780,Campos!$B$2:$C$7,2,FALSE)","v":0},"Sin información"]
[2775,17,"Morelos",7,"Fiscalización de los recursos de los Partidos Políticos y candidaturas independientes","7.3",3,"Aprobación de topes de gastos de precampaña Ayuntamientos","OPL","CG","2020-08-05","2020-09-05",null,null,{"$f":"VLOOKUP(P2781,Campos!$B$2:$C$7,2,FALSE)","v":0},"Sin información"]
[2776,17,"Morelos",7,"Fiscalización de los recursos de los Partidos Políticos y candidaturas independientes","7.5",5,"Aprobación de los límites de financiamiento privado, aportaciones de militantes, simpatizantes y precandidatos o candidatos; así como el límite individual de aportaciones para Diputaciones","OPL","CG","2020-08-05","2020-09-05",null,null,{"$f":"VLOOKUP(P2782,Campos!$B$2:$C$7,2,FALSE)","v":0},"Sin información"]
[2777,17,"Morelos",7,"Fiscalización de los recursos de los Partidos Políticos y candidaturas independientes","7.6",6,"Aprobación de los límites de financiamiento privado, aportaciones de militantes, simpatizantes y precandidatos o candidatos; así como el límite individual de aportaciones para Ayuntamientos","OPL","CG","2020-08-05","2020-09-05",null,null,{"$f":"VLOOKUP(P2783,Campos!$B$2:$C$7,2,FALSE)","v":0},"Sin información"]
[2778,17,"Morelos",7,"Fiscalización de los recursos de los Partidos Políticos y candidaturas independientes","7.8",8,"Aprobación de topes de gastos para el periodo de obtención del apoyo ciudadano para Diputaciones","OPL","CG","2020-09-06","2020-10-15",null,null,{"$f":"VLOOKUP(P2784,Campos!$B$2:$C$7,2,FALSE)","v":0},"Sin información"]
[2779,17,"Morelos",7,"Fiscalización de los recursos de los Partidos Políticos y candidaturas independientes","7.9",9,"Aprobación de topes de gastos para el periodo de obtención del apoyo ciudadano para Ayuntamientos","OPL","CG","2020-09-06","2020-10-15",null,null,{"$f":"VLOOKUP(P2785,Campos!$B$2:$C$7,2,FALSE)","v":0},"Sin información"]
[2780,17,"Morelos",7,"Fiscalización de los recursos de los Partidos Políticos y candidaturas independientes","7.11",11,"Precampaña para Diputaciones","OPL","CG","2020-12-15","2021-02-15",null,null,{"$f":"VLOOKUP(P2786,Campos!$B$2:$C$7,2,FALSE)","v":0},"Sin información"]
[2781,17,"Morelos",7,"Fiscalización de los recursos de los Partidos Políticos y candidaturas independientes","7.12",12,"Precampaña para Ayuntamientos","OPL","CG","2020-12-15","2021-02-15",null,null,{"$f":"VLOOKUP(P2787,Campos!$B$2:$C$7,2,FALSE)","v":0},"Sin información"]
[2782,17,"Morelos",7,"Fiscalización de los recursos de los Partidos Políticos y candidaturas independientes","7.14",14,"Aprobación de topes de gastos de campaña para Diputaciones","OPL","CG","2021-03-01","2021-03-15",null,null,{"$f":"VLOOKUP(P2788,Campos!$B$2:$C$7,2,FALSE)","v":0},"Sin información"]
[2783,17,"Morelos",7,"Fiscalización de los recursos de los Partidos Políticos y candidaturas independientes","7.15",15,"Aprobación de topes de gastos de campaña para Ayuntamientos","OPL","CG","2021-03-01","2021-03-15",null,null,{"$f":"VLOOKUP(P2789,Campos!$B$2:$C$7,2,FALSE)","v":0},"Sin información"]
[2784,17,"Morelos",7,"Fiscalización de los recursos de los Partidos Políticos y candidaturas independientes","7.17",17,"Campaña para Diputaciones","OPL","CG","2021-04-19","2021-06-02",null,null,{"$f":"VLOOKUP(P2790,Campos!$B$2:$C$7,2,FALSE)","v":0},"Sin información"]
[2785,17,"Morelos",7,"Fiscalización de los recursos de los Partidos Políticos y candidaturas independientes","7.18",18,"Campaña para Ayuntamientos","OPL","CG","2021-04-19","2021-06-02",null,null,{"$f":"VLOOKUP(P2791,Campos!$B$2:$C$7,2,FALSE)","v":0},"Sin información"]
[2786,17,"Morelos",7,"Fiscalización de los recursos de los Partidos Políticos y candidaturas independientes","7.19",19,"Aprobación de la distribución de financiamiento público para partidos políticos","OPL","CG","2021-01-01","2021-01-31",null,null,{"$f":"VLOOKUP(P2792,Campos!$B$2:$C$7,2,FALSE)","v":0},"Sin información"]
[2787,17,"Morelos",8,"Candidaturas Independientes","8.1",1,"Emisión de la convocatoria para la ciudadanía interesada en participar en Candidaturas Independientes ","OPL","CG","2020-09-06","2020-09-15",null,null,{"$f":"VLOOKUP(P2793,Campos!$B$2:$C$7,2,FALSE)","v":0},"Sin información"]
[2788,17,"Morelos",8,"Candidaturas Independientes","8.3",3,"Recepción de escrito de intención y documentación anexa de la ciudadanía que aspire a la candidatura independiente para Diputaciones","OPL","OD","2020-09-17","2021-01-02",null,null,{"$f":"VLOOKUP(P2794,Campos!$B$2:$C$7,2,FALSE)","v":0},"Sin información"]
[2789,17,"Morelos",8,"Candidaturas Independientes","8.4",4,"Recepción de escrito de intención y documentación anexa de la ciudadanía que aspire a la candidatura independiente para Ayuntamientos","OPL","OD","2020-09-17","2021-01-02",null,null,{"$f":"VLOOKUP(P2795,Campos!$B$2:$C$7,2,FALSE)","v":0},"Sin información"]
[2790,17,"Morelos",8,"Candidaturas Independientes","8.6",6,"Resolución sobre procedencia de manifestación de intención de aspirantes a candidaturas independientes para Diputaciones","OPL","CG","2020-12-19","2021-01-02",null,null,{"$f":"VLOOKUP(P2796,Campos!$B$2:$C$7,2,FALSE)","v":0},"Sin información"]
[2791,17,"Morelos",8,"Candidaturas Independientes","8.7",7,"Resolución sobre procedencia de manifestación de intención de aspirantes a candidaturas independientes para Ayuntamientos","OPL","CG","2020-12-19","2021-01-02",null,null,{"$f":"VLOOKUP(P2797,Campos!$B$2:$C$7,2,FALSE)","v":0},"Sin información"]
[2792,17,"Morelos",8,"Candidaturas Independientes","8.9",9,"Plazo para obtener el apoyo ciudadano de las candidaturas independientes para Diputaciones","OPL","OD","2021-01-02","2021-02-05",null,null,{"$f":"VLOOKUP(P2798,Campos!$B$2:$C$7,2,FALSE)","v":0},"Sin información"]
[2793,17,"Morelos",8,"Candidaturas Independientes","8.10",10,"Plazo para obtener el apoyo ciudadano de las candidaturas independientes para Ayuntamientos","OPL","OD","2021-01-02","2021-02-05",null,null,{"$f":"VLOOKUP(P2799,Campos!$B$2:$C$7,2,FALSE)","v":0},"Sin información"]
[2794,17,"Morelos",8,"Candidaturas Independientes","8.12",12,"Plazo para otorgar las constancias de porcentaje a favor de aspirantes a la candidatura independiente para Diputaciones","OPL","CG/OD","2021-02-06","2021-03-07",null,null,{"$f":"VLOOKUP(P2800,Campos!$B$2:$C$7,2,FALSE)","v":0},"Sin información"]
[2795,17,"Morelos",8,"Candidaturas Independientes","8.13",13,"Plazo para otorgar las constancias de porcentaje a favor de aspirantes a la candidatura independiente para Ayuntamientos","OPL","CG/OD","2021-02-06","2021-03-07",null,null,{"$f":"VLOOKUP(P2801,Campos!$B$2:$C$7,2,FALSE)","v":0},"Sin información"]
[2796,17,"Morelos",9,"Candidaturas","9.1",1,"Registro de plataformas electorales","OPL","CG","2021-02-15","2021-02-22",null,null,{"$f":"VLOOKUP(P2802,Campos!$B$2:$C$7,2,FALSE)","v":0},"Sin información"]
[2797,17,"Morelos",9,"Candidaturas","9.3",3,"Solicitud de registro de convenio de coalición para Diputaciones","OPL","CG","2020-09-06","2021-01-07",null,null,{"$f":"VLOOKUP(P2803,Campos!$B$2:$C$7,2,FALSE)","v":0},"Sin información"]
[2798,17,"Morelos",9,"Candidaturas","9.4",4,"Solicitud de registro de convenio de coalición para Ayuntamientos","OPL","CG","2020-09-06","2021-01-07",null,null,{"$f":"VLOOKUP(P2804,Campos!$B$2:$C$7,2,FALSE)","v":0},"Sin información"]
[2799,17,"Morelos",9,"Candidaturas","9.6",6,"Resolución sobre Convenio de Coalición para Diputaciones","OPL","CG","2020-09-16","2021-01-17",null,null,{"$f":"VLOOKUP(P2805,Campos!$B$2:$C$7,2,FALSE)","v":0},"Sin información"]
[2800,17,"Morelos",9,"Candidaturas","9.7",7,"Resolución sobre Convenio de Coalición para Ayuntamientos","OPL","CG","2020-09-16","2021-01-17",null,null,{"$f":"VLOOKUP(P2806,Campos!$B$2:$C$7,2,FALSE)","v":0},"Sin información"]
[2801,17,"Morelos",9,"Candidaturas","9.9",9,"Solicitud de registro de Candidaturas para Diputaciones","OPL","CG/OD","2021-03-08","2021-03-15",null,null,{"$f":"VLOOKUP(P2807,Campos!$B$2:$C$7,2,FALSE)","v":0},"Sin información"]
[2802,17,"Morelos",9,"Candidaturas","9.11",11,"Solicitud de registro de Candidaturas para Ayuntamientos","OPL","CG/OD","2021-03-08","2021-03-15",null,null,{"$f":"VLOOKUP(P2808,Campos!$B$2:$C$7,2,FALSE)","v":0},"Sin información"]
[2803,17,"Morelos",9,"Candidaturas","9.14",14,"Resolución para aprobar las candidaturas para Diputaciones","OPL","CG/OD","2021-03-16","2021-03-30",null,null,{"$f":"VLOOKUP(P2809,Campos!$B$2:$C$7,2,FALSE)","v":0},"Sin información"]
[2804,17,"Morelos",9,"Candidaturas","9.16",16,"Resolución para aprobar las candidaturas para Ayuntamientos","OPL","CG/OD","2021-03-16","2021-03-30",null,null,{"$f":"VLOOKUP(P2810,Campos!$B$2:$C$7,2,FALSE)","v":0},"Sin información"]
[2805,17,"Morelos",9,"Candidaturas","9.18",18,"Solicitud de registro de candidaturas comunes para Diputaciones ","OPL","CG/OD","2020-09-15","2020-12-14",null,null,{"$f":"VLOOKUP(P2811,Campos!$B$2:$C$7,2,FALSE)","v":0},"Sin información"]
[2806,17,"Morelos",9,"Candidaturas","9.19",19,"Solicitud de registro de candidaturas comunes para Ayuntamientos  ","OPL","CG/OD","2020-09-15","2020-12-14",null,null,{"$f":"VLOOKUP(P2812,Campos!$B$2:$C$7,2,FALSE)","v":0},"Sin información"]
[2807,17,"Morelos",9,"Candidaturas","9.21",21,"Resolución para aprobar las candidaturas comunes para Diputaciones ","OPL","CG/OD","2020-12-15","2021-01-16",null,null,{"$f":"VLOOKUP(P2813,Campos!$B$2:$C$7,2,FALSE)","v":0},"Sin información"]
[2808,17,"Morelos",9,"Candidaturas","9.22",22,"Resolución para aprobar las candidaturas comunes para Ayuntamientos ","OPL","CG/OD","2020-12-15","2021-01-16",null,null,{"$f":"VLOOKUP(P2814,Campos!$B$2:$C$7,2,FALSE)","v":0},"Sin información"]
[2809,17,"Morelos",11,"Documentación y material electoral","11.1",1,"Entrega a la Junta Local Ejecutiva del INE, de los diseños y especificaciones técnicas de la documentación y materiales electorales, en medios impresos y electrónicos","OPL","CG","2020-09-01","2020-09-30",null,null,{"$f":"VLOOKUP(P2815,Campos!$B$2:$C$7,2,FALSE)","v":0},"Sin información"]
[2810,17,"Morelos",11,"Documentación y material electoral","11.2",2,"Revisión de los documentos y materiales electorales y especificaciones técnicas, presentadas por el OPL","INE","JLE","2020-09-15","2020-12-16",null,null,{"$f":"VLOOKUP(P2816,Campos!$B$2:$C$7,2,FALSE)","v":0},"Sin información"]
[2811,17,"Morelos",11,"Documentación y material electoral","11.3",3,"En su caso, atención y presentación, de los cambios pertinentes, conforme a las observaciones emitidas por la Junta Local Ejecutiva del INE","OPL","CG","2020-09-15","2020-12-16",null,null,{"$f":"VLOOKUP(P2817,Campos!$B$2:$C$7,2,FALSE)","v":0},"Sin información"]
[2812,17,"Morelos",11,"Documentación y material electoral","11.4",4,"Validación de los documentos y materiales electorales y especificaciones técnicas, con las observaciones subsanadas","INE","DEOE","2020-10-28","2020-12-18",null,null,{"$f":"VLOOKUP(P2818,Campos!$B$2:$C$7,2,FALSE)","v":0},"Sin información"]
[2813,17,"Morelos",11,"Documentación y material electoral","11.5",5,"Entrega a la Dirección Ejecutiva de Organización Electoral del INE, del Reporte único sobre la aprobación y adjudicación de los documentos y materiales electorales del OPL, en medios electrónicos","OPL","CG","2021-02-01","2021-02-26",null,null,{"$f":"VLOOKUP(P2819,Campos!$B$2:$C$7,2,FALSE)","v":0},"Sin información"]
[2814,17,"Morelos",11,"Documentación y material electoral","11.6",6,"Revisión y en su caso validación, del Reporte único sobre la aprobación y adjudicación de los documentos y materiales electorales del OPL, en medios electrónicos","INE","DEOE","2021-02-15","2021-03-12",null,null,{"$f":"VLOOKUP(P2820,Campos!$B$2:$C$7,2,FALSE)","v":0},"Sin información"]
[2815,17,"Morelos",11,"Documentación y material electoral","11.7",7,"Entrega  a la Dirección Ejecutiva de Organización Electoral del INE, del Reporte semanal sobre el avance en la producción de los documentos y materiales electorales del OPL, en medios electrónicos.","OPL","CG","2021-03-15","2021-05-22",null,null,{"$f":"VLOOKUP(P2821,Campos!$B$2:$C$7,2,FALSE)","v":0},"Sin información"]
[2816,17,"Morelos",11,"Documentación y material electoral","11.8",8,"Aprobación de la documentación y material electoral","OPL","CG","2020-11-11","2020-12-31",null,null,{"$f":"VLOOKUP(P2822,Campos!$B$2:$C$7,2,FALSE)","v":0},"Sin información"]
[2817,17,"Morelos",11,"Documentación y material electoral","11.9",9,"Entrega a la Dirección Ejecutiva de Organización Electoral del INE, del Reporte con los resultados de las verificaciones de las medidas de seguridad en la documentación electoral","OPL","CG","2021-05-27","2021-06-11",null,null,{"$f":"VLOOKUP(P2823,Campos!$B$2:$C$7,2,FALSE)","v":0},"Sin información"]
[2818,17,"Morelos",11,"Documentación y material electoral","11.10",10,"Supervisiones respecto de los procedimientos de impresión y producción de la documentación y materiales electorales","INE","DEOE","2021-03-15","2021-05-22",null,null,{"$f":"VLOOKUP(P2824,Campos!$B$2:$C$7,2,FALSE)","v":0},"Sin información"]
[2819,17,"Morelos",11,"Documentación y material electoral","11.11",11,"Designación de la persona responsable de llevar el control sobre la asignación de los folios de las boletas que se distribuirán en cada mesa directiva de casilla","OPL","CG","2021-03-01","2021-03-30",null,null,{"$f":"VLOOKUP(P2825,Campos!$B$2:$C$7,2,FALSE)","v":0},"Sin información"]
[2820,17,"Morelos",11,"Documentación y material electoral","11.12",12,"Aprobación de SE y CAE, así como de personal que auxiliará en el procedimiento de conteo, sellado y agrupamiento de las boletas electorales; así como la integración de documentación para las casillas","OPL","CG","2021-04-24","2021-05-11",null,null,{"$f":"VLOOKUP(P2826,Campos!$B$2:$C$7,2,FALSE)","v":0},"Sin información"]
[2821,17,"Morelos",11,"Documentación y material electoral","11.13",13,"Recepción de las boletas electorales por el órgano competente que realizará el conteo, sellado y agrupamiento","OPL","CG","2021-05-18","2021-05-22",null,null,{"$f":"VLOOKUP(P2827,Campos!$B$2:$C$7,2,FALSE)","v":0},"Sin información"]
[2822,17,"Morelos",11,"Documentación y material electoral","11.14",14,"Conteo, sellado y agrupamiento de boletas","OPL","CG","2021-05-18","2021-05-28",null,null,{"$f":"VLOOKUP(P2828,Campos!$B$2:$C$7,2,FALSE)","v":0},"Sin información"]
[2823,17,"Morelos",11,"Documentación y material electoral","11.15",15,"Distribución de la documentación y materiales electorales a las y los Presidentes de mesas directivas de casilla","OPL","OD","2021-05-31","2021-06-04",null,null,{"$f":"VLOOKUP(P2829,Campos!$B$2:$C$7,2,FALSE)","v":0},"Sin información"]
[2824,17,"Morelos",11,"Documentación y material electoral","11.16",16,"Remisión de los recibos de la entrega de la documentación y materiales electorales al Consejo General del OPL","INE","JLE","2021-06-24","2021-06-30",null,null,{"$f":"VLOOKUP(P2830,Campos!$B$2:$C$7,2,FALSE)","v":0},"Sin información"]
[2825,17,"Morelos",12,"Jornada Electoral","12.1",1,"Aprobación del Programa de Operación del SIJE 2021","INE","CCOE","2020-07-01","2020-07-31",null,null,{"$f":"VLOOKUP(P2831,Campos!$B$2:$C$7,2,FALSE)","v":0},"Sin información"]
[2826,17,"Morelos",12,"Jornada Electoral","12.2",2,"Aprobación de las metas del SIJE 2021","INE","CG","2021-03-01","2021-03-31",null,null,{"$f":"VLOOKUP(P2832,Campos!$B$2:$C$7,2,FALSE)","v":0},"Sin información"]
[2827,17,"Morelos",12,"Jornada Electoral","12.3",3,"Realización de pruebas del SIJE 2021","INE","DEOE","2021-04-01","2021-04-15",null,null,{"$f":"VLOOKUP(P2833,Campos!$B$2:$C$7,2,FALSE)","v":0},"Sin información"]
[2828,17,"Morelos",12,"Jornada Electoral","12.4",4,"Desarrollo del primer simulacro del SIJE","INE/OPL","DEOE/OD","2021-04-29","2021-04-29",null,null,{"$f":"VLOOKUP(P2834,Campos!$B$2:$C$7,2,FALSE)","v":0},"Sin información"]
[2829,17,"Morelos",12,"Jornada Electoral","12.5",5,"Desarrollo del segundo simulacro del SIJE","INE/OPL","DEOE/OD","2021-05-09","2021-05-09",null,null,{"$f":"VLOOKUP(P2835,Campos!$B$2:$C$7,2,FALSE)","v":0},"Sin información"]
[2830,17,"Morelos",12,"Jornada Electoral","12.6",6,"Desarrollo del tercer simulacro del SIJE","INE/OPL","DEOE/OD","2021-05-23","2021-05-23",null,null,{"$f":"VLOOKUP(P2836,Campos!$B$2:$C$7,2,FALSE)","v":0},"Sin información"]
[2831,17,"Morelos",12,"Jornada Electoral","12.7",7,"Jornada Electoral","OPL","CG/OD","2021-06-06","2021-06-06",null,null,{"$f":"VLOOKUP(P2837,Campos!$B$2:$C$7,2,FALSE)","v":0},"Sin información"]
[2832,17,"Morelos",13,"Bodegas electorales","13.1",1,"Determinación de los lugares que ocuparán las bodegas electorales para el resguardo de la documentación electoral","OPL","CG","2021-02-01","2021-02-28",null,null,{"$f":"VLOOKUP(P2838,Campos!$B$2:$C$7,2,FALSE)","v":0},"Sin información"]
[2833,17,"Morelos",13,"Bodegas electorales","13.2",2,"Informe que rinden las y los Presidentes sobre las condiciones de equipamiento, mecanismos de operación y medidas de seguridad de las bodegas electorales","OPL","OD","2021-03-01","2021-03-31",null,null,{"$f":"VLOOKUP(P2839,Campos!$B$2:$C$7,2,FALSE)","v":0},"Sin información"]
[2834,17,"Morelos",13,"Bodegas electorales","13.3",3,"Designación, por parte del órgano competente del OPL, del personal que tendrá acceso a la bodega electoral","OPL","CG/OD","2021-03-01","2021-03-30",null,null,{"$f":"VLOOKUP(P2840,Campos!$B$2:$C$7,2,FALSE)","v":0},"Sin información"]
[2835,17,"Morelos",13,"Bodegas electorales","13.4",4,"Envío a la UTVOPL, por conducto de la JLE, el informe sobre las condiciones que guardan las bodegas electorales","OPL","CG","2021-04-04","2021-04-10",null,null,{"$f":"VLOOKUP(P2841,Campos!$B$2:$C$7,2,FALSE)","v":0},"Sin información"]
[2836,17,"Morelos",14,"Mecanismos de recolección","14.1",1,"Entrega de estudios de factibilidad al OPL","INE","CL","2021-03-15","2021-03-31",null,null,{"$f":"VLOOKUP(P2842,Campos!$B$2:$C$7,2,FALSE)","v":0},"Sin información"]
[2837,17,"Morelos",14,"Mecanismos de recolección","14.2",2,"Entrega de observaciones a los estudios de factibilidad ","OPL","CG","2021-04-01","2021-04-24",null,null,{"$f":"VLOOKUP(P2843,Campos!$B$2:$C$7,2,FALSE)","v":0},"Sin información"]
[2838,17,"Morelos",14,"Mecanismos de recolección","14.3",3,"Recorridos para verificar las propuestas de los mecanismos de recolección","INE/OPL","CD/OD","2021-03-16","2021-04-24",null,null,{"$f":"VLOOKUP(P2844,Campos!$B$2:$C$7,2,FALSE)","v":0},"Sin información"]
[2839,17,"Morelos",14,"Mecanismos de recolección","14.4",4,"Aprobación de los mecanismos de recolección ","INE","CD","2021-04-26","2021-04-30",null,null,{"$f":"VLOOKUP(P2845,Campos!$B$2:$C$7,2,FALSE)","v":0},"Sin información"]
[2840,17,"Morelos",14,"Mecanismos de recolección","14.5",5,"Traslado y recolección de los paquetes electorales","INE/OPL","CD/OD","2021-06-06","2021-06-07",null,null,{"$f":"VLOOKUP(P2846,Campos!$B$2:$C$7,2,FALSE)","v":0},"Sin información"]
[2841,17,"Morelos",14,"Mecanismos de recolección","14.6",6,"Acreditación de representantes de partidos políticos y candidaturas independientes ante los mecanismos de recolección","INE","CL/CD","2021-04-27","2021-06-03",null,null,{"$f":"VLOOKUP(P2847,Campos!$B$2:$C$7,2,FALSE)","v":0},"Sin información"]
[2842,17,"Morelos",14,"Mecanismos de recolección","14.7",7,"Sustitución de representantes de partidos políticos y candidaturas independientes ante los mecanismos de recolección","INE","CL/CD","2021-04-28","2021-06-04",null,null,{"$f":"VLOOKUP(P2848,Campos!$B$2:$C$7,2,FALSE)","v":0},"Sin información"]
[2843,17,"Morelos",14,"Mecanismos de recolección","14.8",8,"Entrega a la JLE, el informe sobre la recepción de paquetes electorales en los órganos competentes","OPL","CG","2021-06-06","2021-06-28",null,null,{"$f":"VLOOKUP(P2849,Campos!$B$2:$C$7,2,FALSE)","v":0},"Sin información"]
[2844,17,"Morelos",15,"Cómputos","15.1",1,"Aprobación de los lineamientos de cómputo y del cuadernillo de consulta sobre votos válidos y votos nulos","OPL","CG","2021-01-18","2021-01-29",null,null,{"$f":"VLOOKUP(P2850,Campos!$B$2:$C$7,2,FALSE)","v":0},"Sin información"]
[2845,17,"Morelos",15,"Cómputos","15.2",2,"Integración por parte de los Órganos Desconcentrados del OPL, de la propuesta para la habilitación de espacios para el recuento de votos con las alternativas para todos los escenarios de cómputo","OPL","OD","2021-03-01","2021-03-07",null,null,{"$f":"VLOOKUP(P2851,Campos!$B$2:$C$7,2,FALSE)","v":0},"Sin información"]
[2846,17,"Morelos",15,"Cómputos","15.3",3,"Informe de los escenarios de cómputos de la totalidad de sus órganos desconcentrados","OPL","CG","2021-04-01","2021-04-04",null,null,{"$f":"VLOOKUP(P2852,Campos!$B$2:$C$7,2,FALSE)","v":0},"Sin información"]
[2847,17,"Morelos",15,"Cómputos","15.4",4,"Remisión a la JLE en la entidad, las propuestas de escenarios de cómputos, para la dictaminación de viabilidad","OPL","CG","2021-05-01","2021-05-07",null,null,{"$f":"VLOOKUP(P2853,Campos!$B$2:$C$7,2,FALSE)","v":0},"Sin información"]
[2848,17,"Morelos",15,"Cómputos","15.5",5,"Remisión de las observaciones a los escenarios de Cómputos al OPL y a su vez informar de las mismas a la UTVOPL","INE","JLE","2021-05-08","2021-05-15",null,null,{"$f":"VLOOKUP(P2854,Campos!$B$2:$C$7,2,FALSE)","v":0},"Sin información"]
[2849,17,"Morelos",15,"Cómputos","15.6",6,"Aprobación por parte del órgano competente del OPL, del acuerdo mediante el cual se designa al personal que participará en las tareas de apoyo a los Cómputos Municipales","OPL","CG/OD","2021-04-26","2021-05-05",null,null,{"$f":"VLOOKUP(P2855,Campos!$B$2:$C$7,2,FALSE)","v":0},"Sin información"]
[2850,17,"Morelos",15,"Cómputos","15.7",7,"Aprobación por parte del órgano competente del OPL, del acuerdo mediante el cual se designa al personal que participará en las tareas de apoyo a los Cómputos Distritales ","OPL","CG/OD","2021-04-26","2021-05-05",null,null,{"$f":"VLOOKUP(P2856,Campos!$B$2:$C$7,2,FALSE)","v":0},"Sin información"]
[2851,17,"Morelos",15,"Cómputos","15.8",8,"Aprobación por parte de los órganos competentes del OPL, de los distintos escenarios de cómputos","OPL","OD","2021-05-08","2021-05-15",null,null,{"$f":"VLOOKUP(P2857,Campos!$B$2:$C$7,2,FALSE)","v":0},"Sin información"]
[2852,17,"Morelos",15,"Cómputos","15.9",9,"Aprobación por parte del órgano competente del OPL, del acuerdo por el que se habilitarán espacios para la instalación de grupos de trabajo y, en su caso, puntos de recuento","OPL","CG/OD","2021-06-08","2021-06-08",null,null,{"$f":"VLOOKUP(P2858,Campos!$B$2:$C$7,2,FALSE)","v":0},"Sin información"]
[2853,17,"Morelos",15,"Cómputos","15.10",10,"Cómputos Distritales","OPL","OD","2021-06-09","2021-06-12",null,null,{"$f":"VLOOKUP(P2859,Campos!$B$2:$C$7,2,FALSE)","v":0},"Sin información"]
[2854,17,"Morelos",15,"Cómputos","15.14",14,"Cómputo Estatal para la asignación diputaciones de Representación Proporcional","OPL","CG","2021-06-13","2021-06-13",null,null,{"$f":"VLOOKUP(P2860,Campos!$B$2:$C$7,2,FALSE)","v":0},"Sin información"]
[2855,17,"Morelos",15,"Cómputos","15.11",11,"Cómputos Municipales","OPL","OD","2021-06-09","2021-06-12",null,null,{"$f":"VLOOKUP(P2861,Campos!$B$2:$C$7,2,FALSE)","v":0},"Sin información"]
[2856,17,"Morelos",15,"Cómputos","15.16",16,"Asignación de regidurías por el principio de Representación Proporcional","OPL","CG","2021-06-13","2021-06-13",null,null,{"$f":"VLOOKUP(P2862,Campos!$B$2:$C$7,2,FALSE)","v":0},"Sin información"]
[2857,17,"Morelos",16,"PREP","16.1",1,"Aprobación del Acuerdo por el que se designa o ratifica a la instancia interna responsable de coordinar el PREP","OPL","CG","2020-09-11","2020-09-11",null,null,{"$f":"VLOOKUP(P2863,Campos!$B$2:$C$7,2,FALSE)","v":0},"Sin información"]
[2858,17,"Morelos",16,"PREP","16.2",2,"Aprobación del Acuerdo de Integración del COTAPREP","OPL","CG","2020-11-11","2020-11-11",null,null,{"$f":"VLOOKUP(P2864,Campos!$B$2:$C$7,2,FALSE)","v":0},"Sin información"]
[2859,17,"Morelos",16,"PREP","16.3",3,"Documento por el que se determina la implementación del PREP por el OPL o con el apoyo de un Tercero","OPL","CG","2020-12-11","2020-12-11",null,null,{"$f":"VLOOKUP(P2865,Campos!$B$2:$C$7,2,FALSE)","v":0},"Sin información"]
[2860,17,"Morelos",16,"PREP","16.4",4,"Aprobación del Acuerdo por el que se determina el Proceso Técnico Operativo ","OPL","CG","2021-01-11","2021-01-11",null,null,{"$f":"VLOOKUP(P2866,Campos!$B$2:$C$7,2,FALSE)","v":0},"Sin información"]
[2861,17,"Morelos",16,"PREP","16.5",5,"Aprobación del Acuerdo por el que se determina la ubicación, instalación y habilitación de los CATD y, en su caso, CCV","OPL","CG","2021-02-11","2021-02-11",null,null,{"$f":"VLOOKUP(P2867,Campos!$B$2:$C$7,2,FALSE)","v":0},"Sin información"]
[2862,17,"Morelos",16,"PREP","16.6",6,"Documento de Designación del Ente Auditor ","OPL","CG","2021-02-11","2021-02-11",null,null,{"$f":"VLOOKUP(P2868,Campos!$B$2:$C$7,2,FALSE)","v":0},"Sin información"]
[2863,17,"Morelos",16,"PREP","16.7",7,"Instrumento jurídico celebrado entre el OPL y el ente auditor","OPL","CG","2021-03-11","2021-03-11",null,null,{"$f":"VLOOKUP(P2869,Campos!$B$2:$C$7,2,FALSE)","v":0},"Sin información"]
[2864,17,"Morelos",16,"PREP","16.8",8,"Realización del primer simulacro del PREP","OPL","CG","2021-05-16","2021-05-16",null,null,{"$f":"VLOOKUP(P2870,Campos!$B$2:$C$7,2,FALSE)","v":0},"Sin información"]
[2865,17,"Morelos",16,"PREP","16.9",9,"Realización del segundo simulacro del PREP","OPL","CG","2021-05-23","2021-05-23",null,null,{"$f":"VLOOKUP(P2871,Campos!$B$2:$C$7,2,FALSE)","v":0},"Sin información"]
[2866,17,"Morelos",16,"PREP","16.10",10,"Realización del tercer simulacro del PREP","OPL","CG","2021-05-30","2021-05-30",null,null,{"$f":"VLOOKUP(P2872,Campos!$B$2:$C$7,2,FALSE)","v":0},"Sin información"]
[2867,17,"Morelos",16,"PREP","16.11",11,"Operación del PREP","OPL","CG","2021-06-06","2021-06-07",null,null,{"$f":"VLOOKUP(P2873,Campos!$B$2:$C$7,2,FALSE)","v":0},"Sin información"]
[2868,17,"Morelos",19,"Visitantes extranjeros","19.1",1,"Emisión de la Convocatoria para visitantes extranjeros","INE","CG","2020-08-03","2020-09-30",null,null,{"$f":"VLOOKUP(P2874,Campos!$B$2:$C$7,2,FALSE)","v":0},"Sin información"]
[2869,17,"Morelos",19,"Visitantes extranjeros","19.2",2,"Difusión de la Convocatoria para visitantes extranjeros","INE","CAI","2020-09-01","2021-05-26",null,null,{"$f":"VLOOKUP(P2875,Campos!$B$2:$C$7,2,FALSE)","v":0},"Sin información"]
[2870,17,"Morelos",19,"Visitantes extranjeros","19.3",3,"Recepción de solicitudes de acreditación como visitantes extranjeros","INE","CAI","2020-09-01","2021-05-26",null,null,{"$f":"VLOOKUP(P2876,Campos!$B$2:$C$7,2,FALSE)","v":0},"Sin información"]
[2871,17,"Morelos",19,"Visitantes extranjeros","19.4",4,"Resolución de solicitudes de acreditación como visitantes extranjeros","INE","CAI","2020-09-02","2021-05-30",null,null,{"$f":"VLOOKUP(P2877,Campos!$B$2:$C$7,2,FALSE)","v":0},"Sin información"]
[2872,17,"Morelos",19,"Visitantes extranjeros","19.5",5,"Entrega de acreditaciones a los visitantes extranjeros","INE","CAI","2020-09-04","2021-06-05",null,null,{"$f":"VLOOKUP(P2878,Campos!$B$2:$C$7,2,FALSE)","v":0},"Sin información"]
[2873,18,"Nayarit",1,"Mecanismos de coordinación","1.1",1,"Aprobar Calendarios y Planes Integrales de los Procesos Electorales Locales","INE","CG","2020-08-01","2020-08-07",null,null,{"$f":"VLOOKUP(P2879,Campos!$B$2:$C$7,2,FALSE)","v":0},"Sin información"]
[2874,18,"Nayarit",1,"Mecanismos de coordinación","1.2",2,"Firma del Convenio General de Coordinación y Colaboración 2020-2021","INE/OPL","INE/OPL","2020-09-01","2020-10-01",null,null,{"$f":"VLOOKUP(P2880,Campos!$B$2:$C$7,2,FALSE)","v":0},"Sin información"]
[2875,18,"Nayarit",1,"Mecanismos de coordinación","1.3",3,"Elaborar un plan de trabajo conjunto para la promoción de la participación ciudadana","INE/OPL","INE/OPL","2020-09-01","2020-12-31",null,null,{"$f":"VLOOKUP(P2881,Campos!$B$2:$C$7,2,FALSE)","v":0},"Sin información"]
[2876,18,"Nayarit",1,"Mecanismos de coordinación","1.4",4,"Sesión para dar inicio al PEL","OPL","CG","2021-01-07","2021-01-07",null,null,{"$f":"VLOOKUP(P2882,Campos!$B$2:$C$7,2,FALSE)","v":0},"Sin información"]
[2877,18,"Nayarit",1,"Mecanismos de coordinación","1.5",5,"Implementar un plan de trabajo conjunto para la promoción de la participación ciudadana","INE/OPL","INE/OPL","2021-02-01","2021-06-06",null,null,{"$f":"VLOOKUP(P2883,Campos!$B$2:$C$7,2,FALSE)","v":0},"Sin información"]
[2878,18,"Nayarit",2,"Integración de órganos desconcentrados","2.4",4,"Convocatoria para la integración de los Órganos Municipales ","OPL","CG","2020-08-01","2020-08-31",null,null,{"$f":"VLOOKUP(P2884,Campos!$B$2:$C$7,2,FALSE)","v":0},"Sin información"]
[2879,18,"Nayarit",2,"Integración de órganos desconcentrados","2.5",5,"Sesión en la que se designan e integran los Órganos Municipales ","OPL","CG","2021-01-25","2021-01-31",null,null,{"$f":"VLOOKUP(P2885,Campos!$B$2:$C$7,2,FALSE)","v":0},"Sin información"]
[2880,18,"Nayarit",2,"Integración de órganos desconcentrados","2.6",6,"Instalación de los Órganos Municipales ","OPL","OD","2021-02-01","2021-02-15",null,null,{"$f":"VLOOKUP(P2886,Campos!$B$2:$C$7,2,FALSE)","v":0},"Sin información"]
[2881,18,"Nayarit",2,"Integración de órganos desconcentrados","2.7",7,"Designación y/o ratificación de las y los Consejeros Electorales del Consejo Local ","INE","CG","2020-10-01","2020-10-15",null,null,{"$f":"VLOOKUP(P2887,Campos!$B$2:$C$7,2,FALSE)","v":0},"Sin información"]
[2882,18,"Nayarit",2,"Integración de órganos desconcentrados","2.8",8,"Instalación del Consejo Local","INE","CL","2020-11-01","2020-11-30",null,null,{"$f":"VLOOKUP(P2888,Campos!$B$2:$C$7,2,FALSE)","v":0},"Sin información"]
[2883,18,"Nayarit",2,"Integración de órganos desconcentrados","2.9",9,"Designación y/o ratificación de las y los Consejeros Electorales de los Consejos Distritales ","INE","CL","2020-11-01","2020-11-30",null,null,{"$f":"VLOOKUP(P2889,Campos!$B$2:$C$7,2,FALSE)","v":0},"Sin información"]
[2884,18,"Nayarit",2,"Integración de órganos desconcentrados","2.10",10,"Instalación de los Consejos Distritales","INE","CD","2020-12-01","2020-12-15",null,null,{"$f":"VLOOKUP(P2890,Campos!$B$2:$C$7,2,FALSE)","v":0},"Sin información"]
[2885,18,"Nayarit",3,"Lista Nominal de Electores","3.1",1,"Generación y entrega de la Lista Nominal de Electores para Revisión en medios ópticos a los representantes de los partidos políticos, y en su caso a las candidaturas independientes acreditados ante el OPL, para observaciones","INE","DERFE","2021-02-15","2021-02-15",null,null,{"$f":"VLOOKUP(P2891,Campos!$B$2:$C$7,2,FALSE)","v":0},"Sin información"]
[2886,18,"Nayarit",3,"Lista Nominal de Electores","3.2",2,"Recepción de observaciones de los partidos políticos y en su caso, candidatos independientes, a la Lista Nominal de Electores para revisión","INE/OPL","DERFE","2021-03-14","2021-03-14",null,null,{"$f":"VLOOKUP(P2892,Campos!$B$2:$C$7,2,FALSE)","v":0},"Sin información"]
[2887,18,"Nayarit",3,"Lista Nominal de Electores","3.3",3,"Entrega en formato digital el informe respecto de la atención a las observaciones formuladas a la Lista Nominal de Electores para Revisión","INE","DERFE","2021-04-15","2021-04-15",null,null,{"$f":"VLOOKUP(P2893,Campos!$B$2:$C$7,2,FALSE)","v":0},"Sin información"]
[2888,18,"Nayarit",3,"Lista Nominal de Electores","3.4",4,"Entrega de la Lista Nominal de Electores Definitiva con fotografía","INE","DERFE","2021-05-06","2021-05-14",null,null,{"$f":"VLOOKUP(P2894,Campos!$B$2:$C$7,2,FALSE)","v":0},"Sin información"]
[2889,18,"Nayarit",3,"Lista Nominal de Electores","3.5",5,"Fecha de entrega de la Lista Nominal de Electores con fotografía Producto de Instancias Administrativas y Resoluciones del Tribunal (ADENDA)","INE","DERFE","2021-05-19","2021-05-24",null,null,{"$f":"VLOOKUP(P2895,Campos!$B$2:$C$7,2,FALSE)","v":0},"Sin información"]
[2890,18,"Nayarit",4,"Observación Electoral","4.1",1,"Emisión de la convocatoria para la ciudadanía que desee participar en la observación electoral","OPL","CG","2021-01-07","2021-01-07",null,null,{"$f":"VLOOKUP(P2896,Campos!$B$2:$C$7,2,FALSE)","v":0},"Sin información"]
[2891,18,"Nayarit",4,"Observación Electoral","4.2",2,"Recepción de solicitudes de la ciudadanía que desee participar en observación electoral","INE/OPL","OPL/JLE/JDE","2021-01-07","2021-04-30",null,null,{"$f":"VLOOKUP(P2897,Campos!$B$2:$C$7,2,FALSE)","v":0},"Sin información"]
[2892,18,"Nayarit",4,"Observación Electoral","4.3",3,"Impartición de los cursos de capacitación, preparación o información","INE/OPL","OPL/JLE/JDE","2021-01-07","2021-05-17",null,null,{"$f":"VLOOKUP(P2898,Campos!$B$2:$C$7,2,FALSE)","v":0},"Sin información"]
[2893,18,"Nayarit",4,"Observación Electoral","4.4",4,"Acreditación de la ciudadanía como observadores u observadoras electorales","INE","CL/CD","2021-01-07","2021-06-05",null,null,{"$f":"VLOOKUP(P2899,Campos!$B$2:$C$7,2,FALSE)","v":0},"Sin información"]
[2894,18,"Nayarit",4,"Observación Electoral","4.5",5,"Seguimiento a los informes mensuales de acreditación","INE","CG","2021-01-07","2021-07-31",null,null,{"$f":"VLOOKUP(P2900,Campos!$B$2:$C$7,2,FALSE)","v":0},"Sin información"]
[2895,18,"Nayarit",4,"Observación Electoral","4.6",6,"Remisión de materiales de capacitación a la JLE para revisión","OPL","CG","2020-10-08","2020-10-08",null,null,{"$f":"VLOOKUP(P2901,Campos!$B$2:$C$7,2,FALSE)","v":0},"Sin información"]
[2896,18,"Nayarit",4,"Observación Electoral","4.7",7,"Revisión, corrección, verificación y validación de materiales de capacitación para observación electoral ","INE","JLE","2020-10-09","2020-10-30",null,null,{"$f":"VLOOKUP(P2902,Campos!$B$2:$C$7,2,FALSE)","v":0},"Sin información"]
[2897,18,"Nayarit",4,"Observación Electoral","4.8",8,"Entrega de materiales de capacitación para observación electoral entre OPL e INE","INE/OPL","VEL/OPL","2020-11-01","2020-11-23",null,null,{"$f":"VLOOKUP(P2903,Campos!$B$2:$C$7,2,FALSE)","v":0},"Sin información"]
[2898,18,"Nayarit",5,"Ubicación de casillas","5.1",1,"Recorridos por las secciones de los distritos para localizar los lugares donde se ubicarán las casillas","INE/OPL","JDE/OPL","2021-01-15","2021-02-15",null,null,{"$f":"VLOOKUP(P2904,Campos!$B$2:$C$7,2,FALSE)","v":0},"Sin información"]
[2899,18,"Nayarit",5,"Ubicación de casillas","5.2",2,"Presentación a los Consejos Distritales del listado de lugares propuestos para ubicar casillas","INE","JDE","2021-02-24","2021-02-24",null,null,{"$f":"VLOOKUP(P2905,Campos!$B$2:$C$7,2,FALSE)","v":0},"Sin información"]
[2900,18,"Nayarit",5,"Ubicación de casillas","5.3",3,"Visitas de examinación en los lugares propuestos para ubicar casillas básicas, contiguas, especiales y extraordinarias","INE/OPL","CD/OPL","2021-02-25","2021-03-16",null,null,{"$f":"VLOOKUP(P2906,Campos!$B$2:$C$7,2,FALSE)","v":0},"Sin información"]
[2901,18,"Nayarit",5,"Ubicación de casillas","5.4",4,"Aprobación del número y ubicación de casillas extraordinarias y especiales","INE","CD","2021-03-16","2021-03-16",null,null,{"$f":"VLOOKUP(P2907,Campos!$B$2:$C$7,2,FALSE)","v":0},"Sin información"]
[2902,18,"Nayarit",5,"Ubicación de casillas","5.5",5,"Aprobación del número y ubicación de casillas básicas y contiguas","INE","CD","2021-03-25","2021-03-25",null,null,{"$f":"VLOOKUP(P2908,Campos!$B$2:$C$7,2,FALSE)","v":0},"Sin información"]
[2903,18,"Nayarit",5,"Ubicación de casillas","5.6",6,"Entrega de la base de datos de la Lista Nominal Definitiva a UNICOM con corte al 10 de abril","INE","DERFE","2021-04-15","2021-04-16",null,null,{"$f":"VLOOKUP(P2909,Campos!$B$2:$C$7,2,FALSE)","v":0},"Sin información"]
[2904,18,"Nayarit",5,"Ubicación de casillas","5.7",7,"Realizar la primera publicación de la lista de ubicación de casillas en los lugares más concurridos del distrito electoral  y en los medios electrónicos del Instituto","INE","CD","2021-04-15","2021-04-15",null,null,{"$f":"VLOOKUP(P2910,Campos!$B$2:$C$7,2,FALSE)","v":0},"Sin información"]
[2905,18,"Nayarit",5,"Ubicación de casillas","5.8",8,"En su caso, segunda publicación de la lista de ubicación de casillas por causas supervenientes en los lugares más concurridos del distrito y en los medios electrónicos del Instituto","INE","CD","2021-05-15","2021-05-25",null,null,{"$f":"VLOOKUP(P2911,Campos!$B$2:$C$7,2,FALSE)","v":0},"Sin información"]
[2906,18,"Nayarit",5,"Ubicación de casillas","5.9",9,"Publicación de los encartes y difusión en medios electrónicos del Instituto","INE/OPL","DEOE/CG","2021-06-05","2021-06-06",null,null,{"$f":"VLOOKUP(P2912,Campos!$B$2:$C$7,2,FALSE)","v":0},"Sin información"]
[2907,18,"Nayarit",5,"Ubicación de casillas","5.10",10,"Registro de representantes generales y ante mesas directivas de casilla","INE","CD","2021-04-16","2021-05-24",null,null,{"$f":"VLOOKUP(P2913,Campos!$B$2:$C$7,2,FALSE)","v":0},"Sin información"]
[2908,18,"Nayarit",5,"Ubicación de casillas","5.11",11,"Sustitución de representantes generales y ante mesas directivas de casilla","INE","CD","2021-04-16","2021-05-27",null,null,{"$f":"VLOOKUP(P2914,Campos!$B$2:$C$7,2,FALSE)","v":0},"Sin información"]
[2909,18,"Nayarit",5,"Ubicación de casillas","5.12",12,"Entrega de listados de representantes generales y ante casilla al OPL","INE","CD","2021-05-30","2021-05-30",null,null,{"$f":"VLOOKUP(P2915,Campos!$B$2:$C$7,2,FALSE)","v":0},"Sin información"]
[2910,18,"Nayarit",5,"Ubicación de casillas","5.13",13,"Notificación ciudadana de ubicación de casillas en secciones electorales involucradas en la actualización del Marco Geográfico Electoral","INE/OPL","DERFE/OPL","2021-04-01","2021-06-15",null,null,{"$f":"VLOOKUP(P2916,Campos!$B$2:$C$7,2,FALSE)","v":0},"Sin información"]
[2911,18,"Nayarit",6,"Integración de las Mesas Directivas de Casilla","6.1",1,"Aprobación de la Estrategia de Capacitación y Asistencia Electoral","INE","CG","2020-08-01","2020-08-15",null,null,{"$f":"VLOOKUP(P2917,Campos!$B$2:$C$7,2,FALSE)","v":0},"Sin información"]
[2912,18,"Nayarit",6,"Integración de las Mesas Directivas de Casilla","6.2",2,"Entrega para revisión y validación de materiales didácticos de primera etapa","OPL","CG","2020-11-03","2020-11-03",null,null,{"$f":"VLOOKUP(P2918,Campos!$B$2:$C$7,2,FALSE)","v":0},"Sin información"]
[2913,18,"Nayarit",6,"Integración de las Mesas Directivas de Casilla","6.3",3,"Revisión, corrección, verificación y validación de los materiales didácticos de primera etapa","INE/OPL","JLE/DECEYEC/OPL","2020-11-03","2020-12-19",null,null,{"$f":"VLOOKUP(P2919,Campos!$B$2:$C$7,2,FALSE)","v":0},"Sin información"]
[2914,18,"Nayarit",6,"Integración de las Mesas Directivas de Casilla","6.4",4,"Entrega de los materiales impresos de la primera etapa a la JLE","OPL","OPL","2021-02-05","2021-02-05",null,null,{"$f":"VLOOKUP(P2920,Campos!$B$2:$C$7,2,FALSE)","v":0},"Sin información"]
[2915,18,"Nayarit",6,"Integración de las Mesas Directivas de Casilla","6.5",5,"Sorteo del mes del calendario como base para la insaculación de las y los ciudadanos que integrarán las mesas directivas de casilla","INE","CG","2020-12-15","2020-12-19",null,null,{"$f":"VLOOKUP(P2921,Campos!$B$2:$C$7,2,FALSE)","v":0},"Sin información"]
[2916,18,"Nayarit",6,"Integración de las Mesas Directivas de Casilla","6.6",6,"Entrega para revisión y validación de materiales didácticos de segunda etapa","OPL","OPL","2021-02-03","2021-02-03",null,null,{"$f":"VLOOKUP(P2922,Campos!$B$2:$C$7,2,FALSE)","v":0},"Sin información"]
[2917,18,"Nayarit",6,"Integración de las Mesas Directivas de Casilla","6.7",7,"Revisión, corrección, verificación y validación de los materiales didácticos de la segunda etapa","INE/OPL","JLE/DECEYEC/OPL","2021-02-03","2021-03-22",null,null,{"$f":"VLOOKUP(P2923,Campos!$B$2:$C$7,2,FALSE)","v":0},"Sin información"]
[2918,18,"Nayarit",6,"Integración de las Mesas Directivas de Casilla","6.8",8,"Entrega de los materiales impresos de la segunda etapa a la JLE","OPL","OPL","2021-04-05","2021-04-05",null,null,{"$f":"VLOOKUP(P2924,Campos!$B$2:$C$7,2,FALSE)","v":0},"Sin información"]
[2919,18,"Nayarit",6,"Integración de las Mesas Directivas de Casilla","6.9",9,"Sorteo de la letra a partir de la cual, con base en el apellido paterno, se seleccionará a las y los ciudadanos que integrarán las mesas directivas de casilla","INE","CG","2021-02-02","2021-02-02",null,null,{"$f":"VLOOKUP(P2925,Campos!$B$2:$C$7,2,FALSE)","v":0},"Sin información"]
[2920,18,"Nayarit",6,"Integración de las Mesas Directivas de Casilla","6.10",10,"Entrega de la Lista Nominal de Electores para el Procedimiento de la Primera insaculación con corte al 15 de enero de 2021.","INE","DERFE/UNICOM","2021-01-21","2021-01-26",null,null,{"$f":"VLOOKUP(P2926,Campos!$B$2:$C$7,2,FALSE)","v":0},"Sin información"]
[2921,18,"Nayarit",6,"Integración de las Mesas Directivas de Casilla","6.11",11,"Primera insaculación","INE","JDE","2021-02-06","2021-02-06",null,null,{"$f":"VLOOKUP(P2927,Campos!$B$2:$C$7,2,FALSE)","v":0},"Sin información"]
[2922,18,"Nayarit",6,"Integración de las Mesas Directivas de Casilla","6.12",12,"Primera etapa de capacitación a las personas insaculadas","INE","CD","2021-02-09","2021-03-31",null,null,{"$f":"VLOOKUP(P2928,Campos!$B$2:$C$7,2,FALSE)","v":0},"Sin información"]
[2923,18,"Nayarit",6,"Integración de las Mesas Directivas de Casilla","6.13",13,"Integración de la lista de ciudadanos y ciudadanas que cumplen los requisitos legales para integrar las mesas directivas de casilla","INE","CD","2021-02-09","2021-03-31",null,null,{"$f":"VLOOKUP(P2929,Campos!$B$2:$C$7,2,FALSE)","v":0},"Sin información"]
[2924,18,"Nayarit",6,"Integración de las Mesas Directivas de Casilla","6.14",14,"Segunda insaculación y designación de funcionarios para mesas directivas de casilla","INE","CD","2021-04-08","2021-04-08",null,null,{"$f":"VLOOKUP(P2930,Campos!$B$2:$C$7,2,FALSE)","v":0},"Sin información"]
[2925,18,"Nayarit",6,"Integración de las Mesas Directivas de Casilla","6.15",15,"Segunda etapa de capacitación a funcionarios de mesa directiva de casilla y simulacros","INE","CD","2021-04-18","2021-06-05",null,null,{"$f":"VLOOKUP(P2931,Campos!$B$2:$C$7,2,FALSE)","v":0},"Sin información"]
[2926,18,"Nayarit",6,"Integración de las Mesas Directivas de Casilla","6.16",16,"Entrega de reconocimientos a funcionarios de mesas directivas de casilla","INE","CD","2021-06-07","2021-06-12",null,null,{"$f":"VLOOKUP(P2932,Campos!$B$2:$C$7,2,FALSE)","v":0},"Sin información"]
[2927,18,"Nayarit",6,"Integración de las Mesas Directivas de Casilla","6.17",17,"Periodo para contratación de CAE locales","INE/OPL","INE/OPL","Por definir","Por definir",null,null,{"$f":"VLOOKUP(P2933,Campos!$B$2:$C$7,2,FALSE)","v":0},"Sin información"]
[2928,18,"Nayarit",6,"Integración de las Mesas Directivas de Casilla","6.18",18,"Reclutamiento y selección de CAE locales","INE/OPL","INE/OPL","Por definir","Por definir",null,null,{"$f":"VLOOKUP(P2934,Campos!$B$2:$C$7,2,FALSE)","v":0},"Sin información"]
[2929,18,"Nayarit",7,"Fiscalización de los recursos de los Partidos Políticos y candidaturas independientes","7.1",1,"Aprobación de topes de gastos de precampaña Gubernatura","OPL","CG","2021-01-07","2021-01-31",null,null,{"$f":"VLOOKUP(P2935,Campos!$B$2:$C$7,2,FALSE)","v":0},"Sin información"]
[2930,18,"Nayarit",7,"Fiscalización de los recursos de los Partidos Políticos y candidaturas independientes","7.2",2,"Aprobación de topes de gastos de precampaña Diputaciones","OPL","CG","2021-01-07","2021-01-31",null,null,{"$f":"VLOOKUP(P2936,Campos!$B$2:$C$7,2,FALSE)","v":0},"Sin información"]
[2931,18,"Nayarit",7,"Fiscalización de los recursos de los Partidos Políticos y candidaturas independientes","7.3",3,"Aprobación de topes de gastos de precampaña Ayuntamientos","OPL","CG","2021-01-07","2021-01-31",null,null,{"$f":"VLOOKUP(P2937,Campos!$B$2:$C$7,2,FALSE)","v":0},"Sin información"]
[2932,18,"Nayarit",7,"Fiscalización de los recursos de los Partidos Políticos y candidaturas independientes","7.4",4,"Aprobación de los límites de financiamiento privado, aportaciones de militantes, simpatizantes y precandidatos o candidatos; así como el límite individual de aportaciones para Gubernatura","OPL","CG","2021-01-07","2021-01-31",null,null,{"$f":"VLOOKUP(P2938,Campos!$B$2:$C$7,2,FALSE)","v":0},"Sin información"]
[2933,18,"Nayarit",7,"Fiscalización de los recursos de los Partidos Políticos y candidaturas independientes","7.5",5,"Aprobación de los límites de financiamiento privado, aportaciones de militantes, simpatizantes y precandidatos o candidatos; así como el límite individual de aportaciones para Diputaciones","OPL","CG","2021-01-07","2021-01-31",null,null,{"$f":"VLOOKUP(P2939,Campos!$B$2:$C$7,2,FALSE)","v":0},"Sin información"]
[2934,18,"Nayarit",7,"Fiscalización de los recursos de los Partidos Políticos y candidaturas independientes","7.6",6,"Aprobación de los límites de financiamiento privado, aportaciones de militantes, simpatizantes y precandidatos o candidatos; así como el límite individual de aportaciones para Ayuntamientos","OPL","CG","2021-01-07","2021-01-31",null,null,{"$f":"VLOOKUP(P2940,Campos!$B$2:$C$7,2,FALSE)","v":0},"Sin información"]
[2935,18,"Nayarit",7,"Fiscalización de los recursos de los Partidos Políticos y candidaturas independientes","7.7",7,"Aprobación de topes de gastos para el periodo de obtención del apoyo ciudadano para Gubernatura","OPL","CG","2021-01-07","2021-01-31",null,null,{"$f":"VLOOKUP(P2941,Campos!$B$2:$C$7,2,FALSE)","v":0},"Sin información"]
[2936,18,"Nayarit",7,"Fiscalización de los recursos de los Partidos Políticos y candidaturas independientes","7.8",8,"Aprobación de topes de gastos para el periodo de obtención del apoyo ciudadano para Diputaciones","OPL","CG","2021-01-07","2021-01-31",null,null,{"$f":"VLOOKUP(P2942,Campos!$B$2:$C$7,2,FALSE)","v":0},"Sin información"]
[2937,18,"Nayarit",7,"Fiscalización de los recursos de los Partidos Políticos y candidaturas independientes","7.9",9,"Aprobación de topes de gastos para el periodo de obtención del apoyo ciudadano para Ayuntamientos","OPL","CG","2021-01-07","2021-01-31",null,null,{"$f":"VLOOKUP(P2943,Campos!$B$2:$C$7,2,FALSE)","v":0},"Sin información"]
[2938,18,"Nayarit",7,"Fiscalización de los recursos de los Partidos Políticos y candidaturas independientes","7.10",10,"Precampaña para Gubernatura","OPL","CG","2021-02-10","2021-03-21",null,null,{"$f":"VLOOKUP(P2944,Campos!$B$2:$C$7,2,FALSE)","v":0},"Sin información"]
[2939,18,"Nayarit",7,"Fiscalización de los recursos de los Partidos Políticos y candidaturas independientes","7.11",11,"Precampaña para Diputaciones","OPL","CG","2021-03-29","2021-04-17",null,null,{"$f":"VLOOKUP(P2945,Campos!$B$2:$C$7,2,FALSE)","v":0},"Sin información"]
[2940,18,"Nayarit",7,"Fiscalización de los recursos de los Partidos Políticos y candidaturas independientes","7.12",12,"Precampaña para Ayuntamientos","OPL","CG","2021-03-29","2021-04-17",null,null,{"$f":"VLOOKUP(P2946,Campos!$B$2:$C$7,2,FALSE)","v":0},"Sin información"]
[2941,18,"Nayarit",7,"Fiscalización de los recursos de los Partidos Políticos y candidaturas independientes","7.13",13,"Aprobación de topes de gastos de campaña para Gubernatura","OPL","CG","2021-01-07","2021-01-31",null,null,{"$f":"VLOOKUP(P2947,Campos!$B$2:$C$7,2,FALSE)","v":0},"Sin información"]
[2942,18,"Nayarit",7,"Fiscalización de los recursos de los Partidos Políticos y candidaturas independientes","7.14",14,"Aprobación de topes de gastos de campaña para Diputaciones","OPL","CG","2021-01-07","2021-01-31",null,null,{"$f":"VLOOKUP(P2948,Campos!$B$2:$C$7,2,FALSE)","v":0},"Sin información"]
[2943,18,"Nayarit",7,"Fiscalización de los recursos de los Partidos Políticos y candidaturas independientes","7.15",15,"Aprobación de topes de gastos de campaña para Ayuntamientos","OPL","CG","2021-01-07","2021-01-31",null,null,{"$f":"VLOOKUP(P2949,Campos!$B$2:$C$7,2,FALSE)","v":0},"Sin información"]
[2944,18,"Nayarit",7,"Fiscalización de los recursos de los Partidos Políticos y candidaturas independientes","7.16",16,"Campaña para Gubernatura","OPL","CG","2021-04-04","2021-06-02",null,null,{"$f":"VLOOKUP(P2950,Campos!$B$2:$C$7,2,FALSE)","v":0},"Sin información"]
[2945,18,"Nayarit",7,"Fiscalización de los recursos de los Partidos Políticos y candidaturas independientes","7.17",17,"Campaña para Diputaciones","OPL","CG","2021-05-04","2021-06-02",null,null,{"$f":"VLOOKUP(P2951,Campos!$B$2:$C$7,2,FALSE)","v":0},"Sin información"]
[2946,18,"Nayarit",7,"Fiscalización de los recursos de los Partidos Políticos y candidaturas independientes","7.18",18,"Campaña para Ayuntamientos","OPL","CG","2021-05-04","2021-06-02",null,null,{"$f":"VLOOKUP(P2952,Campos!$B$2:$C$7,2,FALSE)","v":0},"Sin información"]
[2947,18,"Nayarit",7,"Fiscalización de los recursos de los Partidos Políticos y candidaturas independientes","7.19",19,"Aprobación de la distribución de financiamiento público para partidos políticos","OPL","CG","2021-01-07","2021-01-31",null,null,{"$f":"VLOOKUP(P2953,Campos!$B$2:$C$7,2,FALSE)","v":0},"Sin información"]
[2948,18,"Nayarit",8,"Candidaturas Independientes","8.1",1,"Emisión de la convocatoria para la ciudadanía interesada en participar en Candidaturas Independientes ","OPL","CG","2021-01-07","2021-01-07",null,null,{"$f":"VLOOKUP(P2954,Campos!$B$2:$C$7,2,FALSE)","v":0},"Sin información"]
[2949,18,"Nayarit",8,"Candidaturas Independientes","8.2",2,"Recepción de escrito de intención y documentación anexa de la ciudadanía que aspire a la candidatura independiente para Gubernatura","OPL","OD","2021-01-08","2021-01-31",null,null,{"$f":"VLOOKUP(P2955,Campos!$B$2:$C$7,2,FALSE)","v":0},"Sin información"]
[2950,18,"Nayarit",8,"Candidaturas Independientes","8.3",3,"Recepción de escrito de intención y documentación anexa de la ciudadanía que aspire a la candidatura independiente para Diputaciones","OPL","OD","2021-01-08","2021-03-18",null,null,{"$f":"VLOOKUP(P2956,Campos!$B$2:$C$7,2,FALSE)","v":0},"Sin información"]
[2951,18,"Nayarit",8,"Candidaturas Independientes","8.4",4,"Recepción de escrito de intención y documentación anexa de la ciudadanía que aspire a la candidatura independiente para Ayuntamientos","OPL","SE/OD","2021-01-08","2021-03-18",null,null,{"$f":"VLOOKUP(P2957,Campos!$B$2:$C$7,2,FALSE)","v":0},"Sin información"]
[2952,18,"Nayarit",8,"Candidaturas Independientes","8.5",5,"Resolución sobre procedencia de manifestación de intención de aspirantes a candidaturas independientes para Gubernatura","OPL","CG","2021-02-01","2021-02-09",null,null,{"$f":"VLOOKUP(P2958,Campos!$B$2:$C$7,2,FALSE)","v":0},"Sin información"]
[2953,18,"Nayarit",8,"Candidaturas Independientes","8.6",6,"Resolución sobre procedencia de manifestación de intención de aspirantes a candidaturas independientes para Diputaciones","OPL","CG","2021-03-19","2021-03-28",null,null,{"$f":"VLOOKUP(P2959,Campos!$B$2:$C$7,2,FALSE)","v":0},"Sin información"]
[2954,18,"Nayarit",8,"Candidaturas Independientes","8.7",7,"Resolución sobre procedencia de manifestación de intención de aspirantes a candidaturas independientes para Ayuntamientos","OPL","CG","2021-03-19","2021-03-28",null,null,{"$f":"VLOOKUP(P2960,Campos!$B$2:$C$7,2,FALSE)","v":0},"Sin información"]
[2955,18,"Nayarit",8,"Candidaturas Independientes","8.8",8,"Plazo para obtener el apoyo ciudadano de las candidaturas independientes para Gubernatura","OPL","OD","2021-02-10","2021-03-21",null,null,{"$f":"VLOOKUP(P2961,Campos!$B$2:$C$7,2,FALSE)","v":0},"Sin información"]
[2956,18,"Nayarit",8,"Candidaturas Independientes","8.9",9,"Plazo para obtener el apoyo ciudadano de las candidaturas independientes para Diputaciones","OPL","OD","2021-03-29","2021-04-17",null,null,{"$f":"VLOOKUP(P2962,Campos!$B$2:$C$7,2,FALSE)","v":0},"Sin información"]
[2957,18,"Nayarit",8,"Candidaturas Independientes","8.10",10,"Plazo para obtener el apoyo ciudadano de las candidaturas independientes para Ayuntamientos","OPL","OD","2021-03-29","2021-04-17",null,null,{"$f":"VLOOKUP(P2963,Campos!$B$2:$C$7,2,FALSE)","v":0},"Sin información"]
[2958,18,"Nayarit",8,"Candidaturas Independientes","8.11",11,"Plazo para otorgar las constancias de porcentaje a favor de aspirantes a la candidatura independiente para Gubernatura","OPL","CG","2021-03-22","2021-03-22",null,null,{"$f":"VLOOKUP(P2964,Campos!$B$2:$C$7,2,FALSE)","v":0},"Sin información"]
[2959,18,"Nayarit",8,"Candidaturas Independientes","8.12",12,"Plazo para otorgar las constancias de porcentaje a favor de aspirantes a la candidatura independiente para Diputaciones","OPL","CG","2021-04-18","2021-04-19",null,null,{"$f":"VLOOKUP(P2965,Campos!$B$2:$C$7,2,FALSE)","v":0},"Sin información"]
[2960,18,"Nayarit",8,"Candidaturas Independientes","8.13",13,"Plazo para otorgar las constancias de porcentaje a favor de aspirantes a la candidatura independiente para Ayuntamientos","OPL","CG","2021-04-18","2021-04-19",null,null,{"$f":"VLOOKUP(P2966,Campos!$B$2:$C$7,2,FALSE)","v":0},"Sin información"]
[2961,18,"Nayarit",9,"Candidaturas","9.1",1,"Registro de plataformas electorales","OPL","CG","2021-02-01","2021-02-10",null,null,{"$f":"VLOOKUP(P2967,Campos!$B$2:$C$7,2,FALSE)","v":0},"Sin información"]
[2962,18,"Nayarit",9,"Candidaturas","9.2",2,"Solicitud de registro de convenio de coalición para Gubernatura","OPL","CG","2021-01-07","2021-02-10",null,null,{"$f":"VLOOKUP(P2968,Campos!$B$2:$C$7,2,FALSE)","v":0},"Sin información"]
[2963,18,"Nayarit",9,"Candidaturas","9.3",3,"Solicitud de registro de convenio de coalición para Diputaciones","OPL","CG","2021-01-07","2021-03-29",null,null,{"$f":"VLOOKUP(P2969,Campos!$B$2:$C$7,2,FALSE)","v":0},"Sin información"]
[2964,18,"Nayarit",9,"Candidaturas","9.4",4,"Solicitud de registro de convenio de coalición para Ayuntamientos","OPL","CG","2021-01-07","2021-03-29",null,null,{"$f":"VLOOKUP(P2970,Campos!$B$2:$C$7,2,FALSE)","v":0},"Sin información"]
[2965,18,"Nayarit",9,"Candidaturas","9.5",5,"Resolución sobre Convenio de Coalición para Gubernatura","OPL","CG","2021-01-17","2021-01-20",null,null,{"$f":"VLOOKUP(P2971,Campos!$B$2:$C$7,2,FALSE)","v":0},"Sin información"]
[2966,18,"Nayarit",9,"Candidaturas","9.6",6,"Resolución sobre Convenio de Coalición para Diputaciones","OPL","CG","2021-01-17","2021-04-08",null,null,{"$f":"VLOOKUP(P2972,Campos!$B$2:$C$7,2,FALSE)","v":0},"Sin información"]
[2967,18,"Nayarit",9,"Candidaturas","9.7",7,"Resolución sobre Convenio de Coalición para Ayuntamientos","OPL","CG","2021-01-17","2021-04-08",null,null,{"$f":"VLOOKUP(P2973,Campos!$B$2:$C$7,2,FALSE)","v":0},"Sin información"]
[2968,18,"Nayarit",9,"Candidaturas","9.8",8,"Solicitud de registro de Candidaturas para Gubernatura","OPL","CG/OD","2021-03-23","2021-03-28",null,null,{"$f":"VLOOKUP(P2974,Campos!$B$2:$C$7,2,FALSE)","v":0},"Sin información"]
[2969,18,"Nayarit",9,"Candidaturas","9.9",9,"Solicitud de registro de Candidaturas para Diputaciones","OPL","CG/OD","2021-04-20","2021-04-24",null,null,{"$f":"VLOOKUP(P2975,Campos!$B$2:$C$7,2,FALSE)","v":0},"Sin información"]
[2970,18,"Nayarit",9,"Candidaturas","9.10",10,"Solicitud de registro de Candidaturas para Diputaciones de Representación Proporcional","OPL","CG/OD","2021-04-25","2021-04-27",null,null,{"$f":"VLOOKUP(P2976,Campos!$B$2:$C$7,2,FALSE)","v":0},"Sin información"]
[2971,18,"Nayarit",9,"Candidaturas","9.11",11,"Solicitud de registro de Candidaturas para Ayuntamientos","OPL","CG/OD","2021-04-20","2021-04-24",null,null,{"$f":"VLOOKUP(P2977,Campos!$B$2:$C$7,2,FALSE)","v":0},"Sin información"]
[2972,18,"Nayarit",9,"Candidaturas","9.12",12,"Solicitud de registro de Candidaturas para Regidurías de Representación Proporcional","OPL","CG/OD","2021-04-25","2021-04-27",null,null,{"$f":"VLOOKUP(P2978,Campos!$B$2:$C$7,2,FALSE)","v":0},"Sin información"]
[2973,18,"Nayarit",9,"Candidaturas","9.13",13,"Resolución para aprobar las candidaturas para Gubernatura","OPL","CG","2021-04-04","2021-04-04",null,null,{"$f":"VLOOKUP(P2979,Campos!$B$2:$C$7,2,FALSE)","v":0},"Sin información"]
[2974,18,"Nayarit",9,"Candidaturas","9.14",14,"Resolución para aprobar las candidaturas para Diputaciones","OPL","CG","2021-05-04","2021-05-04",null,null,{"$f":"VLOOKUP(P2980,Campos!$B$2:$C$7,2,FALSE)","v":0},"Sin información"]
[2975,18,"Nayarit",9,"Candidaturas","9.16",16,"Resolución para aprobar las candidaturas para Ayuntamientos","OPL","CG/OD","2021-05-04","2021-05-04",null,null,{"$f":"VLOOKUP(P2981,Campos!$B$2:$C$7,2,FALSE)","v":0},"Sin información"]
[2976,18,"Nayarit",10,"Debates","10.1",1,"Aprobación de las fechas en que se celebrarán los debates","OPL","CG","2021-04-05","2021-04-14",null,null,{"$f":"VLOOKUP(P2982,Campos!$B$2:$C$7,2,FALSE)","v":0},"Sin información"]
[2977,18,"Nayarit",10,"Debates","10.2",2,"Realización de debate(s)","OPL","CG","2021-04-14","2021-06-02",null,null,{"$f":"VLOOKUP(P2983,Campos!$B$2:$C$7,2,FALSE)","v":0},"Sin información"]
[2978,18,"Nayarit",11,"Documentación y material electoral","11.1",1,"Entrega a la Junta Local Ejecutiva del INE, de los diseños y especificaciones técnicas de la documentación y materiales electorales, en medios impresos y electrónicos","OPL","CG","2020-09-01","2020-09-30",null,null,{"$f":"VLOOKUP(P2984,Campos!$B$2:$C$7,2,FALSE)","v":0},"Sin información"]
[2979,18,"Nayarit",11,"Documentación y material electoral","11.2",2,"Revisión de los documentos y materiales electorales y especificaciones técnicas, presentadas por el OPL","INE","JLE","2020-09-15","2020-12-16",null,null,{"$f":"VLOOKUP(P2985,Campos!$B$2:$C$7,2,FALSE)","v":0},"Sin información"]
[2980,18,"Nayarit",11,"Documentación y material electoral","11.3",3,"En su caso, atención y presentación, de los cambios pertinentes, conforme a las observaciones emitidas por la Junta Local Ejecutiva del INE","OPL","CG","2020-09-15","2020-12-16",null,null,{"$f":"VLOOKUP(P2986,Campos!$B$2:$C$7,2,FALSE)","v":0},"Sin información"]
[2981,18,"Nayarit",11,"Documentación y material electoral","11.4",4,"Validación de los documentos y materiales electorales y especificaciones técnicas, con las observaciones subsanadas","INE","DEOE","2020-10-28","2020-12-18",null,null,{"$f":"VLOOKUP(P2987,Campos!$B$2:$C$7,2,FALSE)","v":0},"Sin información"]
[2982,18,"Nayarit",11,"Documentación y material electoral","11.5",5,"Entrega a la Dirección Ejecutiva de Organización Electoral del INE, del Reporte único sobre la aprobación y adjudicación de los documentos y materiales electorales del OPL, en medios electrónicos","OPL","CG","2021-02-01","2021-02-26",null,null,{"$f":"VLOOKUP(P2988,Campos!$B$2:$C$7,2,FALSE)","v":0},"Sin información"]
[2983,18,"Nayarit",11,"Documentación y material electoral","11.6",6,"Revisión y en su caso validación, del Reporte único sobre la aprobación y adjudicación de los documentos y materiales electorales del OPL, en medios electrónicos","INE","DEOE","2021-02-15","2021-03-12",null,null,{"$f":"VLOOKUP(P2989,Campos!$B$2:$C$7,2,FALSE)","v":0},"Sin información"]
[2984,18,"Nayarit",11,"Documentación y material electoral","11.7",7,"Entrega  a la Dirección Ejecutiva de Organización Electoral del INE, del Reporte semanal sobre el avance en la producción de los documentos y materiales electorales del OPL, en medios electrónicos.","OPL","CG","2021-03-15","2021-05-22",null,null,{"$f":"VLOOKUP(P2990,Campos!$B$2:$C$7,2,FALSE)","v":0},"Sin información"]
[2985,18,"Nayarit",11,"Documentación y material electoral","11.8",8,"Aprobación de la documentación y material electoral","OPL","CG","2020-11-11","2020-12-31",null,null,{"$f":"VLOOKUP(P2991,Campos!$B$2:$C$7,2,FALSE)","v":0},"Sin información"]
[2986,18,"Nayarit",11,"Documentación y material electoral","11.9",9,"Entrega a la Dirección Ejecutiva de Organización Electoral del INE, del Reporte con los resultados de las verificaciones de las medidas de seguridad en la documentación electoral","OPL","CG","2021-05-27","2021-06-11",null,null,{"$f":"VLOOKUP(P2992,Campos!$B$2:$C$7,2,FALSE)","v":0},"Sin información"]
[2987,18,"Nayarit",11,"Documentación y material electoral","11.10",10,"Supervisiones respecto de los procedimientos de impresión y producción de la documentación y materiales electorales","INE","DEOE","2021-03-15","2021-05-22",null,null,{"$f":"VLOOKUP(P2993,Campos!$B$2:$C$7,2,FALSE)","v":0},"Sin información"]
[2988,18,"Nayarit",11,"Documentación y material electoral","11.11",11,"Designación de la persona responsable de llevar el control sobre la asignación de los folios de las boletas que se distribuirán en cada mesa directiva de casilla","OPL","CG","2021-03-01","2021-03-30",null,null,{"$f":"VLOOKUP(P2994,Campos!$B$2:$C$7,2,FALSE)","v":0},"Sin información"]
[2989,18,"Nayarit",11,"Documentación y material electoral","11.12",12,"Aprobación de SE y CAE, así como de personal que auxiliará en el procedimiento de conteo, sellado y agrupamiento de las boletas electorales; así como la integración de documentación para las casillas","OPL","CG","2021-04-24","2021-05-11",null,null,{"$f":"VLOOKUP(P2995,Campos!$B$2:$C$7,2,FALSE)","v":0},"Sin información"]
[2990,18,"Nayarit",11,"Documentación y material electoral","11.13",13,"Recepción de las boletas electorales por el órgano competente que realizará el conteo, sellado y agrupamiento","OPL","CG","2021-05-18","2021-05-22",null,null,{"$f":"VLOOKUP(P2996,Campos!$B$2:$C$7,2,FALSE)","v":0},"Sin información"]
[2991,18,"Nayarit",11,"Documentación y material electoral","11.14",14,"Conteo, sellado y agrupamiento de boletas","OPL","CG","2021-05-18","2021-05-28",null,null,{"$f":"VLOOKUP(P2997,Campos!$B$2:$C$7,2,FALSE)","v":0},"Sin información"]
[2992,18,"Nayarit",11,"Documentación y material electoral","11.15",15,"Distribución de la documentación y materiales electorales a las y los Presidentes de mesas directivas de casilla","OPL","OD","2021-05-31","2021-06-04",null,null,{"$f":"VLOOKUP(P2998,Campos!$B$2:$C$7,2,FALSE)","v":0},"Sin información"]
[2993,18,"Nayarit",11,"Documentación y material electoral","11.16",16,"Remisión de los recibos de la entrega de la documentación y materiales electorales al Consejo General del OPL","INE","JLE","2021-06-24","2021-06-30",null,null,{"$f":"VLOOKUP(P2999,Campos!$B$2:$C$7,2,FALSE)","v":0},"Sin información"]
[2994,18,"Nayarit",12,"Jornada Electoral","12.1",1,"Aprobación del Programa de Operación del SIJE 2021","INE","CCOE","2020-07-01","2020-07-31",null,null,{"$f":"VLOOKUP(P3000,Campos!$B$2:$C$7,2,FALSE)","v":0},"Sin información"]
[2995,18,"Nayarit",12,"Jornada Electoral","12.2",2,"Aprobación de las metas del SIJE 2021","INE","CG","2021-03-01","2021-03-31",null,null,{"$f":"VLOOKUP(P3001,Campos!$B$2:$C$7,2,FALSE)","v":0},"Sin información"]
[2996,18,"Nayarit",12,"Jornada Electoral","12.3",3,"Realización de pruebas del SIJE 2021","INE","DEOE","2021-04-01","2021-04-15",null,null,{"$f":"VLOOKUP(P3002,Campos!$B$2:$C$7,2,FALSE)","v":0},"Sin información"]
[2997,18,"Nayarit",12,"Jornada Electoral","12.4",4,"Desarrollo del primer simulacro del SIJE","INE/OPL","DEOE/OD","2021-04-29","2021-04-29",null,null,{"$f":"VLOOKUP(P3003,Campos!$B$2:$C$7,2,FALSE)","v":0},"Sin información"]
[2998,18,"Nayarit",12,"Jornada Electoral","12.5",5,"Desarrollo del segundo simulacro del SIJE","INE/OPL","DEOE/OD","2021-05-09","2021-05-09",null,null,{"$f":"VLOOKUP(P3004,Campos!$B$2:$C$7,2,FALSE)","v":0},"Sin información"]
[2999,18,"Nayarit",12,"Jornada Electoral","12.6",6,"Desarrollo del tercer simulacro del SIJE","INE/OPL","DEOE/OD","2021-05-23","2021-05-23",null,null,{"$f":"VLOOKUP(P3005,Campos!$B$2:$C$7,2,FALSE)","v":0},"Sin información"]
[3000,18,"Nayarit",12,"Jornada Electoral","12.7",7,"Jornada Electoral","OPL","CG/OD","2021-06-06","2021-06-06",null,null,{"$f":"VLOOKUP(P3006,Campos!$B$2:$C$7,2,FALSE)","v":0},"Sin información"]
[3001,18,"Nayarit",13,"Bodegas electorales","13.1",1,"Determinación de los lugares que ocuparán las bodegas electorales para el resguardo de la documentación electoral","OPL","CG","2021-02-01","2021-02-28",null,null,{"$f":"VLOOKUP(P3007,Campos!$B$2:$C$7,2,FALSE)","v":0},"Sin información"]
[3002,18,"Nayarit",13,"Bodegas electorales","13.2",2,"Informe que rinden las y los Presidentes sobre las condiciones de equipamiento, mecanismos de operación y medidas de seguridad de las bodegas electorales","OPL","OD","2021-03-01","2021-03-31",null,null,{"$f":"VLOOKUP(P3008,Campos!$B$2:$C$7,2,FALSE)","v":0},"Sin información"]
[3003,18,"Nayarit",13,"Bodegas electorales","13.3",3,"Designación, por parte del órgano competente del OPL, del personal que tendrá acceso a la bodega electoral","OPL","CG/OD","2021-03-01","2021-03-30",null,null,{"$f":"VLOOKUP(P3009,Campos!$B$2:$C$7,2,FALSE)","v":0},"Sin información"]
[3004,18,"Nayarit",13,"Bodegas electorales","13.4",4,"Envío a la UTVOPL, por conducto de la JLE, el informe sobre las condiciones que guardan las bodegas electorales","OPL","CG","2021-04-04","2021-04-10",null,null,{"$f":"VLOOKUP(P3010,Campos!$B$2:$C$7,2,FALSE)","v":0},"Sin información"]
[3005,18,"Nayarit",14,"Mecanismos de recolección","14.1",1,"Entrega de estudios de factibilidad al OPL","INE","CL","2021-03-15","2021-03-31",null,null,{"$f":"VLOOKUP(P3011,Campos!$B$2:$C$7,2,FALSE)","v":0},"Sin información"]
[3006,18,"Nayarit",14,"Mecanismos de recolección","14.2",2,"Entrega de observaciones a los estudios de factibilidad ","OPL","CG","2021-04-01","2021-04-24",null,null,{"$f":"VLOOKUP(P3012,Campos!$B$2:$C$7,2,FALSE)","v":0},"Sin información"]
[3007,18,"Nayarit",14,"Mecanismos de recolección","14.3",3,"Recorridos para verificar las propuestas de los mecanismos de recolección","INE/OPL","CD/OD","2021-03-16","2021-04-24",null,null,{"$f":"VLOOKUP(P3013,Campos!$B$2:$C$7,2,FALSE)","v":0},"Sin información"]
[3008,18,"Nayarit",14,"Mecanismos de recolección","14.4",4,"Aprobación de los mecanismos de recolección ","INE","CD","2021-04-26","2021-04-30",null,null,{"$f":"VLOOKUP(P3014,Campos!$B$2:$C$7,2,FALSE)","v":0},"Sin información"]
[3009,18,"Nayarit",14,"Mecanismos de recolección","14.5",5,"Traslado y recolección de los paquetes electorales","INE/OPL","CD/OD","2021-06-06","2021-06-07",null,null,{"$f":"VLOOKUP(P3015,Campos!$B$2:$C$7,2,FALSE)","v":0},"Sin información"]
[3010,18,"Nayarit",14,"Mecanismos de recolección","14.6",6,"Acreditación de representantes de partidos políticos y candidaturas independientes ante los mecanismos de recolección","INE","CL/CD","2021-04-27","2021-06-03",null,null,{"$f":"VLOOKUP(P3016,Campos!$B$2:$C$7,2,FALSE)","v":0},"Sin información"]
[3011,18,"Nayarit",14,"Mecanismos de recolección","14.7",7,"Sustitución de representantes de partidos políticos y candidaturas independientes ante los mecanismos de recolección","INE","CL/CD","2021-04-28","2021-06-04",null,null,{"$f":"VLOOKUP(P3017,Campos!$B$2:$C$7,2,FALSE)","v":0},"Sin información"]
[3012,18,"Nayarit",14,"Mecanismos de recolección","14.8",8,"Entrega a la JLE, el informe sobre la recepción de paquetes electorales en los órganos competentes","OPL","CG","2021-06-06","2021-06-28",null,null,{"$f":"VLOOKUP(P3018,Campos!$B$2:$C$7,2,FALSE)","v":0},"Sin información"]
[3013,18,"Nayarit",15,"Cómputos","15.1",1,"Aprobación de los lineamientos de cómputo y del cuadernillo de consulta sobre votos válidos y votos nulos","OPL","CG","2021-01-18","2021-01-29",null,null,{"$f":"VLOOKUP(P3019,Campos!$B$2:$C$7,2,FALSE)","v":0},"Sin información"]
[3014,18,"Nayarit",15,"Cómputos","15.2",2,"Integración por parte de los Órganos Desconcentrados del OPL, de la propuesta para la habilitación de espacios para el recuento de votos con las alternativas para todos los escenarios de cómputo","OPL","OD","2021-03-01","2021-03-07",null,null,{"$f":"VLOOKUP(P3020,Campos!$B$2:$C$7,2,FALSE)","v":0},"Sin información"]
[3015,18,"Nayarit",15,"Cómputos","15.3",3,"Informe de los escenarios de cómputos de la totalidad de sus órganos desconcentrados","OPL","CG","2021-04-01","2021-04-04",null,null,{"$f":"VLOOKUP(P3021,Campos!$B$2:$C$7,2,FALSE)","v":0},"Sin información"]
[3016,18,"Nayarit",15,"Cómputos","15.4",4,"Remisión a la JLE en la entidad, las propuestas de escenarios de cómputos, para la dictaminación de viabilidad","OPL","CG","2021-05-01","2021-05-07",null,null,{"$f":"VLOOKUP(P3022,Campos!$B$2:$C$7,2,FALSE)","v":0},"Sin información"]
[3017,18,"Nayarit",15,"Cómputos","15.5",5,"Remisión de las observaciones a los escenarios de Cómputos al OPL y a su vez informar de las mismas a la UTVOPL","INE","JLE","2021-05-08","2021-05-15",null,null,{"$f":"VLOOKUP(P3023,Campos!$B$2:$C$7,2,FALSE)","v":0},"Sin información"]
[3018,18,"Nayarit",15,"Cómputos","15.6",6,"Aprobación por parte del órgano competente del OPL, del acuerdo mediante el cual se designa al personal que participará en las tareas de apoyo a los Cómputos Municipales","OPL","CG/OD","2021-04-26","2021-05-05",null,null,{"$f":"VLOOKUP(P3024,Campos!$B$2:$C$7,2,FALSE)","v":0},"Sin información"]
[3019,18,"Nayarit",15,"Cómputos","15.7",7,"Aprobación por parte del órgano competente del OPL, del acuerdo mediante el cual se designa al personal que participará en las tareas de apoyo a los Cómputos Distritales ","OPL","CG/OD","2021-04-26","2021-05-05",null,null,{"$f":"VLOOKUP(P3025,Campos!$B$2:$C$7,2,FALSE)","v":0},"Sin información"]
[3020,18,"Nayarit",15,"Cómputos","15.8",8,"Aprobación por parte de los órganos competentes del OPL, de los distintos escenarios de cómputos","OPL","OD","2021-05-08","2021-05-15",null,null,{"$f":"VLOOKUP(P3026,Campos!$B$2:$C$7,2,FALSE)","v":0},"Sin información"]
[3021,18,"Nayarit",15,"Cómputos","15.9",9,"Aprobación por parte del órgano competente del OPL, del acuerdo por el que se habilitarán espacios para la instalación de grupos de trabajo y, en su caso, puntos de recuento","OPL","CG/OD","2021-06-08","2021-06-08",null,null,{"$f":"VLOOKUP(P3027,Campos!$B$2:$C$7,2,FALSE)","v":0},"Sin información"]
[3022,18,"Nayarit",15,"Cómputos","15.14",14,"Cómputo Estatal para la asignación diputaciones de Representación Proporcional","OPL","CG","2021-06-14","2021-06-14",null,null,{"$f":"VLOOKUP(P3028,Campos!$B$2:$C$7,2,FALSE)","v":0},"Sin información"]
[3023,18,"Nayarit",15,"Cómputos","15.13",13,"Cómputo Estatal para la Gubernatura","OPL","CG","2021-06-14","2021-06-14",null,null,{"$f":"VLOOKUP(P3029,Campos!$B$2:$C$7,2,FALSE)","v":0},"Sin información"]
[3024,18,"Nayarit",15,"Cómputos","15.11",11,"Cómputos Municipales","OPL","OD","2021-06-09","2021-06-12",null,null,{"$f":"VLOOKUP(P3030,Campos!$B$2:$C$7,2,FALSE)","v":0},"Sin información"]
[3025,18,"Nayarit",15,"Cómputos","15.16",16,"Asignación de regidurías por el principio de Representación Proporcional","OPL","CG","2021-06-09","2021-06-12",null,null,{"$f":"VLOOKUP(P3031,Campos!$B$2:$C$7,2,FALSE)","v":0},"Sin información"]
[3026,18,"Nayarit",16,"PREP","16.1",1,"Aprobación del Acuerdo por el que se designa o ratifica a la instancia interna responsable de coordinar el PREP","OPL","CG","2020-09-11","2020-09-11",null,null,{"$f":"VLOOKUP(P3032,Campos!$B$2:$C$7,2,FALSE)","v":0},"Sin información"]
[3027,18,"Nayarit",16,"PREP","16.2",2,"Aprobación del Acuerdo de Integración del COTAPREP","OPL","CG","2020-11-11","2020-11-11",null,null,{"$f":"VLOOKUP(P3033,Campos!$B$2:$C$7,2,FALSE)","v":0},"Sin información"]
[3028,18,"Nayarit",16,"PREP","16.3",3,"Documento por el que se determina la implementación del PREP por el OPL o con el apoyo de un Tercero","OPL","CG","2020-12-11","2020-12-11",null,null,{"$f":"VLOOKUP(P3034,Campos!$B$2:$C$7,2,FALSE)","v":0},"Sin información"]
[3029,18,"Nayarit",16,"PREP","16.4",4,"Aprobación del Acuerdo por el que se determina el Proceso Técnico Operativo ","OPL","CG","2021-01-11","2021-01-11",null,null,{"$f":"VLOOKUP(P3035,Campos!$B$2:$C$7,2,FALSE)","v":0},"Sin información"]
[3030,18,"Nayarit",16,"PREP","16.5",5,"Aprobación del Acuerdo por el que se determina la ubicación, instalación y habilitación de los CATD y, en su caso, CCV","OPL","CG","2021-02-11","2021-02-11",null,null,{"$f":"VLOOKUP(P3036,Campos!$B$2:$C$7,2,FALSE)","v":0},"Sin información"]
[3031,18,"Nayarit",16,"PREP","16.6",6,"Documento de Designación del Ente Auditor ","OPL","CG","2021-02-11","2021-02-11",null,null,{"$f":"VLOOKUP(P3037,Campos!$B$2:$C$7,2,FALSE)","v":0},"Sin información"]
[3032,18,"Nayarit",16,"PREP","16.7",7,"Instrumento jurídico celebrado entre el OPL y el ente auditor","OPL","CG","2021-03-11","2021-03-11",null,null,{"$f":"VLOOKUP(P3038,Campos!$B$2:$C$7,2,FALSE)","v":0},"Sin información"]
[3033,18,"Nayarit",16,"PREP","16.8",8,"Realización del primer simulacro del PREP","OPL","CG","2021-05-16","2021-05-16",null,null,{"$f":"VLOOKUP(P3039,Campos!$B$2:$C$7,2,FALSE)","v":0},"Sin información"]
[3034,18,"Nayarit",16,"PREP","16.9",9,"Realización del segundo simulacro del PREP","OPL","CG","2021-05-23","2021-05-23",null,null,{"$f":"VLOOKUP(P3040,Campos!$B$2:$C$7,2,FALSE)","v":0},"Sin información"]
[3035,18,"Nayarit",16,"PREP","16.10",10,"Realización del tercer simulacro del PREP","OPL","CG","2021-05-30","2021-05-30",null,null,{"$f":"VLOOKUP(P3041,Campos!$B$2:$C$7,2,FALSE)","v":0},"Sin información"]
[3036,18,"Nayarit",16,"PREP","16.11",11,"Operación del PREP","OPL","CG","2021-06-06","2021-06-07",null,null,{"$f":"VLOOKUP(P3042,Campos!$B$2:$C$7,2,FALSE)","v":0},"Sin información"]
[3037,18,"Nayarit",17,"Conteo Rápido","17.1",1,"Aprobación del Acuerdo de Integración del COTECORA","Por definir","Por definir","2021-02-01","2021-02-06",null,null,{"$f":"VLOOKUP(P3043,Campos!$B$2:$C$7,2,FALSE)","v":0},"Sin información"]
[3038,18,"Nayarit",17,"Conteo Rápido","17.2",2,"Realización de pruebas de captura","Por definir","Por definir","2021-04-14","2021-04-15",null,null,{"$f":"VLOOKUP(P3044,Campos!$B$2:$C$7,2,FALSE)","v":0},"Sin información"]
[3039,18,"Nayarit",17,"Conteo Rápido","17.3",3,"Realización de primer simulacro del Conteo Rápido","Por definir","Por definir","2021-04-29","2021-04-29",null,null,{"$f":"VLOOKUP(P3045,Campos!$B$2:$C$7,2,FALSE)","v":0},"Sin información"]
[3040,18,"Nayarit",17,"Conteo Rápido","17.4",4,"Realización de segundo simulacro del Conteo Rápido","Por definir","Por definir","2021-05-16","2021-05-16",null,null,{"$f":"VLOOKUP(P3046,Campos!$B$2:$C$7,2,FALSE)","v":0},"Sin información"]
[3041,18,"Nayarit",17,"Conteo Rápido","17.5",5,"Selección de la Muestra para el Conteo Rápido","Por definir","Por definir","2021-06-02","2021-06-04",null,null,{"$f":"VLOOKUP(P3047,Campos!$B$2:$C$7,2,FALSE)","v":0},"Sin información"]
[3042,18,"Nayarit",17,"Conteo Rápido","17.6",6,"Realización de tercer simulacro del Conteo Rápido","Por definir","Por definir","2021-05-23","2021-05-23",null,null,{"$f":"VLOOKUP(P3048,Campos!$B$2:$C$7,2,FALSE)","v":0},"Sin información"]
[3043,18,"Nayarit",18,"Voto de la ciudadanía residente en el extranjero","18.1",1,"Puesta a disposición de la Solicitud individual de Inscripción a la Lista Nominal de Electores Residentes en el extranjero para procesos electorales locales (SIILNERE), por los medios que determine el INE.","INE","DERFE","2020-09-01","2021-03-15",null,null,{"$f":"VLOOKUP(P3049,Campos!$B$2:$C$7,2,FALSE)","v":0},"Sin información"]
[3044,18,"Nayarit",18,"Voto de la ciudadanía residente en el extranjero","18.2",2,"Recepción de la Solicitud individual de Inscripción a la Lista Nominal de Electores Residentes en el extranjero para procesos electorales locales (SIILNERE), por los medios que determine el INE","INE","DERFE","2020-09-01","2021-03-15",null,null,{"$f":"VLOOKUP(P3050,Campos!$B$2:$C$7,2,FALSE)","v":0},"Sin información"]
[3045,18,"Nayarit",18,"Voto de la ciudadanía residente en el extranjero","18.3",3,"Conformación de la Lista Nominal de Electores Residentes en el Extranjero (subsanes, observaciones de partidos políticos e informe)","INE","DERFE","2020-09-01","2021-04-15",null,null,{"$f":"VLOOKUP(P3051,Campos!$B$2:$C$7,2,FALSE)","v":0},"Sin información"]
[3046,18,"Nayarit",18,"Voto de la ciudadanía residente en el extranjero","18.4",4,"En caso de voto postal, entrega-recepción de materiales del PEP.","INE","DERFE/UTVOPL/OPL","Por definir","2021-03-15",null,null,{"$f":"VLOOKUP(P3052,Campos!$B$2:$C$7,2,FALSE)","v":0},"Sin información"]
[3047,18,"Nayarit",18,"Voto de la ciudadanía residente en el extranjero","18.5",5,"En caso de voto postal, preparación y envío de los PEP a la ciudadanía residente en el extranjero","INE","DERFE/DEOE/UNICOM/DECEYEC","2021-04-02","2021-04-30",null,null,{"$f":"VLOOKUP(P3053,Campos!$B$2:$C$7,2,FALSE)","v":0},"Sin información"]
[3048,18,"Nayarit",18,"Voto de la ciudadanía residente en el extranjero","18.6",6,"En caso de voto postal, recepción de Sobres Voto y resguardo","INE","DERFE/DEOE","2021-04-11","2021-06-05",null,null,{"$f":"VLOOKUP(P3054,Campos!$B$2:$C$7,2,FALSE)","v":0},"Sin información"]
[3049,18,"Nayarit",18,"Voto de la ciudadanía residente en el extranjero","18.7",7,"Elaboración y aprobación del Programa de Integración de Mesas de Escrutinio y Cómputo y Capacitación Electoral para el Voto de las y los Mexicanos Residentes en el Extranjero","INE","CG","Por definir","Por definir",null,null,{"$f":"VLOOKUP(P3055,Campos!$B$2:$C$7,2,FALSE)","v":0},"Sin información"]
[3050,18,"Nayarit",18,"Voto de la ciudadanía residente en el extranjero","18.8",8,"Aprobación del número de mesas de escrutinio y cómputo a instalar","INE","CL","Por definir","Por definir",null,null,{"$f":"VLOOKUP(P3056,Campos!$B$2:$C$7,2,FALSE)","v":0},"Sin información"]
[3051,18,"Nayarit",18,"Voto de la ciudadanía residente en el extranjero","18.9",9,"Integración y aprobación del Listado del personal que realizará las suplencias en las Mesas de Escrutinio y Cómputo","INE","CL","Por definir","Por definir",null,null,{"$f":"VLOOKUP(P3057,Campos!$B$2:$C$7,2,FALSE)","v":0},"Sin información"]
[3052,18,"Nayarit",18,"Voto de la ciudadanía residente en el extranjero","18.10",10,"Logística del Local Único","OPL","CG","Por definir","Por definir",null,null,{"$f":"VLOOKUP(P3058,Campos!$B$2:$C$7,2,FALSE)","v":0},"Sin información"]
[3053,18,"Nayarit",18,"Voto de la ciudadanía residente en el extranjero","18.11",11,"Escrutinio y Cómputo de los votos de los mexicanos residentes en el extranjero","OPL","CG","2021-06-06","2021-06-06",null,null,{"$f":"VLOOKUP(P3059,Campos!$B$2:$C$7,2,FALSE)","v":0},"Sin información"]
[3054,18,"Nayarit",18,"Voto de la ciudadanía residente en el extranjero","18.12",12,"Promoción del Voto de los Mexicanos Residentes en el Extranjero (Difusión, Comunicación, Vinculación y Plataformas Digitales)","INE/OPL","CG/CG","Por definir","Por definir",null,null,{"$f":"VLOOKUP(P3060,Campos!$B$2:$C$7,2,FALSE)","v":0},"Sin información"]
[3055,18,"Nayarit",18,"Voto de la ciudadanía residente en el extranjero","18.13",13,"Entrega de la Lista Nominal de Electores Residentes en el Extranjero (LNERE), para escrutinio y cómputo.","INE","DERFE/DEOE","2021-06-05","2021-06-05",null,null,{"$f":"VLOOKUP(P3061,Campos!$B$2:$C$7,2,FALSE)","v":0},"Sin información"]
[3056,18,"Nayarit",19,"Visitantes extranjeros","19.1",1,"Emisión de la Convocatoria para visitantes extranjeros","INE","CG","2020-08-03","2020-09-30",null,null,{"$f":"VLOOKUP(P3062,Campos!$B$2:$C$7,2,FALSE)","v":0},"Sin información"]
[3057,18,"Nayarit",19,"Visitantes extranjeros","19.2",2,"Difusión de la Convocatoria para visitantes extranjeros","INE","CAI","2020-09-01","2021-05-26",null,null,{"$f":"VLOOKUP(P3063,Campos!$B$2:$C$7,2,FALSE)","v":0},"Sin información"]
[3058,18,"Nayarit",19,"Visitantes extranjeros","19.3",3,"Recepción de solicitudes de acreditación como visitantes extranjeros","INE","CAI","2020-09-01","2021-05-26",null,null,{"$f":"VLOOKUP(P3064,Campos!$B$2:$C$7,2,FALSE)","v":0},"Sin información"]
[3059,18,"Nayarit",19,"Visitantes extranjeros","19.4",4,"Resolución de solicitudes de acreditación como visitantes extranjeros","INE","CAI","2020-09-02","2021-05-30",null,null,{"$f":"VLOOKUP(P3065,Campos!$B$2:$C$7,2,FALSE)","v":0},"Sin información"]
[3060,18,"Nayarit",19,"Visitantes extranjeros","19.5",5,"Entrega de acreditaciones a los visitantes extranjeros","INE","CAI","2020-09-04","2021-06-05",null,null,{"$f":"VLOOKUP(P3066,Campos!$B$2:$C$7,2,FALSE)","v":0},"Sin información"]
[3061,18,"Nayarit",20,"Cuarto Orden de Gobierno","20.1",1,"Aprobación de los límites de financiamiento privado, aportaciones de militantes, simpatizantes y precandidatos o candidatos; así como el límite individual de aportaciones para Cuarto Orden de Gobierno","OPL","CG","2021-01-01","2021-01-31",null,null,{"$f":"VLOOKUP(P3067,Campos!$B$2:$C$7,2,FALSE)","v":0},"Sin información"]
[3062,18,"Nayarit",20,"Cuarto Orden de Gobierno","20.2",2,"Recepción de escrito de intención y documentación anexa de los ciudadanos que aspiren a la candidatura independiente para Cuarto Orden de Gobierno","OPL","SE/OD","2021-01-08","2021-03-18",null,null,{"$f":"VLOOKUP(P3068,Campos!$B$2:$C$7,2,FALSE)","v":0},"Sin información"]
[3063,18,"Nayarit",20,"Cuarto Orden de Gobierno","20.3",3,"Resolución sobre procedencia de manifestación de intención de los aspirantes a candidaturas independientes para Cuarto Orden de Gobierno","OPL","CG","2021-03-19","2021-03-28",null,null,{"$f":"VLOOKUP(P3069,Campos!$B$2:$C$7,2,FALSE)","v":0},"Sin información"]
[3064,18,"Nayarit",20,"Cuarto Orden de Gobierno","20.5",5,"Solicitud de registro de convenio de coalición para Cuarto Orden de Gobierno","OPL","CG","2021-01-07","2021-03-29",null,null,{"$f":"VLOOKUP(P3070,Campos!$B$2:$C$7,2,FALSE)","v":0},"Sin información"]
[3065,18,"Nayarit",20,"Cuarto Orden de Gobierno","20.6",6,"Resolución sobre Convenio de Coalición para Cuarto Orden de Gobierno","OPL","CG","2021-01-17","2021-04-08",null,null,{"$f":"VLOOKUP(P3071,Campos!$B$2:$C$7,2,FALSE)","v":0},"Sin información"]
[3066,18,"Nayarit",20,"Cuarto Orden de Gobierno","20.7",7,"Solicitud de registro de Candidaturas para Cuarto Orden de Gobierno","OPL","CG/OD","2021-04-20","2021-04-24",null,null,{"$f":"VLOOKUP(P3072,Campos!$B$2:$C$7,2,FALSE)","v":0},"Sin información"]
[3067,18,"Nayarit",20,"Cuarto Orden de Gobierno","20.8",8,"Resolución para aprobar las candidaturas para Cuarto Orden de Gobierno","OPL","CG/OD","2021-05-04","2021-05-04",null,null,{"$f":"VLOOKUP(P3073,Campos!$B$2:$C$7,2,FALSE)","v":0},"Sin información"]
[3068,19,"Nuevo León",1,"Mecanismos de coordinación","1.1",1,"Aprobar Calendarios y Planes Integrales de los Procesos Electorales Locales","INE","CG","2020-08-01","2020-08-07",null,null,{"$f":"VLOOKUP(P3074,Campos!$B$2:$C$7,2,FALSE)","v":0},"Sin información"]
[3069,19,"Nuevo León",1,"Mecanismos de coordinación","1.2",2,"Firma del Convenio General de Coordinación y Colaboración 2020-2021","INE/OPL","INE/OPL","2020-09-01","2020-10-01",null,null,{"$f":"VLOOKUP(P3075,Campos!$B$2:$C$7,2,FALSE)","v":0},"Sin información"]
[3070,19,"Nuevo León",1,"Mecanismos de coordinación","1.3",3,"Elaborar un plan de trabajo conjunto para la promoción de la participación ciudadana","INE/OPL","INE/OPL","2020-09-01","2020-12-31",null,null,{"$f":"VLOOKUP(P3076,Campos!$B$2:$C$7,2,FALSE)","v":0},"Sin información"]
[3071,19,"Nuevo León",1,"Mecanismos de coordinación","1.4",4,"Sesión para dar inicio al PEL","OPL","CG","2020-10-07","2020-10-07",null,null,{"$f":"VLOOKUP(P3077,Campos!$B$2:$C$7,2,FALSE)","v":0},"Sin información"]
[3072,19,"Nuevo León",1,"Mecanismos de coordinación","1.5",5,"Implementar un plan de trabajo conjunto para la promoción de la participación ciudadana","INE/OPL","INE/OPL","2021-02-01","2021-06-06",null,null,{"$f":"VLOOKUP(P3078,Campos!$B$2:$C$7,2,FALSE)","v":0},"Sin información"]
[3073,19,"Nuevo León",2,"Integración de órganos desconcentrados","2.1",1,"Convocatoria para la integración de los Órganos Distritales","OPL","OD","2021-03-01","2021-03-07",null,null,{"$f":"VLOOKUP(P3079,Campos!$B$2:$C$7,2,FALSE)","v":0},"Sin información"]
[3074,19,"Nuevo León",2,"Integración de órganos desconcentrados","2.2",2,"Sesión en la que se designan e integran los Órganos Distritales ","OPL","CG","2021-05-07","2021-05-07",null,null,{"$f":"VLOOKUP(P3080,Campos!$B$2:$C$7,2,FALSE)","v":0},"Sin información"]
[3075,19,"Nuevo León",2,"Integración de órganos desconcentrados","2.3",3,"Instalación de los Órganos Distritales ","OPL","OD","2021-05-07","2021-05-07",null,null,{"$f":"VLOOKUP(P3081,Campos!$B$2:$C$7,2,FALSE)","v":0},"Sin información"]
[3076,19,"Nuevo León",2,"Integración de órganos desconcentrados","2.4",4,"Convocatoria para la integración de los Órganos Municipales ","OPL","CG","2020-10-07","2020-10-14",null,null,{"$f":"VLOOKUP(P3082,Campos!$B$2:$C$7,2,FALSE)","v":0},"Sin información"]
[3077,19,"Nuevo León",2,"Integración de órganos desconcentrados","2.5",5,"Sesión en la que se designan e integran los Órganos Municipales ","OPL","CG","2020-12-08","2020-12-08",null,null,{"$f":"VLOOKUP(P3083,Campos!$B$2:$C$7,2,FALSE)","v":0},"Sin información"]
[3078,19,"Nuevo León",2,"Integración de órganos desconcentrados","2.6",6,"Instalación de los Órganos Municipales ","OPL","OD","2020-12-09","2020-12-23",null,null,{"$f":"VLOOKUP(P3084,Campos!$B$2:$C$7,2,FALSE)","v":0},"Sin información"]
[3079,19,"Nuevo León",2,"Integración de órganos desconcentrados","2.7",7,"Designación y/o ratificación de las y los Consejeros Electorales del Consejo Local ","INE","CG","2020-10-01","2020-10-15",null,null,{"$f":"VLOOKUP(P3085,Campos!$B$2:$C$7,2,FALSE)","v":0},"Sin información"]
[3080,19,"Nuevo León",2,"Integración de órganos desconcentrados","2.8",8,"Instalación del Consejo Local","INE","CL","2020-11-01","2020-11-30",null,null,{"$f":"VLOOKUP(P3086,Campos!$B$2:$C$7,2,FALSE)","v":0},"Sin información"]
[3081,19,"Nuevo León",2,"Integración de órganos desconcentrados","2.9",9,"Designación y/o ratificación de las y los Consejeros Electorales de los Consejos Distritales ","INE","CL","2020-11-01","2020-11-30",null,null,{"$f":"VLOOKUP(P3087,Campos!$B$2:$C$7,2,FALSE)","v":0},"Sin información"]
[3082,19,"Nuevo León",2,"Integración de órganos desconcentrados","2.10",10,"Instalación de los Consejos Distritales","INE","CD","2020-12-01","2020-12-15",null,null,{"$f":"VLOOKUP(P3088,Campos!$B$2:$C$7,2,FALSE)","v":0},"Sin información"]
[3083,19,"Nuevo León",3,"Lista Nominal de Electores","3.1",1,"Generación y entrega de la Lista Nominal de Electores para Revisión en medios ópticos a los representantes de los partidos políticos, y en su caso a las candidaturas independientes acreditados ante el OPL, para observaciones","INE","DERFE","2021-02-15","2021-02-15",null,null,{"$f":"VLOOKUP(P3089,Campos!$B$2:$C$7,2,FALSE)","v":0},"Sin información"]
[3084,19,"Nuevo León",3,"Lista Nominal de Electores","3.2",2,"Recepción de observaciones de los partidos políticos y en su caso, candidatos independientes, a la Lista Nominal de Electores para revisión","INE/OPL","DERFE","2021-03-14","2021-03-14",null,null,{"$f":"VLOOKUP(P3090,Campos!$B$2:$C$7,2,FALSE)","v":0},"Sin información"]
[3085,19,"Nuevo León",3,"Lista Nominal de Electores","3.3",3,"Entrega en formato digital el informe respecto de la atención a las observaciones formuladas a la Lista Nominal de Electores para Revisión","INE","DERFE","2021-04-15","2021-04-15",null,null,{"$f":"VLOOKUP(P3091,Campos!$B$2:$C$7,2,FALSE)","v":0},"Sin información"]
[3086,19,"Nuevo León",3,"Lista Nominal de Electores","3.4",4,"Entrega de la Lista Nominal de Electores Definitiva con fotografía","INE","DERFE","2021-05-06","2021-05-14",null,null,{"$f":"VLOOKUP(P3092,Campos!$B$2:$C$7,2,FALSE)","v":0},"Sin información"]
[3087,19,"Nuevo León",3,"Lista Nominal de Electores","3.5",5,"Fecha de entrega de la Lista Nominal de Electores con fotografía Producto de Instancias Administrativas y Resoluciones del Tribunal (ADENDA)","INE","DERFE","2021-05-19","2021-05-24",null,null,{"$f":"VLOOKUP(P3093,Campos!$B$2:$C$7,2,FALSE)","v":0},"Sin información"]
[3088,19,"Nuevo León",4,"Observación Electoral","4.1",1,"Emisión de la convocatoria para la ciudadanía que desee participar en la observación electoral","OPL","CG","2020-10-07","2020-10-07",null,null,{"$f":"VLOOKUP(P3094,Campos!$B$2:$C$7,2,FALSE)","v":0},"Sin información"]
[3089,19,"Nuevo León",4,"Observación Electoral","4.2",2,"Recepción de solicitudes de la ciudadanía que desee participar en observación electoral","INE/OPL","OPL/JLE/JDE","2020-10-07","2021-04-30",null,null,{"$f":"VLOOKUP(P3095,Campos!$B$2:$C$7,2,FALSE)","v":0},"Sin información"]
[3090,19,"Nuevo León",4,"Observación Electoral","4.3",3,"Impartición de los cursos de capacitación, preparación o información","INE/OPL","OPL/JLE/JDE","2020-10-07","2021-05-17",null,null,{"$f":"VLOOKUP(P3096,Campos!$B$2:$C$7,2,FALSE)","v":0},"Sin información"]
[3091,19,"Nuevo León",4,"Observación Electoral","4.4",4,"Acreditación de la ciudadanía como observadores u observadoras electorales","INE","CL/CD","2020-10-07","2021-06-05",null,null,{"$f":"VLOOKUP(P3097,Campos!$B$2:$C$7,2,FALSE)","v":0},"Sin información"]
[3092,19,"Nuevo León",4,"Observación Electoral","4.5",5,"Seguimiento a los informes mensuales de acreditación","INE","CG","2020-10-07","2021-07-31",null,null,{"$f":"VLOOKUP(P3098,Campos!$B$2:$C$7,2,FALSE)","v":0},"Sin información"]
[3093,19,"Nuevo León",4,"Observación Electoral","4.6",6,"Remisión de materiales de capacitación a la JLE para revisión","OPL","CG","2020-10-08","2020-10-08",null,null,{"$f":"VLOOKUP(P3099,Campos!$B$2:$C$7,2,FALSE)","v":0},"Sin información"]
[3094,19,"Nuevo León",4,"Observación Electoral","4.7",7,"Revisión, corrección, verificación y validación de materiales de capacitación para observación electoral ","INE","JLE","2020-10-09","2020-10-30",null,null,{"$f":"VLOOKUP(P3100,Campos!$B$2:$C$7,2,FALSE)","v":0},"Sin información"]
[3095,19,"Nuevo León",4,"Observación Electoral","4.8",8,"Entrega de materiales de capacitación para observación electoral entre OPL e INE","INE/OPL","VEL/OPL","2020-11-01","2020-11-23",null,null,{"$f":"VLOOKUP(P3101,Campos!$B$2:$C$7,2,FALSE)","v":0},"Sin información"]
[3096,19,"Nuevo León",5,"Ubicación de casillas","5.1",1,"Recorridos por las secciones de los distritos para localizar los lugares donde se ubicarán las casillas","INE/OPL","JDE/OPL","2021-01-15","2021-02-15",null,null,{"$f":"VLOOKUP(P3102,Campos!$B$2:$C$7,2,FALSE)","v":0},"Sin información"]
[3097,19,"Nuevo León",5,"Ubicación de casillas","5.2",2,"Presentación a los Consejos Distritales del listado de lugares propuestos para ubicar casillas","INE","JDE","2021-02-24","2021-02-24",null,null,{"$f":"VLOOKUP(P3103,Campos!$B$2:$C$7,2,FALSE)","v":0},"Sin información"]
[3098,19,"Nuevo León",5,"Ubicación de casillas","5.3",3,"Visitas de examinación en los lugares propuestos para ubicar casillas básicas, contiguas, especiales y extraordinarias","INE/OPL","CD/OPL","2021-02-25","2021-03-16",null,null,{"$f":"VLOOKUP(P3104,Campos!$B$2:$C$7,2,FALSE)","v":0},"Sin información"]
[3099,19,"Nuevo León",5,"Ubicación de casillas","5.4",4,"Aprobación del número y ubicación de casillas extraordinarias y especiales","INE","CD","2021-03-16","2021-03-16",null,null,{"$f":"VLOOKUP(P3105,Campos!$B$2:$C$7,2,FALSE)","v":0},"Sin información"]
[3100,19,"Nuevo León",5,"Ubicación de casillas","5.5",5,"Aprobación del número y ubicación de casillas básicas y contiguas","INE","CD","2021-03-25","2021-03-25",null,null,{"$f":"VLOOKUP(P3106,Campos!$B$2:$C$7,2,FALSE)","v":0},"Sin información"]
[3101,19,"Nuevo León",5,"Ubicación de casillas","5.6",6,"Entrega de la base de datos de la Lista Nominal Definitiva a UNICOM con corte al 10 de abril","INE","DERFE","2021-04-15","2021-04-16",null,null,{"$f":"VLOOKUP(P3107,Campos!$B$2:$C$7,2,FALSE)","v":0},"Sin información"]
[3102,19,"Nuevo León",5,"Ubicación de casillas","5.7",7,"Realizar la primera publicación de la lista de ubicación de casillas en los lugares más concurridos del distrito electoral  y en los medios electrónicos del Instituto","INE","CD","2021-04-15","2021-04-15",null,null,{"$f":"VLOOKUP(P3108,Campos!$B$2:$C$7,2,FALSE)","v":0},"Sin información"]
[3103,19,"Nuevo León",5,"Ubicación de casillas","5.8",8,"En su caso, segunda publicación de la lista de ubicación de casillas por causas supervenientes en los lugares más concurridos del distrito y en los medios electrónicos del Instituto","INE","CD","2021-05-15","2021-05-25",null,null,{"$f":"VLOOKUP(P3109,Campos!$B$2:$C$7,2,FALSE)","v":0},"Sin información"]
[3104,19,"Nuevo León",5,"Ubicación de casillas","5.9",9,"Publicación de los encartes y difusión en medios electrónicos del Instituto","INE/OPL","DEOE/CG","2021-06-05","2021-06-06",null,null,{"$f":"VLOOKUP(P3110,Campos!$B$2:$C$7,2,FALSE)","v":0},"Sin información"]
[3105,19,"Nuevo León",5,"Ubicación de casillas","5.10",10,"Registro de representantes generales y ante mesas directivas de casilla","INE","CD","2021-04-16","2021-05-24",null,null,{"$f":"VLOOKUP(P3111,Campos!$B$2:$C$7,2,FALSE)","v":0},"Sin información"]
[3106,19,"Nuevo León",5,"Ubicación de casillas","5.11",11,"Sustitución de representantes generales y ante mesas directivas de casilla","INE","CD","2021-04-16","2021-05-27",null,null,{"$f":"VLOOKUP(P3112,Campos!$B$2:$C$7,2,FALSE)","v":0},"Sin información"]
[3107,19,"Nuevo León",5,"Ubicación de casillas","5.12",12,"Entrega de listados de representantes generales y ante casilla al OPL","INE","CD","2021-05-30","2021-05-30",null,null,{"$f":"VLOOKUP(P3113,Campos!$B$2:$C$7,2,FALSE)","v":0},"Sin información"]
[3108,19,"Nuevo León",5,"Ubicación de casillas","5.13",13,"Notificación ciudadana de ubicación de casillas en secciones electorales involucradas en la actualización del Marco Geográfico Electoral","INE/OPL","DERFE/OPL","2021-04-01","2021-06-15",null,null,{"$f":"VLOOKUP(P3114,Campos!$B$2:$C$7,2,FALSE)","v":0},"Sin información"]
[3109,19,"Nuevo León",6,"Integración de las Mesas Directivas de Casilla","6.1",1,"Aprobación de la Estrategia de Capacitación y Asistencia Electoral","INE","CG","2020-08-01","2020-08-15",null,null,{"$f":"VLOOKUP(P3115,Campos!$B$2:$C$7,2,FALSE)","v":0},"Sin información"]
[3110,19,"Nuevo León",6,"Integración de las Mesas Directivas de Casilla","6.2",2,"Entrega para revisión y validación de materiales didácticos de primera etapa","OPL","CG","2020-11-03","2020-11-03",null,null,{"$f":"VLOOKUP(P3116,Campos!$B$2:$C$7,2,FALSE)","v":0},"Sin información"]
[3111,19,"Nuevo León",6,"Integración de las Mesas Directivas de Casilla","6.3",3,"Revisión, corrección, verificación y validación de los materiales didácticos de primera etapa","INE/OPL","JLE/DECEYEC/OPL","2020-11-03","2020-12-19",null,null,{"$f":"VLOOKUP(P3117,Campos!$B$2:$C$7,2,FALSE)","v":0},"Sin información"]
[3112,19,"Nuevo León",6,"Integración de las Mesas Directivas de Casilla","6.4",4,"Entrega de los materiales impresos de la primera etapa a la JLE","OPL","OPL","2021-02-05","2021-02-05",null,null,{"$f":"VLOOKUP(P3118,Campos!$B$2:$C$7,2,FALSE)","v":0},"Sin información"]
[3113,19,"Nuevo León",6,"Integración de las Mesas Directivas de Casilla","6.5",5,"Sorteo del mes del calendario como base para la insaculación de las y los ciudadanos que integrarán las mesas directivas de casilla","INE","CG","2020-12-15","2020-12-19",null,null,{"$f":"VLOOKUP(P3119,Campos!$B$2:$C$7,2,FALSE)","v":0},"Sin información"]
[3114,19,"Nuevo León",6,"Integración de las Mesas Directivas de Casilla","6.6",6,"Entrega para revisión y validación de materiales didácticos de segunda etapa","OPL","OPL","2021-02-03","2021-02-03",null,null,{"$f":"VLOOKUP(P3120,Campos!$B$2:$C$7,2,FALSE)","v":0},"Sin información"]
[3115,19,"Nuevo León",6,"Integración de las Mesas Directivas de Casilla","6.7",7,"Revisión, corrección, verificación y validación de los materiales didácticos de la segunda etapa","INE/OPL","JLE/DECEYEC/OPL","2021-02-03","2021-03-22",null,null,{"$f":"VLOOKUP(P3121,Campos!$B$2:$C$7,2,FALSE)","v":0},"Sin información"]
[3116,19,"Nuevo León",6,"Integración de las Mesas Directivas de Casilla","6.8",8,"Entrega de los materiales impresos de la segunda etapa a la JLE","OPL","OPL","2021-04-05","2021-04-05",null,null,{"$f":"VLOOKUP(P3122,Campos!$B$2:$C$7,2,FALSE)","v":0},"Sin información"]
[3117,19,"Nuevo León",6,"Integración de las Mesas Directivas de Casilla","6.9",9,"Sorteo de la letra a partir de la cual, con base en el apellido paterno, se seleccionará a las y los ciudadanos que integrarán las mesas directivas de casilla","INE","CG","2021-02-02","2021-02-02",null,null,{"$f":"VLOOKUP(P3123,Campos!$B$2:$C$7,2,FALSE)","v":0},"Sin información"]
[3118,19,"Nuevo León",6,"Integración de las Mesas Directivas de Casilla","6.10",10,"Entrega de la Lista Nominal de Electores para el Procedimiento de la Primera insaculación con corte al 15 de enero de 2021.","INE","DERFE/UNICOM","2021-01-21","2021-01-26",null,null,{"$f":"VLOOKUP(P3124,Campos!$B$2:$C$7,2,FALSE)","v":0},"Sin información"]
[3119,19,"Nuevo León",6,"Integración de las Mesas Directivas de Casilla","6.11",11,"Primera insaculación","INE","JDE","2021-02-06","2021-02-06",null,null,{"$f":"VLOOKUP(P3125,Campos!$B$2:$C$7,2,FALSE)","v":0},"Sin información"]
[3120,19,"Nuevo León",6,"Integración de las Mesas Directivas de Casilla","6.12",12,"Primera etapa de capacitación a las personas insaculadas","INE","CD","2021-02-09","2021-03-31",null,null,{"$f":"VLOOKUP(P3126,Campos!$B$2:$C$7,2,FALSE)","v":0},"Sin información"]
[3121,19,"Nuevo León",6,"Integración de las Mesas Directivas de Casilla","6.13",13,"Integración de la lista de ciudadanos y ciudadanas que cumplen los requisitos legales para integrar las mesas directivas de casilla","INE","CD","2021-02-09","2021-03-31",null,null,{"$f":"VLOOKUP(P3127,Campos!$B$2:$C$7,2,FALSE)","v":0},"Sin información"]
[3122,19,"Nuevo León",6,"Integración de las Mesas Directivas de Casilla","6.14",14,"Segunda insaculación y designación de funcionarios para mesas directivas de casilla","INE","CD","2021-04-08","2021-04-08",null,null,{"$f":"VLOOKUP(P3128,Campos!$B$2:$C$7,2,FALSE)","v":0},"Sin información"]
[3123,19,"Nuevo León",6,"Integración de las Mesas Directivas de Casilla","6.15",15,"Segunda etapa de capacitación a funcionarios de mesa directiva de casilla y simulacros","INE","CD","2021-04-18","2021-06-05",null,null,{"$f":"VLOOKUP(P3129,Campos!$B$2:$C$7,2,FALSE)","v":0},"Sin información"]
[3124,19,"Nuevo León",6,"Integración de las Mesas Directivas de Casilla","6.16",16,"Entrega de reconocimientos a funcionarios de mesas directivas de casilla","INE","CD","2021-06-07","2021-06-12",null,null,{"$f":"VLOOKUP(P3130,Campos!$B$2:$C$7,2,FALSE)","v":0},"Sin información"]
[3125,19,"Nuevo León",6,"Integración de las Mesas Directivas de Casilla","6.17",17,"Periodo para contratación de CAE locales","INE/OPL","INE/OPL","Por definir","Por definir",null,null,{"$f":"VLOOKUP(P3131,Campos!$B$2:$C$7,2,FALSE)","v":0},"Sin información"]
[3126,19,"Nuevo León",6,"Integración de las Mesas Directivas de Casilla","6.18",18,"Reclutamiento y selección de CAE locales","INE/OPL","INE/OPL","Por definir","Por definir",null,null,{"$f":"VLOOKUP(P3132,Campos!$B$2:$C$7,2,FALSE)","v":0},"Sin información"]
[3127,19,"Nuevo León",7,"Fiscalización de los recursos de los Partidos Políticos y candidaturas independientes","7.1",1,"Aprobación de topes de gastos de precampaña Gubernatura","OPL","CG","2020-10-01","2020-10-31",null,null,{"$f":"VLOOKUP(P3133,Campos!$B$2:$C$7,2,FALSE)","v":0},"Sin información"]
[3128,19,"Nuevo León",7,"Fiscalización de los recursos de los Partidos Políticos y candidaturas independientes","7.2",2,"Aprobación de topes de gastos de precampaña Diputaciones","OPL","CG","2020-10-01","2020-10-31",null,null,{"$f":"VLOOKUP(P3134,Campos!$B$2:$C$7,2,FALSE)","v":0},"Sin información"]
[3129,19,"Nuevo León",7,"Fiscalización de los recursos de los Partidos Políticos y candidaturas independientes","7.3",3,"Aprobación de topes de gastos de precampaña Ayuntamientos","OPL","CG","2020-10-01","2020-10-31",null,null,{"$f":"VLOOKUP(P3135,Campos!$B$2:$C$7,2,FALSE)","v":0},"Sin información"]
[3130,19,"Nuevo León",7,"Fiscalización de los recursos de los Partidos Políticos y candidaturas independientes","7.4",4,"Aprobación de los límites de financiamiento privado, aportaciones de militantes, simpatizantes y precandidatos o candidatos; así como el límite individual de aportaciones para Gubernatura","OPL","CG","2021-01-01","2021-01-31",null,null,{"$f":"VLOOKUP(P3136,Campos!$B$2:$C$7,2,FALSE)","v":0},"Sin información"]
[3131,19,"Nuevo León",7,"Fiscalización de los recursos de los Partidos Políticos y candidaturas independientes","7.5",5,"Aprobación de los límites de financiamiento privado, aportaciones de militantes, simpatizantes y precandidatos o candidatos; así como el límite individual de aportaciones para Diputaciones","OPL","CG","2021-01-01","2021-01-31",null,null,{"$f":"VLOOKUP(P3137,Campos!$B$2:$C$7,2,FALSE)","v":0},"Sin información"]
[3132,19,"Nuevo León",7,"Fiscalización de los recursos de los Partidos Políticos y candidaturas independientes","7.6",6,"Aprobación de los límites de financiamiento privado, aportaciones de militantes, simpatizantes y precandidatos o candidatos; así como el límite individual de aportaciones para Ayuntamientos","OPL","CG","2021-01-01","2021-01-31",null,null,{"$f":"VLOOKUP(P3138,Campos!$B$2:$C$7,2,FALSE)","v":0},"Sin información"]
[3133,19,"Nuevo León",7,"Fiscalización de los recursos de los Partidos Políticos y candidaturas independientes","7.7",7,"Aprobación de topes de gastos para el periodo de obtención del apoyo ciudadano para Gubernatura","OPL","CG","2020-10-01","2020-10-31",null,null,{"$f":"VLOOKUP(P3139,Campos!$B$2:$C$7,2,FALSE)","v":0},"Sin información"]
[3134,19,"Nuevo León",7,"Fiscalización de los recursos de los Partidos Políticos y candidaturas independientes","7.8",8,"Aprobación de topes de gastos para el periodo de obtención del apoyo ciudadano para Diputaciones","OPL","CG","2020-10-01","2020-10-31",null,null,{"$f":"VLOOKUP(P3140,Campos!$B$2:$C$7,2,FALSE)","v":0},"Sin información"]
[3135,19,"Nuevo León",7,"Fiscalización de los recursos de los Partidos Políticos y candidaturas independientes","7.9",9,"Aprobación de topes de gastos para el periodo de obtención del apoyo ciudadano para Ayuntamientos","OPL","CG","2020-10-01","2020-10-31",null,null,{"$f":"VLOOKUP(P3141,Campos!$B$2:$C$7,2,FALSE)","v":0},"Sin información"]
[3136,19,"Nuevo León",7,"Fiscalización de los recursos de los Partidos Políticos y candidaturas independientes","7.10",10,"Precampaña para Gubernatura","OPL","CG","2021-01-10","2021-02-28",null,null,{"$f":"VLOOKUP(P3142,Campos!$B$2:$C$7,2,FALSE)","v":0},"Sin información"]
[3137,19,"Nuevo León",7,"Fiscalización de los recursos de los Partidos Políticos y candidaturas independientes","7.11",11,"Precampaña para Diputaciones","OPL","CG","2021-01-10","2021-02-28",null,null,{"$f":"VLOOKUP(P3143,Campos!$B$2:$C$7,2,FALSE)","v":0},"Sin información"]
[3138,19,"Nuevo León",7,"Fiscalización de los recursos de los Partidos Políticos y candidaturas independientes","7.12",12,"Precampaña para Ayuntamientos","OPL","CG","2021-01-10","2021-02-28",null,null,{"$f":"VLOOKUP(P3144,Campos!$B$2:$C$7,2,FALSE)","v":0},"Sin información"]
[3139,19,"Nuevo León",7,"Fiscalización de los recursos de los Partidos Políticos y candidaturas independientes","7.13",13,"Aprobación de topes de gastos de campaña para Gubernatura","OPL","CG","2020-10-01","2020-10-31",null,null,{"$f":"VLOOKUP(P3145,Campos!$B$2:$C$7,2,FALSE)","v":0},"Sin información"]
[3140,19,"Nuevo León",7,"Fiscalización de los recursos de los Partidos Políticos y candidaturas independientes","7.14",14,"Aprobación de topes de gastos de campaña para Diputaciones","OPL","CG","2020-10-01","2020-10-31",null,null,{"$f":"VLOOKUP(P3146,Campos!$B$2:$C$7,2,FALSE)","v":0},"Sin información"]
[3141,19,"Nuevo León",7,"Fiscalización de los recursos de los Partidos Políticos y candidaturas independientes","7.15",15,"Aprobación de topes de gastos de campaña para Ayuntamientos","OPL","CG","2020-10-01","2020-10-31",null,null,{"$f":"VLOOKUP(P3147,Campos!$B$2:$C$7,2,FALSE)","v":0},"Sin información"]
[3142,19,"Nuevo León",7,"Fiscalización de los recursos de los Partidos Políticos y candidaturas independientes","7.16",16,"Campaña para Gubernatura","OPL","CG","2021-03-05","2021-06-02",null,null,{"$f":"VLOOKUP(P3148,Campos!$B$2:$C$7,2,FALSE)","v":0},"Sin información"]
[3143,19,"Nuevo León",7,"Fiscalización de los recursos de los Partidos Políticos y candidaturas independientes","7.17",17,"Campaña para Diputaciones","OPL","CG","2021-03-05","2021-06-02",null,null,{"$f":"VLOOKUP(P3149,Campos!$B$2:$C$7,2,FALSE)","v":0},"Sin información"]
[3144,19,"Nuevo León",7,"Fiscalización de los recursos de los Partidos Políticos y candidaturas independientes","7.18",18,"Campaña para Ayuntamientos","OPL","CG","2021-03-05","2021-06-02",null,null,{"$f":"VLOOKUP(P3150,Campos!$B$2:$C$7,2,FALSE)","v":0},"Sin información"]
[3145,19,"Nuevo León",7,"Fiscalización de los recursos de los Partidos Políticos y candidaturas independientes","7.19",19,"Aprobación de la distribución de financiamiento público para partidos políticos","OPL","CG","2021-01-01","2021-01-31",null,null,{"$f":"VLOOKUP(P3151,Campos!$B$2:$C$7,2,FALSE)","v":0},"Sin información"]
[3146,19,"Nuevo León",8,"Candidaturas Independientes","8.1",1,"Emisión de la convocatoria para la ciudadanía interesada en participar en Candidaturas Independientes ","OPL","CG","2020-10-08","2020-11-06",null,null,{"$f":"VLOOKUP(P3152,Campos!$B$2:$C$7,2,FALSE)","v":0},"Sin información"]
[3147,19,"Nuevo León",8,"Candidaturas Independientes","8.2",2,"Recepción de escrito de intención y documentación anexa de la ciudadanía que aspire a la candidatura independiente para Gubernatura","OPL","OD","2020-11-07","2020-12-06",null,null,{"$f":"VLOOKUP(P3153,Campos!$B$2:$C$7,2,FALSE)","v":0},"Sin información"]
[3148,19,"Nuevo León",8,"Candidaturas Independientes","8.3",3,"Recepción de escrito de intención y documentación anexa de la ciudadanía que aspire a la candidatura independiente para Diputaciones","OPL","OD","2020-11-07","2020-12-06",null,null,{"$f":"VLOOKUP(P3154,Campos!$B$2:$C$7,2,FALSE)","v":0},"Sin información"]
[3149,19,"Nuevo León",8,"Candidaturas Independientes","8.4",4,"Recepción de escrito de intención y documentación anexa de la ciudadanía que aspire a la candidatura independiente para Ayuntamientos","OPL","SE/OD","2020-11-07","2020-12-06",null,null,{"$f":"VLOOKUP(P3155,Campos!$B$2:$C$7,2,FALSE)","v":0},"Sin información"]
[3150,19,"Nuevo León",8,"Candidaturas Independientes","8.5",5,"Resolución sobre procedencia de manifestación de intención de aspirantes a candidaturas independientes para Gubernatura","OPL","CG","2020-12-07","2020-12-11",null,null,{"$f":"VLOOKUP(P3156,Campos!$B$2:$C$7,2,FALSE)","v":0},"Sin información"]
[3151,19,"Nuevo León",8,"Candidaturas Independientes","8.6",6,"Resolución sobre procedencia de manifestación de intención de aspirantes a candidaturas independientes para Diputaciones","OPL","CG","2020-12-07","2020-12-11",null,null,{"$f":"VLOOKUP(P3157,Campos!$B$2:$C$7,2,FALSE)","v":0},"Sin información"]
[3152,19,"Nuevo León",8,"Candidaturas Independientes","8.7",7,"Resolución sobre procedencia de manifestación de intención de aspirantes a candidaturas independientes para Ayuntamientos","OPL","CG","2020-12-07","2020-12-11",null,null,{"$f":"VLOOKUP(P3158,Campos!$B$2:$C$7,2,FALSE)","v":0},"Sin información"]
[3153,19,"Nuevo León",8,"Candidaturas Independientes","8.8",8,"Plazo para obtener el apoyo ciudadano de las candidaturas independientes para Gubernatura","OPL","OD","2020-12-29","2021-02-16",null,null,{"$f":"VLOOKUP(P3159,Campos!$B$2:$C$7,2,FALSE)","v":0},"Sin información"]
[3154,19,"Nuevo León",8,"Candidaturas Independientes","8.9",9,"Plazo para obtener el apoyo ciudadano de las candidaturas independientes para Diputaciones","OPL","OD","2020-12-29","2021-02-16",null,null,{"$f":"VLOOKUP(P3160,Campos!$B$2:$C$7,2,FALSE)","v":0},"Sin información"]
[3155,19,"Nuevo León",8,"Candidaturas Independientes","8.10",10,"Plazo para obtener el apoyo ciudadano de las candidaturas independientes para Ayuntamientos","OPL","OD","2020-12-29","2021-02-16",null,null,{"$f":"VLOOKUP(P3161,Campos!$B$2:$C$7,2,FALSE)","v":0},"Sin información"]
[3156,19,"Nuevo León",8,"Candidaturas Independientes","8.11",11,"Plazo para otorgar las constancias de porcentaje a favor de aspirantes a la candidatura independiente para Gubernatura","OPL","CG","2021-02-26","2021-02-26",null,null,{"$f":"VLOOKUP(P3162,Campos!$B$2:$C$7,2,FALSE)","v":0},"Sin información"]
[3157,19,"Nuevo León",8,"Candidaturas Independientes","8.12",12,"Plazo para otorgar las constancias de porcentaje a favor de aspirantes a la candidatura independiente para Diputaciones","OPL","CG","2021-02-26","2021-02-26",null,null,{"$f":"VLOOKUP(P3163,Campos!$B$2:$C$7,2,FALSE)","v":0},"Sin información"]
[3158,19,"Nuevo León",8,"Candidaturas Independientes","8.13",13,"Plazo para otorgar las constancias de porcentaje a favor de aspirantes a la candidatura independiente para Ayuntamientos","OPL","CG","2021-02-26","2021-02-26",null,null,{"$f":"VLOOKUP(P3164,Campos!$B$2:$C$7,2,FALSE)","v":0},"Sin información"]
[3159,19,"Nuevo León",9,"Candidaturas","9.1",1,"Registro de plataformas electorales","OPL","CG","2020-10-01","2021-03-13",null,null,{"$f":"VLOOKUP(P3165,Campos!$B$2:$C$7,2,FALSE)","v":0},"Sin información"]
[3160,19,"Nuevo León",9,"Candidaturas","9.2",2,"Solicitud de registro de convenio de coalición para Gubernatura","OPL","CG","2020-10-07","2021-01-10",null,null,{"$f":"VLOOKUP(P3166,Campos!$B$2:$C$7,2,FALSE)","v":0},"Sin información"]
[3161,19,"Nuevo León",9,"Candidaturas","9.3",3,"Solicitud de registro de convenio de coalición para Diputaciones","OPL","CG","2020-10-07","2021-01-10",null,null,{"$f":"VLOOKUP(P3167,Campos!$B$2:$C$7,2,FALSE)","v":0},"Sin información"]
[3162,19,"Nuevo León",9,"Candidaturas","9.4",4,"Solicitud de registro de convenio de coalición para Ayuntamientos","OPL","CG","2020-10-07","2021-01-10",null,null,{"$f":"VLOOKUP(P3168,Campos!$B$2:$C$7,2,FALSE)","v":0},"Sin información"]
[3163,19,"Nuevo León",9,"Candidaturas","9.5",5,"Resolución sobre Convenio de Coalición para Gubernatura","OPL","CG","2020-10-17","2021-01-20",null,null,{"$f":"VLOOKUP(P3169,Campos!$B$2:$C$7,2,FALSE)","v":0},"Sin información"]
[3164,19,"Nuevo León",9,"Candidaturas","9.6",6,"Resolución sobre Convenio de Coalición para Diputaciones","OPL","CG","2020-10-17","2021-01-20",null,null,{"$f":"VLOOKUP(P3170,Campos!$B$2:$C$7,2,FALSE)","v":0},"Sin información"]
[3165,19,"Nuevo León",9,"Candidaturas","9.7",7,"Resolución sobre Convenio de Coalición para Ayuntamientos","OPL","CG","2020-10-17","2021-01-20",null,null,{"$f":"VLOOKUP(P3171,Campos!$B$2:$C$7,2,FALSE)","v":0},"Sin información"]
[3166,19,"Nuevo León",9,"Candidaturas","9.8",8,"Solicitud de registro de Candidaturas para Gubernatura","OPL","CG/OD","2021-02-18","2021-03-14",null,null,{"$f":"VLOOKUP(P3172,Campos!$B$2:$C$7,2,FALSE)","v":0},"Sin información"]
[3167,19,"Nuevo León",9,"Candidaturas","9.9",9,"Solicitud de registro de Candidaturas para Diputaciones","OPL","CG/OD","2021-02-18","2021-03-14",null,null,{"$f":"VLOOKUP(P3173,Campos!$B$2:$C$7,2,FALSE)","v":0},"Sin información"]
[3168,19,"Nuevo León",9,"Candidaturas","9.11",11,"Solicitud de registro de Candidaturas para Ayuntamientos","OPL","CG/OD","2021-02-18","2021-03-14",null,null,{"$f":"VLOOKUP(P3174,Campos!$B$2:$C$7,2,FALSE)","v":0},"Sin información"]
[3169,19,"Nuevo León",9,"Candidaturas","9.13",13,"Resolución para aprobar las candidaturas para Gubernatura","OPL","CG","2021-03-15","2021-03-19",null,null,{"$f":"VLOOKUP(P3175,Campos!$B$2:$C$7,2,FALSE)","v":0},"Sin información"]
[3170,19,"Nuevo León",9,"Candidaturas","9.14",14,"Resolución para aprobar las candidaturas para Diputaciones","OPL","CG","2021-03-15","2021-03-19",null,null,{"$f":"VLOOKUP(P3176,Campos!$B$2:$C$7,2,FALSE)","v":0},"Sin información"]
[3171,19,"Nuevo León",9,"Candidaturas","9.16",16,"Resolución para aprobar las candidaturas para Ayuntamientos","OPL","CG/OD","2021-03-15","2021-03-19",null,null,{"$f":"VLOOKUP(P3177,Campos!$B$2:$C$7,2,FALSE)","v":0},"Sin información"]
[3172,19,"Nuevo León",10,"Debates","10.1",1,"Aprobación de las fechas en que se celebrarán los debates","OPL","CG","2021-03-05","2021-03-20",null,null,{"$f":"VLOOKUP(P3178,Campos!$B$2:$C$7,2,FALSE)","v":0},"Sin información"]
[3173,19,"Nuevo León",10,"Debates","10.2",2,"Realización de debate(s)","OPL","CG","2021-03-16","2021-05-22",null,null,{"$f":"VLOOKUP(P3179,Campos!$B$2:$C$7,2,FALSE)","v":0},"Sin información"]
[3174,19,"Nuevo León",11,"Documentación y material electoral","11.1",1,"Entrega a la Junta Local Ejecutiva del INE, de los diseños y especificaciones técnicas de la documentación y materiales electorales, en medios impresos y electrónicos","OPL","CG","2020-09-01","2020-09-30",null,null,{"$f":"VLOOKUP(P3180,Campos!$B$2:$C$7,2,FALSE)","v":0},"Sin información"]
[3175,19,"Nuevo León",11,"Documentación y material electoral","11.2",2,"Revisión de los documentos y materiales electorales y especificaciones técnicas, presentadas por el OPL","INE","JLE","2020-09-15","2020-12-16",null,null,{"$f":"VLOOKUP(P3181,Campos!$B$2:$C$7,2,FALSE)","v":0},"Sin información"]
[3176,19,"Nuevo León",11,"Documentación y material electoral","11.3",3,"En su caso, atención y presentación, de los cambios pertinentes, conforme a las observaciones emitidas por la Junta Local Ejecutiva del INE","OPL","CG","2020-09-15","2020-12-16",null,null,{"$f":"VLOOKUP(P3182,Campos!$B$2:$C$7,2,FALSE)","v":0},"Sin información"]
[3177,19,"Nuevo León",11,"Documentación y material electoral","11.4",4,"Validación de los documentos y materiales electorales y especificaciones técnicas, con las observaciones subsanadas","INE","DEOE","2020-10-28","2020-12-18",null,null,{"$f":"VLOOKUP(P3183,Campos!$B$2:$C$7,2,FALSE)","v":0},"Sin información"]
[3178,19,"Nuevo León",11,"Documentación y material electoral","11.5",5,"Entrega a la Dirección Ejecutiva de Organización Electoral del INE, del Reporte único sobre la aprobación y adjudicación de los documentos y materiales electorales del OPL, en medios electrónicos","OPL","CG","2021-02-01","2021-02-26",null,null,{"$f":"VLOOKUP(P3184,Campos!$B$2:$C$7,2,FALSE)","v":0},"Sin información"]
[3179,19,"Nuevo León",11,"Documentación y material electoral","11.6",6,"Revisión y en su caso validación, del Reporte único sobre la aprobación y adjudicación de los documentos y materiales electorales del OPL, en medios electrónicos","INE","DEOE","2021-02-15","2021-03-12",null,null,{"$f":"VLOOKUP(P3185,Campos!$B$2:$C$7,2,FALSE)","v":0},"Sin información"]
[3180,19,"Nuevo León",11,"Documentación y material electoral","11.7",7,"Entrega  a la Dirección Ejecutiva de Organización Electoral del INE, del Reporte semanal sobre el avance en la producción de los documentos y materiales electorales del OPL, en medios electrónicos.","OPL","CG","2021-03-15","2021-05-22",null,null,{"$f":"VLOOKUP(P3186,Campos!$B$2:$C$7,2,FALSE)","v":0},"Sin información"]
[3181,19,"Nuevo León",11,"Documentación y material electoral","11.8",8,"Aprobación de la documentación y material electoral","OPL","CG","2020-11-11","2020-12-31",null,null,{"$f":"VLOOKUP(P3187,Campos!$B$2:$C$7,2,FALSE)","v":0},"Sin información"]
[3182,19,"Nuevo León",11,"Documentación y material electoral","11.9",9,"Entrega a la Dirección Ejecutiva de Organización Electoral del INE, del Reporte con los resultados de las verificaciones de las medidas de seguridad en la documentación electoral","OPL","CG","2021-05-27","2021-06-11",null,null,{"$f":"VLOOKUP(P3188,Campos!$B$2:$C$7,2,FALSE)","v":0},"Sin información"]
[3183,19,"Nuevo León",11,"Documentación y material electoral","11.10",10,"Supervisiones respecto de los procedimientos de impresión y producción de la documentación y materiales electorales","INE","DEOE","2021-03-15","2021-05-22",null,null,{"$f":"VLOOKUP(P3189,Campos!$B$2:$C$7,2,FALSE)","v":0},"Sin información"]
[3184,19,"Nuevo León",11,"Documentación y material electoral","11.11",11,"Designación de la persona responsable de llevar el control sobre la asignación de los folios de las boletas que se distribuirán en cada mesa directiva de casilla","OPL","CG","2021-03-01","2021-03-30",null,null,{"$f":"VLOOKUP(P3190,Campos!$B$2:$C$7,2,FALSE)","v":0},"Sin información"]
[3185,19,"Nuevo León",11,"Documentación y material electoral","11.12",12,"Aprobación de SE y CAE, así como de personal que auxiliará en el procedimiento de conteo, sellado y agrupamiento de las boletas electorales; así como la integración de documentación para las casillas","OPL","CG","2021-04-24","2021-05-11",null,null,{"$f":"VLOOKUP(P3191,Campos!$B$2:$C$7,2,FALSE)","v":0},"Sin información"]
[3186,19,"Nuevo León",11,"Documentación y material electoral","11.13",13,"Recepción de las boletas electorales por el órgano competente que realizará el conteo, sellado y agrupamiento","OPL","CG","2021-05-18","2021-05-22",null,null,{"$f":"VLOOKUP(P3192,Campos!$B$2:$C$7,2,FALSE)","v":0},"Sin información"]
[3187,19,"Nuevo León",11,"Documentación y material electoral","11.14",14,"Conteo, sellado y agrupamiento de boletas","OPL","CG","2021-05-18","2021-05-28",null,null,{"$f":"VLOOKUP(P3193,Campos!$B$2:$C$7,2,FALSE)","v":0},"Sin información"]
[3188,19,"Nuevo León",11,"Documentación y material electoral","11.15",15,"Distribución de la documentación y materiales electorales a las y los Presidentes de mesas directivas de casilla","OPL","OD","2021-05-31","2021-06-04",null,null,{"$f":"VLOOKUP(P3194,Campos!$B$2:$C$7,2,FALSE)","v":0},"Sin información"]
[3189,19,"Nuevo León",11,"Documentación y material electoral","11.16",16,"Remisión de los recibos de la entrega de la documentación y materiales electorales al Consejo General del OPL","INE","JLE","2021-06-24","2021-06-30",null,null,{"$f":"VLOOKUP(P3195,Campos!$B$2:$C$7,2,FALSE)","v":0},"Sin información"]
[3190,19,"Nuevo León",12,"Jornada Electoral","12.1",1,"Aprobación del Programa de Operación del SIJE 2021","INE","CCOE","2020-07-01","2020-07-31",null,null,{"$f":"VLOOKUP(P3196,Campos!$B$2:$C$7,2,FALSE)","v":0},"Sin información"]
[3191,19,"Nuevo León",12,"Jornada Electoral","12.2",2,"Aprobación de las metas del SIJE 2021","INE","CG","2021-03-01","2021-03-31",null,null,{"$f":"VLOOKUP(P3197,Campos!$B$2:$C$7,2,FALSE)","v":0},"Sin información"]
[3192,19,"Nuevo León",12,"Jornada Electoral","12.3",3,"Realización de pruebas del SIJE 2021","INE","DEOE","2021-04-01","2021-04-15",null,null,{"$f":"VLOOKUP(P3198,Campos!$B$2:$C$7,2,FALSE)","v":0},"Sin información"]
[3193,19,"Nuevo León",12,"Jornada Electoral","12.4",4,"Desarrollo del primer simulacro del SIJE","INE/OPL","DEOE/OD","2021-04-29","2021-04-29",null,null,{"$f":"VLOOKUP(P3199,Campos!$B$2:$C$7,2,FALSE)","v":0},"Sin información"]
[3194,19,"Nuevo León",12,"Jornada Electoral","12.5",5,"Desarrollo del segundo simulacro del SIJE","INE/OPL","DEOE/OD","2021-05-09","2021-05-09",null,null,{"$f":"VLOOKUP(P3200,Campos!$B$2:$C$7,2,FALSE)","v":0},"Sin información"]
[3195,19,"Nuevo León",12,"Jornada Electoral","12.6",6,"Desarrollo del tercer simulacro del SIJE","INE/OPL","DEOE/OD","2021-05-23","2021-05-23",null,null,{"$f":"VLOOKUP(P3201,Campos!$B$2:$C$7,2,FALSE)","v":0},"Sin información"]
[3196,19,"Nuevo León",12,"Jornada Electoral","12.7",7,"Jornada Electoral","OPL","CG/OD","2021-06-06","2021-06-06",null,null,{"$f":"VLOOKUP(P3202,Campos!$B$2:$C$7,2,FALSE)","v":0},"Sin información"]
[3197,19,"Nuevo León",13,"Bodegas electorales","13.1",1,"Determinación de los lugares que ocuparán las bodegas electorales para el resguardo de la documentación electoral","OPL","CG","2021-02-01","2021-02-28",null,null,{"$f":"VLOOKUP(P3203,Campos!$B$2:$C$7,2,FALSE)","v":0},"Sin información"]
[3198,19,"Nuevo León",13,"Bodegas electorales","13.2",2,"Informe que rinden las y los Presidentes sobre las condiciones de equipamiento, mecanismos de operación y medidas de seguridad de las bodegas electorales","OPL","OD","2021-03-01","2021-03-31",null,null,{"$f":"VLOOKUP(P3204,Campos!$B$2:$C$7,2,FALSE)","v":0},"Sin información"]
[3199,19,"Nuevo León",13,"Bodegas electorales","13.3",3,"Designación, por parte del órgano competente del OPL, del personal que tendrá acceso a la bodega electoral","OPL","CG/OD","2021-03-01","2021-03-30",null,null,{"$f":"VLOOKUP(P3205,Campos!$B$2:$C$7,2,FALSE)","v":0},"Sin información"]
[3200,19,"Nuevo León",13,"Bodegas electorales","13.4",4,"Envío a la UTVOPL, por conducto de la JLE, el informe sobre las condiciones que guardan las bodegas electorales","OPL","CG","2021-04-04","2021-04-10",null,null,{"$f":"VLOOKUP(P3206,Campos!$B$2:$C$7,2,FALSE)","v":0},"Sin información"]
[3201,19,"Nuevo León",14,"Mecanismos de recolección","14.1",1,"Entrega de estudios de factibilidad al OPL","INE","CL","2021-03-15","2021-03-31",null,null,{"$f":"VLOOKUP(P3207,Campos!$B$2:$C$7,2,FALSE)","v":0},"Sin información"]
[3202,19,"Nuevo León",14,"Mecanismos de recolección","14.2",2,"Entrega de observaciones a los estudios de factibilidad ","OPL","CG","2021-04-01","2021-04-24",null,null,{"$f":"VLOOKUP(P3208,Campos!$B$2:$C$7,2,FALSE)","v":0},"Sin información"]
[3203,19,"Nuevo León",14,"Mecanismos de recolección","14.3",3,"Recorridos para verificar las propuestas de los mecanismos de recolección","INE/OPL","CD/OD","2021-03-16","2021-04-24",null,null,{"$f":"VLOOKUP(P3209,Campos!$B$2:$C$7,2,FALSE)","v":0},"Sin información"]
[3204,19,"Nuevo León",14,"Mecanismos de recolección","14.4",4,"Aprobación de los mecanismos de recolección ","INE","CD","2021-04-26","2021-04-30",null,null,{"$f":"VLOOKUP(P3210,Campos!$B$2:$C$7,2,FALSE)","v":0},"Sin información"]
[3205,19,"Nuevo León",14,"Mecanismos de recolección","14.5",5,"Traslado y recolección de los paquetes electorales","INE/OPL","CD/OD","2021-06-06","2021-06-07",null,null,{"$f":"VLOOKUP(P3211,Campos!$B$2:$C$7,2,FALSE)","v":0},"Sin información"]
[3206,19,"Nuevo León",14,"Mecanismos de recolección","14.6",6,"Acreditación de representantes de partidos políticos y candidaturas independientes ante los mecanismos de recolección","INE","CL/CD","2021-04-27","2021-06-03",null,null,{"$f":"VLOOKUP(P3212,Campos!$B$2:$C$7,2,FALSE)","v":0},"Sin información"]
[3207,19,"Nuevo León",14,"Mecanismos de recolección","14.7",7,"Sustitución de representantes de partidos políticos y candidaturas independientes ante los mecanismos de recolección","INE","CL/CD","2021-04-28","2021-06-04",null,null,{"$f":"VLOOKUP(P3213,Campos!$B$2:$C$7,2,FALSE)","v":0},"Sin información"]
[3208,19,"Nuevo León",14,"Mecanismos de recolección","14.8",8,"Entrega a la JLE, el informe sobre la recepción de paquetes electorales en los órganos competentes","OPL","CG","2021-06-06","2021-06-28",null,null,{"$f":"VLOOKUP(P3214,Campos!$B$2:$C$7,2,FALSE)","v":0},"Sin información"]
[3209,19,"Nuevo León",15,"Cómputos","15.1",1,"Aprobación de los lineamientos de cómputo y del cuadernillo de consulta sobre votos válidos y votos nulos","OPL","CG","2021-01-18","2021-01-29",null,null,{"$f":"VLOOKUP(P3215,Campos!$B$2:$C$7,2,FALSE)","v":0},"Sin información"]
[3210,19,"Nuevo León",15,"Cómputos","15.2",2,"Integración por parte de los Órganos Desconcentrados del OPL, de la propuesta para la habilitación de espacios para el recuento de votos con las alternativas para todos los escenarios de cómputo","OPL","OD","2021-03-01","2021-03-07",null,null,{"$f":"VLOOKUP(P3216,Campos!$B$2:$C$7,2,FALSE)","v":0},"Sin información"]
[3211,19,"Nuevo León",15,"Cómputos","15.3",3,"Informe de los escenarios de cómputos de la totalidad de sus órganos desconcentrados","OPL","CG","2021-04-01","2021-04-04",null,null,{"$f":"VLOOKUP(P3217,Campos!$B$2:$C$7,2,FALSE)","v":0},"Sin información"]
[3212,19,"Nuevo León",15,"Cómputos","15.4",4,"Remisión a la JLE en la entidad, las propuestas de escenarios de cómputos, para la dictaminación de viabilidad","OPL","CG","2021-05-01","2021-05-07",null,null,{"$f":"VLOOKUP(P3218,Campos!$B$2:$C$7,2,FALSE)","v":0},"Sin información"]
[3213,19,"Nuevo León",15,"Cómputos","15.5",5,"Remisión de las observaciones a los escenarios de Cómputos al OPL y a su vez informar de las mismas a la UTVOPL","INE","JLE","2021-05-08","2021-05-15",null,null,{"$f":"VLOOKUP(P3219,Campos!$B$2:$C$7,2,FALSE)","v":0},"Sin información"]
[3214,19,"Nuevo León",15,"Cómputos","15.6",6,"Aprobación por parte del órgano competente del OPL, del acuerdo mediante el cual se designa al personal que participará en las tareas de apoyo a los Cómputos Municipales","OPL","CG/OD","2021-04-26","2021-05-05",null,null,{"$f":"VLOOKUP(P3220,Campos!$B$2:$C$7,2,FALSE)","v":0},"Sin información"]
[3215,19,"Nuevo León",15,"Cómputos","15.7",7,"Aprobación por parte del órgano competente del OPL, del acuerdo mediante el cual se designa al personal que participará en las tareas de apoyo a los Cómputos Distritales ","OPL","CG/OD","2021-04-26","2021-05-05",null,null,{"$f":"VLOOKUP(P3221,Campos!$B$2:$C$7,2,FALSE)","v":0},"Sin información"]
[3216,19,"Nuevo León",15,"Cómputos","15.8",8,"Aprobación por parte de los órganos competentes del OPL, de los distintos escenarios de cómputos","OPL","OD","2021-05-08","2021-05-15",null,null,{"$f":"VLOOKUP(P3222,Campos!$B$2:$C$7,2,FALSE)","v":0},"Sin información"]
[3217,19,"Nuevo León",15,"Cómputos","15.9",9,"Aprobación por parte del órgano competente del OPL, del acuerdo por el que se habilitarán espacios para la instalación de grupos de trabajo y, en su caso, puntos de recuento","OPL","CG/OD","2021-06-08","2021-06-08",null,null,{"$f":"VLOOKUP(P3223,Campos!$B$2:$C$7,2,FALSE)","v":0},"Sin información"]
[3218,19,"Nuevo León",15,"Cómputos","15.10",10,"Cómputos Distritales","OPL","OD","2021-06-09","2021-06-10",null,null,{"$f":"VLOOKUP(P3224,Campos!$B$2:$C$7,2,FALSE)","v":0},"Sin información"]
[3219,19,"Nuevo León",15,"Cómputos","15.14",14,"Cómputo Estatal para la asignación diputaciones de Representación Proporcional","OPL","CG","2021-06-11","2021-06-12",null,null,{"$f":"VLOOKUP(P3225,Campos!$B$2:$C$7,2,FALSE)","v":0},"Sin información"]
[3220,19,"Nuevo León",15,"Cómputos","15.13",13,"Cómputo Estatal para la Gubernatura","OPL","CG","2021-06-11","2021-06-12",null,null,{"$f":"VLOOKUP(P3226,Campos!$B$2:$C$7,2,FALSE)","v":0},"Sin información"]
[3221,19,"Nuevo León",15,"Cómputos","15.11",11,"Cómputos Municipales","OPL","OD","2021-06-09","2021-06-12",null,null,{"$f":"VLOOKUP(P3227,Campos!$B$2:$C$7,2,FALSE)","v":0},"Sin información"]
[3222,19,"Nuevo León",15,"Cómputos","15.16",16,"Asignación de regidurías por el principio de Representación Proporcional","OPL","CG","2021-06-09","2021-06-12",null,null,{"$f":"VLOOKUP(P3228,Campos!$B$2:$C$7,2,FALSE)","v":0},"Sin información"]
[3223,19,"Nuevo León",16,"PREP","16.1",1,"Aprobación del Acuerdo por el que se designa o ratifica a la instancia interna responsable de coordinar el PREP","OPL","CG","2020-09-11","2020-09-11",null,null,{"$f":"VLOOKUP(P3229,Campos!$B$2:$C$7,2,FALSE)","v":0},"Sin información"]
[3224,19,"Nuevo León",16,"PREP","16.2",2,"Aprobación del Acuerdo de Integración del COTAPREP","OPL","CG","2020-11-11","2020-11-11",null,null,{"$f":"VLOOKUP(P3230,Campos!$B$2:$C$7,2,FALSE)","v":0},"Sin información"]
[3225,19,"Nuevo León",16,"PREP","16.3",3,"Documento por el que se determina la implementación del PREP por el OPL o con el apoyo de un Tercero","OPL","CG","2020-12-11","2020-12-11",null,null,{"$f":"VLOOKUP(P3231,Campos!$B$2:$C$7,2,FALSE)","v":0},"Sin información"]
[3226,19,"Nuevo León",16,"PREP","16.4",4,"Aprobación del Acuerdo por el que se determina el Proceso Técnico Operativo ","OPL","CG","2021-01-11","2021-01-11",null,null,{"$f":"VLOOKUP(P3232,Campos!$B$2:$C$7,2,FALSE)","v":0},"Sin información"]
[3227,19,"Nuevo León",16,"PREP","16.5",5,"Aprobación del Acuerdo por el que se determina la ubicación, instalación y habilitación de los CATD y, en su caso, CCV","OPL","CG","2021-02-11","2021-02-11",null,null,{"$f":"VLOOKUP(P3233,Campos!$B$2:$C$7,2,FALSE)","v":0},"Sin información"]
[3228,19,"Nuevo León",16,"PREP","16.6",6,"Documento de Designación del Ente Auditor ","OPL","CG","2021-02-11","2021-02-11",null,null,{"$f":"VLOOKUP(P3234,Campos!$B$2:$C$7,2,FALSE)","v":0},"Sin información"]
[3229,19,"Nuevo León",16,"PREP","16.7",7,"Instrumento jurídico celebrado entre el OPL y el ente auditor","OPL","CG","2021-03-11","2021-03-11",null,null,{"$f":"VLOOKUP(P3235,Campos!$B$2:$C$7,2,FALSE)","v":0},"Sin información"]
[3230,19,"Nuevo León",16,"PREP","16.8",8,"Realización del primer simulacro del PREP","OPL","CG","2021-05-16","2021-05-16",null,null,{"$f":"VLOOKUP(P3236,Campos!$B$2:$C$7,2,FALSE)","v":0},"Sin información"]
[3231,19,"Nuevo León",16,"PREP","16.9",9,"Realización del segundo simulacro del PREP","OPL","CG","2021-05-23","2021-05-23",null,null,{"$f":"VLOOKUP(P3237,Campos!$B$2:$C$7,2,FALSE)","v":0},"Sin información"]
[3232,19,"Nuevo León",16,"PREP","16.10",10,"Realización del tercer simulacro del PREP","OPL","CG","2021-05-30","2021-05-30",null,null,{"$f":"VLOOKUP(P3238,Campos!$B$2:$C$7,2,FALSE)","v":0},"Sin información"]
[3233,19,"Nuevo León",16,"PREP","16.11",11,"Operación del PREP","OPL","CG","2021-06-06","2021-06-07",null,null,{"$f":"VLOOKUP(P3239,Campos!$B$2:$C$7,2,FALSE)","v":0},"Sin información"]
[3234,19,"Nuevo León",17,"Conteo Rápido","17.1",1,"Aprobación del Acuerdo de Integración del COTECORA","Por definir","Por definir","2021-02-01","2021-02-06",null,null,{"$f":"VLOOKUP(P3240,Campos!$B$2:$C$7,2,FALSE)","v":0},"Sin información"]
[3235,19,"Nuevo León",17,"Conteo Rápido","17.2",2,"Realización de pruebas de captura","Por definir","Por definir","2021-04-14","2021-04-15",null,null,{"$f":"VLOOKUP(P3241,Campos!$B$2:$C$7,2,FALSE)","v":0},"Sin información"]
[3236,19,"Nuevo León",17,"Conteo Rápido","17.3",3,"Realización de primer simulacro del Conteo Rápido","Por definir","Por definir","2021-04-29","2021-04-29",null,null,{"$f":"VLOOKUP(P3242,Campos!$B$2:$C$7,2,FALSE)","v":0},"Sin información"]
[3237,19,"Nuevo León",17,"Conteo Rápido","17.4",4,"Realización de segundo simulacro del Conteo Rápido","Por definir","Por definir","2021-05-16","2021-05-16",null,null,{"$f":"VLOOKUP(P3243,Campos!$B$2:$C$7,2,FALSE)","v":0},"Sin información"]
[3238,19,"Nuevo León",17,"Conteo Rápido","17.5",5,"Selección de la Muestra para el Conteo Rápido","Por definir","Por definir","2021-06-02","2021-06-04",null,null,{"$f":"VLOOKUP(P3244,Campos!$B$2:$C$7,2,FALSE)","v":0},"Sin información"]
[3239,19,"Nuevo León",17,"Conteo Rápido","17.6",6,"Realización de tercer simulacro del Conteo Rápido","Por definir","Por definir","2021-05-23","2021-05-23",null,null,{"$f":"VLOOKUP(P3245,Campos!$B$2:$C$7,2,FALSE)","v":0},"Sin información"]
[3240,19,"Nuevo León",19,"Visitantes extranjeros","19.1",1,"Emisión de la Convocatoria para visitantes extranjeros","OPL ","CG","2020-08-03","2020-09-30",null,null,{"$f":"VLOOKUP(P3246,Campos!$B$2:$C$7,2,FALSE)","v":0},"Sin información"]
[3241,19,"Nuevo León",19,"Visitantes extranjeros","19.2",2,"Difusión de la Convocatoria para visitantes extranjeros","INE","CAI","2020-09-01","2021-05-26",null,null,{"$f":"VLOOKUP(P3247,Campos!$B$2:$C$7,2,FALSE)","v":0},"Sin información"]
[3242,19,"Nuevo León",19,"Visitantes extranjeros","19.3",3,"Recepción de solicitudes de acreditación como visitantes extranjeros","INE","CAI","2020-09-01","2021-05-26",null,null,{"$f":"VLOOKUP(P3248,Campos!$B$2:$C$7,2,FALSE)","v":0},"Sin información"]
[3243,19,"Nuevo León",19,"Visitantes extranjeros","19.4",4,"Resolución de solicitudes de acreditación como visitantes extranjeros","OPL ","CAI","2020-09-02","2021-05-30",null,null,{"$f":"VLOOKUP(P3249,Campos!$B$2:$C$7,2,FALSE)","v":0},"Sin información"]
[3244,19,"Nuevo León",19,"Visitantes extranjeros","19.5",5,"Entrega de acreditaciones a los visitantes extranjeros","INE","CAI","2020-09-04","2021-06-05",null,null,{"$f":"VLOOKUP(P3250,Campos!$B$2:$C$7,2,FALSE)","v":0},"Sin información"]
[3245,20,"Oaxaca",1,"Mecanismos de coordinación","1.1",1,"Aprobar Calendarios y Planes Integrales de los Procesos Electorales Locales","INE","CG","2020-08-01","2020-08-07",null,null,{"$f":"VLOOKUP(P3251,Campos!$B$2:$C$7,2,FALSE)","v":0},"Sin información"]
[3246,20,"Oaxaca",1,"Mecanismos de coordinación","1.2",2,"Firma del Convenio General de Coordinación y Colaboración 2020-2021","INE/OPL","INE/OPL","2020-09-01","2020-10-01",null,null,{"$f":"VLOOKUP(P3252,Campos!$B$2:$C$7,2,FALSE)","v":0},"Sin información"]
[3247,20,"Oaxaca",1,"Mecanismos de coordinación","1.3",3,"Elaborar un plan de trabajo conjunto para la promoción de la participación ciudadana","INE/OPL","INE/OPL","2020-09-01","2020-12-31",null,null,{"$f":"VLOOKUP(P3253,Campos!$B$2:$C$7,2,FALSE)","v":0},"Sin información"]
[3248,20,"Oaxaca",1,"Mecanismos de coordinación","1.4",4,"Sesión para dar inicio al PEL","OPL","CG","2020-12-01","2020-12-05",null,null,{"$f":"VLOOKUP(P3254,Campos!$B$2:$C$7,2,FALSE)","v":0},"Sin información"]
[3249,20,"Oaxaca",1,"Mecanismos de coordinación","1.5",5,"Implementar un plan de trabajo conjunto para la promoción de la participación ciudadana","INE/OPL","INE/OPL","2021-02-01","2021-06-06",null,null,{"$f":"VLOOKUP(P3255,Campos!$B$2:$C$7,2,FALSE)","v":0},"Sin información"]
[3250,20,"Oaxaca",2,"Integración de órganos desconcentrados","2.1",1,"Convocatoria para la integración de los Órganos Distritales","OPL","CG","2020-10-05","2020-10-09",null,null,{"$f":"VLOOKUP(P3256,Campos!$B$2:$C$7,2,FALSE)","v":0},"Sin información"]
[3251,20,"Oaxaca",2,"Integración de órganos desconcentrados","2.2",2,"Sesión en la que se designan e integran los Órganos Distritales ","OPL","CG","2020-12-20","2020-12-31",null,null,{"$f":"VLOOKUP(P3257,Campos!$B$2:$C$7,2,FALSE)","v":0},"Sin información"]
[3252,20,"Oaxaca",2,"Integración de órganos desconcentrados","2.3",3,"Instalación de los Órganos Distritales ","OPL","CG","2020-11-26","2021-03-01",null,null,{"$f":"VLOOKUP(P3258,Campos!$B$2:$C$7,2,FALSE)","v":0},"Sin información"]
[3253,20,"Oaxaca",2,"Integración de órganos desconcentrados","2.4",4,"Convocatoria para la integración de los Órganos Municipales ","OPL","CG","2020-10-05","2020-10-09",null,null,{"$f":"VLOOKUP(P3259,Campos!$B$2:$C$7,2,FALSE)","v":0},"Sin información"]
[3254,20,"Oaxaca",2,"Integración de órganos desconcentrados","2.5",5,"Sesión en la que se designan e integran los Órganos Municipales ","OPL","CG","2021-02-20","2021-02-28",null,null,{"$f":"VLOOKUP(P3260,Campos!$B$2:$C$7,2,FALSE)","v":0},"Sin información"]
[3255,20,"Oaxaca",2,"Integración de órganos desconcentrados","2.6",6,"Instalación de los Órganos Municipales ","OPL","CG","2020-12-24","2021-03-16",null,null,{"$f":"VLOOKUP(P3261,Campos!$B$2:$C$7,2,FALSE)","v":0},"Sin información"]
[3256,20,"Oaxaca",2,"Integración de órganos desconcentrados","2.7",7,"Designación y/o ratificación de las y los Consejeros Electorales del Consejo Local ","INE","CG","2020-10-01","2020-10-15",null,null,{"$f":"VLOOKUP(P3262,Campos!$B$2:$C$7,2,FALSE)","v":0},"Sin información"]
[3257,20,"Oaxaca",2,"Integración de órganos desconcentrados","2.8",8,"Instalación del Consejo Local","INE","CL","2020-11-01","2020-11-30",null,null,{"$f":"VLOOKUP(P3263,Campos!$B$2:$C$7,2,FALSE)","v":0},"Sin información"]
[3258,20,"Oaxaca",2,"Integración de órganos desconcentrados","2.9",9,"Designación y/o ratificación de las y los Consejeros Electorales de los Consejos Distritales ","INE","CL","2020-11-01","2020-11-30",null,null,{"$f":"VLOOKUP(P3264,Campos!$B$2:$C$7,2,FALSE)","v":0},"Sin información"]
[3259,20,"Oaxaca",2,"Integración de órganos desconcentrados","2.10",10,"Instalación de los Consejos Distritales","INE","CD","2020-12-01","2020-12-15",null,null,{"$f":"VLOOKUP(P3265,Campos!$B$2:$C$7,2,FALSE)","v":0},"Sin información"]
[3260,20,"Oaxaca",3,"Lista Nominal de Electores","3.1",1,"Generación y entrega de la Lista Nominal de Electores para Revisión en medios ópticos a los representantes de los partidos políticos, y en su caso a las candidaturas independientes acreditados ante el OPL, para observaciones","INE","DERFE","2021-02-15","2021-02-15",null,null,{"$f":"VLOOKUP(P3266,Campos!$B$2:$C$7,2,FALSE)","v":0},"Sin información"]
[3261,20,"Oaxaca",3,"Lista Nominal de Electores","3.2",2,"Recepción de observaciones de los partidos políticos y en su caso, candidatos independientes, a la Lista Nominal de Electores para revisión","INE/OPL","DERFE","2021-03-14","2021-03-14",null,null,{"$f":"VLOOKUP(P3267,Campos!$B$2:$C$7,2,FALSE)","v":0},"Sin información"]
[3262,20,"Oaxaca",3,"Lista Nominal de Electores","3.3",3,"Entrega en formato digital el informe respecto de la atención a las observaciones formuladas a la Lista Nominal de Electores para Revisión","INE","DERFE","2021-04-15","2021-04-15",null,null,{"$f":"VLOOKUP(P3268,Campos!$B$2:$C$7,2,FALSE)","v":0},"Sin información"]
[3263,20,"Oaxaca",3,"Lista Nominal de Electores","3.4",4,"Entrega de la Lista Nominal de Electores Definitiva con fotografía","INE","DERFE","2021-05-06","2021-05-14",null,null,{"$f":"VLOOKUP(P3269,Campos!$B$2:$C$7,2,FALSE)","v":0},"Sin información"]
[3264,20,"Oaxaca",3,"Lista Nominal de Electores","3.5",5,"Fecha de entrega de la Lista Nominal de Electores con fotografía Producto de Instancias Administrativas y Resoluciones del Tribunal (ADENDA)","INE","DERFE","2021-05-19","2021-05-24",null,null,{"$f":"VLOOKUP(P3270,Campos!$B$2:$C$7,2,FALSE)","v":0},"Sin información"]
[3265,20,"Oaxaca",4,"Observación Electoral","4.1",1,"Emisión de la convocatoria para la ciudadanía que desee participar en la observación electoral","OPL","CG","2020-12-01","2020-12-05",null,null,{"$f":"VLOOKUP(P3271,Campos!$B$2:$C$7,2,FALSE)","v":0},"Sin información"]
[3266,20,"Oaxaca",4,"Observación Electoral","4.2",2,"Recepción de solicitudes de la ciudadanía que desee participar en observación electoral","INE/OPL","OPL/JLE/JDE","2020-12-01","2021-04-30",null,null,{"$f":"VLOOKUP(P3272,Campos!$B$2:$C$7,2,FALSE)","v":0},"Sin información"]
[3267,20,"Oaxaca",4,"Observación Electoral","4.3",3,"Impartición de los cursos de capacitación, preparación o información","INE/OPL","OPL/JLE/JDE","2020-12-01","2021-05-17",null,null,{"$f":"VLOOKUP(P3273,Campos!$B$2:$C$7,2,FALSE)","v":0},"Sin información"]
[3268,20,"Oaxaca",4,"Observación Electoral","4.4",4,"Acreditación de la ciudadanía como observadores u observadoras electorales","INE","CL/CD","2020-12-01","2021-06-05",null,null,{"$f":"VLOOKUP(P3274,Campos!$B$2:$C$7,2,FALSE)","v":0},"Sin información"]
[3269,20,"Oaxaca",4,"Observación Electoral","4.5",5,"Seguimiento a los informes mensuales de acreditación","INE","CG","2020-12-01","2021-07-31",null,null,{"$f":"VLOOKUP(P3275,Campos!$B$2:$C$7,2,FALSE)","v":0},"Sin información"]
[3270,20,"Oaxaca",4,"Observación Electoral","4.6",6,"Remisión de materiales de capacitación a la JLE para revisión","OPL","CG","2020-10-08","2020-10-08",null,null,{"$f":"VLOOKUP(P3276,Campos!$B$2:$C$7,2,FALSE)","v":0},"Sin información"]
[3271,20,"Oaxaca",4,"Observación Electoral","4.7",7,"Revisión, corrección, verificación y validación de materiales de capacitación para observación electoral ","INE","JLE","2020-10-09","2020-10-30",null,null,{"$f":"VLOOKUP(P3277,Campos!$B$2:$C$7,2,FALSE)","v":0},"Sin información"]
[3272,20,"Oaxaca",4,"Observación Electoral","4.8",8,"Entrega de materiales de capacitación para observación electoral entre OPL e INE","INE/OPL","VEL/OPL","2020-11-01","2020-11-23",null,null,{"$f":"VLOOKUP(P3278,Campos!$B$2:$C$7,2,FALSE)","v":0},"Sin información"]
[3273,20,"Oaxaca",5,"Ubicación de casillas","5.1",1,"Recorridos por las secciones de los distritos para localizar los lugares donde se ubicarán las casillas","INE/OPL","JDE/OPL","2021-01-15","2021-02-15",null,null,{"$f":"VLOOKUP(P3279,Campos!$B$2:$C$7,2,FALSE)","v":0},"Sin información"]
[3274,20,"Oaxaca",5,"Ubicación de casillas","5.2",2,"Presentación a los Consejos Distritales del listado de lugares propuestos para ubicar casillas","INE","JDE","2021-02-24","2021-02-24",null,null,{"$f":"VLOOKUP(P3280,Campos!$B$2:$C$7,2,FALSE)","v":0},"Sin información"]
[3275,20,"Oaxaca",5,"Ubicación de casillas","5.3",3,"Visitas de examinación en los lugares propuestos para ubicar casillas básicas, contiguas, especiales y extraordinarias","INE/OPL","CD/OPL","2021-02-25","2021-03-16",null,null,{"$f":"VLOOKUP(P3281,Campos!$B$2:$C$7,2,FALSE)","v":0},"Sin información"]
[3276,20,"Oaxaca",5,"Ubicación de casillas","5.4",4,"Aprobación del número y ubicación de casillas extraordinarias y especiales","INE","CD","2021-03-16","2021-03-16",null,null,{"$f":"VLOOKUP(P3282,Campos!$B$2:$C$7,2,FALSE)","v":0},"Sin información"]
[3277,20,"Oaxaca",5,"Ubicación de casillas","5.5",5,"Aprobación del número y ubicación de casillas básicas y contiguas","INE","CD","2021-03-25","2021-03-25",null,null,{"$f":"VLOOKUP(P3283,Campos!$B$2:$C$7,2,FALSE)","v":0},"Sin información"]
[3278,20,"Oaxaca",5,"Ubicación de casillas","5.6",6,"Entrega de la base de datos de la Lista Nominal Definitiva a UNICOM con corte al 10 de abril","INE","DERFE","2021-04-15","2021-04-16",null,null,{"$f":"VLOOKUP(P3284,Campos!$B$2:$C$7,2,FALSE)","v":0},"Sin información"]
[3279,20,"Oaxaca",5,"Ubicación de casillas","5.7",7,"Realizar la primera publicación de la lista de ubicación de casillas en los lugares más concurridos del distrito electoral  y en los medios electrónicos del Instituto","INE","CD","2021-04-15","2021-04-15",null,null,{"$f":"VLOOKUP(P3285,Campos!$B$2:$C$7,2,FALSE)","v":0},"Sin información"]
[3280,20,"Oaxaca",5,"Ubicación de casillas","5.8",8,"En su caso, segunda publicación de la lista de ubicación de casillas por causas supervenientes en los lugares más concurridos del distrito y en los medios electrónicos del Instituto","INE","CD","2021-05-15","2021-05-25",null,null,{"$f":"VLOOKUP(P3286,Campos!$B$2:$C$7,2,FALSE)","v":0},"Sin información"]
[3281,20,"Oaxaca",5,"Ubicación de casillas","5.9",9,"Publicación de los encartes y difusión en medios electrónicos del Instituto","INE/OPL","DEOE/CG","2021-06-05","2021-06-06",null,null,{"$f":"VLOOKUP(P3287,Campos!$B$2:$C$7,2,FALSE)","v":0},"Sin información"]
[3282,20,"Oaxaca",5,"Ubicación de casillas","5.10",10,"Registro de representantes generales y ante mesas directivas de casilla","INE","CD","2021-04-16","2021-05-24",null,null,{"$f":"VLOOKUP(P3288,Campos!$B$2:$C$7,2,FALSE)","v":0},"Sin información"]
[3283,20,"Oaxaca",5,"Ubicación de casillas","5.11",11,"Sustitución de representantes generales y ante mesas directivas de casilla","INE","CD","2021-04-16","2021-05-27",null,null,{"$f":"VLOOKUP(P3289,Campos!$B$2:$C$7,2,FALSE)","v":0},"Sin información"]
[3284,20,"Oaxaca",5,"Ubicación de casillas","5.12",12,"Entrega de listados de representantes generales y ante casilla al OPL","INE","CD","2021-05-30","2021-05-30",null,null,{"$f":"VLOOKUP(P3290,Campos!$B$2:$C$7,2,FALSE)","v":0},"Sin información"]
[3285,20,"Oaxaca",5,"Ubicación de casillas","5.13",13,"Notificación ciudadana de ubicación de casillas en secciones electorales involucradas en la actualización del Marco Geográfico Electoral","INE/OPL","DERFE/OPL","2021-04-01","2021-06-15",null,null,{"$f":"VLOOKUP(P3291,Campos!$B$2:$C$7,2,FALSE)","v":0},"Sin información"]
[3286,20,"Oaxaca",6,"Integración de las Mesas Directivas de Casilla","6.1",1,"Aprobación de la Estrategia de Capacitación y Asistencia Electoral","INE","CG","2020-08-01","2020-08-15",null,null,{"$f":"VLOOKUP(P3292,Campos!$B$2:$C$7,2,FALSE)","v":0},"Sin información"]
[3287,20,"Oaxaca",6,"Integración de las Mesas Directivas de Casilla","6.2",2,"Entrega para revisión y validación de materiales didácticos de primera etapa","OPL","CG","2020-11-03","2020-11-03",null,null,{"$f":"VLOOKUP(P3293,Campos!$B$2:$C$7,2,FALSE)","v":0},"Sin información"]
[3288,20,"Oaxaca",6,"Integración de las Mesas Directivas de Casilla","6.3",3,"Revisión, corrección, verificación y validación de los materiales didácticos de primera etapa","INE/OPL","JLE/DECEYEC/OPL","2020-11-03","2020-12-19",null,null,{"$f":"VLOOKUP(P3294,Campos!$B$2:$C$7,2,FALSE)","v":0},"Sin información"]
[3289,20,"Oaxaca",6,"Integración de las Mesas Directivas de Casilla","6.4",4,"Entrega de los materiales impresos de la primera etapa a la JLE","OPL","OPL","2021-02-05","2021-02-05",null,null,{"$f":"VLOOKUP(P3295,Campos!$B$2:$C$7,2,FALSE)","v":0},"Sin información"]
[3290,20,"Oaxaca",6,"Integración de las Mesas Directivas de Casilla","6.5",5,"Sorteo del mes del calendario como base para la insaculación de las y los ciudadanos que integrarán las mesas directivas de casilla","INE","CG","2020-12-15","2020-12-19",null,null,{"$f":"VLOOKUP(P3296,Campos!$B$2:$C$7,2,FALSE)","v":0},"Sin información"]
[3291,20,"Oaxaca",6,"Integración de las Mesas Directivas de Casilla","6.6",6,"Entrega para revisión y validación de materiales didácticos de segunda etapa","OPL","OPL","2021-02-03","2021-02-03",null,null,{"$f":"VLOOKUP(P3297,Campos!$B$2:$C$7,2,FALSE)","v":0},"Sin información"]
[3292,20,"Oaxaca",6,"Integración de las Mesas Directivas de Casilla","6.7",7,"Revisión, corrección, verificación y validación de los materiales didácticos de la segunda etapa","INE/OPL","JLE/DECEYEC/OPL","2021-02-03","2021-03-22",null,null,{"$f":"VLOOKUP(P3298,Campos!$B$2:$C$7,2,FALSE)","v":0},"Sin información"]
[3293,20,"Oaxaca",6,"Integración de las Mesas Directivas de Casilla","6.8",8,"Entrega de los materiales impresos de la segunda etapa a la JLE","OPL","OPL","2021-04-05","2021-04-05",null,null,{"$f":"VLOOKUP(P3299,Campos!$B$2:$C$7,2,FALSE)","v":0},"Sin información"]
[3294,20,"Oaxaca",6,"Integración de las Mesas Directivas de Casilla","6.9",9,"Sorteo de la letra a partir de la cual, con base en el apellido paterno, se seleccionará a las y los ciudadanos que integrarán las mesas directivas de casilla","INE","CG","2021-02-02","2021-02-02",null,null,{"$f":"VLOOKUP(P3300,Campos!$B$2:$C$7,2,FALSE)","v":0},"Sin información"]
[3295,20,"Oaxaca",6,"Integración de las Mesas Directivas de Casilla","6.10",10,"Entrega de la Lista Nominal de Electores para el Procedimiento de la Primera insaculación con corte al 15 de enero de 2021.","INE","DERFE/UNICOM","2021-01-21","2021-01-26",null,null,{"$f":"VLOOKUP(P3301,Campos!$B$2:$C$7,2,FALSE)","v":0},"Sin información"]
[3296,20,"Oaxaca",6,"Integración de las Mesas Directivas de Casilla","6.11",11,"Primera insaculación","INE","JDE","2021-02-06","2021-02-06",null,null,{"$f":"VLOOKUP(P3302,Campos!$B$2:$C$7,2,FALSE)","v":0},"Sin información"]
[3297,20,"Oaxaca",6,"Integración de las Mesas Directivas de Casilla","6.12",12,"Primera etapa de capacitación a las personas insaculadas","INE","CD","2021-02-09","2021-03-31",null,null,{"$f":"VLOOKUP(P3303,Campos!$B$2:$C$7,2,FALSE)","v":0},"Sin información"]
[3298,20,"Oaxaca",6,"Integración de las Mesas Directivas de Casilla","6.13",13,"Integración de la lista de ciudadanos y ciudadanas que cumplen los requisitos legales para integrar las mesas directivas de casilla","INE","CD","2021-02-09","2021-03-31",null,null,{"$f":"VLOOKUP(P3304,Campos!$B$2:$C$7,2,FALSE)","v":0},"Sin información"]
[3299,20,"Oaxaca",6,"Integración de las Mesas Directivas de Casilla","6.14",14,"Segunda insaculación y designación de funcionarios para mesas directivas de casilla","INE","CD","2021-04-08","2021-04-08",null,null,{"$f":"VLOOKUP(P3305,Campos!$B$2:$C$7,2,FALSE)","v":0},"Sin información"]
[3300,20,"Oaxaca",6,"Integración de las Mesas Directivas de Casilla","6.15",15,"Segunda etapa de capacitación a funcionarios de mesa directiva de casilla y simulacros","INE","CD","2021-04-18","2021-06-05",null,null,{"$f":"VLOOKUP(P3306,Campos!$B$2:$C$7,2,FALSE)","v":0},"Sin información"]
[3301,20,"Oaxaca",6,"Integración de las Mesas Directivas de Casilla","6.16",16,"Entrega de reconocimientos a funcionarios de mesas directivas de casilla","INE","CD","2021-06-07","2021-06-12",null,null,{"$f":"VLOOKUP(P3307,Campos!$B$2:$C$7,2,FALSE)","v":0},"Sin información"]
[3302,20,"Oaxaca",6,"Integración de las Mesas Directivas de Casilla","6.17",17,"Periodo para contratación de CAE locales","INE/OPL","INE/OPL","Por definir","Por definir",null,null,{"$f":"VLOOKUP(P3308,Campos!$B$2:$C$7,2,FALSE)","v":0},"Sin información"]
[3303,20,"Oaxaca",6,"Integración de las Mesas Directivas de Casilla","6.18",18,"Reclutamiento y selección de CAE locales","INE/OPL","INE/OPL","Por definir","Por definir",null,null,{"$f":"VLOOKUP(P3309,Campos!$B$2:$C$7,2,FALSE)","v":0},"Sin información"]
[3304,20,"Oaxaca",7,"Fiscalización de los recursos de los Partidos Políticos y candidaturas independientes","7.2",2,"Aprobación de topes de gastos de precampaña Diputaciones","OPL","CG","2020-11-01","2020-11-30",null,null,{"$f":"VLOOKUP(P3310,Campos!$B$2:$C$7,2,FALSE)","v":0},"Sin información"]
[3305,20,"Oaxaca",7,"Fiscalización de los recursos de los Partidos Políticos y candidaturas independientes","7.3",3,"Aprobación de topes de gastos de precampaña Ayuntamientos","OPL","CG","2020-11-01","2020-11-30",null,null,{"$f":"VLOOKUP(P3311,Campos!$B$2:$C$7,2,FALSE)","v":0},"Sin información"]
[3306,20,"Oaxaca",7,"Fiscalización de los recursos de los Partidos Políticos y candidaturas independientes","7.5",5,"Aprobación de los límites de financiamiento privado, aportaciones de militantes, simpatizantes y precandidatos o candidatos; así como el límite individual de aportaciones para Diputaciones","OPL","CG","2021-01-01","2021-01-31",null,null,{"$f":"VLOOKUP(P3312,Campos!$B$2:$C$7,2,FALSE)","v":0},"Sin información"]
[3307,20,"Oaxaca",7,"Fiscalización de los recursos de los Partidos Políticos y candidaturas independientes","7.6",6,"Aprobación de los límites de financiamiento privado, aportaciones de militantes, simpatizantes y precandidatos o candidatos; así como el límite individual de aportaciones para Ayuntamientos","OPL","CG","2021-01-01","2021-01-31",null,null,{"$f":"VLOOKUP(P3313,Campos!$B$2:$C$7,2,FALSE)","v":0},"Sin información"]
[3308,20,"Oaxaca",7,"Fiscalización de los recursos de los Partidos Políticos y candidaturas independientes","7.8",8,"Aprobación de topes de gastos para el periodo de obtención del apoyo ciudadano para Diputaciones","OPL","CG","2020-11-01","2020-11-30",null,null,{"$f":"VLOOKUP(P3314,Campos!$B$2:$C$7,2,FALSE)","v":0},"Sin información"]
[3309,20,"Oaxaca",7,"Fiscalización de los recursos de los Partidos Políticos y candidaturas independientes","7.9",9,"Aprobación de topes de gastos para el periodo de obtención del apoyo ciudadano para Ayuntamientos","OPL","CG","2020-11-01","2020-11-30",null,null,{"$f":"VLOOKUP(P3315,Campos!$B$2:$C$7,2,FALSE)","v":0},"Sin información"]
[3310,20,"Oaxaca",7,"Fiscalización de los recursos de los Partidos Políticos y candidaturas independientes","7.11",11,"Precampaña para Diputaciones","OPL","CG","2021-01-03","2021-02-01",null,null,{"$f":"VLOOKUP(P3316,Campos!$B$2:$C$7,2,FALSE)","v":0},"Sin información"]
[3311,20,"Oaxaca",7,"Fiscalización de los recursos de los Partidos Políticos y candidaturas independientes","7.12",12,"Precampaña para Ayuntamientos","OPL","CG","2021-01-03","2021-02-01",null,null,{"$f":"VLOOKUP(P3317,Campos!$B$2:$C$7,2,FALSE)","v":0},"Sin información"]
[3312,20,"Oaxaca",7,"Fiscalización de los recursos de los Partidos Políticos y candidaturas independientes","7.14",14,"Aprobación de topes de gastos de campaña para Diputaciones","OPL","CG","2020-12-01","2020-12-31",null,null,{"$f":"VLOOKUP(P3318,Campos!$B$2:$C$7,2,FALSE)","v":0},"Sin información"]
[3313,20,"Oaxaca",7,"Fiscalización de los recursos de los Partidos Políticos y candidaturas independientes","7.15",15,"Aprobación de topes de gastos de campaña para Ayuntamientos","OPL","CG","2020-12-01","2020-12-31",null,null,{"$f":"VLOOKUP(P3319,Campos!$B$2:$C$7,2,FALSE)","v":0},"Sin información"]
[3314,20,"Oaxaca",7,"Fiscalización de los recursos de los Partidos Políticos y candidaturas independientes","7.17",17,"Campaña para Diputaciones","OPL","CG","2021-04-24","2021-06-02",null,null,{"$f":"VLOOKUP(P3320,Campos!$B$2:$C$7,2,FALSE)","v":0},"Sin información"]
[3315,20,"Oaxaca",7,"Fiscalización de los recursos de los Partidos Políticos y candidaturas independientes","7.18",18,"Campaña para Ayuntamientos","OPL","CG","2021-05-04","2021-06-02",null,null,{"$f":"VLOOKUP(P3321,Campos!$B$2:$C$7,2,FALSE)","v":0},"Sin información"]
[3316,20,"Oaxaca",7,"Fiscalización de los recursos de los Partidos Políticos y candidaturas independientes","7.19",19,"Aprobación de la distribución de financiamiento público para partidos políticos","OPL","CG","2021-01-01","2021-01-31",null,null,{"$f":"VLOOKUP(P3322,Campos!$B$2:$C$7,2,FALSE)","v":0},"Sin información"]
[3317,20,"Oaxaca",8,"Candidaturas Independientes","8.1",1,"Emisión de la convocatoria para la ciudadanía interesada en participar en Candidaturas Independientes ","OPL","CG","2020-09-01","2020-09-05",null,null,{"$f":"VLOOKUP(P3323,Campos!$B$2:$C$7,2,FALSE)","v":0},"Sin información"]
[3318,20,"Oaxaca",8,"Candidaturas Independientes","8.3",3,"Recepción de escrito de intención y documentación anexa de la ciudadanía que aspire a la candidatura independiente para Diputaciones","OPL","OD","2020-09-06","2020-11-26",null,null,{"$f":"VLOOKUP(P3324,Campos!$B$2:$C$7,2,FALSE)","v":0},"Sin información"]
[3319,20,"Oaxaca",8,"Candidaturas Independientes","8.4",4,"Recepción de escrito de intención y documentación anexa de la ciudadanía que aspire a la candidatura independiente para Ayuntamientos","OPL","SE/OD","2020-09-06","2020-11-26",null,null,{"$f":"VLOOKUP(P3325,Campos!$B$2:$C$7,2,FALSE)","v":0},"Sin información"]
[3320,20,"Oaxaca",8,"Candidaturas Independientes","8.6",6,"Resolución sobre procedencia de manifestación de intención de aspirantes a candidaturas independientes para Diputaciones","OPL","CG","2020-11-27","2021-01-02",null,null,{"$f":"VLOOKUP(P3326,Campos!$B$2:$C$7,2,FALSE)","v":0},"Sin información"]
[3321,20,"Oaxaca",8,"Candidaturas Independientes","8.7",7,"Resolución sobre procedencia de manifestación de intención de aspirantes a candidaturas independientes para Ayuntamientos","OPL","CG","2020-11-27","2021-01-02",null,null,{"$f":"VLOOKUP(P3327,Campos!$B$2:$C$7,2,FALSE)","v":0},"Sin información"]
[3322,20,"Oaxaca",8,"Candidaturas Independientes","8.9",9,"Plazo para obtener el apoyo ciudadano de las candidaturas independientes para Diputaciones","OPL","OD","2021-01-03","2021-02-01",null,null,{"$f":"VLOOKUP(P3328,Campos!$B$2:$C$7,2,FALSE)","v":0},"Sin información"]
[3323,20,"Oaxaca",8,"Candidaturas Independientes","8.10",10,"Plazo para obtener el apoyo ciudadano de las candidaturas independientes para Ayuntamientos","OPL","OD","2021-01-03","2021-02-01",null,null,{"$f":"VLOOKUP(P3329,Campos!$B$2:$C$7,2,FALSE)","v":0},"Sin información"]
[3324,20,"Oaxaca",8,"Candidaturas Independientes","8.12",12,"Plazo para otorgar las constancias de porcentaje a favor de aspirantes a la candidatura independiente para Diputaciones","OPL","CG/OD","2021-02-08","2021-02-28",null,null,{"$f":"VLOOKUP(P3330,Campos!$B$2:$C$7,2,FALSE)","v":0},"Sin información"]
[3325,20,"Oaxaca",8,"Candidaturas Independientes","8.13",13,"Plazo para otorgar las constancias de porcentaje a favor de aspirantes a la candidatura independiente para Ayuntamientos","OPL","CG/OD","2021-02-08","2021-02-28",null,null,{"$f":"VLOOKUP(P3331,Campos!$B$2:$C$7,2,FALSE)","v":0},"Sin información"]
[3326,20,"Oaxaca",9,"Candidaturas","9.1",1,"Registro de plataformas electorales","OPL","CG","2021-01-01","2021-01-15",null,null,{"$f":"VLOOKUP(P3332,Campos!$B$2:$C$7,2,FALSE)","v":0},"Sin información"]
[3327,20,"Oaxaca",9,"Candidaturas","9.3",3,"Solicitud de registro de convenio de coalición para Diputaciones","OPL","CG","2020-09-07","2021-01-03",null,null,{"$f":"VLOOKUP(P3333,Campos!$B$2:$C$7,2,FALSE)","v":0},"Sin información"]
[3328,20,"Oaxaca",9,"Candidaturas","9.4",4,"Solicitud de registro de convenio de coalición para Ayuntamientos","OPL","CG","2020-09-07","2021-01-03",null,null,{"$f":"VLOOKUP(P3334,Campos!$B$2:$C$7,2,FALSE)","v":0},"Sin información"]
[3329,20,"Oaxaca",9,"Candidaturas","9.6",6,"Resolución sobre Convenio de Coalición para Diputaciones","OPL","CG","2020-09-17","2021-01-13",null,null,{"$f":"VLOOKUP(P3335,Campos!$B$2:$C$7,2,FALSE)","v":0},"Sin información"]
[3330,20,"Oaxaca",9,"Candidaturas","9.7",7,"Resolución sobre Convenio de Coalición para Ayuntamientos","OPL","CG","2020-09-17","2021-01-13",null,null,{"$f":"VLOOKUP(P3336,Campos!$B$2:$C$7,2,FALSE)","v":0},"Sin información"]
[3331,20,"Oaxaca",9,"Candidaturas","9.9",9,"Solicitud de registro de Candidaturas para Diputaciones","OPL","CG/OD","2021-03-01","2021-03-15",null,null,{"$f":"VLOOKUP(P3337,Campos!$B$2:$C$7,2,FALSE)","v":0},"Sin información"]
[3332,20,"Oaxaca",9,"Candidaturas","9.11",11,"Solicitud de registro de Candidaturas para Ayuntamientos","OPL","CG/OD","2021-03-01","2021-03-15",null,null,{"$f":"VLOOKUP(P3338,Campos!$B$2:$C$7,2,FALSE)","v":0},"Sin información"]
[3333,20,"Oaxaca",9,"Candidaturas","9.14",14,"Resolución para aprobar las candidaturas para Diputaciones","OPL","CG","2021-03-21","2021-04-23",null,null,{"$f":"VLOOKUP(P3339,Campos!$B$2:$C$7,2,FALSE)","v":0},"Sin información"]
[3334,20,"Oaxaca",9,"Candidaturas","9.16",16,"Resolución para aprobar las candidaturas para Ayuntamientos","OPL","CG/OD","2021-03-21","2021-04-23",null,null,{"$f":"VLOOKUP(P3340,Campos!$B$2:$C$7,2,FALSE)","v":0},"Sin información"]
[3335,20,"Oaxaca",9,"Candidaturas","9.18",18,"Solicitud de registro de candidaturas comunes para Diputaciones ","OPL","CG/OD","2021-03-01","2021-03-15",null,null,{"$f":"VLOOKUP(P3341,Campos!$B$2:$C$7,2,FALSE)","v":0},"Sin información"]
[3336,20,"Oaxaca",9,"Candidaturas","9.19",19,"Solicitud de registro de candidaturas comunes para Ayuntamientos  ","OPL","CG/OD","2021-03-01","2021-03-15",null,null,{"$f":"VLOOKUP(P3342,Campos!$B$2:$C$7,2,FALSE)","v":0},"Sin información"]
[3337,20,"Oaxaca",9,"Candidaturas","9.21",21,"Resolución para aprobar las candidaturas comunes para Diputaciones ","OPL","CG/OD","2021-03-21","2021-04-23",null,null,{"$f":"VLOOKUP(P3343,Campos!$B$2:$C$7,2,FALSE)","v":0},"Sin información"]
[3338,20,"Oaxaca",9,"Candidaturas","9.22",22,"Resolución para aprobar las candidaturas comunes para Ayuntamientos ","OPL","CG/OD","2021-03-21","2021-04-23",null,null,{"$f":"VLOOKUP(P3344,Campos!$B$2:$C$7,2,FALSE)","v":0},"Sin información"]
[3339,20,"Oaxaca",11,"Documentación y material electoral","11.1",1,"Entrega a la Junta Local Ejecutiva del INE, de los diseños y especificaciones técnicas de la documentación y materiales electorales, en medios impresos y electrónicos","OPL","CG","2020-09-01","2020-09-30",null,null,{"$f":"VLOOKUP(P3345,Campos!$B$2:$C$7,2,FALSE)","v":0},"Sin información"]
[3340,20,"Oaxaca",11,"Documentación y material electoral","11.2",2,"Revisión de los documentos y materiales electorales y especificaciones técnicas, presentadas por el OPL","INE","JLE","2020-09-15","2020-12-16",null,null,{"$f":"VLOOKUP(P3346,Campos!$B$2:$C$7,2,FALSE)","v":0},"Sin información"]
[3341,20,"Oaxaca",11,"Documentación y material electoral","11.3",3,"En su caso, atención y presentación, de los cambios pertinentes, conforme a las observaciones emitidas por la Junta Local Ejecutiva del INE","OPL","CG","2020-09-15","2020-12-16",null,null,{"$f":"VLOOKUP(P3347,Campos!$B$2:$C$7,2,FALSE)","v":0},"Sin información"]
[3342,20,"Oaxaca",11,"Documentación y material electoral","11.4",4,"Validación de los documentos y materiales electorales y especificaciones técnicas, con las observaciones subsanadas","INE","DEOE","2020-10-28","2020-12-18",null,null,{"$f":"VLOOKUP(P3348,Campos!$B$2:$C$7,2,FALSE)","v":0},"Sin información"]
[3343,20,"Oaxaca",11,"Documentación y material electoral","11.5",5,"Entrega a la Dirección Ejecutiva de Organización Electoral del INE, del Reporte único sobre la aprobación y adjudicación de los documentos y materiales electorales del OPL, en medios electrónicos","OPL","CG","2021-02-01","2021-02-26",null,null,{"$f":"VLOOKUP(P3349,Campos!$B$2:$C$7,2,FALSE)","v":0},"Sin información"]
[3344,20,"Oaxaca",11,"Documentación y material electoral","11.6",6,"Revisión y en su caso validación, del Reporte único sobre la aprobación y adjudicación de los documentos y materiales electorales del OPL, en medios electrónicos","INE","DEOE","2021-02-15","2021-03-12",null,null,{"$f":"VLOOKUP(P3350,Campos!$B$2:$C$7,2,FALSE)","v":0},"Sin información"]
[3345,20,"Oaxaca",11,"Documentación y material electoral","11.7",7,"Entrega  a la Dirección Ejecutiva de Organización Electoral del INE, del Reporte semanal sobre el avance en la producción de los documentos y materiales electorales del OPL, en medios electrónicos.","OPL","CG","2021-03-15","2021-05-22",null,null,{"$f":"VLOOKUP(P3351,Campos!$B$2:$C$7,2,FALSE)","v":0},"Sin información"]
[3346,20,"Oaxaca",11,"Documentación y material electoral","11.8",8,"Aprobación de la documentación y material electoral","OPL","CG","2020-11-11","2020-12-31",null,null,{"$f":"VLOOKUP(P3352,Campos!$B$2:$C$7,2,FALSE)","v":0},"Sin información"]
[3347,20,"Oaxaca",11,"Documentación y material electoral","11.9",9,"Entrega a la Dirección Ejecutiva de Organización Electoral del INE, del Reporte con los resultados de las verificaciones de las medidas de seguridad en la documentación electoral","OPL","CG","2021-05-27","2021-06-11",null,null,{"$f":"VLOOKUP(P3353,Campos!$B$2:$C$7,2,FALSE)","v":0},"Sin información"]
[3348,20,"Oaxaca",11,"Documentación y material electoral","11.10",10,"Supervisiones respecto de los procedimientos de impresión y producción de la documentación y materiales electorales","INE","DEOE","2021-03-15","2021-05-22",null,null,{"$f":"VLOOKUP(P3354,Campos!$B$2:$C$7,2,FALSE)","v":0},"Sin información"]
[3349,20,"Oaxaca",11,"Documentación y material electoral","11.11",11,"Designación de la persona responsable de llevar el control sobre la asignación de los folios de las boletas que se distribuirán en cada mesa directiva de casilla","OPL","CG","2021-03-01","2021-03-30",null,null,{"$f":"VLOOKUP(P3355,Campos!$B$2:$C$7,2,FALSE)","v":0},"Sin información"]
[3350,20,"Oaxaca",11,"Documentación y material electoral","11.12",12,"Aprobación de SE y CAE, así como de personal que auxiliará en el procedimiento de conteo, sellado y agrupamiento de las boletas electorales; así como la integración de documentación para las casillas","OPL","CG","2021-04-24","2021-05-11",null,null,{"$f":"VLOOKUP(P3356,Campos!$B$2:$C$7,2,FALSE)","v":0},"Sin información"]
[3351,20,"Oaxaca",11,"Documentación y material electoral","11.13",13,"Recepción de las boletas electorales por el órgano competente que realizará el conteo, sellado y agrupamiento","OPL","CG","2021-05-18","2021-05-22",null,null,{"$f":"VLOOKUP(P3357,Campos!$B$2:$C$7,2,FALSE)","v":0},"Sin información"]
[3352,20,"Oaxaca",11,"Documentación y material electoral","11.14",14,"Conteo, sellado y agrupamiento de boletas","OPL","CG","2021-05-18","2021-05-28",null,null,{"$f":"VLOOKUP(P3358,Campos!$B$2:$C$7,2,FALSE)","v":0},"Sin información"]
[3353,20,"Oaxaca",11,"Documentación y material electoral","11.15",15,"Distribución de la documentación y materiales electorales a las y los Presidentes de mesas directivas de casilla","OPL","OD","2021-05-31","2021-06-04",null,null,{"$f":"VLOOKUP(P3359,Campos!$B$2:$C$7,2,FALSE)","v":0},"Sin información"]
[3354,20,"Oaxaca",11,"Documentación y material electoral","11.16",16,"Remisión de los recibos de la entrega de la documentación y materiales electorales al Consejo General del OPL","INE","JLE","2021-06-24","2021-06-30",null,null,{"$f":"VLOOKUP(P3360,Campos!$B$2:$C$7,2,FALSE)","v":0},"Sin información"]
[3355,20,"Oaxaca",12,"Jornada Electoral","12.1",1,"Aprobación del Programa de Operación del SIJE 2021","INE","CCOE","2020-07-01","2020-07-31",null,null,{"$f":"VLOOKUP(P3361,Campos!$B$2:$C$7,2,FALSE)","v":0},"Sin información"]
[3356,20,"Oaxaca",12,"Jornada Electoral","12.2",2,"Aprobación de las metas del SIJE 2021","INE","CG","2021-03-01","2021-03-31",null,null,{"$f":"VLOOKUP(P3362,Campos!$B$2:$C$7,2,FALSE)","v":0},"Sin información"]
[3357,20,"Oaxaca",12,"Jornada Electoral","12.3",3,"Realización de pruebas del SIJE 2021","INE","DEOE","2021-04-01","2021-04-15",null,null,{"$f":"VLOOKUP(P3363,Campos!$B$2:$C$7,2,FALSE)","v":0},"Sin información"]
[3358,20,"Oaxaca",12,"Jornada Electoral","12.4",4,"Desarrollo del primer simulacro del SIJE","INE/OPL","DEOE/OD","2021-04-29","2021-04-29",null,null,{"$f":"VLOOKUP(P3364,Campos!$B$2:$C$7,2,FALSE)","v":0},"Sin información"]
[3359,20,"Oaxaca",12,"Jornada Electoral","12.5",5,"Desarrollo del segundo simulacro del SIJE","INE/OPL","DEOE/OD","2021-05-09","2021-05-09",null,null,{"$f":"VLOOKUP(P3365,Campos!$B$2:$C$7,2,FALSE)","v":0},"Sin información"]
[3360,20,"Oaxaca",12,"Jornada Electoral","12.6",6,"Desarrollo del tercer simulacro del SIJE","INE/OPL","DEOE/OD","2021-05-23","2021-05-23",null,null,{"$f":"VLOOKUP(P3366,Campos!$B$2:$C$7,2,FALSE)","v":0},"Sin información"]
[3361,20,"Oaxaca",12,"Jornada Electoral","12.7",7,"Jornada Electoral","OPL","CG/OD","2021-06-06","2021-06-06",null,null,{"$f":"VLOOKUP(P3367,Campos!$B$2:$C$7,2,FALSE)","v":0},"Sin información"]
[3362,20,"Oaxaca",13,"Bodegas electorales","13.1",1,"Determinación de los lugares que ocuparán las bodegas electorales para el resguardo de la documentación electoral","OPL","CG","2021-02-01","2021-02-28",null,null,{"$f":"VLOOKUP(P3368,Campos!$B$2:$C$7,2,FALSE)","v":0},"Sin información"]
[3363,20,"Oaxaca",13,"Bodegas electorales","13.2",2,"Informe que rinden las y los Presidentes sobre las condiciones de equipamiento, mecanismos de operación y medidas de seguridad de las bodegas electorales","OPL","OD","2021-03-01","2021-03-31",null,null,{"$f":"VLOOKUP(P3369,Campos!$B$2:$C$7,2,FALSE)","v":0},"Sin información"]
[3364,20,"Oaxaca",13,"Bodegas electorales","13.3",3,"Designación, por parte del órgano competente del OPL, del personal que tendrá acceso a la bodega electoral","OPL","CG/OD","2021-03-01","2021-03-30",null,null,{"$f":"VLOOKUP(P3370,Campos!$B$2:$C$7,2,FALSE)","v":0},"Sin información"]
[3365,20,"Oaxaca",13,"Bodegas electorales","13.4",4,"Envío a la UTVOPL, por conducto de la JLE, el informe sobre las condiciones que guardan las bodegas electorales","OPL","CG","2021-04-04","2021-04-10",null,null,{"$f":"VLOOKUP(P3371,Campos!$B$2:$C$7,2,FALSE)","v":0},"Sin información"]
[3366,20,"Oaxaca",14,"Mecanismos de recolección","14.1",1,"Entrega de estudios de factibilidad al OPL","INE","CL","2021-03-15","2021-03-31",null,null,{"$f":"VLOOKUP(P3372,Campos!$B$2:$C$7,2,FALSE)","v":0},"Sin información"]
[3367,20,"Oaxaca",14,"Mecanismos de recolección","14.2",2,"Entrega de observaciones a los estudios de factibilidad ","OPL","CG","2021-04-01","2021-04-24",null,null,{"$f":"VLOOKUP(P3373,Campos!$B$2:$C$7,2,FALSE)","v":0},"Sin información"]
[3368,20,"Oaxaca",14,"Mecanismos de recolección","14.3",3,"Recorridos para verificar las propuestas de los mecanismos de recolección","INE/OPL","CD/OD","2021-03-16","2021-04-24",null,null,{"$f":"VLOOKUP(P3374,Campos!$B$2:$C$7,2,FALSE)","v":0},"Sin información"]
[3369,20,"Oaxaca",14,"Mecanismos de recolección","14.4",4,"Aprobación de los mecanismos de recolección ","INE","CD","2021-04-26","2021-04-30",null,null,{"$f":"VLOOKUP(P3375,Campos!$B$2:$C$7,2,FALSE)","v":0},"Sin información"]
[3370,20,"Oaxaca",14,"Mecanismos de recolección","14.5",5,"Traslado y recolección de los paquetes electorales","INE/OPL","CD/OD","2021-06-06","2021-06-07",null,null,{"$f":"VLOOKUP(P3376,Campos!$B$2:$C$7,2,FALSE)","v":0},"Sin información"]
[3371,20,"Oaxaca",14,"Mecanismos de recolección","14.6",6,"Acreditación de representantes de partidos políticos y candidaturas independientes ante los mecanismos de recolección","INE","CL/CD","2021-04-27","2021-06-03",null,null,{"$f":"VLOOKUP(P3377,Campos!$B$2:$C$7,2,FALSE)","v":0},"Sin información"]
[3372,20,"Oaxaca",14,"Mecanismos de recolección","14.7",7,"Sustitución de representantes de partidos políticos y candidaturas independientes ante los mecanismos de recolección","INE","CL/CD","2021-04-28","2021-06-04",null,null,{"$f":"VLOOKUP(P3378,Campos!$B$2:$C$7,2,FALSE)","v":0},"Sin información"]
[3373,20,"Oaxaca",14,"Mecanismos de recolección","14.8",8,"Entrega a la JLE, el informe sobre la recepción de paquetes electorales en los órganos competentes","OPL","CG","2021-06-06","2021-06-28",null,null,{"$f":"VLOOKUP(P3379,Campos!$B$2:$C$7,2,FALSE)","v":0},"Sin información"]
[3374,20,"Oaxaca",15,"Cómputos","15.1",1,"Aprobación de los lineamientos de cómputo y del cuadernillo de consulta sobre votos válidos y votos nulos","OPL","CG","2021-01-18","2021-01-29",null,null,{"$f":"VLOOKUP(P3380,Campos!$B$2:$C$7,2,FALSE)","v":0},"Sin información"]
[3375,20,"Oaxaca",15,"Cómputos","15.2",2,"Integración por parte de los Órganos Desconcentrados del OPL, de la propuesta para la habilitación de espacios para el recuento de votos con las alternativas para todos los escenarios de cómputo","OPL","OD","2021-03-01","2021-03-07",null,null,{"$f":"VLOOKUP(P3381,Campos!$B$2:$C$7,2,FALSE)","v":0},"Sin información"]
[3376,20,"Oaxaca",15,"Cómputos","15.3",3,"Informe de los escenarios de cómputos de la totalidad de sus órganos desconcentrados","OPL","CG","2021-04-01","2021-04-04",null,null,{"$f":"VLOOKUP(P3382,Campos!$B$2:$C$7,2,FALSE)","v":0},"Sin información"]
[3377,20,"Oaxaca",15,"Cómputos","15.4",4,"Remisión a la JLE en la entidad, las propuestas de escenarios de cómputos, para la dictaminación de viabilidad","OPL","CG","2021-05-01","2021-05-07",null,null,{"$f":"VLOOKUP(P3383,Campos!$B$2:$C$7,2,FALSE)","v":0},"Sin información"]
[3378,20,"Oaxaca",15,"Cómputos","15.5",5,"Remisión de las observaciones a los escenarios de Cómputos al OPL y a su vez informar de las mismas a la UTVOPL","INE","JLE","2021-05-08","2021-05-15",null,null,{"$f":"VLOOKUP(P3384,Campos!$B$2:$C$7,2,FALSE)","v":0},"Sin información"]
[3379,20,"Oaxaca",15,"Cómputos","15.6",6,"Aprobación por parte del órgano competente del OPL, del acuerdo mediante el cual se designa al personal que participará en las tareas de apoyo a los Cómputos Municipales","OPL","CG/OD","2021-04-26","2021-05-05",null,null,{"$f":"VLOOKUP(P3385,Campos!$B$2:$C$7,2,FALSE)","v":0},"Sin información"]
[3380,20,"Oaxaca",15,"Cómputos","15.7",7,"Aprobación por parte del órgano competente del OPL, del acuerdo mediante el cual se designa al personal que participará en las tareas de apoyo a los Cómputos Distritales ","OPL","CG/OD","2021-04-26","2021-05-05",null,null,{"$f":"VLOOKUP(P3386,Campos!$B$2:$C$7,2,FALSE)","v":0},"Sin información"]
[3381,20,"Oaxaca",15,"Cómputos","15.8",8,"Aprobación por parte de los órganos competentes del OPL, de los distintos escenarios de cómputos","OPL","OD","2021-05-08","2021-05-15",null,null,{"$f":"VLOOKUP(P3387,Campos!$B$2:$C$7,2,FALSE)","v":0},"Sin información"]
[3382,20,"Oaxaca",15,"Cómputos","15.9",9,"Aprobación por parte del órgano competente del OPL, del acuerdo por el que se habilitarán espacios para la instalación de grupos de trabajo y, en su caso, puntos de recuento","OPL","CG/OD","2021-06-08","2021-06-08",null,null,{"$f":"VLOOKUP(P3388,Campos!$B$2:$C$7,2,FALSE)","v":0},"Sin información"]
[3383,20,"Oaxaca",15,"Cómputos","15.10",10,"Cómputos Distritales","OPL","OD","2021-06-09","2021-06-12",null,null,{"$f":"VLOOKUP(P3389,Campos!$B$2:$C$7,2,FALSE)","v":0},"Sin información"]
[3384,20,"Oaxaca",15,"Cómputos","15.14",14,"Cómputo Estatal para la asignación diputaciones de Representación Proporcional","OPL","CG","2021-06-13","2021-06-13",null,null,{"$f":"VLOOKUP(P3390,Campos!$B$2:$C$7,2,FALSE)","v":0},"Sin información"]
[3385,20,"Oaxaca",15,"Cómputos","15.11",11,"Cómputos Municipales","OPL","OD","2021-06-10","2021-06-12",null,null,{"$f":"VLOOKUP(P3391,Campos!$B$2:$C$7,2,FALSE)","v":0},"Sin información"]
[3386,20,"Oaxaca",15,"Cómputos","15.16",16,"Asignación de regidurías por el principio de Representación Proporcional","OPL","CG","2021-06-10","2021-06-12",null,null,{"$f":"VLOOKUP(P3392,Campos!$B$2:$C$7,2,FALSE)","v":0},"Sin información"]
[3387,20,"Oaxaca",16,"PREP","16.1",1,"Aprobación del Acuerdo por el que se designa o ratifica a la instancia interna responsable de coordinar el PREP","OPL","CG","2020-09-11","2020-09-11",null,null,{"$f":"VLOOKUP(P3393,Campos!$B$2:$C$7,2,FALSE)","v":0},"Sin información"]
[3388,20,"Oaxaca",16,"PREP","16.2",2,"Aprobación del Acuerdo de Integración del COTAPREP","OPL","CG","2020-11-11","2020-11-11",null,null,{"$f":"VLOOKUP(P3394,Campos!$B$2:$C$7,2,FALSE)","v":0},"Sin información"]
[3389,20,"Oaxaca",16,"PREP","16.3",3,"Documento por el que se determina la implementación del PREP por el OPL o con el apoyo de un Tercero","OPL","CG","2020-12-11","2020-12-11",null,null,{"$f":"VLOOKUP(P3395,Campos!$B$2:$C$7,2,FALSE)","v":0},"Sin información"]
[3390,20,"Oaxaca",16,"PREP","16.4",4,"Aprobación del Acuerdo por el que se determina el Proceso Técnico Operativo ","OPL","CG","2021-01-11","2021-01-11",null,null,{"$f":"VLOOKUP(P3396,Campos!$B$2:$C$7,2,FALSE)","v":0},"Sin información"]
[3391,20,"Oaxaca",16,"PREP","16.5",5,"Aprobación del Acuerdo por el que se determina la ubicación, instalación y habilitación de los CATD y, en su caso, CCV","OPL","CG","2021-02-11","2021-02-11",null,null,{"$f":"VLOOKUP(P3397,Campos!$B$2:$C$7,2,FALSE)","v":0},"Sin información"]
[3392,20,"Oaxaca",16,"PREP","16.6",6,"Documento de Designación del Ente Auditor ","OPL","CG","2021-02-11","2021-02-11",null,null,{"$f":"VLOOKUP(P3398,Campos!$B$2:$C$7,2,FALSE)","v":0},"Sin información"]
[3393,20,"Oaxaca",16,"PREP","16.7",7,"Instrumento jurídico celebrado entre el OPL y el ente auditor","OPL","CG","2021-03-11","2021-03-11",null,null,{"$f":"VLOOKUP(P3399,Campos!$B$2:$C$7,2,FALSE)","v":0},"Sin información"]
[3394,20,"Oaxaca",16,"PREP","16.8",8,"Realización del primer simulacro del PREP","OPL","CG","2021-05-16","2021-05-16",null,null,{"$f":"VLOOKUP(P3400,Campos!$B$2:$C$7,2,FALSE)","v":0},"Sin información"]
[3395,20,"Oaxaca",16,"PREP","16.9",9,"Realización del segundo simulacro del PREP","OPL","CG","2021-05-23","2021-05-23",null,null,{"$f":"VLOOKUP(P3401,Campos!$B$2:$C$7,2,FALSE)","v":0},"Sin información"]
[3396,20,"Oaxaca",16,"PREP","16.10",10,"Realización del tercer simulacro del PREP","OPL","CG","2021-05-30","2021-05-30",null,null,{"$f":"VLOOKUP(P3402,Campos!$B$2:$C$7,2,FALSE)","v":0},"Sin información"]
[3397,20,"Oaxaca",16,"PREP","16.11",11,"Operación del PREP","OPL","CG","2021-06-06","2021-06-07",null,null,{"$f":"VLOOKUP(P3403,Campos!$B$2:$C$7,2,FALSE)","v":0},"Sin información"]
[3398,20,"Oaxaca",19,"Visitantes extranjeros","19.1",1,"Emisión de la Convocatoria para visitantes extranjeros","INE","CG","2020-08-03","2020-09-30",null,null,{"$f":"VLOOKUP(P3404,Campos!$B$2:$C$7,2,FALSE)","v":0},"Sin información"]
[3399,20,"Oaxaca",19,"Visitantes extranjeros","19.2",2,"Difusión de la Convocatoria para visitantes extranjeros","INE","CAI","2020-09-01","2021-05-26",null,null,{"$f":"VLOOKUP(P3405,Campos!$B$2:$C$7,2,FALSE)","v":0},"Sin información"]
[3400,20,"Oaxaca",19,"Visitantes extranjeros","19.3",3,"Recepción de solicitudes de acreditación como visitantes extranjeros","INE","CAI","2020-09-01","2021-05-26",null,null,{"$f":"VLOOKUP(P3406,Campos!$B$2:$C$7,2,FALSE)","v":0},"Sin información"]
[3401,20,"Oaxaca",19,"Visitantes extranjeros","19.4",4,"Resolución de solicitudes de acreditación como visitantes extranjeros","INE","CAI","2020-09-02","2021-05-30",null,null,{"$f":"VLOOKUP(P3407,Campos!$B$2:$C$7,2,FALSE)","v":0},"Sin información"]
[3402,20,"Oaxaca",19,"Visitantes extranjeros","19.5",5,"Entrega de acreditaciones a los visitantes extranjeros","INE","CAI","2020-09-04","2021-06-05",null,null,{"$f":"VLOOKUP(P3408,Campos!$B$2:$C$7,2,FALSE)","v":0},"Sin información"]
[3403,21,"Puebla",1,"Mecanismos de coordinación","1.1",1,"Aprobar Calendarios y Planes Integrales de los Procesos Electorales Locales","INE","CG","2020-08-01","2020-08-07",null,null,{"$f":"VLOOKUP(P3409,Campos!$B$2:$C$7,2,FALSE)","v":0},"Sin información"]
[3404,21,"Puebla",1,"Mecanismos de coordinación","1.2",2,"Firma del Convenio General de Coordinación y Colaboración 2020-2021","INE/OPL","INE/OPL","2020-09-01","2020-10-01",null,null,{"$f":"VLOOKUP(P3410,Campos!$B$2:$C$7,2,FALSE)","v":0},"Sin información"]
[3405,21,"Puebla",1,"Mecanismos de coordinación","1.3",3,"Elaborar un plan de trabajo conjunto para la promoción de la participación ciudadana","INE/OPL","INE/OPL","2020-09-01","2020-12-31",null,null,{"$f":"VLOOKUP(P3411,Campos!$B$2:$C$7,2,FALSE)","v":0},"Sin información"]
[3406,21,"Puebla",1,"Mecanismos de coordinación","1.4",4,"Sesión para dar inicio al PEL","OPL","CG","2020-11-03","2020-11-05",null,null,{"$f":"VLOOKUP(P3412,Campos!$B$2:$C$7,2,FALSE)","v":0},"Sin información"]
[3407,21,"Puebla",1,"Mecanismos de coordinación","1.5",5,"Implementar un plan de trabajo conjunto para la promoción de la participación ciudadana","INE/OPL","INE/OPL","2021-02-01","2021-06-06",null,null,{"$f":"VLOOKUP(P3413,Campos!$B$2:$C$7,2,FALSE)","v":0},"Sin información"]
[3408,21,"Puebla",2,"Integración de órganos desconcentrados","2.1",1,"Convocatoria para la integración de los Órganos Distritales","OPL","CG","2020-08-10","2020-11-19",null,null,{"$f":"VLOOKUP(P3414,Campos!$B$2:$C$7,2,FALSE)","v":0},"Sin información"]
[3409,21,"Puebla",2,"Integración de órganos desconcentrados","2.2",2,"Sesión en la que se designan e integran los Órganos Distritales ","OPL","CG","2020-10-22","2021-01-31",null,null,{"$f":"VLOOKUP(P3415,Campos!$B$2:$C$7,2,FALSE)","v":0},"Sin información"]
[3410,21,"Puebla",2,"Integración de órganos desconcentrados","2.3",3,"Instalación de los Órganos Distritales ","OPL","CG","2020-11-03","2021-01-31",null,null,{"$f":"VLOOKUP(P3416,Campos!$B$2:$C$7,2,FALSE)","v":0},"Sin información"]
[3411,21,"Puebla",2,"Integración de órganos desconcentrados","2.4",4,"Convocatoria para la integración de los Órganos Municipales ","OPL","CG","2020-08-10","2020-12-27",null,null,{"$f":"VLOOKUP(P3417,Campos!$B$2:$C$7,2,FALSE)","v":0},"Sin información"]
[3412,21,"Puebla",2,"Integración de órganos desconcentrados","2.5",5,"Sesión en la que se designan e integran los Órganos Municipales ","OPL","CG","2021-02-04","2021-03-31",null,null,{"$f":"VLOOKUP(P3418,Campos!$B$2:$C$7,2,FALSE)","v":0},"Sin información"]
[3413,21,"Puebla",2,"Integración de órganos desconcentrados","2.6",6,"Instalación de los Órganos Municipales ","OPL","CG","2021-02-13","2021-03-31",null,null,{"$f":"VLOOKUP(P3419,Campos!$B$2:$C$7,2,FALSE)","v":0},"Sin información"]
[3414,21,"Puebla",2,"Integración de órganos desconcentrados","2.7",7,"Designación y/o ratificación de las y los Consejeros Electorales del Consejo Local ","INE","CG","2020-10-01","2020-10-15",null,null,{"$f":"VLOOKUP(P3420,Campos!$B$2:$C$7,2,FALSE)","v":0},"Sin información"]
[3415,21,"Puebla",2,"Integración de órganos desconcentrados","2.8",8,"Instalación del Consejo Local","INE","CL","2020-11-01","2020-11-30",null,null,{"$f":"VLOOKUP(P3421,Campos!$B$2:$C$7,2,FALSE)","v":0},"Sin información"]
[3416,21,"Puebla",2,"Integración de órganos desconcentrados","2.9",9,"Designación y/o ratificación de las y los Consejeros Electorales de los Consejos Distritales ","INE","CL","2020-11-01","2020-11-30",null,null,{"$f":"VLOOKUP(P3422,Campos!$B$2:$C$7,2,FALSE)","v":0},"Sin información"]
[3417,21,"Puebla",2,"Integración de órganos desconcentrados","2.10",10,"Instalación de los Consejos Distritales","INE","CD","2020-12-01","2020-12-15",null,null,{"$f":"VLOOKUP(P3423,Campos!$B$2:$C$7,2,FALSE)","v":0},"Sin información"]
[3418,21,"Puebla",3,"Lista Nominal de Electores","3.1",1,"Generación y entrega de la Lista Nominal de Electores para Revisión en medios ópticos a los representantes de los partidos políticos, y en su caso a las candidaturas independientes acreditados ante el OPL, para observaciones","INE","DERFE","2021-02-15","2021-02-15",null,null,{"$f":"VLOOKUP(P3424,Campos!$B$2:$C$7,2,FALSE)","v":0},"Sin información"]
[3419,21,"Puebla",3,"Lista Nominal de Electores","3.2",2,"Recepción de observaciones de los partidos políticos y en su caso, candidatos independientes, a la Lista Nominal de Electores para revisión","INE/OPL","DERFE","2021-03-14","2021-03-14",null,null,{"$f":"VLOOKUP(P3425,Campos!$B$2:$C$7,2,FALSE)","v":0},"Sin información"]
[3420,21,"Puebla",3,"Lista Nominal de Electores","3.3",3,"Entrega en formato digital el informe respecto de la atención a las observaciones formuladas a la Lista Nominal de Electores para Revisión","INE","DERFE","2021-04-15","2021-04-15",null,null,{"$f":"VLOOKUP(P3426,Campos!$B$2:$C$7,2,FALSE)","v":0},"Sin información"]
[3421,21,"Puebla",3,"Lista Nominal de Electores","3.4",4,"Entrega de la Lista Nominal de Electores Definitiva con fotografía","INE","DERFE","2021-05-06","2021-05-14",null,null,{"$f":"VLOOKUP(P3427,Campos!$B$2:$C$7,2,FALSE)","v":0},"Sin información"]
[3422,21,"Puebla",3,"Lista Nominal de Electores","3.5",5,"Fecha de entrega de la Lista Nominal de Electores con fotografía Producto de Instancias Administrativas y Resoluciones del Tribunal (ADENDA)","INE","DERFE","2021-05-19","2021-05-24",null,null,{"$f":"VLOOKUP(P3428,Campos!$B$2:$C$7,2,FALSE)","v":0},"Sin información"]
[3423,21,"Puebla",4,"Observación Electoral","4.1",1,"Emisión de la convocatoria para la ciudadanía que desee participar en la observación electoral","OPL","CG","2020-11-03","2020-11-05",null,null,{"$f":"VLOOKUP(P3429,Campos!$B$2:$C$7,2,FALSE)","v":0},"Sin información"]
[3424,21,"Puebla",4,"Observación Electoral","4.2",2,"Recepción de solicitudes de la ciudadanía que desee participar en observación electoral","INE/OPL","OPL/JLE/JDE","2020-11-03","2021-04-30",null,null,{"$f":"VLOOKUP(P3430,Campos!$B$2:$C$7,2,FALSE)","v":0},"Sin información"]
[3425,21,"Puebla",4,"Observación Electoral","4.3",3,"Impartición de los cursos de capacitación, preparación o información","INE/OPL","OPL/JLE/JDE","2020-11-03","2021-05-17",null,null,{"$f":"VLOOKUP(P3431,Campos!$B$2:$C$7,2,FALSE)","v":0},"Sin información"]
[3426,21,"Puebla",4,"Observación Electoral","4.4",4,"Acreditación de la ciudadanía como observadores u observadoras electorales","INE","CL/CD","2020-11-03","2021-06-05",null,null,{"$f":"VLOOKUP(P3432,Campos!$B$2:$C$7,2,FALSE)","v":0},"Sin información"]
[3427,21,"Puebla",4,"Observación Electoral","4.5",5,"Seguimiento a los informes mensuales de acreditación","INE","CG","2020-11-03","2021-07-31",null,null,{"$f":"VLOOKUP(P3433,Campos!$B$2:$C$7,2,FALSE)","v":0},"Sin información"]
[3428,21,"Puebla",4,"Observación Electoral","4.6",6,"Remisión de materiales de capacitación a la JLE para revisión","OPL","CG","2020-10-08","2020-10-08",null,null,{"$f":"VLOOKUP(P3434,Campos!$B$2:$C$7,2,FALSE)","v":0},"Sin información"]
[3429,21,"Puebla",4,"Observación Electoral","4.7",7,"Revisión, corrección, verificación y validación de materiales de capacitación para observación electoral ","INE","JLE","2020-10-09","2020-10-30",null,null,{"$f":"VLOOKUP(P3435,Campos!$B$2:$C$7,2,FALSE)","v":0},"Sin información"]
[3430,21,"Puebla",4,"Observación Electoral","4.8",8,"Entrega de materiales de capacitación para observación electoral entre OPL e INE","INE/OPL","VEL/OPL","2020-11-01","2020-11-23",null,null,{"$f":"VLOOKUP(P3436,Campos!$B$2:$C$7,2,FALSE)","v":0},"Sin información"]
[3431,21,"Puebla",5,"Ubicación de casillas","5.1",1,"Recorridos por las secciones de los distritos para localizar los lugares donde se ubicarán las casillas","INE/OPL","JDE/OPL","2021-01-15","2021-02-15",null,null,{"$f":"VLOOKUP(P3437,Campos!$B$2:$C$7,2,FALSE)","v":0},"Sin información"]
[3432,21,"Puebla",5,"Ubicación de casillas","5.2",2,"Presentación a los Consejos Distritales del listado de lugares propuestos para ubicar casillas","INE","JDE","2021-02-24","2021-02-24",null,null,{"$f":"VLOOKUP(P3438,Campos!$B$2:$C$7,2,FALSE)","v":0},"Sin información"]
[3433,21,"Puebla",5,"Ubicación de casillas","5.3",3,"Visitas de examinación en los lugares propuestos para ubicar casillas básicas, contiguas, especiales y extraordinarias","INE/OPL","CD/OPL","2021-02-25","2021-03-16",null,null,{"$f":"VLOOKUP(P3439,Campos!$B$2:$C$7,2,FALSE)","v":0},"Sin información"]
[3434,21,"Puebla",5,"Ubicación de casillas","5.4",4,"Aprobación del número y ubicación de casillas extraordinarias y especiales","INE","CD","2021-03-16","2021-03-16",null,null,{"$f":"VLOOKUP(P3440,Campos!$B$2:$C$7,2,FALSE)","v":0},"Sin información"]
[3435,21,"Puebla",5,"Ubicación de casillas","5.5",5,"Aprobación del número y ubicación de casillas básicas y contiguas","INE","CD","2021-03-25","2021-03-25",null,null,{"$f":"VLOOKUP(P3441,Campos!$B$2:$C$7,2,FALSE)","v":0},"Sin información"]
[3436,21,"Puebla",5,"Ubicación de casillas","5.6",6,"Entrega de la base de datos de la Lista Nominal Definitiva a UNICOM con corte al 10 de abril","INE","DERFE","2021-04-15","2021-04-16",null,null,{"$f":"VLOOKUP(P3442,Campos!$B$2:$C$7,2,FALSE)","v":0},"Sin información"]
[3437,21,"Puebla",5,"Ubicación de casillas","5.7",7,"Realizar la primera publicación de la lista de ubicación de casillas en los lugares más concurridos del distrito electoral  y en los medios electrónicos del Instituto","INE","CD","2021-04-15","2021-04-15",null,null,{"$f":"VLOOKUP(P3443,Campos!$B$2:$C$7,2,FALSE)","v":0},"Sin información"]
[3438,21,"Puebla",5,"Ubicación de casillas","5.8",8,"En su caso, segunda publicación de la lista de ubicación de casillas por causas supervenientes en los lugares más concurridos del distrito y en los medios electrónicos del Instituto","INE","CD","2021-05-15","2021-05-25",null,null,{"$f":"VLOOKUP(P3444,Campos!$B$2:$C$7,2,FALSE)","v":0},"Sin información"]
[3439,21,"Puebla",5,"Ubicación de casillas","5.9",9,"Publicación de los encartes y difusión en medios electrónicos del Instituto","INE/OPL","DEOE/CG","2021-06-05","2021-06-06",null,null,{"$f":"VLOOKUP(P3445,Campos!$B$2:$C$7,2,FALSE)","v":0},"Sin información"]
[3440,21,"Puebla",5,"Ubicación de casillas","5.10",10,"Registro de representantes generales y ante mesas directivas de casilla","INE","CD","2021-04-16","2021-05-24",null,null,{"$f":"VLOOKUP(P3446,Campos!$B$2:$C$7,2,FALSE)","v":0},"Sin información"]
[3441,21,"Puebla",5,"Ubicación de casillas","5.11",11,"Sustitución de representantes generales y ante mesas directivas de casilla","INE","CD","2021-04-16","2021-05-27",null,null,{"$f":"VLOOKUP(P3447,Campos!$B$2:$C$7,2,FALSE)","v":0},"Sin información"]
[3442,21,"Puebla",5,"Ubicación de casillas","5.12",12,"Entrega de listados de representantes generales y ante casilla al OPL","INE","CD","2021-05-30","2021-05-30",null,null,{"$f":"VLOOKUP(P3448,Campos!$B$2:$C$7,2,FALSE)","v":0},"Sin información"]
[3443,21,"Puebla",5,"Ubicación de casillas","5.13",13,"Notificación ciudadana de ubicación de casillas en secciones electorales involucradas en la actualización del Marco Geográfico Electoral","INE/OPL","DERFE/OPL","2021-04-01","2021-06-15",null,null,{"$f":"VLOOKUP(P3449,Campos!$B$2:$C$7,2,FALSE)","v":0},"Sin información"]
[3444,21,"Puebla",6,"Integración de las Mesas Directivas de Casilla","6.1",1,"Aprobación de la Estrategia de Capacitación y Asistencia Electoral","INE","CG","2020-08-01","2020-08-15",null,null,{"$f":"VLOOKUP(P3450,Campos!$B$2:$C$7,2,FALSE)","v":0},"Sin información"]
[3445,21,"Puebla",6,"Integración de las Mesas Directivas de Casilla","6.2",2,"Entrega para revisión y validación de materiales didácticos de primera etapa","OPL","CG","2020-11-03","2020-11-03",null,null,{"$f":"VLOOKUP(P3451,Campos!$B$2:$C$7,2,FALSE)","v":0},"Sin información"]
[3446,21,"Puebla",6,"Integración de las Mesas Directivas de Casilla","6.3",3,"Revisión, corrección, verificación y validación de los materiales didácticos de primera etapa","INE/OPL","JLE/DECEYEC/OPL","2020-11-03","2020-12-19",null,null,{"$f":"VLOOKUP(P3452,Campos!$B$2:$C$7,2,FALSE)","v":0},"Sin información"]
[3447,21,"Puebla",6,"Integración de las Mesas Directivas de Casilla","6.4",4,"Entrega de los materiales impresos de la primera etapa a la JLE","OPL","OPL","2021-02-05","2021-02-05",null,null,{"$f":"VLOOKUP(P3453,Campos!$B$2:$C$7,2,FALSE)","v":0},"Sin información"]
[3448,21,"Puebla",6,"Integración de las Mesas Directivas de Casilla","6.5",5,"Sorteo del mes del calendario como base para la insaculación de las y los ciudadanos que integrarán las mesas directivas de casilla","INE","CG","2020-12-15","2020-12-19",null,null,{"$f":"VLOOKUP(P3454,Campos!$B$2:$C$7,2,FALSE)","v":0},"Sin información"]
[3449,21,"Puebla",6,"Integración de las Mesas Directivas de Casilla","6.6",6,"Entrega para revisión y validación de materiales didácticos de segunda etapa","OPL","OPL","2021-02-03","2021-02-03",null,null,{"$f":"VLOOKUP(P3455,Campos!$B$2:$C$7,2,FALSE)","v":0},"Sin información"]
[3450,21,"Puebla",6,"Integración de las Mesas Directivas de Casilla","6.7",7,"Revisión, corrección, verificación y validación de los materiales didácticos de la segunda etapa","INE/OPL","JLE/DECEYEC/OPL","2021-02-03","2021-03-22",null,null,{"$f":"VLOOKUP(P3456,Campos!$B$2:$C$7,2,FALSE)","v":0},"Sin información"]
[3451,21,"Puebla",6,"Integración de las Mesas Directivas de Casilla","6.8",8,"Entrega de los materiales impresos de la segunda etapa a la JLE","OPL","OPL","2021-04-05","2021-04-05",null,null,{"$f":"VLOOKUP(P3457,Campos!$B$2:$C$7,2,FALSE)","v":0},"Sin información"]
[3452,21,"Puebla",6,"Integración de las Mesas Directivas de Casilla","6.9",9,"Sorteo de la letra a partir de la cual, con base en el apellido paterno, se seleccionará a las y los ciudadanos que integrarán las mesas directivas de casilla","INE","CG","2021-02-02","2021-02-02",null,null,{"$f":"VLOOKUP(P3458,Campos!$B$2:$C$7,2,FALSE)","v":0},"Sin información"]
[3453,21,"Puebla",6,"Integración de las Mesas Directivas de Casilla","6.10",10,"Entrega de la Lista Nominal de Electores para el Procedimiento de la Primera insaculación con corte al 15 de enero de 2021.","INE","DERFE/UNICOM","2021-01-21","2021-01-26",null,null,{"$f":"VLOOKUP(P3459,Campos!$B$2:$C$7,2,FALSE)","v":0},"Sin información"]
[3454,21,"Puebla",6,"Integración de las Mesas Directivas de Casilla","6.11",11,"Primera insaculación","INE","JDE","2021-02-06","2021-02-06",null,null,{"$f":"VLOOKUP(P3460,Campos!$B$2:$C$7,2,FALSE)","v":0},"Sin información"]
[3455,21,"Puebla",6,"Integración de las Mesas Directivas de Casilla","6.12",12,"Primera etapa de capacitación a las personas insaculadas","INE","CD","2021-02-09","2021-03-31",null,null,{"$f":"VLOOKUP(P3461,Campos!$B$2:$C$7,2,FALSE)","v":0},"Sin información"]
[3456,21,"Puebla",6,"Integración de las Mesas Directivas de Casilla","6.13",13,"Integración de la lista de ciudadanos y ciudadanas que cumplen los requisitos legales para integrar las mesas directivas de casilla","INE","CD","2021-02-09","2021-03-31",null,null,{"$f":"VLOOKUP(P3462,Campos!$B$2:$C$7,2,FALSE)","v":0},"Sin información"]
[3457,21,"Puebla",6,"Integración de las Mesas Directivas de Casilla","6.14",14,"Segunda insaculación y designación de funcionarios para mesas directivas de casilla","INE","CD","2021-04-08","2021-04-08",null,null,{"$f":"VLOOKUP(P3463,Campos!$B$2:$C$7,2,FALSE)","v":0},"Sin información"]
[3458,21,"Puebla",6,"Integración de las Mesas Directivas de Casilla","6.15",15,"Segunda etapa de capacitación a funcionarios de mesa directiva de casilla y simulacros","INE","CD","2021-04-18","2021-06-05",null,null,{"$f":"VLOOKUP(P3464,Campos!$B$2:$C$7,2,FALSE)","v":0},"Sin información"]
[3459,21,"Puebla",6,"Integración de las Mesas Directivas de Casilla","6.16",16,"Entrega de reconocimientos a funcionarios de mesas directivas de casilla","INE","CD","2021-06-07","2021-06-12",null,null,{"$f":"VLOOKUP(P3465,Campos!$B$2:$C$7,2,FALSE)","v":0},"Sin información"]
[3460,21,"Puebla",6,"Integración de las Mesas Directivas de Casilla","6.17",17,"Periodo para contratación de CAE locales","INE/OPL","INE/OPL","Por definir","Por definir",null,null,{"$f":"VLOOKUP(P3466,Campos!$B$2:$C$7,2,FALSE)","v":0},"Sin información"]
[3461,21,"Puebla",6,"Integración de las Mesas Directivas de Casilla","6.18",18,"Reclutamiento y selección de CAE locales","INE/OPL","INE/OPL","Por definir","Por definir",null,null,{"$f":"VLOOKUP(P3467,Campos!$B$2:$C$7,2,FALSE)","v":0},"Sin información"]
[3462,21,"Puebla",7,"Fiscalización de los recursos de los Partidos Políticos y candidaturas independientes","7.2",2,"Aprobación de topes de gastos de precampaña Diputaciones","OPL","CG","2020-11-03","2020-11-05",null,null,{"$f":"VLOOKUP(P3468,Campos!$B$2:$C$7,2,FALSE)","v":0},"Sin información"]
[3463,21,"Puebla",7,"Fiscalización de los recursos de los Partidos Políticos y candidaturas independientes","7.3",3,"Aprobación de topes de gastos de precampaña Ayuntamientos","OPL","CG","2020-11-03","2020-11-05",null,null,{"$f":"VLOOKUP(P3469,Campos!$B$2:$C$7,2,FALSE)","v":0},"Sin información"]
[3464,21,"Puebla",7,"Fiscalización de los recursos de los Partidos Políticos y candidaturas independientes","7.5",5,"Aprobación de los límites de financiamiento privado, aportaciones de militantes, simpatizantes y precandidatos o candidatos; así como el límite individual de aportaciones para Diputaciones","OPL","CG","2020-11-03","2020-11-05",null,null,{"$f":"VLOOKUP(P3470,Campos!$B$2:$C$7,2,FALSE)","v":0},"Sin información"]
[3465,21,"Puebla",7,"Fiscalización de los recursos de los Partidos Políticos y candidaturas independientes","7.6",6,"Aprobación de los límites de financiamiento privado, aportaciones de militantes, simpatizantes y precandidatos o candidatos; así como el límite individual de aportaciones para Ayuntamientos","OPL","CG","2020-11-03","2020-11-05",null,null,{"$f":"VLOOKUP(P3471,Campos!$B$2:$C$7,2,FALSE)","v":0},"Sin información"]
[3466,21,"Puebla",7,"Fiscalización de los recursos de los Partidos Políticos y candidaturas independientes","7.8",8,"Aprobación de topes de gastos para el periodo de obtención del apoyo ciudadano para Diputaciones","OPL","CG","2021-01-15","2021-02-04",null,null,{"$f":"VLOOKUP(P3472,Campos!$B$2:$C$7,2,FALSE)","v":0},"Sin información"]
[3467,21,"Puebla",7,"Fiscalización de los recursos de los Partidos Políticos y candidaturas independientes","7.9",9,"Aprobación de topes de gastos para el periodo de obtención del apoyo ciudadano para Ayuntamientos","OPL","CG","2021-01-15","2021-02-04",null,null,{"$f":"VLOOKUP(P3473,Campos!$B$2:$C$7,2,FALSE)","v":0},"Sin información"]
[3468,21,"Puebla",7,"Fiscalización de los recursos de los Partidos Políticos y candidaturas independientes","7.11",11,"Precampaña para Diputaciones","OPL","CG","2021-03-15","2021-03-24",null,null,{"$f":"VLOOKUP(P3474,Campos!$B$2:$C$7,2,FALSE)","v":0},"Sin información"]
[3469,21,"Puebla",7,"Fiscalización de los recursos de los Partidos Políticos y candidaturas independientes","7.12",12,"Precampaña para Ayuntamientos","OPL","CG","2021-03-15","2021-03-24",null,null,{"$f":"VLOOKUP(P3475,Campos!$B$2:$C$7,2,FALSE)","v":0},"Sin información"]
[3470,21,"Puebla",7,"Fiscalización de los recursos de los Partidos Políticos y candidaturas independientes","7.14",14,"Aprobación de topes de gastos de campaña para Diputaciones","OPL","CG","2021-03-15","2021-04-03",null,null,{"$f":"VLOOKUP(P3476,Campos!$B$2:$C$7,2,FALSE)","v":0},"Sin información"]
[3471,21,"Puebla",7,"Fiscalización de los recursos de los Partidos Políticos y candidaturas independientes","7.15",15,"Aprobación de topes de gastos de campaña para Ayuntamientos","OPL","CG","2021-03-15","2021-04-03",null,null,{"$f":"VLOOKUP(P3477,Campos!$B$2:$C$7,2,FALSE)","v":0},"Sin información"]
[3472,21,"Puebla",7,"Fiscalización de los recursos de los Partidos Políticos y candidaturas independientes","7.17",17,"Campaña para Diputaciones","OPL","CG","2021-05-04","2021-06-02",null,null,{"$f":"VLOOKUP(P3478,Campos!$B$2:$C$7,2,FALSE)","v":0},"Sin información"]
[3473,21,"Puebla",7,"Fiscalización de los recursos de los Partidos Políticos y candidaturas independientes","7.18",18,"Campaña para Ayuntamientos","OPL","CG","2021-05-04","2021-06-02",null,null,{"$f":"VLOOKUP(P3479,Campos!$B$2:$C$7,2,FALSE)","v":0},"Sin información"]
[3474,21,"Puebla",7,"Fiscalización de los recursos de los Partidos Políticos y candidaturas independientes","7.19",19,"Aprobación de la distribución de financiamiento público para partidos políticos","OPL","CG","2021-01-01","2021-01-31",null,null,{"$f":"VLOOKUP(P3480,Campos!$B$2:$C$7,2,FALSE)","v":0},"Sin información"]
[3475,21,"Puebla",8,"Candidaturas Independientes","8.1",1,"Emisión de la convocatoria para la ciudadanía interesada en participar en Candidaturas Independientes ","OPL","CG","2021-01-15","2021-01-21",null,null,{"$f":"VLOOKUP(P3481,Campos!$B$2:$C$7,2,FALSE)","v":0},"Sin información"]
[3476,21,"Puebla",8,"Candidaturas Independientes","8.3",3,"Recepción de escrito de intención y documentación anexa de la ciudadanía que aspire a la candidatura independiente para Diputaciones","OPL","OD","2021-01-16","2021-02-15",null,null,{"$f":"VLOOKUP(P3482,Campos!$B$2:$C$7,2,FALSE)","v":0},"Sin información"]
[3477,21,"Puebla",8,"Candidaturas Independientes","8.4",4,"Recepción de escrito de intención y documentación anexa de la ciudadanía que aspire a la candidatura independiente para Ayuntamientos","OPL","SE/OD","2021-01-16","2021-02-15",null,null,{"$f":"VLOOKUP(P3483,Campos!$B$2:$C$7,2,FALSE)","v":0},"Sin información"]
[3478,21,"Puebla",8,"Candidaturas Independientes","8.6",6,"Resolución sobre procedencia de manifestación de intención de aspirantes a candidaturas independientes para Diputaciones","OPL","CG","2021-02-16","2021-02-26",null,null,{"$f":"VLOOKUP(P3484,Campos!$B$2:$C$7,2,FALSE)","v":0},"Sin información"]
[3479,21,"Puebla",8,"Candidaturas Independientes","8.7",7,"Resolución sobre procedencia de manifestación de intención de aspirantes a candidaturas independientes para Ayuntamientos","OPL","CG","2021-02-16","2021-02-26",null,null,{"$f":"VLOOKUP(P3485,Campos!$B$2:$C$7,2,FALSE)","v":0},"Sin información"]
[3480,21,"Puebla",8,"Candidaturas Independientes","8.9",9,"Plazo para obtener el apoyo ciudadano de las candidaturas independientes para Diputaciones","OPL","OD","2021-03-05","2021-04-03",null,null,{"$f":"VLOOKUP(P3486,Campos!$B$2:$C$7,2,FALSE)","v":0},"Sin información"]
[3481,21,"Puebla",8,"Candidaturas Independientes","8.10",10,"Plazo para obtener el apoyo ciudadano de las candidaturas independientes para Ayuntamientos","OPL","OD","2021-03-05","2021-04-03",null,null,{"$f":"VLOOKUP(P3487,Campos!$B$2:$C$7,2,FALSE)","v":0},"Sin información"]
[3482,21,"Puebla",8,"Candidaturas Independientes","8.12",12,"Plazo para otorgar las constancias de porcentaje a favor de aspirantes a la candidatura independiente para Diputaciones","OPL","CG","2021-04-04","2021-05-03",null,null,{"$f":"VLOOKUP(P3488,Campos!$B$2:$C$7,2,FALSE)","v":0},"Sin información"]
[3483,21,"Puebla",8,"Candidaturas Independientes","8.13",13,"Plazo para otorgar las constancias de porcentaje a favor de aspirantes a la candidatura independiente para Ayuntamientos","OPL","CG","2021-04-04","2021-05-03",null,null,{"$f":"VLOOKUP(P3489,Campos!$B$2:$C$7,2,FALSE)","v":0},"Sin información"]
[3484,21,"Puebla",9,"Candidaturas","9.1",1,"Registro de plataformas electorales","OPL","CG","2021-02-01","2021-02-28",null,null,{"$f":"VLOOKUP(P3490,Campos!$B$2:$C$7,2,FALSE)","v":0},"Sin información"]
[3485,21,"Puebla",9,"Candidaturas","9.3",3,"Solicitud de registro de convenio de coalición para Diputaciones","OPL","CG","2021-01-01","2021-03-15",null,null,{"$f":"VLOOKUP(P3491,Campos!$B$2:$C$7,2,FALSE)","v":0},"Sin información"]
[3486,21,"Puebla",9,"Candidaturas","9.4",4,"Solicitud de registro de convenio de coalición para Ayuntamientos","OPL","CG","2021-01-01","2021-03-15",null,null,{"$f":"VLOOKUP(P3492,Campos!$B$2:$C$7,2,FALSE)","v":0},"Sin información"]
[3487,21,"Puebla",9,"Candidaturas","9.6",6,"Resolución sobre Convenio de Coalición para Diputaciones","OPL","CG","2021-01-11","2021-03-25",null,null,{"$f":"VLOOKUP(P3493,Campos!$B$2:$C$7,2,FALSE)","v":0},"Sin información"]
[3488,21,"Puebla",9,"Candidaturas","9.7",7,"Resolución sobre Convenio de Coalición para Ayuntamientos","OPL","CG","2021-01-11","2021-03-25",null,null,{"$f":"VLOOKUP(P3494,Campos!$B$2:$C$7,2,FALSE)","v":0},"Sin información"]
[3489,21,"Puebla",9,"Candidaturas","9.9",9,"Solicitud de registro de Candidaturas para Diputaciones","OPL","CG/OD","2021-04-04","2021-04-10",null,null,{"$f":"VLOOKUP(P3495,Campos!$B$2:$C$7,2,FALSE)","v":0},"Sin información"]
[3490,21,"Puebla",9,"Candidaturas","9.11",11,"Solicitud de registro de Candidaturas para Ayuntamientos","OPL","CG/OD","2021-04-04","2021-04-10",null,null,{"$f":"VLOOKUP(P3496,Campos!$B$2:$C$7,2,FALSE)","v":0},"Sin información"]
[3491,21,"Puebla",9,"Candidaturas","9.14",14,"Resolución para aprobar las candidaturas para Diputaciones","OPL","CG","2021-05-03","2021-05-03",null,null,{"$f":"VLOOKUP(P3497,Campos!$B$2:$C$7,2,FALSE)","v":0},"Sin información"]
[3492,21,"Puebla",9,"Candidaturas","9.16",16,"Resolución para aprobar las candidaturas para Ayuntamientos","OPL","CG/OD","2021-05-03","2021-05-03",null,null,{"$f":"VLOOKUP(P3498,Campos!$B$2:$C$7,2,FALSE)","v":0},"Sin información"]
[3493,21,"Puebla",9,"Candidaturas","9.18",18,"Solicitud de registro de candidaturas comunes para Diputaciones ","OPL","CG/OD","2021-05-03","2021-05-03",null,null,{"$f":"VLOOKUP(P3499,Campos!$B$2:$C$7,2,FALSE)","v":0},"Sin información"]
[3494,21,"Puebla",9,"Candidaturas","9.19",19,"Solicitud de registro de candidaturas comunes para Ayuntamientos  ","OPL","CG/OD","2021-05-03","2021-05-03",null,null,{"$f":"VLOOKUP(P3500,Campos!$B$2:$C$7,2,FALSE)","v":0},"Sin información"]
[3495,21,"Puebla",9,"Candidaturas","9.21",21,"Resolución para aprobar las candidaturas comunes para diputaciones ","OPL","CG/OD","2021-05-03","2021-05-03",null,null,{"$f":"VLOOKUP(P3501,Campos!$B$2:$C$7,2,FALSE)","v":0},"Sin información"]
[3496,21,"Puebla",9,"Candidaturas","9.22",22,"Resolución para aprobar las candidaturas comunes para Ayuntamientos ","OPL","CG/OD","2021-05-03","2021-05-03",null,null,{"$f":"VLOOKUP(P3502,Campos!$B$2:$C$7,2,FALSE)","v":0},"Sin información"]
[3497,21,"Puebla",10,"Debates","10.2",2,"Realización de debate(s)","OPL","CG","Por definir ","Por definir ",null,null,{"$f":"VLOOKUP(P3503,Campos!$B$2:$C$7,2,FALSE)","v":0},"Sin información"]
[3498,21,"Puebla",11,"Documentación y material electoral","11.1",1,"Entrega a la Junta Local Ejecutiva del INE, de los diseños y especificaciones técnicas de la documentación y materiales electorales, en medios impresos y electrónicos","OPL","CG","2020-09-01","2020-09-30",null,null,{"$f":"VLOOKUP(P3504,Campos!$B$2:$C$7,2,FALSE)","v":0},"Sin información"]
[3499,21,"Puebla",11,"Documentación y material electoral","11.2",2,"Revisión de los documentos y materiales electorales y especificaciones técnicas, presentadas por el OPL","INE","JLE","2020-09-15","2020-12-16",null,null,{"$f":"VLOOKUP(P3505,Campos!$B$2:$C$7,2,FALSE)","v":0},"Sin información"]
[3500,21,"Puebla",11,"Documentación y material electoral","11.3",3,"En su caso, atención y presentación, de los cambios pertinentes, conforme a las observaciones emitidas por la Junta Local Ejecutiva del INE","OPL","CG","2020-09-15","2020-12-16",null,null,{"$f":"VLOOKUP(P3506,Campos!$B$2:$C$7,2,FALSE)","v":0},"Sin información"]
[3501,21,"Puebla",11,"Documentación y material electoral","11.4",4,"Validación de los documentos y materiales electorales y especificaciones técnicas, con las observaciones subsanadas","INE","DEOE","2020-10-28","2020-12-18",null,null,{"$f":"VLOOKUP(P3507,Campos!$B$2:$C$7,2,FALSE)","v":0},"Sin información"]
[3502,21,"Puebla",11,"Documentación y material electoral","11.5",5,"Entrega a la Dirección Ejecutiva de Organización Electoral del INE, del Reporte único sobre la aprobación y adjudicación de los documentos y materiales electorales del OPL, en medios electrónicos","OPL","CG","2021-02-01","2021-02-26",null,null,{"$f":"VLOOKUP(P3508,Campos!$B$2:$C$7,2,FALSE)","v":0},"Sin información"]
[3503,21,"Puebla",11,"Documentación y material electoral","11.6",6,"Revisión y en su caso validación, del Reporte único sobre la aprobación y adjudicación de los documentos y materiales electorales del OPL, en medios electrónicos","INE","DEOE","2021-02-15","2021-03-12",null,null,{"$f":"VLOOKUP(P3509,Campos!$B$2:$C$7,2,FALSE)","v":0},"Sin información"]
[3504,21,"Puebla",11,"Documentación y material electoral","11.7",7,"Entrega  a la Dirección Ejecutiva de Organización Electoral del INE, del Reporte semanal sobre el avance en la producción de los documentos y materiales electorales del OPL, en medios electrónicos.","OPL","CG","2021-03-15","2021-05-22",null,null,{"$f":"VLOOKUP(P3510,Campos!$B$2:$C$7,2,FALSE)","v":0},"Sin información"]
[3505,21,"Puebla",11,"Documentación y material electoral","11.8",8,"Aprobación de la documentación y material electoral","OPL","CG","2020-11-11","2020-12-31",null,null,{"$f":"VLOOKUP(P3511,Campos!$B$2:$C$7,2,FALSE)","v":0},"Sin información"]
[3506,21,"Puebla",11,"Documentación y material electoral","11.9",9,"Entrega a la Dirección Ejecutiva de Organización Electoral del INE, del Reporte con los resultados de las verificaciones de las medidas de seguridad en la documentación electoral","OPL","CG","2021-05-27","2021-06-11",null,null,{"$f":"VLOOKUP(P3512,Campos!$B$2:$C$7,2,FALSE)","v":0},"Sin información"]
[3507,21,"Puebla",11,"Documentación y material electoral","11.10",10,"Supervisiones respecto de los procedimientos de impresión y producción de la documentación y materiales electorales","INE","DEOE","2021-03-15","2021-05-22",null,null,{"$f":"VLOOKUP(P3513,Campos!$B$2:$C$7,2,FALSE)","v":0},"Sin información"]
[3508,21,"Puebla",11,"Documentación y material electoral","11.11",11,"Designación de la persona responsable de llevar el control sobre la asignación de los folios de las boletas que se distribuirán en cada mesa directiva de casilla","OPL","CG","2021-03-01","2021-03-30",null,null,{"$f":"VLOOKUP(P3514,Campos!$B$2:$C$7,2,FALSE)","v":0},"Sin información"]
[3509,21,"Puebla",11,"Documentación y material electoral","11.12",12,"Aprobación de SE y CAE, así como de personal que auxiliará en el procedimiento de conteo, sellado y agrupamiento de las boletas electorales; así como la integración de documentación para las casillas","OPL","CG","2021-04-24","2021-05-11",null,null,{"$f":"VLOOKUP(P3515,Campos!$B$2:$C$7,2,FALSE)","v":0},"Sin información"]
[3510,21,"Puebla",11,"Documentación y material electoral","11.13",13,"Recepción de las boletas electorales por el órgano competente que realizará el conteo, sellado y agrupamiento","OPL","CG","2021-05-18","2021-05-22",null,null,{"$f":"VLOOKUP(P3516,Campos!$B$2:$C$7,2,FALSE)","v":0},"Sin información"]
[3511,21,"Puebla",11,"Documentación y material electoral","11.14",14,"Conteo, sellado y agrupamiento de boletas","OPL","CG","2021-05-18","2021-05-28",null,null,{"$f":"VLOOKUP(P3517,Campos!$B$2:$C$7,2,FALSE)","v":0},"Sin información"]
[3512,21,"Puebla",11,"Documentación y material electoral","11.15",15,"Distribución de la documentación y materiales electorales a las y los Presidentes de mesas directivas de casilla","OPL","OD","2021-05-31","2021-06-04",null,null,{"$f":"VLOOKUP(P3518,Campos!$B$2:$C$7,2,FALSE)","v":0},"Sin información"]
[3513,21,"Puebla",11,"Documentación y material electoral","11.16",16,"Remisión de los recibos de la entrega de la documentación y materiales electorales al Consejo General del OPL","INE","JLE","2021-06-24","2021-06-30",null,null,{"$f":"VLOOKUP(P3519,Campos!$B$2:$C$7,2,FALSE)","v":0},"Sin información"]
[3514,21,"Puebla",12,"Jornada Electoral","12.1",1,"Aprobación del Programa de Operación del SIJE 2021","INE","CCOE","2020-07-01","2020-07-31",null,null,{"$f":"VLOOKUP(P3520,Campos!$B$2:$C$7,2,FALSE)","v":0},"Sin información"]
[3515,21,"Puebla",12,"Jornada Electoral","12.2",2,"Aprobación de las metas del SIJE 2021","INE","CG","2021-03-01","2021-03-31",null,null,{"$f":"VLOOKUP(P3521,Campos!$B$2:$C$7,2,FALSE)","v":0},"Sin información"]
[3516,21,"Puebla",12,"Jornada Electoral","12.3",3,"Realización de pruebas del SIJE 2021","INE","DEOE","2021-04-01","2021-04-15",null,null,{"$f":"VLOOKUP(P3522,Campos!$B$2:$C$7,2,FALSE)","v":0},"Sin información"]
[3517,21,"Puebla",12,"Jornada Electoral","12.4",4,"Desarrollo del primer simulacro del SIJE","INE/OPL","DEOE/OD","2021-04-29","2021-04-29",null,null,{"$f":"VLOOKUP(P3523,Campos!$B$2:$C$7,2,FALSE)","v":0},"Sin información"]
[3518,21,"Puebla",12,"Jornada Electoral","12.5",5,"Desarrollo del segundo simulacro del SIJE","INE/OPL","DEOE/OD","2021-05-09","2021-05-09",null,null,{"$f":"VLOOKUP(P3524,Campos!$B$2:$C$7,2,FALSE)","v":0},"Sin información"]
[3519,21,"Puebla",12,"Jornada Electoral","12.6",6,"Desarrollo del tercer simulacro del SIJE","INE/OPL","DEOE/OD","2021-05-23","2021-05-23",null,null,{"$f":"VLOOKUP(P3525,Campos!$B$2:$C$7,2,FALSE)","v":0},"Sin información"]
[3520,21,"Puebla",12,"Jornada Electoral","12.7",7,"Jornada Electoral","OPL","CG/OD","2021-06-06","2021-06-06",null,null,{"$f":"VLOOKUP(P3526,Campos!$B$2:$C$7,2,FALSE)","v":0},"Sin información"]
[3521,21,"Puebla",13,"Bodegas electorales","13.1",1,"Determinación de los lugares que ocuparán las bodegas electorales para el resguardo de la documentación electoral","OPL","CG","2021-02-01","2021-02-28",null,null,{"$f":"VLOOKUP(P3527,Campos!$B$2:$C$7,2,FALSE)","v":0},"Sin información"]
[3522,21,"Puebla",13,"Bodegas electorales","13.2",2,"Informe que rinden las y los Presidentes sobre las condiciones de equipamiento, mecanismos de operación y medidas de seguridad de las bodegas electorales","OPL","OD","2021-03-01","2021-03-31",null,null,{"$f":"VLOOKUP(P3528,Campos!$B$2:$C$7,2,FALSE)","v":0},"Sin información"]
[3523,21,"Puebla",13,"Bodegas electorales","13.3",3,"Designación, por parte del órgano competente del OPL, del personal que tendrá acceso a la bodega electoral","OPL","CG/OD","2021-03-01","2021-03-30",null,null,{"$f":"VLOOKUP(P3529,Campos!$B$2:$C$7,2,FALSE)","v":0},"Sin información"]
[3524,21,"Puebla",13,"Bodegas electorales","13.4",4,"Envío a la UTVOPL, por conducto de la JLE, el informe sobre las condiciones que guardan las bodegas electorales","OPL","CG","2021-04-04","2021-04-10",null,null,{"$f":"VLOOKUP(P3530,Campos!$B$2:$C$7,2,FALSE)","v":0},"Sin información"]
[3525,21,"Puebla",14,"Mecanismos de recolección","14.1",1,"Entrega de estudios de factibilidad al OPL","INE","CL","2021-03-15","2021-03-31",null,null,{"$f":"VLOOKUP(P3531,Campos!$B$2:$C$7,2,FALSE)","v":0},"Sin información"]
[3526,21,"Puebla",14,"Mecanismos de recolección","14.2",2,"Entrega de observaciones a los estudios de factibilidad ","OPL","CG","2021-04-01","2021-04-24",null,null,{"$f":"VLOOKUP(P3532,Campos!$B$2:$C$7,2,FALSE)","v":0},"Sin información"]
[3527,21,"Puebla",14,"Mecanismos de recolección","14.3",3,"Recorridos para verificar las propuestas de los mecanismos de recolección","INE/OPL","CD/OD","2021-03-16","2021-04-24",null,null,{"$f":"VLOOKUP(P3533,Campos!$B$2:$C$7,2,FALSE)","v":0},"Sin información"]
[3528,21,"Puebla",14,"Mecanismos de recolección","14.4",4,"Aprobación de los mecanismos de recolección ","INE","CD","2021-04-26","2021-04-30",null,null,{"$f":"VLOOKUP(P3534,Campos!$B$2:$C$7,2,FALSE)","v":0},"Sin información"]
[3529,21,"Puebla",14,"Mecanismos de recolección","14.5",5,"Traslado y recolección de los paquetes electorales","INE/OPL","CD/OD","2021-06-06","2021-06-07",null,null,{"$f":"VLOOKUP(P3535,Campos!$B$2:$C$7,2,FALSE)","v":0},"Sin información"]
[3530,21,"Puebla",14,"Mecanismos de recolección","14.6",6,"Acreditación de representantes de partidos políticos y candidaturas independientes ante los mecanismos de recolección","INE","CL/CD","2021-04-27","2021-06-03",null,null,{"$f":"VLOOKUP(P3536,Campos!$B$2:$C$7,2,FALSE)","v":0},"Sin información"]
[3531,21,"Puebla",14,"Mecanismos de recolección","14.7",7,"Sustitución de representantes de partidos políticos y candidaturas independientes ante los mecanismos de recolección","INE","CL/CD","2021-04-28","2021-06-04",null,null,{"$f":"VLOOKUP(P3537,Campos!$B$2:$C$7,2,FALSE)","v":0},"Sin información"]
[3532,21,"Puebla",14,"Mecanismos de recolección","14.8",8,"Entrega a la JLE, el informe sobre la recepción de paquetes electorales en los órganos competentes","OPL","CG","2021-06-06","2021-06-28",null,null,{"$f":"VLOOKUP(P3538,Campos!$B$2:$C$7,2,FALSE)","v":0},"Sin información"]
[3533,21,"Puebla",15,"Cómputos","15.1",1,"Aprobación de los lineamientos de cómputo y del cuadernillo de consulta sobre votos válidos y votos nulos","OPL","CG","2021-01-18","2021-01-29",null,null,{"$f":"VLOOKUP(P3539,Campos!$B$2:$C$7,2,FALSE)","v":0},"Sin información"]
[3534,21,"Puebla",15,"Cómputos","15.2",2,"Integración por parte de los Órganos Desconcentrados del OPL, de la propuesta para la habilitación de espacios para el recuento de votos con las alternativas para todos los escenarios de cómputo","OPL","OD","2021-03-01","2021-03-07",null,null,{"$f":"VLOOKUP(P3540,Campos!$B$2:$C$7,2,FALSE)","v":0},"Sin información"]
[3535,21,"Puebla",15,"Cómputos","15.3",3,"Informe de los escenarios de cómputos de la totalidad de sus órganos desconcentrados","OPL","CG","2021-04-01","2021-04-04",null,null,{"$f":"VLOOKUP(P3541,Campos!$B$2:$C$7,2,FALSE)","v":0},"Sin información"]
[3536,21,"Puebla",15,"Cómputos","15.4",4,"Remisión a la JLE en la entidad, las propuestas de escenarios de cómputos, para la dictaminación de viabilidad","OPL","CG","2021-05-01","2021-05-07",null,null,{"$f":"VLOOKUP(P3542,Campos!$B$2:$C$7,2,FALSE)","v":0},"Sin información"]
[3537,21,"Puebla",15,"Cómputos","15.5",5,"Remisión de las observaciones a los escenarios de Cómputos al OPL y a su vez informar de las mismas a la UTVOPL","INE","JLE","2021-05-08","2021-05-15",null,null,{"$f":"VLOOKUP(P3543,Campos!$B$2:$C$7,2,FALSE)","v":0},"Sin información"]
[3538,21,"Puebla",15,"Cómputos","15.6",6,"Aprobación por parte del órgano competente del OPL, del acuerdo mediante el cual se designa al personal que participará en las tareas de apoyo a los Cómputos Municipales","OPL","CG/OD","2021-04-26","2021-05-05",null,null,{"$f":"VLOOKUP(P3544,Campos!$B$2:$C$7,2,FALSE)","v":0},"Sin información"]
[3539,21,"Puebla",15,"Cómputos","15.7",7,"Aprobación por parte del órgano competente del OPL, del acuerdo mediante el cual se designa al personal que participará en las tareas de apoyo a los Cómputos Distritales ","OPL","CG/OD","2021-04-26","2021-05-05",null,null,{"$f":"VLOOKUP(P3545,Campos!$B$2:$C$7,2,FALSE)","v":0},"Sin información"]
[3540,21,"Puebla",15,"Cómputos","15.8",8,"Aprobación por parte de los órganos competentes del OPL, de los distintos escenarios de cómputos","OPL","OD","2021-05-08","2021-05-15",null,null,{"$f":"VLOOKUP(P3546,Campos!$B$2:$C$7,2,FALSE)","v":0},"Sin información"]
[3541,21,"Puebla",15,"Cómputos","15.9",9,"Aprobación por parte del órgano competente del OPL, del acuerdo por el que se habilitarán espacios para la instalación de grupos de trabajo y, en su caso, puntos de recuento","OPL","CG/OD","2021-06-08","2021-06-08",null,null,{"$f":"VLOOKUP(P3547,Campos!$B$2:$C$7,2,FALSE)","v":0},"Sin información"]
[3542,21,"Puebla",15,"Cómputos","15.10",10,"Cómputos Distritales","OPL","OD","2021-06-09","2021-06-12",null,null,{"$f":"VLOOKUP(P3548,Campos!$B$2:$C$7,2,FALSE)","v":0},"Sin información"]
[3543,21,"Puebla",15,"Cómputos","15.14",14,"Cómputo Estatal para la asignación diputaciones de Representación Proporcional","OPL","CG","2021-06-13","2021-06-13",null,null,{"$f":"VLOOKUP(P3549,Campos!$B$2:$C$7,2,FALSE)","v":0},"Sin información"]
[3544,21,"Puebla",15,"Cómputos","15.11",11,"Cómputos Municipales","OPL","OD","2021-06-09","2021-06-09",null,null,{"$f":"VLOOKUP(P3550,Campos!$B$2:$C$7,2,FALSE)","v":0},"Sin información"]
[3545,21,"Puebla",15,"Cómputos","15.16",16,"Asignación de regidurías por el principio de Representación Proporcional","OPL","CG","2021-06-13","2021-06-13",null,null,{"$f":"VLOOKUP(P3551,Campos!$B$2:$C$7,2,FALSE)","v":0},"Sin información"]
[3546,21,"Puebla",16,"PREP","16.1",1,"Aprobación del Acuerdo por el que se designa o ratifica a la instancia interna responsable de coordinar el PREP","OPL","CG","2020-09-11","2020-09-11",null,null,{"$f":"VLOOKUP(P3552,Campos!$B$2:$C$7,2,FALSE)","v":0},"Sin información"]
[3547,21,"Puebla",16,"PREP","16.2",2,"Aprobación del Acuerdo de Integración del COTAPREP","OPL","CG","2020-11-11","2020-11-11",null,null,{"$f":"VLOOKUP(P3553,Campos!$B$2:$C$7,2,FALSE)","v":0},"Sin información"]
[3548,21,"Puebla",16,"PREP","16.3",3,"Documento por el que se determina la implementación del PREP por el OPL o con el apoyo de un Tercero","OPL","CG","2020-12-11","2020-12-11",null,null,{"$f":"VLOOKUP(P3554,Campos!$B$2:$C$7,2,FALSE)","v":0},"Sin información"]
[3549,21,"Puebla",16,"PREP","16.4",4,"Aprobación del Acuerdo por el que se determina el Proceso Técnico Operativo ","OPL","CG","2021-01-11","2021-01-11",null,null,{"$f":"VLOOKUP(P3555,Campos!$B$2:$C$7,2,FALSE)","v":0},"Sin información"]
[3550,21,"Puebla",16,"PREP","16.5",5,"Aprobación del Acuerdo por el que se determina la ubicación, instalación y habilitación de los CATD y, en su caso, CCV","OPL","CG","2021-02-11","2021-02-11",null,null,{"$f":"VLOOKUP(P3556,Campos!$B$2:$C$7,2,FALSE)","v":0},"Sin información"]
[3551,21,"Puebla",16,"PREP","16.6",6,"Documento de Designación del Ente Auditor ","OPL","CG","2021-02-11","2021-02-11",null,null,{"$f":"VLOOKUP(P3557,Campos!$B$2:$C$7,2,FALSE)","v":0},"Sin información"]
[3552,21,"Puebla",16,"PREP","16.7",7,"Instrumento jurídico celebrado entre el OPL y el ente auditor","OPL","CG","2021-03-11","2021-03-11",null,null,{"$f":"VLOOKUP(P3558,Campos!$B$2:$C$7,2,FALSE)","v":0},"Sin información"]
[3553,21,"Puebla",16,"PREP","16.8",8,"Realización del primer simulacro del PREP","OPL","CG","2021-05-16","2021-05-16",null,null,{"$f":"VLOOKUP(P3559,Campos!$B$2:$C$7,2,FALSE)","v":0},"Sin información"]
[3554,21,"Puebla",16,"PREP","16.9",9,"Realización del segundo simulacro del PREP","OPL","CG","2021-05-23","2021-05-23",null,null,{"$f":"VLOOKUP(P3560,Campos!$B$2:$C$7,2,FALSE)","v":0},"Sin información"]
[3555,21,"Puebla",16,"PREP","16.10",10,"Realización del tercer simulacro del PREP","OPL","CG","2021-05-30","2021-05-30",null,null,{"$f":"VLOOKUP(P3561,Campos!$B$2:$C$7,2,FALSE)","v":0},"Sin información"]
[3556,21,"Puebla",16,"PREP","16.11",11,"Operación del PREP","OPL","CG","2021-06-06","2021-06-07",null,null,{"$f":"VLOOKUP(P3562,Campos!$B$2:$C$7,2,FALSE)","v":0},"Sin información"]
[3557,21,"Puebla",19,"Visitantes extranjeros","19.1",1,"Emisión de la Convocatoria para visitantes extranjeros","OPL ","CG","2020-08-03","2020-09-30",null,null,{"$f":"VLOOKUP(P3563,Campos!$B$2:$C$7,2,FALSE)","v":0},"Sin información"]
[3558,21,"Puebla",19,"Visitantes extranjeros","19.2",2,"Difusión de la Convocatoria para visitantes extranjeros","INE","CAI","2020-09-01","2021-05-26",null,null,{"$f":"VLOOKUP(P3564,Campos!$B$2:$C$7,2,FALSE)","v":0},"Sin información"]
[3559,21,"Puebla",19,"Visitantes extranjeros","19.3",3,"Recepción de solicitudes de acreditación como visitantes extranjeros","INE","CAI","2020-09-01","2021-05-26",null,null,{"$f":"VLOOKUP(P3565,Campos!$B$2:$C$7,2,FALSE)","v":0},"Sin información"]
[3560,21,"Puebla",19,"Visitantes extranjeros","19.4",4,"Resolución de solicitudes de acreditación como visitantes extranjeros","OPL ","CAI","2020-09-02","2021-05-30",null,null,{"$f":"VLOOKUP(P3566,Campos!$B$2:$C$7,2,FALSE)","v":0},"Sin información"]
[3561,21,"Puebla",19,"Visitantes extranjeros","19.5",5,"Entrega de acreditaciones a los visitantes extranjeros","INE","CAI","2020-09-04","2021-06-05",null,null,{"$f":"VLOOKUP(P3567,Campos!$B$2:$C$7,2,FALSE)","v":0},"Sin información"]
[3562,22,"Querétaro",1,"Mecanismos de coordinación","1.1",1,"Aprobar Calendarios y Planes Integrales de los Procesos Electorales Locales","INE","CG","2020-08-01","2020-08-07",null,null,{"$f":"VLOOKUP(P3568,Campos!$B$2:$C$7,2,FALSE)","v":0},"Sin información"]
[3563,22,"Querétaro",1,"Mecanismos de coordinación","1.2",2,"Firma del Convenio General de Coordinación y Colaboración 2020-2021","INE/OPL","INE/OPL","2020-09-01","2020-10-01",null,null,{"$f":"VLOOKUP(P3569,Campos!$B$2:$C$7,2,FALSE)","v":0},"Sin información"]
[3564,22,"Querétaro",1,"Mecanismos de coordinación","1.3",3,"Elaborar un plan de trabajo conjunto para la promoción de la participación ciudadana","INE/OPL","INE/OPL","2020-09-01","2020-12-31",null,null,{"$f":"VLOOKUP(P3570,Campos!$B$2:$C$7,2,FALSE)","v":0},"Sin información"]
[3565,22,"Querétaro",1,"Mecanismos de coordinación","1.4",4,"Sesión para dar inicio al PEL","OPL","CG","2020-10-16","2020-10-31",null,null,{"$f":"VLOOKUP(P3571,Campos!$B$2:$C$7,2,FALSE)","v":0},"Sin información"]
[3566,22,"Querétaro",1,"Mecanismos de coordinación","1.5",5,"Implementar un plan de trabajo conjunto para la promoción de la participación ciudadana","INE/OPL","INE/OPL","2021-02-01","2021-06-06",null,null,{"$f":"VLOOKUP(P3572,Campos!$B$2:$C$7,2,FALSE)","v":0},"Sin información"]
[3567,22,"Querétaro",2,"Integración de órganos desconcentrados","2.1",1,"Convocatoria para la integración de los Órganos Distritales","OPL","CG","2020-08-01","2020-08-30",null,null,{"$f":"VLOOKUP(P3573,Campos!$B$2:$C$7,2,FALSE)","v":0},"Sin información"]
[3568,22,"Querétaro",2,"Integración de órganos desconcentrados","2.2",2,"Sesión en la que se designan e integran los Órganos Distritales ","OPL","CG","2020-11-07","2020-11-30",null,null,{"$f":"VLOOKUP(P3574,Campos!$B$2:$C$7,2,FALSE)","v":0},"Sin información"]
[3569,22,"Querétaro",2,"Integración de órganos desconcentrados","2.3",3,"Instalación de los Órganos Distritales ","OPL","CG","2020-12-01","2020-12-10",null,null,{"$f":"VLOOKUP(P3575,Campos!$B$2:$C$7,2,FALSE)","v":0},"Sin información"]
[3570,22,"Querétaro",2,"Integración de órganos desconcentrados","2.4",4,"Convocatoria para la integración de los Órganos Municipales ","OPL","CG","2020-08-01","2020-08-30",null,null,{"$f":"VLOOKUP(P3576,Campos!$B$2:$C$7,2,FALSE)","v":0},"Sin información"]
[3571,22,"Querétaro",2,"Integración de órganos desconcentrados","2.5",5,"Sesión en la que se designan e integran los Órganos Municipales ","OPL","CG","2020-11-07","2020-11-30",null,null,{"$f":"VLOOKUP(P3577,Campos!$B$2:$C$7,2,FALSE)","v":0},"Sin información"]
[3572,22,"Querétaro",2,"Integración de órganos desconcentrados","2.6",6,"Instalación de los Órganos Municipales ","OPL","CG","2020-12-01","2020-12-10",null,null,{"$f":"VLOOKUP(P3578,Campos!$B$2:$C$7,2,FALSE)","v":0},"Sin información"]
[3573,22,"Querétaro",2,"Integración de órganos desconcentrados","2.7",7,"Designación y/o ratificación de las y los Consejeros Electorales del Consejo Local ","INE","CG","2020-10-01","2020-10-15",null,null,{"$f":"VLOOKUP(P3579,Campos!$B$2:$C$7,2,FALSE)","v":0},"Sin información"]
[3574,22,"Querétaro",2,"Integración de órganos desconcentrados","2.8",8,"Instalación del Consejo Local","INE","CL","2020-11-01","2020-11-30",null,null,{"$f":"VLOOKUP(P3580,Campos!$B$2:$C$7,2,FALSE)","v":0},"Sin información"]
[3575,22,"Querétaro",2,"Integración de órganos desconcentrados","2.9",9,"Designación y/o ratificación de las y los Consejeros Electorales de los Consejos Distritales ","INE","CL","2020-11-01","2020-11-30",null,null,{"$f":"VLOOKUP(P3581,Campos!$B$2:$C$7,2,FALSE)","v":0},"Sin información"]
[3576,22,"Querétaro",2,"Integración de órganos desconcentrados","2.10",10,"Instalación de los Consejos Distritales","INE","CD","2020-12-01","2020-12-15",null,null,{"$f":"VLOOKUP(P3582,Campos!$B$2:$C$7,2,FALSE)","v":0},"Sin información"]
[3577,22,"Querétaro",3,"Lista Nominal de Electores","3.1",1,"Generación y entrega de la Lista Nominal de Electores para Revisión en medios ópticos a los representantes de los partidos políticos, y en su caso a las candidaturas independientes acreditados ante el OPL, para observaciones","INE","DERFE","2021-02-15","2021-02-15",null,null,{"$f":"VLOOKUP(P3583,Campos!$B$2:$C$7,2,FALSE)","v":0},"Sin información"]
[3578,22,"Querétaro",3,"Lista Nominal de Electores","3.2",2,"Recepción de observaciones de los partidos políticos y en su caso, candidatos independientes, a la Lista Nominal de Electores para revisión","INE/OPL","DERFE","2021-03-14","2021-03-14",null,null,{"$f":"VLOOKUP(P3584,Campos!$B$2:$C$7,2,FALSE)","v":0},"Sin información"]
[3579,22,"Querétaro",3,"Lista Nominal de Electores","3.3",3,"Entrega en formato digital el informe respecto de la atención a las observaciones formuladas a la Lista Nominal de Electores para Revisión","INE","DERFE","2021-04-15","2021-04-15",null,null,{"$f":"VLOOKUP(P3585,Campos!$B$2:$C$7,2,FALSE)","v":0},"Sin información"]
[3580,22,"Querétaro",3,"Lista Nominal de Electores","3.4",4,"Entrega de la Lista Nominal de Electores Definitiva con fotografía","INE","DERFE","2021-05-06","2021-05-14",null,null,{"$f":"VLOOKUP(P3586,Campos!$B$2:$C$7,2,FALSE)","v":0},"Sin información"]
[3581,22,"Querétaro",3,"Lista Nominal de Electores","3.5",5,"Fecha de entrega de la Lista Nominal de Electores con fotografía Producto de Instancias Administrativas y Resoluciones del Tribunal (ADENDA)","INE","DERFE","2021-05-19","2021-05-24",null,null,{"$f":"VLOOKUP(P3587,Campos!$B$2:$C$7,2,FALSE)","v":0},"Sin información"]
[3582,22,"Querétaro",4,"Observación Electoral","4.1",1,"Emisión de la convocatoria para la ciudadanía que desee participar en la observación electoral","OPL","CG","2020-10-16","2020-10-31",null,null,{"$f":"VLOOKUP(P3588,Campos!$B$2:$C$7,2,FALSE)","v":0},"Sin información"]
[3583,22,"Querétaro",4,"Observación Electoral","4.2",2,"Recepción de solicitudes de la ciudadanía que desee participar en observación electoral","INE/OPL","OPL/JLE/JDE","2020-10-16","2021-04-30",null,null,{"$f":"VLOOKUP(P3589,Campos!$B$2:$C$7,2,FALSE)","v":0},"Sin información"]
[3584,22,"Querétaro",4,"Observación Electoral","4.3",3,"Impartición de los cursos de capacitación, preparación o información","INE/OPL","OPL/JLE/JDE","2020-10-16","2021-05-17",null,null,{"$f":"VLOOKUP(P3590,Campos!$B$2:$C$7,2,FALSE)","v":0},"Sin información"]
[3585,22,"Querétaro",4,"Observación Electoral","4.4",4,"Acreditación de la ciudadanía como observadores u observadoras electorales","INE","CL/CD","2020-10-16","2021-06-05",null,null,{"$f":"VLOOKUP(P3591,Campos!$B$2:$C$7,2,FALSE)","v":0},"Sin información"]
[3586,22,"Querétaro",4,"Observación Electoral","4.5",5,"Seguimiento a los informes mensuales de acreditación","INE","CG","2020-10-16","2021-07-31",null,null,{"$f":"VLOOKUP(P3592,Campos!$B$2:$C$7,2,FALSE)","v":0},"Sin información"]
[3587,22,"Querétaro",4,"Observación Electoral","4.6",6,"Remisión de materiales de capacitación a la JLE para revisión","OPL","CG","2020-10-08","2020-10-08",null,null,{"$f":"VLOOKUP(P3593,Campos!$B$2:$C$7,2,FALSE)","v":0},"Sin información"]
[3588,22,"Querétaro",4,"Observación Electoral","4.7",7,"Revisión, corrección, verificación y validación de materiales de capacitación para observación electoral ","INE","JLE","2020-10-09","2020-10-30",null,null,{"$f":"VLOOKUP(P3594,Campos!$B$2:$C$7,2,FALSE)","v":0},"Sin información"]
[3589,22,"Querétaro",4,"Observación Electoral","4.8",8,"Entrega de materiales de capacitación para observación electoral entre OPL e INE","INE/OPL","VEL/OPL","2020-11-01","2020-11-23",null,null,{"$f":"VLOOKUP(P3595,Campos!$B$2:$C$7,2,FALSE)","v":0},"Sin información"]
[3590,22,"Querétaro",5,"Ubicación de casillas","5.1",1,"Recorridos por las secciones de los distritos para localizar los lugares donde se ubicarán las casillas","INE/OPL","JDE/OPL","2021-01-15","2021-02-15",null,null,{"$f":"VLOOKUP(P3596,Campos!$B$2:$C$7,2,FALSE)","v":0},"Sin información"]
[3591,22,"Querétaro",5,"Ubicación de casillas","5.2",2,"Presentación a los Consejos Distritales del listado de lugares propuestos para ubicar casillas","INE","JDE","2021-02-24","2021-02-24",null,null,{"$f":"VLOOKUP(P3597,Campos!$B$2:$C$7,2,FALSE)","v":0},"Sin información"]
[3592,22,"Querétaro",5,"Ubicación de casillas","5.3",3,"Visitas de examinación en los lugares propuestos para ubicar casillas básicas, contiguas, especiales y extraordinarias","INE/OPL","CD/OPL","2021-02-25","2021-03-16",null,null,{"$f":"VLOOKUP(P3598,Campos!$B$2:$C$7,2,FALSE)","v":0},"Sin información"]
[3593,22,"Querétaro",5,"Ubicación de casillas","5.4",4,"Aprobación del número y ubicación de casillas extraordinarias y especiales","INE","CD","2021-03-16","2021-03-16",null,null,{"$f":"VLOOKUP(P3599,Campos!$B$2:$C$7,2,FALSE)","v":0},"Sin información"]
[3594,22,"Querétaro",5,"Ubicación de casillas","5.5",5,"Aprobación del número y ubicación de casillas básicas y contiguas","INE","CD","2021-03-25","2021-03-25",null,null,{"$f":"VLOOKUP(P3600,Campos!$B$2:$C$7,2,FALSE)","v":0},"Sin información"]
[3595,22,"Querétaro",5,"Ubicación de casillas","5.6",6,"Entrega de la base de datos de la Lista Nominal Definitiva a UNICOM con corte al 10 de abril","INE","DERFE","2021-04-15","2021-04-16",null,null,{"$f":"VLOOKUP(P3601,Campos!$B$2:$C$7,2,FALSE)","v":0},"Sin información"]
[3596,22,"Querétaro",5,"Ubicación de casillas","5.7",7,"Realizar la primera publicación de la lista de ubicación de casillas en los lugares más concurridos del distrito electoral  y en los medios electrónicos del Instituto","INE","CD","2021-04-15","2021-04-15",null,null,{"$f":"VLOOKUP(P3602,Campos!$B$2:$C$7,2,FALSE)","v":0},"Sin información"]
[3597,22,"Querétaro",5,"Ubicación de casillas","5.8",8,"En su caso, segunda publicación de la lista de ubicación de casillas por causas supervenientes en los lugares más concurridos del distrito y en los medios electrónicos del Instituto","INE","CD","2021-05-15","2021-05-25",null,null,{"$f":"VLOOKUP(P3603,Campos!$B$2:$C$7,2,FALSE)","v":0},"Sin información"]
[3598,22,"Querétaro",5,"Ubicación de casillas","5.9",9,"Publicación de los encartes y difusión en medios electrónicos del Instituto","INE/OPL","DEOE/CG","2021-06-05","2021-06-06",null,null,{"$f":"VLOOKUP(P3604,Campos!$B$2:$C$7,2,FALSE)","v":0},"Sin información"]
[3599,22,"Querétaro",5,"Ubicación de casillas","5.10",10,"Registro de representantes generales y ante mesas directivas de casilla","INE","CD","2021-04-16","2021-05-24",null,null,{"$f":"VLOOKUP(P3605,Campos!$B$2:$C$7,2,FALSE)","v":0},"Sin información"]
[3600,22,"Querétaro",5,"Ubicación de casillas","5.11",11,"Sustitución de representantes generales y ante mesas directivas de casilla","INE","CD","2021-04-16","2021-05-27",null,null,{"$f":"VLOOKUP(P3606,Campos!$B$2:$C$7,2,FALSE)","v":0},"Sin información"]
[3601,22,"Querétaro",5,"Ubicación de casillas","5.12",12,"Entrega de listados de representantes generales y ante casilla al OPL","INE","CD","2021-05-30","2021-05-30",null,null,{"$f":"VLOOKUP(P3607,Campos!$B$2:$C$7,2,FALSE)","v":0},"Sin información"]
[3602,22,"Querétaro",5,"Ubicación de casillas","5.13",13,"Notificación ciudadana de ubicación de casillas en secciones electorales involucradas en la actualización del Marco Geográfico Electoral","INE/OPL","DERFE/OPL","2021-04-01","2021-06-15",null,null,{"$f":"VLOOKUP(P3608,Campos!$B$2:$C$7,2,FALSE)","v":0},"Sin información"]
[3603,22,"Querétaro",6,"Integración de las Mesas Directivas de Casilla","6.1",1,"Aprobación de la Estrategia de Capacitación y Asistencia Electoral","INE","CG","2020-08-01","2020-08-15",null,null,{"$f":"VLOOKUP(P3609,Campos!$B$2:$C$7,2,FALSE)","v":0},"Sin información"]
[3604,22,"Querétaro",6,"Integración de las Mesas Directivas de Casilla","6.2",2,"Entrega para revisión y validación de materiales didácticos de primera etapa","OPL","CG","2020-11-03","2020-11-03",null,null,{"$f":"VLOOKUP(P3610,Campos!$B$2:$C$7,2,FALSE)","v":0},"Sin información"]
[3605,22,"Querétaro",6,"Integración de las Mesas Directivas de Casilla","6.3",3,"Revisión, corrección, verificación y validación de los materiales didácticos de primera etapa","INE/OPL","JLE/DECEYEC/OPL","2020-11-03","2020-12-19",null,null,{"$f":"VLOOKUP(P3611,Campos!$B$2:$C$7,2,FALSE)","v":0},"Sin información"]
[3606,22,"Querétaro",6,"Integración de las Mesas Directivas de Casilla","6.4",4,"Entrega de los materiales impresos de la primera etapa a la JLE","OPL","OPL","2021-02-05","2021-02-05",null,null,{"$f":"VLOOKUP(P3612,Campos!$B$2:$C$7,2,FALSE)","v":0},"Sin información"]
[3607,22,"Querétaro",6,"Integración de las Mesas Directivas de Casilla","6.5",5,"Sorteo del mes del calendario como base para la insaculación de las y los ciudadanos que integrarán las mesas directivas de casilla","INE","CG","2020-12-15","2020-12-19",null,null,{"$f":"VLOOKUP(P3613,Campos!$B$2:$C$7,2,FALSE)","v":0},"Sin información"]
[3608,22,"Querétaro",6,"Integración de las Mesas Directivas de Casilla","6.6",6,"Entrega para revisión y validación de materiales didácticos de segunda etapa","OPL","OPL","2021-02-03","2021-02-03",null,null,{"$f":"VLOOKUP(P3614,Campos!$B$2:$C$7,2,FALSE)","v":0},"Sin información"]
[3609,22,"Querétaro",6,"Integración de las Mesas Directivas de Casilla","6.7",7,"Revisión, corrección, verificación y validación de los materiales didácticos de la segunda etapa","INE/OPL","JLE/DECEYEC/OPL","2021-02-03","2021-03-22",null,null,{"$f":"VLOOKUP(P3615,Campos!$B$2:$C$7,2,FALSE)","v":0},"Sin información"]
[3610,22,"Querétaro",6,"Integración de las Mesas Directivas de Casilla","6.8",8,"Entrega de los materiales impresos de la segunda etapa a la JLE","OPL","OPL","2021-04-05","2021-04-05",null,null,{"$f":"VLOOKUP(P3616,Campos!$B$2:$C$7,2,FALSE)","v":0},"Sin información"]
[3611,22,"Querétaro",6,"Integración de las Mesas Directivas de Casilla","6.9",9,"Sorteo de la letra a partir de la cual, con base en el apellido paterno, se seleccionará a las y los ciudadanos que integrarán las mesas directivas de casilla","INE","CG","2021-02-02","2021-02-02",null,null,{"$f":"VLOOKUP(P3617,Campos!$B$2:$C$7,2,FALSE)","v":0},"Sin información"]
[3612,22,"Querétaro",6,"Integración de las Mesas Directivas de Casilla","6.10",10,"Entrega de la Lista Nominal de Electores para el Procedimiento de la Primera insaculación con corte al 15 de enero de 2021.","INE","DERFE/UNICOM","2021-01-21","2021-01-26",null,null,{"$f":"VLOOKUP(P3618,Campos!$B$2:$C$7,2,FALSE)","v":0},"Sin información"]
[3613,22,"Querétaro",6,"Integración de las Mesas Directivas de Casilla","6.11",11,"Primera insaculación","INE","JDE","2021-02-06","2021-02-06",null,null,{"$f":"VLOOKUP(P3619,Campos!$B$2:$C$7,2,FALSE)","v":0},"Sin información"]
[3614,22,"Querétaro",6,"Integración de las Mesas Directivas de Casilla","6.12",12,"Primera etapa de capacitación a las personas insaculadas","INE","CD","2021-02-09","2021-03-31",null,null,{"$f":"VLOOKUP(P3620,Campos!$B$2:$C$7,2,FALSE)","v":0},"Sin información"]
[3615,22,"Querétaro",6,"Integración de las Mesas Directivas de Casilla","6.13",13,"Integración de la lista de ciudadanos y ciudadanas que cumplen los requisitos legales para integrar las mesas directivas de casilla","INE","CD","2021-02-09","2021-03-31",null,null,{"$f":"VLOOKUP(P3621,Campos!$B$2:$C$7,2,FALSE)","v":0},"Sin información"]
[3616,22,"Querétaro",6,"Integración de las Mesas Directivas de Casilla","6.14",14,"Segunda insaculación y designación de funcionarios para mesas directivas de casilla","INE","CD","2021-04-08","2021-04-08",null,null,{"$f":"VLOOKUP(P3622,Campos!$B$2:$C$7,2,FALSE)","v":0},"Sin información"]
[3617,22,"Querétaro",6,"Integración de las Mesas Directivas de Casilla","6.15",15,"Segunda etapa de capacitación a funcionarios de mesa directiva de casilla y simulacros","INE","CD","2021-04-18","2021-06-05",null,null,{"$f":"VLOOKUP(P3623,Campos!$B$2:$C$7,2,FALSE)","v":0},"Sin información"]
[3618,22,"Querétaro",6,"Integración de las Mesas Directivas de Casilla","6.16",16,"Entrega de reconocimientos a funcionarios de mesas directivas de casilla","INE","CD","2021-06-07","2021-06-12",null,null,{"$f":"VLOOKUP(P3624,Campos!$B$2:$C$7,2,FALSE)","v":0},"Sin información"]
[3619,22,"Querétaro",6,"Integración de las Mesas Directivas de Casilla","6.17",17,"Periodo para contratación de CAE locales","INE/OPL","INE/OPL","Por definir","Por definir",null,null,{"$f":"VLOOKUP(P3625,Campos!$B$2:$C$7,2,FALSE)","v":0},"Sin información"]
[3620,22,"Querétaro",6,"Integración de las Mesas Directivas de Casilla","6.18",18,"Reclutamiento y selección de CAE locales","INE/OPL","INE/OPL","Por definir","Por definir",null,null,{"$f":"VLOOKUP(P3626,Campos!$B$2:$C$7,2,FALSE)","v":0},"Sin información"]
[3621,22,"Querétaro",7,"Fiscalización de los recursos de los Partidos Políticos y candidaturas independientes","7.1",1,"Aprobación de topes de gastos de precampaña Gubernatura","OPL","CG","2020-10-16","2020-11-29",null,null,{"$f":"VLOOKUP(P3627,Campos!$B$2:$C$7,2,FALSE)","v":0},"Sin información"]
[3622,22,"Querétaro",7,"Fiscalización de los recursos de los Partidos Políticos y candidaturas independientes","7.2",2,"Aprobación de topes de gastos de precampaña Diputaciones","OPL","CG","2020-10-16","2020-11-29",null,null,{"$f":"VLOOKUP(P3628,Campos!$B$2:$C$7,2,FALSE)","v":0},"Sin información"]
[3623,22,"Querétaro",7,"Fiscalización de los recursos de los Partidos Políticos y candidaturas independientes","7.3",3,"Aprobación de topes de gastos de precampaña Ayuntamientos","OPL","CG","2020-10-16","2020-11-29",null,null,{"$f":"VLOOKUP(P3629,Campos!$B$2:$C$7,2,FALSE)","v":0},"Sin información"]
[3624,22,"Querétaro",7,"Fiscalización de los recursos de los Partidos Políticos y candidaturas independientes","7.4",4,"Aprobación de los límites de financiamiento privado, aportaciones de militantes, simpatizantes y precandidatos o candidatos; así como el límite individual de aportaciones para Gubernatura","OPL","CG","2021-01-01","2021-02-28",null,null,{"$f":"VLOOKUP(P3630,Campos!$B$2:$C$7,2,FALSE)","v":0},"Sin información"]
[3625,22,"Querétaro",7,"Fiscalización de los recursos de los Partidos Políticos y candidaturas independientes","7.5",5,"Aprobación de los límites de financiamiento privado, aportaciones de militantes, simpatizantes y precandidatos o candidatos; así como el límite individual de aportaciones para Diputaciones","OPL","CG","2021-01-01","2021-02-28",null,null,{"$f":"VLOOKUP(P3631,Campos!$B$2:$C$7,2,FALSE)","v":0},"Sin información"]
[3626,22,"Querétaro",7,"Fiscalización de los recursos de los Partidos Políticos y candidaturas independientes","7.6",6,"Aprobación de los límites de financiamiento privado, aportaciones de militantes, simpatizantes y precandidatos o candidatos; así como el límite individual de aportaciones para Ayuntamientos","OPL","CG","2021-01-01","2021-02-28",null,null,{"$f":"VLOOKUP(P3632,Campos!$B$2:$C$7,2,FALSE)","v":0},"Sin información"]
[3627,22,"Querétaro",7,"Fiscalización de los recursos de los Partidos Políticos y candidaturas independientes","7.7",7,"Aprobación de topes de gastos para el periodo de obtención del apoyo ciudadano para Gubernatura","OPL","CG","2020-10-16","2020-11-29",null,null,{"$f":"VLOOKUP(P3633,Campos!$B$2:$C$7,2,FALSE)","v":0},"Sin información"]
[3628,22,"Querétaro",7,"Fiscalización de los recursos de los Partidos Políticos y candidaturas independientes","7.8",8,"Aprobación de topes de gastos para el periodo de obtención del apoyo ciudadano para Diputaciones","OPL","CG","2020-10-16","2020-11-29",null,null,{"$f":"VLOOKUP(P3634,Campos!$B$2:$C$7,2,FALSE)","v":0},"Sin información"]
[3629,22,"Querétaro",7,"Fiscalización de los recursos de los Partidos Políticos y candidaturas independientes","7.9",9,"Aprobación de topes de gastos para el periodo de obtención del apoyo ciudadano para Ayuntamientos","OPL","CG","2020-10-16","2020-11-29",null,null,{"$f":"VLOOKUP(P3635,Campos!$B$2:$C$7,2,FALSE)","v":0},"Sin información"]
[3630,22,"Querétaro",7,"Fiscalización de los recursos de los Partidos Políticos y candidaturas independientes","7.10",10,"Precampaña para Gubernatura","OPL","CG","2021-01-15","2021-02-13",null,null,{"$f":"VLOOKUP(P3636,Campos!$B$2:$C$7,2,FALSE)","v":0},"Sin información"]
[3631,22,"Querétaro",7,"Fiscalización de los recursos de los Partidos Políticos y candidaturas independientes","7.11",11,"Precampaña para Diputaciones","OPL","CG","2021-01-15","2021-02-13",null,null,{"$f":"VLOOKUP(P3637,Campos!$B$2:$C$7,2,FALSE)","v":0},"Sin información"]
[3632,22,"Querétaro",7,"Fiscalización de los recursos de los Partidos Políticos y candidaturas independientes","7.12",12,"Precampaña para Ayuntamientos","OPL","CG","2021-01-15","2021-02-13",null,null,{"$f":"VLOOKUP(P3638,Campos!$B$2:$C$7,2,FALSE)","v":0},"Sin información"]
[3633,22,"Querétaro",7,"Fiscalización de los recursos de los Partidos Políticos y candidaturas independientes","7.13",13,"Aprobación de topes de gastos de campaña para Gubernatura","OPL","CG","2020-10-16","2020-11-29",null,null,{"$f":"VLOOKUP(P3639,Campos!$B$2:$C$7,2,FALSE)","v":0},"Sin información"]
[3634,22,"Querétaro",7,"Fiscalización de los recursos de los Partidos Políticos y candidaturas independientes","7.14",14,"Aprobación de topes de gastos de campaña para Diputaciones","OPL","CG","2020-10-16","2020-11-29",null,null,{"$f":"VLOOKUP(P3640,Campos!$B$2:$C$7,2,FALSE)","v":0},"Sin información"]
[3635,22,"Querétaro",7,"Fiscalización de los recursos de los Partidos Políticos y candidaturas independientes","7.15",15,"Aprobación de topes de gastos de campaña para Ayuntamientos","OPL","CG","2020-10-16","2020-11-29",null,null,{"$f":"VLOOKUP(P3641,Campos!$B$2:$C$7,2,FALSE)","v":0},"Sin información"]
[3636,22,"Querétaro",7,"Fiscalización de los recursos de los Partidos Políticos y candidaturas independientes","7.16",16,"Campaña para Gubernatura","OPL","CG","2021-04-04","2021-06-02",null,null,{"$f":"VLOOKUP(P3642,Campos!$B$2:$C$7,2,FALSE)","v":0},"Sin información"]
[3637,22,"Querétaro",7,"Fiscalización de los recursos de los Partidos Políticos y candidaturas independientes","7.17",17,"Campaña para Diputaciones","OPL","CG","2021-04-19","2021-06-02",null,null,{"$f":"VLOOKUP(P3643,Campos!$B$2:$C$7,2,FALSE)","v":0},"Sin información"]
[3638,22,"Querétaro",7,"Fiscalización de los recursos de los Partidos Políticos y candidaturas independientes","7.18",18,"Campaña para Ayuntamientos","OPL","CG","2021-04-19","2021-06-02",null,null,{"$f":"VLOOKUP(P3644,Campos!$B$2:$C$7,2,FALSE)","v":0},"Sin información"]
[3639,22,"Querétaro",7,"Fiscalización de los recursos de los Partidos Políticos y candidaturas independientes","7.19",19,"Aprobación de la distribución de financiamiento público para partidos políticos","OPL","CG","2021-01-01","2021-01-31",null,null,{"$f":"VLOOKUP(P3645,Campos!$B$2:$C$7,2,FALSE)","v":0},"Sin información"]
[3640,22,"Querétaro",8,"Candidaturas Independientes","8.1",1,"Emisión de la convocatoria para la ciudadanía interesada en participar en Candidaturas Independientes ","OPL","CG","2020-10-16","2020-10-31",null,null,{"$f":"VLOOKUP(P3646,Campos!$B$2:$C$7,2,FALSE)","v":0},"Sin información"]
[3641,22,"Querétaro",8,"Candidaturas Independientes","8.2",2,"Recepción de escrito de intención y documentación anexa de la ciudadanía que aspire a la candidatura independiente para Gubernatura","OPL","OD","2020-10-19","2020-11-17",null,null,{"$f":"VLOOKUP(P3647,Campos!$B$2:$C$7,2,FALSE)","v":0},"Sin información"]
[3642,22,"Querétaro",8,"Candidaturas Independientes","8.3",3,"Recepción de escrito de intención y documentación anexa de la ciudadanía que aspire a la candidatura independiente para Diputaciones","OPL","OD","2020-10-19","2020-11-17",null,null,{"$f":"VLOOKUP(P3648,Campos!$B$2:$C$7,2,FALSE)","v":0},"Sin información"]
[3643,22,"Querétaro",8,"Candidaturas Independientes","8.4",4,"Recepción de escrito de intención y documentación anexa de la ciudadanía que aspire a la candidatura independiente para Ayuntamientos","OPL","SE/OD","2020-10-19","2020-11-17",null,null,{"$f":"VLOOKUP(P3649,Campos!$B$2:$C$7,2,FALSE)","v":0},"Sin información"]
[3644,22,"Querétaro",8,"Candidaturas Independientes","8.5",5,"Resolución sobre procedencia de manifestación de intención de aspirantes a candidaturas independientes para Gubernatura","OPL","CG","2020-11-23","2020-11-23",null,null,{"$f":"VLOOKUP(P3650,Campos!$B$2:$C$7,2,FALSE)","v":0},"Sin información"]
[3645,22,"Querétaro",8,"Candidaturas Independientes","8.6",6,"Resolución sobre procedencia de manifestación de intención de aspirantes a candidaturas independientes para Diputaciones","OPL","CG","2020-11-23","2020-11-23",null,null,{"$f":"VLOOKUP(P3651,Campos!$B$2:$C$7,2,FALSE)","v":0},"Sin información"]
[3646,22,"Querétaro",8,"Candidaturas Independientes","8.7",7,"Resolución sobre procedencia de manifestación de intención de aspirantes a candidaturas independientes para Ayuntamientos","OPL","CG","2020-11-23","2020-11-23",null,null,{"$f":"VLOOKUP(P3652,Campos!$B$2:$C$7,2,FALSE)","v":0},"Sin información"]
[3647,22,"Querétaro",8,"Candidaturas Independientes","8.8",8,"Plazo para obtener el apoyo ciudadano de las candidaturas independientes para Gubernatura","OPL","OD","2021-01-15","2021-02-03",null,null,{"$f":"VLOOKUP(P3653,Campos!$B$2:$C$7,2,FALSE)","v":0},"Sin información"]
[3648,22,"Querétaro",8,"Candidaturas Independientes","8.9",9,"Plazo para obtener el apoyo ciudadano de las candidaturas independientes para Diputaciones","OPL","OD","2021-01-15","2021-02-13",null,null,{"$f":"VLOOKUP(P3654,Campos!$B$2:$C$7,2,FALSE)","v":0},"Sin información"]
[3649,22,"Querétaro",8,"Candidaturas Independientes","8.10",10,"Plazo para obtener el apoyo ciudadano de las candidaturas independientes para Ayuntamientos","OPL","OD","2021-01-15","2021-02-13",null,null,{"$f":"VLOOKUP(P3655,Campos!$B$2:$C$7,2,FALSE)","v":0},"Sin información"]
[3650,22,"Querétaro",8,"Candidaturas Independientes","8.11",11,"Plazo para otorgar las constancias de porcentaje a favor de aspirantes a la candidatura independiente para Gubernatura","OPL","CG","2021-03-12","2021-03-25",null,null,{"$f":"VLOOKUP(P3656,Campos!$B$2:$C$7,2,FALSE)","v":0},"Sin información"]
[3651,22,"Querétaro",8,"Candidaturas Independientes","8.12",12,"Plazo para otorgar las constancias de porcentaje a favor de aspirantes a la candidatura independiente para Diputaciones","OPL","CG","2021-03-12","2021-03-25",null,null,{"$f":"VLOOKUP(P3657,Campos!$B$2:$C$7,2,FALSE)","v":0},"Sin información"]
[3652,22,"Querétaro",8,"Candidaturas Independientes","8.13",13,"Plazo para otorgar las constancias de porcentaje a favor de aspirantes a la candidatura independiente para Ayuntamientos","OPL","CG","2021-03-12","2021-03-25",null,null,{"$f":"VLOOKUP(P3658,Campos!$B$2:$C$7,2,FALSE)","v":0},"Sin información"]
[3653,22,"Querétaro",9,"Candidaturas","9.1",1,"Registro de plataformas electorales","OPL","CG","2020-10-16","2021-03-22",null,null,{"$f":"VLOOKUP(P3659,Campos!$B$2:$C$7,2,FALSE)","v":0},"Sin información"]
[3654,22,"Querétaro",9,"Candidaturas","9.2",2,"Solicitud de registro de convenio de coalición para Gubernatura","OPL","CG","2020-10-16","2020-12-14",null,null,{"$f":"VLOOKUP(P3660,Campos!$B$2:$C$7,2,FALSE)","v":0},"Sin información"]
[3655,22,"Querétaro",9,"Candidaturas","9.3",3,"Solicitud de registro de convenio de coalición para Diputaciones","OPL","CG","2020-10-16","2020-12-14",null,null,{"$f":"VLOOKUP(P3661,Campos!$B$2:$C$7,2,FALSE)","v":0},"Sin información"]
[3656,22,"Querétaro",9,"Candidaturas","9.4",4,"Solicitud de registro de convenio de coalición para Ayuntamientos","OPL","CG","2020-10-16","2020-12-14",null,null,{"$f":"VLOOKUP(P3662,Campos!$B$2:$C$7,2,FALSE)","v":0},"Sin información"]
[3657,22,"Querétaro",9,"Candidaturas","9.5",5,"Resolución sobre Convenio de Coalición para Gubernatura","OPL","CG","2020-10-26","2020-12-24",null,null,{"$f":"VLOOKUP(P3663,Campos!$B$2:$C$7,2,FALSE)","v":0},"Sin información"]
[3658,22,"Querétaro",9,"Candidaturas","9.6",6,"Resolución sobre Convenio de Coalición para Diputaciones","OPL","CG","2020-10-26","2020-12-24",null,null,{"$f":"VLOOKUP(P3664,Campos!$B$2:$C$7,2,FALSE)","v":0},"Sin información"]
[3659,22,"Querétaro",9,"Candidaturas","9.7",7,"Resolución sobre Convenio de Coalición para Ayuntamientos","OPL","CG","2020-10-26","2020-12-24",null,null,{"$f":"VLOOKUP(P3665,Campos!$B$2:$C$7,2,FALSE)","v":0},"Sin información"]
[3660,22,"Querétaro",9,"Candidaturas","9.8",8,"Solicitud de registro de Candidaturas para Gubernatura","OPL","CG/OD","2021-03-23","2021-03-27",null,null,{"$f":"VLOOKUP(P3666,Campos!$B$2:$C$7,2,FALSE)","v":0},"Sin información"]
[3661,22,"Querétaro",9,"Candidaturas","9.9",9,"Solicitud de registro de Candidaturas para Diputaciones","OPL","CG/OD","2021-04-07","2021-04-11",null,null,{"$f":"VLOOKUP(P3667,Campos!$B$2:$C$7,2,FALSE)","v":0},"Sin información"]
[3662,22,"Querétaro",9,"Candidaturas","9.11",11,"Solicitud de registro de Candidaturas para Ayuntamientos","OPL","CG/OD","2021-04-07","2021-04-11",null,null,{"$f":"VLOOKUP(P3668,Campos!$B$2:$C$7,2,FALSE)","v":0},"Sin información"]
[3663,22,"Querétaro",9,"Candidaturas","9.13",13,"Resolución para aprobar las candidaturas para Gubernatura","OPL","CG","2021-04-03","2021-04-03",null,null,{"$f":"VLOOKUP(P3669,Campos!$B$2:$C$7,2,FALSE)","v":0},"Sin información"]
[3664,22,"Querétaro",9,"Candidaturas","9.14",14,"Resolución para aprobar las candidaturas para Diputaciones","OPL","CG","2021-04-18","2021-04-18",null,null,{"$f":"VLOOKUP(P3670,Campos!$B$2:$C$7,2,FALSE)","v":0},"Sin información"]
[3665,22,"Querétaro",9,"Candidaturas","9.16",16,"Resolución para aprobar las candidaturas para Ayuntamientos","OPL","CG/OD","2021-04-18","2021-04-18",null,null,{"$f":"VLOOKUP(P3671,Campos!$B$2:$C$7,2,FALSE)","v":0},"Sin información"]
[3666,22,"Querétaro",9,"Candidaturas","9.17",17,"Solicitud de registro de candidaturas comunes para Gubernatura ","OPL","CG/OD","2021-03-23","2021-03-27",null,null,{"$f":"VLOOKUP(P3672,Campos!$B$2:$C$7,2,FALSE)","v":0},"Sin información"]
[3667,22,"Querétaro",9,"Candidaturas","9.18",18,"Solicitud de registro de candidaturas comunes para Diputaciones ","OPL","CG/OD","2021-04-07","2021-04-11",null,null,{"$f":"VLOOKUP(P3673,Campos!$B$2:$C$7,2,FALSE)","v":0},"Sin información"]
[3668,22,"Querétaro",9,"Candidaturas","9.19",19,"Solicitud de registro de candidaturas comunes para Ayuntamientos  ","OPL","CG/OD","2021-04-07","2021-04-11",null,null,{"$f":"VLOOKUP(P3674,Campos!$B$2:$C$7,2,FALSE)","v":0},"Sin información"]
[3669,22,"Querétaro",9,"Candidaturas","9.20",20,"Resolución para aprobar las candidaturas comunes para Gubernatura","OPL","CG/OD","2021-04-18","2021-04-18",null,null,{"$f":"VLOOKUP(P3675,Campos!$B$2:$C$7,2,FALSE)","v":0},"Sin información"]
[3670,22,"Querétaro",9,"Candidaturas","9.21",21,"Resolución para aprobar las candidaturas comunes para Diputaciones ","OPL","CG/OD","2021-04-18","2021-04-18",null,null,{"$f":"VLOOKUP(P3676,Campos!$B$2:$C$7,2,FALSE)","v":0},"Sin información"]
[3671,22,"Querétaro",9,"Candidaturas","9.22",22,"Resolución para aprobar las candidaturas comunes para Ayuntamientos ","OPL","CG/OD","2021-04-18","2021-04-18",null,null,{"$f":"VLOOKUP(P3677,Campos!$B$2:$C$7,2,FALSE)","v":0},"Sin información"]
[3672,22,"Querétaro",10,"Debates","10.1",1,"Aprobación de las fechas en que se celebrarán los debates","OPL","CG","2021-04-04","2021-04-13",null,null,{"$f":"VLOOKUP(P3678,Campos!$B$2:$C$7,2,FALSE)","v":0},"Sin información"]
[3673,22,"Querétaro",10,"Debates","10.2",2,"Realización de debate(s)","OPL","CG","2021-04-04","2021-06-02",null,null,{"$f":"VLOOKUP(P3679,Campos!$B$2:$C$7,2,FALSE)","v":0},"Sin información"]
[3674,22,"Querétaro",11,"Documentación y material electoral","11.1",1,"Entrega a la Junta Local Ejecutiva del INE, de los diseños y especificaciones técnicas de la documentación y materiales electorales, en medios impresos y electrónicos","OPL","CG","2020-09-01","2020-09-30",null,null,{"$f":"VLOOKUP(P3680,Campos!$B$2:$C$7,2,FALSE)","v":0},"Sin información"]
[3675,22,"Querétaro",11,"Documentación y material electoral","11.2",2,"Revisión de los documentos y materiales electorales y especificaciones técnicas, presentadas por el OPL","INE","JLE","2020-09-15","2020-12-16",null,null,{"$f":"VLOOKUP(P3681,Campos!$B$2:$C$7,2,FALSE)","v":0},"Sin información"]
[3676,22,"Querétaro",11,"Documentación y material electoral","11.3",3,"En su caso, atención y presentación, de los cambios pertinentes, conforme a las observaciones emitidas por la Junta Local Ejecutiva del INE","OPL","CG","2020-09-15","2020-12-16",null,null,{"$f":"VLOOKUP(P3682,Campos!$B$2:$C$7,2,FALSE)","v":0},"Sin información"]
[3677,22,"Querétaro",11,"Documentación y material electoral","11.4",4,"Validación de los documentos y materiales electorales y especificaciones técnicas, con las observaciones subsanadas","INE","DEOE","2020-10-28","2020-12-18",null,null,{"$f":"VLOOKUP(P3683,Campos!$B$2:$C$7,2,FALSE)","v":0},"Sin información"]
[3678,22,"Querétaro",11,"Documentación y material electoral","11.5",5,"Entrega a la Dirección Ejecutiva de Organización Electoral del INE, del Reporte único sobre la aprobación y adjudicación de los documentos y materiales electorales del OPL, en medios electrónicos","OPL","CG","2021-02-01","2021-02-26",null,null,{"$f":"VLOOKUP(P3684,Campos!$B$2:$C$7,2,FALSE)","v":0},"Sin información"]
[3679,22,"Querétaro",11,"Documentación y material electoral","11.6",6,"Revisión y en su caso validación, del Reporte único sobre la aprobación y adjudicación de los documentos y materiales electorales del OPL, en medios electrónicos","INE","DEOE","2021-02-15","2021-03-12",null,null,{"$f":"VLOOKUP(P3685,Campos!$B$2:$C$7,2,FALSE)","v":0},"Sin información"]
[3680,22,"Querétaro",11,"Documentación y material electoral","11.7",7,"Entrega  a la Dirección Ejecutiva de Organización Electoral del INE, del Reporte semanal sobre el avance en la producción de los documentos y materiales electorales del OPL, en medios electrónicos.","OPL","CG","2021-03-15","2021-05-22",null,null,{"$f":"VLOOKUP(P3686,Campos!$B$2:$C$7,2,FALSE)","v":0},"Sin información"]
[3681,22,"Querétaro",11,"Documentación y material electoral","11.8",8,"Aprobación de la documentación y material electoral","OPL","CG","2020-11-11","2020-12-31",null,null,{"$f":"VLOOKUP(P3687,Campos!$B$2:$C$7,2,FALSE)","v":0},"Sin información"]
[3682,22,"Querétaro",11,"Documentación y material electoral","11.9",9,"Entrega a la Dirección Ejecutiva de Organización Electoral del INE, del Reporte con los resultados de las verificaciones de las medidas de seguridad en la documentación electoral","OPL","CG","2021-05-27","2021-06-11",null,null,{"$f":"VLOOKUP(P3688,Campos!$B$2:$C$7,2,FALSE)","v":0},"Sin información"]
[3683,22,"Querétaro",11,"Documentación y material electoral","11.10",10,"Supervisiones respecto de los procedimientos de impresión y producción de la documentación y materiales electorales","INE","DEOE","2021-03-15","2021-05-22",null,null,{"$f":"VLOOKUP(P3689,Campos!$B$2:$C$7,2,FALSE)","v":0},"Sin información"]
[3684,22,"Querétaro",11,"Documentación y material electoral","11.11",11,"Designación de la persona responsable de llevar el control sobre la asignación de los folios de las boletas que se distribuirán en cada mesa directiva de casilla","OPL","CG","2021-03-01","2021-03-30",null,null,{"$f":"VLOOKUP(P3690,Campos!$B$2:$C$7,2,FALSE)","v":0},"Sin información"]
[3685,22,"Querétaro",11,"Documentación y material electoral","11.12",12,"Aprobación de SE y CAE, así como de personal que auxiliará en el procedimiento de conteo, sellado y agrupamiento de las boletas electorales; así como la integración de documentación para las casillas","OPL","CG","2021-04-24","2021-05-11",null,null,{"$f":"VLOOKUP(P3691,Campos!$B$2:$C$7,2,FALSE)","v":0},"Sin información"]
[3686,22,"Querétaro",11,"Documentación y material electoral","11.13",13,"Recepción de las boletas electorales por el órgano competente que realizará el conteo, sellado y agrupamiento","OPL","CG","2021-05-18","2021-05-22",null,null,{"$f":"VLOOKUP(P3692,Campos!$B$2:$C$7,2,FALSE)","v":0},"Sin información"]
[3687,22,"Querétaro",11,"Documentación y material electoral","11.14",14,"Conteo, sellado y agrupamiento de boletas","OPL","CG","2021-05-18","2021-05-28",null,null,{"$f":"VLOOKUP(P3693,Campos!$B$2:$C$7,2,FALSE)","v":0},"Sin información"]
[3688,22,"Querétaro",11,"Documentación y material electoral","11.15",15,"Distribución de la documentación y materiales electorales a las y los Presidentes de mesas directivas de casilla","OPL","OD","2021-05-31","2021-06-04",null,null,{"$f":"VLOOKUP(P3694,Campos!$B$2:$C$7,2,FALSE)","v":0},"Sin información"]
[3689,22,"Querétaro",11,"Documentación y material electoral","11.16",16,"Remisión de los recibos de la entrega de la documentación y materiales electorales al Consejo General del OPL","INE","JLE","2021-06-24","2021-06-30",null,null,{"$f":"VLOOKUP(P3695,Campos!$B$2:$C$7,2,FALSE)","v":0},"Sin información"]
[3690,22,"Querétaro",12,"Jornada Electoral","12.1",1,"Aprobación del Programa de Operación del SIJE 2021","INE","CCOE","2020-07-01","2020-07-31",null,null,{"$f":"VLOOKUP(P3696,Campos!$B$2:$C$7,2,FALSE)","v":0},"Sin información"]
[3691,22,"Querétaro",12,"Jornada Electoral","12.2",2,"Aprobación de las metas del SIJE 2021","INE","CG","2021-03-01","2021-03-31",null,null,{"$f":"VLOOKUP(P3697,Campos!$B$2:$C$7,2,FALSE)","v":0},"Sin información"]
[3692,22,"Querétaro",12,"Jornada Electoral","12.3",3,"Realización de pruebas del SIJE 2021","INE","DEOE","2021-04-01","2021-04-15",null,null,{"$f":"VLOOKUP(P3698,Campos!$B$2:$C$7,2,FALSE)","v":0},"Sin información"]
[3693,22,"Querétaro",12,"Jornada Electoral","12.4",4,"Desarrollo del primer simulacro del SIJE","INE/OPL","DEOE/OD","2021-04-29","2021-04-29",null,null,{"$f":"VLOOKUP(P3699,Campos!$B$2:$C$7,2,FALSE)","v":0},"Sin información"]
[3694,22,"Querétaro",12,"Jornada Electoral","12.5",5,"Desarrollo del segundo simulacro del SIJE","INE/OPL","DEOE/OD","2021-05-09","2021-05-09",null,null,{"$f":"VLOOKUP(P3700,Campos!$B$2:$C$7,2,FALSE)","v":0},"Sin información"]
[3695,22,"Querétaro",12,"Jornada Electoral","12.6",6,"Desarrollo del tercer simulacro del SIJE","INE/OPL","DEOE/OD","2021-05-23","2021-05-23",null,null,{"$f":"VLOOKUP(P3701,Campos!$B$2:$C$7,2,FALSE)","v":0},"Sin información"]
[3696,22,"Querétaro",12,"Jornada Electoral","12.7",7,"Jornada Electoral","OPL","CG/OD","2021-06-06","2021-06-06",null,null,{"$f":"VLOOKUP(P3702,Campos!$B$2:$C$7,2,FALSE)","v":0},"Sin información"]
[3697,22,"Querétaro",13,"Bodegas electorales","13.1",1,"Determinación de los lugares que ocuparán las bodegas electorales para el resguardo de la documentación electoral","OPL","CG","2021-02-01","2021-02-28",null,null,{"$f":"VLOOKUP(P3703,Campos!$B$2:$C$7,2,FALSE)","v":0},"Sin información"]
[3698,22,"Querétaro",13,"Bodegas electorales","13.2",2,"Informe que rinden las y los Presidentes sobre las condiciones de equipamiento, mecanismos de operación y medidas de seguridad de las bodegas electorales","OPL","OD","2021-03-01","2021-03-31",null,null,{"$f":"VLOOKUP(P3704,Campos!$B$2:$C$7,2,FALSE)","v":0},"Sin información"]
[3699,22,"Querétaro",13,"Bodegas electorales","13.3",3,"Designación, por parte del órgano competente del OPL, del personal que tendrá acceso a la bodega electoral","OPL","CG/OD","2021-03-01","2021-03-30",null,null,{"$f":"VLOOKUP(P3705,Campos!$B$2:$C$7,2,FALSE)","v":0},"Sin información"]
[3700,22,"Querétaro",13,"Bodegas electorales","13.4",4,"Envío a la UTVOPL, por conducto de la JLE, el informe sobre las condiciones que guardan las bodegas electorales","OPL","CG","2021-04-04","2021-04-10",null,null,{"$f":"VLOOKUP(P3706,Campos!$B$2:$C$7,2,FALSE)","v":0},"Sin información"]
[3701,22,"Querétaro",14,"Mecanismos de recolección","14.1",1,"Entrega de estudios de factibilidad al OPL","INE","CL","2021-03-15","2021-03-31",null,null,{"$f":"VLOOKUP(P3707,Campos!$B$2:$C$7,2,FALSE)","v":0},"Sin información"]
[3702,22,"Querétaro",14,"Mecanismos de recolección","14.2",2,"Entrega de observaciones a los estudios de factibilidad ","OPL","CG","2021-04-01","2021-04-24",null,null,{"$f":"VLOOKUP(P3708,Campos!$B$2:$C$7,2,FALSE)","v":0},"Sin información"]
[3703,22,"Querétaro",14,"Mecanismos de recolección","14.3",3,"Recorridos para verificar las propuestas de los mecanismos de recolección","INE/OPL","CD/OD","2021-03-16","2021-04-24",null,null,{"$f":"VLOOKUP(P3709,Campos!$B$2:$C$7,2,FALSE)","v":0},"Sin información"]
[3704,22,"Querétaro",14,"Mecanismos de recolección","14.4",4,"Aprobación de los mecanismos de recolección ","INE","CD","2021-04-26","2021-04-30",null,null,{"$f":"VLOOKUP(P3710,Campos!$B$2:$C$7,2,FALSE)","v":0},"Sin información"]
[3705,22,"Querétaro",14,"Mecanismos de recolección","14.5",5,"Traslado y recolección de los paquetes electorales","INE/OPL","CD/OD","2021-06-06","2021-06-07",null,null,{"$f":"VLOOKUP(P3711,Campos!$B$2:$C$7,2,FALSE)","v":0},"Sin información"]
[3706,22,"Querétaro",14,"Mecanismos de recolección","14.6",6,"Acreditación de representantes de partidos políticos y candidaturas independientes ante los mecanismos de recolección","INE","CL/CD","2021-04-27","2021-06-03",null,null,{"$f":"VLOOKUP(P3712,Campos!$B$2:$C$7,2,FALSE)","v":0},"Sin información"]
[3707,22,"Querétaro",14,"Mecanismos de recolección","14.7",7,"Sustitución de representantes de partidos políticos y candidaturas independientes ante los mecanismos de recolección","INE","CL/CD","2021-04-28","2021-06-04",null,null,{"$f":"VLOOKUP(P3713,Campos!$B$2:$C$7,2,FALSE)","v":0},"Sin información"]
[3708,22,"Querétaro",14,"Mecanismos de recolección","14.8",8,"Entrega a la JLE, el informe sobre la recepción de paquetes electorales en los órganos competentes","OPL","CG","2021-06-06","2021-06-28",null,null,{"$f":"VLOOKUP(P3714,Campos!$B$2:$C$7,2,FALSE)","v":0},"Sin información"]
[3709,22,"Querétaro",15,"Cómputos","15.1",1,"Aprobación de los lineamientos de cómputo y del cuadernillo de consulta sobre votos válidos y votos nulos","OPL","CG","2021-01-18","2021-01-29",null,null,{"$f":"VLOOKUP(P3715,Campos!$B$2:$C$7,2,FALSE)","v":0},"Sin información"]
[3710,22,"Querétaro",15,"Cómputos","15.2",2,"Integración por parte de los Órganos Desconcentrados del OPL, de la propuesta para la habilitación de espacios para el recuento de votos con las alternativas para todos los escenarios de cómputo","OPL","OD","2021-03-01","2021-03-07",null,null,{"$f":"VLOOKUP(P3716,Campos!$B$2:$C$7,2,FALSE)","v":0},"Sin información"]
[3711,22,"Querétaro",15,"Cómputos","15.3",3,"Informe de los escenarios de cómputos de la totalidad de sus órganos desconcentrados","OPL","CG","2021-04-01","2021-04-04",null,null,{"$f":"VLOOKUP(P3717,Campos!$B$2:$C$7,2,FALSE)","v":0},"Sin información"]
[3712,22,"Querétaro",15,"Cómputos","15.4",4,"Remisión a la JLE en la entidad, las propuestas de escenarios de cómputos, para la dictaminación de viabilidad","OPL","CG","2021-05-01","2021-05-07",null,null,{"$f":"VLOOKUP(P3718,Campos!$B$2:$C$7,2,FALSE)","v":0},"Sin información"]
[3713,22,"Querétaro",15,"Cómputos","15.5",5,"Remisión de las observaciones a los escenarios de Cómputos al OPL y a su vez informar de las mismas a la UTVOPL","INE","JLE","2021-05-08","2021-05-15",null,null,{"$f":"VLOOKUP(P3719,Campos!$B$2:$C$7,2,FALSE)","v":0},"Sin información"]
[3714,22,"Querétaro",15,"Cómputos","15.6",6,"Aprobación por parte del órgano competente del OPL, del acuerdo mediante el cual se designa al personal que participará en las tareas de apoyo a los Cómputos Municipales","OPL","CG/OD","2021-04-26","2021-05-05",null,null,{"$f":"VLOOKUP(P3720,Campos!$B$2:$C$7,2,FALSE)","v":0},"Sin información"]
[3715,22,"Querétaro",15,"Cómputos","15.7",7,"Aprobación por parte del órgano competente del OPL, del acuerdo mediante el cual se designa al personal que participará en las tareas de apoyo a los Cómputos Distritales ","OPL","CG/OD","2021-04-26","2021-05-05",null,null,{"$f":"VLOOKUP(P3721,Campos!$B$2:$C$7,2,FALSE)","v":0},"Sin información"]
[3716,22,"Querétaro",15,"Cómputos","15.8",8,"Aprobación por parte de los órganos competentes del OPL, de los distintos escenarios de cómputos","OPL","OD","2021-05-08","2021-05-15",null,null,{"$f":"VLOOKUP(P3722,Campos!$B$2:$C$7,2,FALSE)","v":0},"Sin información"]
[3717,22,"Querétaro",15,"Cómputos","15.9",9,"Aprobación por parte del órgano competente del OPL, del acuerdo por el que se habilitarán espacios para la instalación de grupos de trabajo y, en su caso, puntos de recuento","OPL","CG/OD","2021-06-08","2021-06-08",null,null,{"$f":"VLOOKUP(P3723,Campos!$B$2:$C$7,2,FALSE)","v":0},"Sin información"]
[3718,22,"Querétaro",15,"Cómputos","15.10",10,"Cómputos Distritales","OPL","OD","2021-06-09","2021-06-12",null,null,{"$f":"VLOOKUP(P3724,Campos!$B$2:$C$7,2,FALSE)","v":0},"Sin información"]
[3719,22,"Querétaro",15,"Cómputos","15.14",14,"Cómputo Estatal para la asignación diputaciones de Representación Proporcional","OPL","CG","2021-06-13","2021-06-13",null,null,{"$f":"VLOOKUP(P3725,Campos!$B$2:$C$7,2,FALSE)","v":0},"Sin información"]
[3720,22,"Querétaro",15,"Cómputos","15.13",13,"Cómputo Estatal para la Gubernatura","OPL","CG","2021-06-13","2021-06-13",null,null,{"$f":"VLOOKUP(P3726,Campos!$B$2:$C$7,2,FALSE)","v":0},"Sin información"]
[3721,22,"Querétaro",15,"Cómputos","15.11",11,"Cómputos Municipales","OPL","OD","2021-06-09","2021-06-12",null,null,{"$f":"VLOOKUP(P3727,Campos!$B$2:$C$7,2,FALSE)","v":0},"Sin información"]
[3722,22,"Querétaro",16,"PREP","16.1",1,"Aprobación del Acuerdo por el que se designa o ratifica a la instancia interna responsable de coordinar el PREP","OPL","CG","2020-09-11","2020-09-11",null,null,{"$f":"VLOOKUP(P3728,Campos!$B$2:$C$7,2,FALSE)","v":0},"Sin información"]
[3723,22,"Querétaro",16,"PREP","16.2",2,"Aprobación del Acuerdo de Integración del COTAPREP","OPL","CG","2020-11-11","2020-11-11",null,null,{"$f":"VLOOKUP(P3729,Campos!$B$2:$C$7,2,FALSE)","v":0},"Sin información"]
[3724,22,"Querétaro",16,"PREP","16.3",3,"Documento por el que se determina la implementación del PREP por el OPL o con el apoyo de un Tercero","OPL","CG","2020-12-11","2020-12-11",null,null,{"$f":"VLOOKUP(P3730,Campos!$B$2:$C$7,2,FALSE)","v":0},"Sin información"]
[3725,22,"Querétaro",16,"PREP","16.4",4,"Aprobación del Acuerdo por el que se determina el Proceso Técnico Operativo ","OPL","CG","2021-01-11","2021-01-11",null,null,{"$f":"VLOOKUP(P3731,Campos!$B$2:$C$7,2,FALSE)","v":0},"Sin información"]
[3726,22,"Querétaro",16,"PREP","16.5",5,"Aprobación del Acuerdo por el que se determina la ubicación, instalación y habilitación de los CATD y, en su caso, CCV","OPL","CG","2021-02-11","2021-02-11",null,null,{"$f":"VLOOKUP(P3732,Campos!$B$2:$C$7,2,FALSE)","v":0},"Sin información"]
[3727,22,"Querétaro",16,"PREP","16.6",6,"Documento de Designación del Ente Auditor ","OPL","CG","2021-02-11","2021-02-11",null,null,{"$f":"VLOOKUP(P3733,Campos!$B$2:$C$7,2,FALSE)","v":0},"Sin información"]
[3728,22,"Querétaro",16,"PREP","16.7",7,"Instrumento jurídico celebrado entre el OPL y el ente auditor","OPL","CG","2021-03-11","2021-03-11",null,null,{"$f":"VLOOKUP(P3734,Campos!$B$2:$C$7,2,FALSE)","v":0},"Sin información"]
[3729,22,"Querétaro",16,"PREP","16.8",8,"Realización del primer simulacro del PREP","OPL","CG","2021-05-16","2021-05-16",null,null,{"$f":"VLOOKUP(P3735,Campos!$B$2:$C$7,2,FALSE)","v":0},"Sin información"]
[3730,22,"Querétaro",16,"PREP","16.9",9,"Realización del segundo simulacro del PREP","OPL","CG","2021-05-23","2021-05-23",null,null,{"$f":"VLOOKUP(P3736,Campos!$B$2:$C$7,2,FALSE)","v":0},"Sin información"]
[3731,22,"Querétaro",16,"PREP","16.10",10,"Realización del tercer simulacro del PREP","OPL","CG","2021-05-30","2021-05-30",null,null,{"$f":"VLOOKUP(P3737,Campos!$B$2:$C$7,2,FALSE)","v":0},"Sin información"]
[3732,22,"Querétaro",16,"PREP","16.11",11,"Operación del PREP","OPL","CG","2021-06-06","2021-06-07",null,null,{"$f":"VLOOKUP(P3738,Campos!$B$2:$C$7,2,FALSE)","v":0},"Sin información"]
[3733,22,"Querétaro",17,"Conteo Rápido","17.1",1,"Aprobación del Acuerdo de Integración del COTECORA","Por definir","Por definir","2021-02-01","2021-02-06",null,null,{"$f":"VLOOKUP(P3739,Campos!$B$2:$C$7,2,FALSE)","v":0},"Sin información"]
[3734,22,"Querétaro",17,"Conteo Rápido","17.2",2,"Realización de pruebas de captura","Por definir","Por definir","2021-04-14","2021-04-15",null,null,{"$f":"VLOOKUP(P3740,Campos!$B$2:$C$7,2,FALSE)","v":0},"Sin información"]
[3735,22,"Querétaro",17,"Conteo Rápido","17.3",3,"Realización de primer simulacro del Conteo Rápido","Por definir","Por definir","2021-04-29","2021-04-29",null,null,{"$f":"VLOOKUP(P3741,Campos!$B$2:$C$7,2,FALSE)","v":0},"Sin información"]
[3736,22,"Querétaro",17,"Conteo Rápido","17.4",4,"Realización de segundo simulacro del Conteo Rápido","Por definir","Por definir","2021-05-16","2021-05-16",null,null,{"$f":"VLOOKUP(P3742,Campos!$B$2:$C$7,2,FALSE)","v":0},"Sin información"]
[3737,22,"Querétaro",17,"Conteo Rápido","17.5",5,"Selección de la Muestra para el Conteo Rápido","Por definir","Por definir","2021-06-02","2021-06-04",null,null,{"$f":"VLOOKUP(P3743,Campos!$B$2:$C$7,2,FALSE)","v":0},"Sin información"]
[3738,22,"Querétaro",17,"Conteo Rápido","17.6",6,"Realización de tercer simulacro del Conteo Rápido","Por definir","Por definir","2021-05-23","2021-05-23",null,null,{"$f":"VLOOKUP(P3744,Campos!$B$2:$C$7,2,FALSE)","v":0},"Sin información"]
[3739,22,"Querétaro",18,"Voto de la ciudadanía residente en el extranjero","18.1",1,"Puesta a disposición de la Solicitud individual de Inscripción a la Lista Nominal de Electores Residentes en el extranjero para procesos electorales locales (SIILNERE), por los medios que determine el INE.","INE","DERFE","2020-09-01","2021-03-15",null,null,{"$f":"VLOOKUP(P3745,Campos!$B$2:$C$7,2,FALSE)","v":0},"Sin información"]
[3740,22,"Querétaro",18,"Voto de la ciudadanía residente en el extranjero","18.2",2,"Recepción de la Solicitud individual de Inscripción a la Lista Nominal de Electores Residentes en el extranjero para procesos electorales locales (SIILNERE), por los medios que determine el INE","INE","DERFE","2020-09-01","2021-03-15",null,null,{"$f":"VLOOKUP(P3746,Campos!$B$2:$C$7,2,FALSE)","v":0},"Sin información"]
[3741,22,"Querétaro",18,"Voto de la ciudadanía residente en el extranjero","18.3",3,"Conformación de la Lista Nominal de Electores Residentes en el Extranjero (subsanes, observaciones de partidos políticos e informe)","INE","DERFE","2020-09-01","2021-04-15",null,null,{"$f":"VLOOKUP(P3747,Campos!$B$2:$C$7,2,FALSE)","v":0},"Sin información"]
[3742,22,"Querétaro",18,"Voto de la ciudadanía residente en el extranjero","18.4",4,"En caso de voto postal, entrega-recepción de materiales del PEP.","INE","DERFE/UTVOPL/OPL","Por definir","2021-03-15",null,null,{"$f":"VLOOKUP(P3748,Campos!$B$2:$C$7,2,FALSE)","v":0},"Sin información"]
[3743,22,"Querétaro",18,"Voto de la ciudadanía residente en el extranjero","18.5",5,"En caso de voto postal, preparación y envío de los PEP a la ciudadanía residente en el extranjero","INE","DERFE/DEOE/UNICOM/DECEYEC","2021-04-02","2021-04-30",null,null,{"$f":"VLOOKUP(P3749,Campos!$B$2:$C$7,2,FALSE)","v":0},"Sin información"]
[3744,22,"Querétaro",18,"Voto de la ciudadanía residente en el extranjero","18.6",6,"En caso de voto postal, recepción de Sobres Voto y resguardo","INE","DERFE/DEOE","2021-04-11","2021-06-05",null,null,{"$f":"VLOOKUP(P3750,Campos!$B$2:$C$7,2,FALSE)","v":0},"Sin información"]
[3745,22,"Querétaro",18,"Voto de la ciudadanía residente en el extranjero","18.7",7,"Elaboración y aprobación del Programa de Integración de Mesas de Escrutinio y Cómputo y Capacitación Electoral para el Voto de las y los Mexicanos Residentes en el Extranjero","INE","CG","Por definir","Por definir",null,null,{"$f":"VLOOKUP(P3751,Campos!$B$2:$C$7,2,FALSE)","v":0},"Sin información"]
[3746,22,"Querétaro",18,"Voto de la ciudadanía residente en el extranjero","18.8",8,"Aprobación del número de mesas de escrutinio y cómputo a instalar","INE","CL","Por definir","Por definir",null,null,{"$f":"VLOOKUP(P3752,Campos!$B$2:$C$7,2,FALSE)","v":0},"Sin información"]
[3747,22,"Querétaro",18,"Voto de la ciudadanía residente en el extranjero","18.9",9,"Integración y aprobación del Listado del personal que realizará las suplencias en las Mesas de Escrutinio y Cómputo","INE","CL","Por definir","Por definir",null,null,{"$f":"VLOOKUP(P3753,Campos!$B$2:$C$7,2,FALSE)","v":0},"Sin información"]
[3748,22,"Querétaro",18,"Voto de la ciudadanía residente en el extranjero","18.10",10,"Logística del Local Único","OPL","CG","Por definir","Por definir",null,null,{"$f":"VLOOKUP(P3754,Campos!$B$2:$C$7,2,FALSE)","v":0},"Sin información"]
[3749,22,"Querétaro",18,"Voto de la ciudadanía residente en el extranjero","18.11",11,"Escrutinio y Cómputo de los votos de los mexicanos residentes en el extranjero","OPL","CG","2021-06-06","2021-06-06",null,null,{"$f":"VLOOKUP(P3755,Campos!$B$2:$C$7,2,FALSE)","v":0},"Sin información"]
[3750,22,"Querétaro",18,"Voto de la ciudadanía residente en el extranjero","18.12",12,"Promoción del Voto de los Mexicanos Residentes en el Extranjero (Difusión, Comunicación, Vinculación y Plataformas Digitales)","INE/OPL","CG/CG","Por definir","Por definir",null,null,{"$f":"VLOOKUP(P3756,Campos!$B$2:$C$7,2,FALSE)","v":0},"Sin información"]
[3751,22,"Querétaro",18,"Voto de la ciudadanía residente en el extranjero","18.13",13,"Entrega de la Lista Nominal de Electores Residentes en el Extranjero (LNERE), para escrutinio y cómputo.","INE","DERFE/DEOE","2021-06-05","2021-06-05",null,null,{"$f":"VLOOKUP(P3757,Campos!$B$2:$C$7,2,FALSE)","v":0},"Sin información"]
[3752,22,"Querétaro",19,"Visitantes extranjeros","19.1",1,"Emisión de la Convocatoria para visitantes extranjeros","INE","CG","2020-08-03","2020-09-30",null,null,{"$f":"VLOOKUP(P3758,Campos!$B$2:$C$7,2,FALSE)","v":0},"Sin información"]
[3753,22,"Querétaro",19,"Visitantes extranjeros","19.2",2,"Difusión de la Convocatoria para visitantes extranjeros","INE","CAI","2020-09-01","2021-05-26",null,null,{"$f":"VLOOKUP(P3759,Campos!$B$2:$C$7,2,FALSE)","v":0},"Sin información"]
[3754,22,"Querétaro",19,"Visitantes extranjeros","19.3",3,"Recepción de solicitudes de acreditación como visitantes extranjeros","INE","CAI","2020-09-01","2021-05-26",null,null,{"$f":"VLOOKUP(P3760,Campos!$B$2:$C$7,2,FALSE)","v":0},"Sin información"]
[3755,22,"Querétaro",19,"Visitantes extranjeros","19.4",4,"Resolución de solicitudes de acreditación como visitantes extranjeros","INE","CAI","2020-09-02","2021-05-30",null,null,{"$f":"VLOOKUP(P3761,Campos!$B$2:$C$7,2,FALSE)","v":0},"Sin información"]
[3756,22,"Querétaro",19,"Visitantes extranjeros","19.5",5,"Entrega de acreditaciones a los visitantes extranjeros","INE","CAI","2020-09-04","2021-06-05",null,null,{"$f":"VLOOKUP(P3762,Campos!$B$2:$C$7,2,FALSE)","v":0},"Sin información"]
[3757,23,"Quintana Roo",1,"Mecanismos de coordinación","1.1",1,"Aprobar Calendarios y Planes Integrales de los Procesos Electorales Locales","INE","CG","2020-08-01","2020-08-07",null,null,{"$f":"VLOOKUP(P3763,Campos!$B$2:$C$7,2,FALSE)","v":0},"Sin información"]
[3758,23,"Quintana Roo",1,"Mecanismos de coordinación","1.2",2,"Firma del Convenio General de Coordinación y Colaboración 2020-2021","INE/OPL","INE/OPL","2020-09-01","2020-10-01",null,null,{"$f":"VLOOKUP(P3764,Campos!$B$2:$C$7,2,FALSE)","v":0},"Sin información"]
[3759,23,"Quintana Roo",1,"Mecanismos de coordinación","1.3",3,"Elaborar un plan de trabajo conjunto para la promoción de la participación ciudadana","INE/OPL","INE/OPL","2020-09-01","2020-12-31",null,null,{"$f":"VLOOKUP(P3765,Campos!$B$2:$C$7,2,FALSE)","v":0},"Sin información"]
[3760,23,"Quintana Roo",1,"Mecanismos de coordinación","1.4",4,"Sesión para dar inicio al PEL","OPL","CG","2021-01-03","2021-01-09",null,null,{"$f":"VLOOKUP(P3766,Campos!$B$2:$C$7,2,FALSE)","v":0},"Sin información"]
[3761,23,"Quintana Roo",1,"Mecanismos de coordinación","1.5",5,"Implementar un plan de trabajo conjunto para la promoción de la participación ciudadana","INE/OPL","INE/OPL","2021-02-01","2021-06-06",null,null,{"$f":"VLOOKUP(P3767,Campos!$B$2:$C$7,2,FALSE)","v":0},"Sin información"]
[3762,23,"Quintana Roo",2,"Integración de órganos desconcentrados","2.4",4,"Convocatoria para la integración de los Órganos Municipales ","OPL","CG","2020-11-01","2020-12-13",null,null,{"$f":"VLOOKUP(P3768,Campos!$B$2:$C$7,2,FALSE)","v":0},"Sin información"]
[3763,23,"Quintana Roo",2,"Integración de órganos desconcentrados","2.5",5,"Sesión en la que se designan e integran los Órganos Municipales ","OPL","CG","2021-01-18","2021-02-01",null,null,{"$f":"VLOOKUP(P3769,Campos!$B$2:$C$7,2,FALSE)","v":0},"Sin información"]
[3764,23,"Quintana Roo",2,"Integración de órganos desconcentrados","2.6",6,"Instalación de los Órganos Municipales ","OPL","OD","2021-02-02","2021-02-08",null,null,{"$f":"VLOOKUP(P3770,Campos!$B$2:$C$7,2,FALSE)","v":0},"Sin información"]
[3765,23,"Quintana Roo",2,"Integración de órganos desconcentrados","2.7",7,"Designación y/o ratificación de las y los Consejeros Electorales del Consejo Local ","INE","CG","2020-10-01","2020-10-15",null,null,{"$f":"VLOOKUP(P3771,Campos!$B$2:$C$7,2,FALSE)","v":0},"Sin información"]
[3766,23,"Quintana Roo",2,"Integración de órganos desconcentrados","2.8",8,"Instalación del Consejo Local","INE","CL","2020-11-01","2020-11-30",null,null,{"$f":"VLOOKUP(P3772,Campos!$B$2:$C$7,2,FALSE)","v":0},"Sin información"]
[3767,23,"Quintana Roo",2,"Integración de órganos desconcentrados","2.9",9,"Designación y/o ratificación de las y los Consejeros Electorales de los Consejos Distritales ","INE","CL","2020-11-01","2020-11-30",null,null,{"$f":"VLOOKUP(P3773,Campos!$B$2:$C$7,2,FALSE)","v":0},"Sin información"]
[3768,23,"Quintana Roo",2,"Integración de órganos desconcentrados","2.10",10,"Instalación de los Consejos Distritales","INE","CD","2020-12-01","2020-12-15",null,null,{"$f":"VLOOKUP(P3774,Campos!$B$2:$C$7,2,FALSE)","v":0},"Sin información"]
[3769,23,"Quintana Roo",3,"Lista Nominal de Electores","3.1",1,"Generación y entrega de la Lista Nominal de Electores para Revisión en medios ópticos a los representantes de los partidos políticos, y en su caso a las candidaturas independientes acreditados ante el OPL, para observaciones","INE","DERFE","2021-02-15","2021-02-15",null,null,{"$f":"VLOOKUP(P3775,Campos!$B$2:$C$7,2,FALSE)","v":0},"Sin información"]
[3770,23,"Quintana Roo",3,"Lista Nominal de Electores","3.2",2,"Recepción de observaciones de los partidos políticos y en su caso, candidatos independientes, a la Lista Nominal de Electores para revisión","INE/OPL","DERFE","2021-03-14","2021-03-14",null,null,{"$f":"VLOOKUP(P3776,Campos!$B$2:$C$7,2,FALSE)","v":0},"Sin información"]
[3771,23,"Quintana Roo",3,"Lista Nominal de Electores","3.3",3,"Entrega en formato digital el informe respecto de la atención a las observaciones formuladas a la Lista Nominal de Electores para Revisión","INE","DERFE","2021-04-15","2021-04-15",null,null,{"$f":"VLOOKUP(P3777,Campos!$B$2:$C$7,2,FALSE)","v":0},"Sin información"]
[3772,23,"Quintana Roo",3,"Lista Nominal de Electores","3.4",4,"Entrega de la Lista Nominal de Electores Definitiva con fotografía","INE","DERFE","2021-05-06","2021-05-14",null,null,{"$f":"VLOOKUP(P3778,Campos!$B$2:$C$7,2,FALSE)","v":0},"Sin información"]
[3773,23,"Quintana Roo",3,"Lista Nominal de Electores","3.5",5,"Fecha de entrega de la Lista Nominal de Electores con fotografía Producto de Instancias Administrativas y Resoluciones del Tribunal (ADENDA)","INE","DERFE","2021-05-19","2021-05-24",null,null,{"$f":"VLOOKUP(P3779,Campos!$B$2:$C$7,2,FALSE)","v":0},"Sin información"]
[3774,23,"Quintana Roo",4,"Observación Electoral","4.1",1,"Emisión de la convocatoria para la ciudadanía que desee participar en la observación electoral","OPL","CG","2021-01-03","2021-01-09",null,null,{"$f":"VLOOKUP(P3780,Campos!$B$2:$C$7,2,FALSE)","v":0},"Sin información"]
[3775,23,"Quintana Roo",4,"Observación Electoral","4.2",2,"Recepción de solicitudes de la ciudadanía que desee participar en observación electoral","INE/OPL","OPL/JLE/JDE","2021-01-03","2021-04-30",null,null,{"$f":"VLOOKUP(P3781,Campos!$B$2:$C$7,2,FALSE)","v":0},"Sin información"]
[3776,23,"Quintana Roo",4,"Observación Electoral","4.3",3,"Impartición de los cursos de capacitación, preparación o información","INE/OPL","OPL/JLE/JDE","2021-01-03","2021-05-17",null,null,{"$f":"VLOOKUP(P3782,Campos!$B$2:$C$7,2,FALSE)","v":0},"Sin información"]
[3777,23,"Quintana Roo",4,"Observación Electoral","4.4",4,"Acreditación de la ciudadanía como observadores u observadoras electorales","INE","CL/CD","2021-01-03","2021-06-05",null,null,{"$f":"VLOOKUP(P3783,Campos!$B$2:$C$7,2,FALSE)","v":0},"Sin información"]
[3778,23,"Quintana Roo",4,"Observación Electoral","4.5",5,"Seguimiento a los informes mensuales de acreditación","INE","CG","2021-01-03","2021-07-31",null,null,{"$f":"VLOOKUP(P3784,Campos!$B$2:$C$7,2,FALSE)","v":0},"Sin información"]
[3779,23,"Quintana Roo",4,"Observación Electoral","4.6",6,"Remisión de materiales de capacitación a la JLE para revisión","OPL","CG","2020-10-08","2020-10-08",null,null,{"$f":"VLOOKUP(P3785,Campos!$B$2:$C$7,2,FALSE)","v":0},"Sin información"]
[3780,23,"Quintana Roo",4,"Observación Electoral","4.7",7,"Revisión, corrección, verificación y validación de materiales de capacitación para observación electoral ","INE","JLE","2020-10-09","2020-10-30",null,null,{"$f":"VLOOKUP(P3786,Campos!$B$2:$C$7,2,FALSE)","v":0},"Sin información"]
[3781,23,"Quintana Roo",4,"Observación Electoral","4.8",8,"Entrega de materiales de capacitación para observación electoral entre OPL e INE","INE/OPL","VEL/OPL","2020-11-01","2020-11-23",null,null,{"$f":"VLOOKUP(P3787,Campos!$B$2:$C$7,2,FALSE)","v":0},"Sin información"]
[3782,23,"Quintana Roo",5,"Ubicación de casillas","5.1",1,"Recorridos por las secciones de los distritos para localizar los lugares donde se ubicarán las casillas","INE/OPL","JDE/OPL","2021-01-15","2021-02-15",null,null,{"$f":"VLOOKUP(P3788,Campos!$B$2:$C$7,2,FALSE)","v":0},"Sin información"]
[3783,23,"Quintana Roo",5,"Ubicación de casillas","5.2",2,"Presentación a los Consejos Distritales del listado de lugares propuestos para ubicar casillas","INE","JDE","2021-02-24","2021-02-24",null,null,{"$f":"VLOOKUP(P3789,Campos!$B$2:$C$7,2,FALSE)","v":0},"Sin información"]
[3784,23,"Quintana Roo",5,"Ubicación de casillas","5.3",3,"Visitas de examinación en los lugares propuestos para ubicar casillas básicas, contiguas, especiales y extraordinarias","INE/OPL","CD/OPL","2021-02-25","2021-03-16",null,null,{"$f":"VLOOKUP(P3790,Campos!$B$2:$C$7,2,FALSE)","v":0},"Sin información"]
[3785,23,"Quintana Roo",5,"Ubicación de casillas","5.4",4,"Aprobación del número y ubicación de casillas extraordinarias y especiales","INE","CD","2021-03-16","2021-03-16",null,null,{"$f":"VLOOKUP(P3791,Campos!$B$2:$C$7,2,FALSE)","v":0},"Sin información"]
[3786,23,"Quintana Roo",5,"Ubicación de casillas","5.5",5,"Aprobación del número y ubicación de casillas básicas y contiguas","INE","CD","2021-03-25","2021-03-25",null,null,{"$f":"VLOOKUP(P3792,Campos!$B$2:$C$7,2,FALSE)","v":0},"Sin información"]
[3787,23,"Quintana Roo",5,"Ubicación de casillas","5.6",6,"Entrega de la base de datos de la Lista Nominal Definitiva a UNICOM con corte al 10 de abril","INE","DERFE","2021-04-15","2021-04-16",null,null,{"$f":"VLOOKUP(P3793,Campos!$B$2:$C$7,2,FALSE)","v":0},"Sin información"]
[3788,23,"Quintana Roo",5,"Ubicación de casillas","5.7",7,"Realizar la primera publicación de la lista de ubicación de casillas en los lugares más concurridos del distrito electoral  y en los medios electrónicos del Instituto","INE","CD","2021-04-15","2021-04-15",null,null,{"$f":"VLOOKUP(P3794,Campos!$B$2:$C$7,2,FALSE)","v":0},"Sin información"]
[3789,23,"Quintana Roo",5,"Ubicación de casillas","5.8",8,"En su caso, segunda publicación de la lista de ubicación de casillas por causas supervenientes en los lugares más concurridos del distrito y en los medios electrónicos del Instituto","INE","CD","2021-05-15","2021-05-25",null,null,{"$f":"VLOOKUP(P3795,Campos!$B$2:$C$7,2,FALSE)","v":0},"Sin información"]
[3790,23,"Quintana Roo",5,"Ubicación de casillas","5.9",9,"Publicación de los encartes y difusión en medios electrónicos del Instituto","INE/OPL","DEOE/CG","2021-06-05","2021-06-06",null,null,{"$f":"VLOOKUP(P3796,Campos!$B$2:$C$7,2,FALSE)","v":0},"Sin información"]
[3791,23,"Quintana Roo",5,"Ubicación de casillas","5.10",10,"Registro de representantes generales y ante mesas directivas de casilla","INE","CD","2021-04-16","2021-05-24",null,null,{"$f":"VLOOKUP(P3797,Campos!$B$2:$C$7,2,FALSE)","v":0},"Sin información"]
[3792,23,"Quintana Roo",5,"Ubicación de casillas","5.11",11,"Sustitución de representantes generales y ante mesas directivas de casilla","INE","CD","2021-04-16","2021-05-27",null,null,{"$f":"VLOOKUP(P3798,Campos!$B$2:$C$7,2,FALSE)","v":0},"Sin información"]
[3793,23,"Quintana Roo",5,"Ubicación de casillas","5.12",12,"Entrega de listados de representantes generales y ante casilla al OPL","INE","CD","2021-05-30","2021-05-30",null,null,{"$f":"VLOOKUP(P3799,Campos!$B$2:$C$7,2,FALSE)","v":0},"Sin información"]
[3794,23,"Quintana Roo",5,"Ubicación de casillas","5.13",13,"Notificación ciudadana de ubicación de casillas en secciones electorales involucradas en la actualización del Marco Geográfico Electoral","INE/OPL","DERFE/OPL","2021-04-01","2021-06-15",null,null,{"$f":"VLOOKUP(P3800,Campos!$B$2:$C$7,2,FALSE)","v":0},"Sin información"]
[3795,23,"Quintana Roo",6,"Integración de las Mesas Directivas de Casilla","6.1",1,"Aprobación de la Estrategia de Capacitación y Asistencia Electoral","INE","CG","2020-08-01","2020-08-15",null,null,{"$f":"VLOOKUP(P3801,Campos!$B$2:$C$7,2,FALSE)","v":0},"Sin información"]
[3796,23,"Quintana Roo",6,"Integración de las Mesas Directivas de Casilla","6.2",2,"Entrega para revisión y validación de materiales didácticos de primera etapa","OPL","CG","2020-11-03","2020-11-03",null,null,{"$f":"VLOOKUP(P3802,Campos!$B$2:$C$7,2,FALSE)","v":0},"Sin información"]
[3797,23,"Quintana Roo",6,"Integración de las Mesas Directivas de Casilla","6.3",3,"Revisión, corrección, verificación y validación de los materiales didácticos de primera etapa","INE/OPL","JLE/DECEYEC/OPL","2020-11-03","2020-12-19",null,null,{"$f":"VLOOKUP(P3803,Campos!$B$2:$C$7,2,FALSE)","v":0},"Sin información"]
[3798,23,"Quintana Roo",6,"Integración de las Mesas Directivas de Casilla","6.4",4,"Entrega de los materiales impresos de la primera etapa a la JLE","OPL","OPL","2021-02-05","2021-02-05",null,null,{"$f":"VLOOKUP(P3804,Campos!$B$2:$C$7,2,FALSE)","v":0},"Sin información"]
[3799,23,"Quintana Roo",6,"Integración de las Mesas Directivas de Casilla","6.5",5,"Sorteo del mes del calendario como base para la insaculación de las y los ciudadanos que integrarán las mesas directivas de casilla","INE","CG","2020-12-15","2020-12-19",null,null,{"$f":"VLOOKUP(P3805,Campos!$B$2:$C$7,2,FALSE)","v":0},"Sin información"]
[3800,23,"Quintana Roo",6,"Integración de las Mesas Directivas de Casilla","6.6",6,"Entrega para revisión y validación de materiales didácticos de segunda etapa","OPL","OPL","2021-02-03","2021-02-03",null,null,{"$f":"VLOOKUP(P3806,Campos!$B$2:$C$7,2,FALSE)","v":0},"Sin información"]
[3801,23,"Quintana Roo",6,"Integración de las Mesas Directivas de Casilla","6.7",7,"Revisión, corrección, verificación y validación de los materiales didácticos de la segunda etapa","INE/OPL","JLE/DECEYEC/OPL","2021-02-03","2021-03-22",null,null,{"$f":"VLOOKUP(P3807,Campos!$B$2:$C$7,2,FALSE)","v":0},"Sin información"]
[3802,23,"Quintana Roo",6,"Integración de las Mesas Directivas de Casilla","6.8",8,"Entrega de los materiales impresos de la segunda etapa a la JLE","OPL","OPL","2021-04-05","2021-04-05",null,null,{"$f":"VLOOKUP(P3808,Campos!$B$2:$C$7,2,FALSE)","v":0},"Sin información"]
[3803,23,"Quintana Roo",6,"Integración de las Mesas Directivas de Casilla","6.9",9,"Sorteo de la letra a partir de la cual, con base en el apellido paterno, se seleccionará a las y los ciudadanos que integrarán las mesas directivas de casilla","INE","CG","2021-02-02","2021-02-02",null,null,{"$f":"VLOOKUP(P3809,Campos!$B$2:$C$7,2,FALSE)","v":0},"Sin información"]
[3804,23,"Quintana Roo",6,"Integración de las Mesas Directivas de Casilla","6.10",10,"Entrega de la Lista Nominal de Electores para el Procedimiento de la Primera insaculación con corte al 15 de enero de 2021.","INE","DERFE/UNICOM","2021-01-21","2021-01-26",null,null,{"$f":"VLOOKUP(P3810,Campos!$B$2:$C$7,2,FALSE)","v":0},"Sin información"]
[3805,23,"Quintana Roo",6,"Integración de las Mesas Directivas de Casilla","6.11",11,"Primera insaculación","INE","JDE","2021-02-06","2021-02-06",null,null,{"$f":"VLOOKUP(P3811,Campos!$B$2:$C$7,2,FALSE)","v":0},"Sin información"]
[3806,23,"Quintana Roo",6,"Integración de las Mesas Directivas de Casilla","6.12",12,"Primera etapa de capacitación a las personas insaculadas","INE","CD","2021-02-09","2021-03-31",null,null,{"$f":"VLOOKUP(P3812,Campos!$B$2:$C$7,2,FALSE)","v":0},"Sin información"]
[3807,23,"Quintana Roo",6,"Integración de las Mesas Directivas de Casilla","6.13",13,"Integración de la lista de ciudadanos y ciudadanas que cumplen los requisitos legales para integrar las mesas directivas de casilla","INE","CD","2021-02-09","2021-03-31",null,null,{"$f":"VLOOKUP(P3813,Campos!$B$2:$C$7,2,FALSE)","v":0},"Sin información"]
[3808,23,"Quintana Roo",6,"Integración de las Mesas Directivas de Casilla","6.14",14,"Segunda insaculación y designación de funcionarios para mesas directivas de casilla","INE","CD","2021-04-08","2021-04-08",null,null,{"$f":"VLOOKUP(P3814,Campos!$B$2:$C$7,2,FALSE)","v":0},"Sin información"]
[3809,23,"Quintana Roo",6,"Integración de las Mesas Directivas de Casilla","6.15",15,"Segunda etapa de capacitación a funcionarios de mesa directiva de casilla y simulacros","INE","CD","2021-04-18","2021-06-05",null,null,{"$f":"VLOOKUP(P3815,Campos!$B$2:$C$7,2,FALSE)","v":0},"Sin información"]
[3810,23,"Quintana Roo",6,"Integración de las Mesas Directivas de Casilla","6.16",16,"Entrega de reconocimientos a funcionarios de mesas directivas de casilla","INE","CD","2021-06-07","2021-06-12",null,null,{"$f":"VLOOKUP(P3816,Campos!$B$2:$C$7,2,FALSE)","v":0},"Sin información"]
[3811,23,"Quintana Roo",6,"Integración de las Mesas Directivas de Casilla","6.17",17,"Periodo para contratación de CAE locales","INE/OPL","INE/OPL","Por definir","Por definir",null,null,{"$f":"VLOOKUP(P3817,Campos!$B$2:$C$7,2,FALSE)","v":0},"Sin información"]
[3812,23,"Quintana Roo",7,"Fiscalización de los recursos de los Partidos Políticos y candidaturas independientes","7.3",3,"Aprobación de topes de gastos de precampaña Ayuntamientos","OPL","CG","2020-10-01","2020-10-31",null,null,{"$f":"VLOOKUP(P3818,Campos!$B$2:$C$7,2,FALSE)","v":0},"Sin información"]
[3813,23,"Quintana Roo",7,"Fiscalización de los recursos de los Partidos Políticos y candidaturas independientes","7.6",6,"Aprobación de los límites de financiamiento privado, aportaciones de militantes, simpatizantes y precandidatos o candidatos; así como el límite individual de aportaciones para Ayuntamientos","OPL","CG","2020-10-01","2020-12-31",null,null,{"$f":"VLOOKUP(P3819,Campos!$B$2:$C$7,2,FALSE)","v":0},"Sin información"]
[3814,23,"Quintana Roo",7,"Fiscalización de los recursos de los Partidos Políticos y candidaturas independientes","7.9",9,"Aprobación de topes de gastos para el periodo de obtención del apoyo ciudadano para Ayuntamientos","OPL","CG","2020-10-01","2020-10-31",null,null,{"$f":"VLOOKUP(P3820,Campos!$B$2:$C$7,2,FALSE)","v":0},"Sin información"]
[3815,23,"Quintana Roo",7,"Fiscalización de los recursos de los Partidos Políticos y candidaturas independientes","7.12",12,"Precampaña para Ayuntamientos","OPL","CG","2021-01-29","2021-02-27",null,null,{"$f":"VLOOKUP(P3821,Campos!$B$2:$C$7,2,FALSE)","v":0},"Sin información"]
[3816,23,"Quintana Roo",7,"Fiscalización de los recursos de los Partidos Políticos y candidaturas independientes","7.15",15,"Aprobación de topes de gastos de campaña para Ayuntamientos","OPL","CG","2020-10-01","2020-10-31",null,null,{"$f":"VLOOKUP(P3822,Campos!$B$2:$C$7,2,FALSE)","v":0},"Sin información"]
[3817,23,"Quintana Roo",7,"Fiscalización de los recursos de los Partidos Políticos y candidaturas independientes","7.18",18,"Campaña para Ayuntamientos","OPL","CG","2021-04-19","2021-06-02",null,null,{"$f":"VLOOKUP(P3823,Campos!$B$2:$C$7,2,FALSE)","v":0},"Sin información"]
[3818,23,"Quintana Roo",7,"Fiscalización de los recursos de los Partidos Políticos y candidaturas independientes","7.19",19,"Aprobación de la distribución de financiamiento público para partidos políticos","OPL","CG","2020-09-01","2020-09-30",null,null,{"$f":"VLOOKUP(P3824,Campos!$B$2:$C$7,2,FALSE)","v":0},"Sin información"]
[3819,23,"Quintana Roo",8,"Candidaturas Independientes","8.1",1,"Emisión de la convocatoria para la ciudadanía interesada en participar en Candidaturas Independientes ","OPL","CG","2021-01-08","2021-01-14",null,null,{"$f":"VLOOKUP(P3825,Campos!$B$2:$C$7,2,FALSE)","v":0},"Sin información"]
[3820,23,"Quintana Roo",8,"Candidaturas Independientes","8.4",4,"Recepción de escrito de intención y documentación anexa de la ciudadanía que aspire a la candidatura independiente para Ayuntamientos","OPL","SE/OD","2021-01-13","2021-01-19",null,null,{"$f":"VLOOKUP(P3826,Campos!$B$2:$C$7,2,FALSE)","v":0},"Sin información"]
[3821,23,"Quintana Roo",8,"Candidaturas Independientes","8.7",7,"Resolución sobre procedencia de manifestación de intención de aspirantes a candidaturas independientes para Ayuntamientos","OPL","CG","2021-01-20","2021-01-24",null,null,{"$f":"VLOOKUP(P3827,Campos!$B$2:$C$7,2,FALSE)","v":0},"Sin información"]
[3822,23,"Quintana Roo",8,"Candidaturas Independientes","8.10",10,"Plazo para obtener el apoyo ciudadano de las candidaturas independientes para Ayuntamientos","OPL","OD","2021-01-29","2021-02-27",null,null,{"$f":"VLOOKUP(P3828,Campos!$B$2:$C$7,2,FALSE)","v":0},"Sin información"]
[3823,23,"Quintana Roo",8,"Candidaturas Independientes","8.13",13,"Plazo para otorgar las constancias de porcentaje a favor de aspirantes a la candidatura independiente para Ayuntamientos","OPL","CG/OD","2021-03-01","2021-03-08",null,null,{"$f":"VLOOKUP(P3829,Campos!$B$2:$C$7,2,FALSE)","v":0},"Sin información"]
[3824,23,"Quintana Roo",9,"Candidaturas","9.1",1,"Registro de plataformas electorales","OPL","CG","2021-02-01","2021-02-05",null,null,{"$f":"VLOOKUP(P3830,Campos!$B$2:$C$7,2,FALSE)","v":0},"Sin información"]
[3825,23,"Quintana Roo",9,"Candidaturas","9.4",4,"Solicitud de registro de convenio de coalición para Ayuntamientos","OPL","CG","2021-01-03","2021-01-29",null,null,{"$f":"VLOOKUP(P3831,Campos!$B$2:$C$7,2,FALSE)","v":0},"Sin información"]
[3826,23,"Quintana Roo",9,"Candidaturas","9.7",7,"Resolución sobre Convenio de Coalición para Ayuntamientos","OPL","CG","2021-01-13","2021-02-08",null,null,{"$f":"VLOOKUP(P3832,Campos!$B$2:$C$7,2,FALSE)","v":0},"Sin información"]
[3827,23,"Quintana Roo",9,"Candidaturas","9.11",11,"Solicitud de registro de Candidaturas para Ayuntamientos","OPL","CG/OD","2021-03-02","2021-03-07",null,null,{"$f":"VLOOKUP(P3833,Campos!$B$2:$C$7,2,FALSE)","v":0},"Sin información"]
[3828,23,"Quintana Roo",9,"Candidaturas","9.16",16,"Resolución para aprobar las candidaturas para Ayuntamientos","OPL","CG/OD","2021-04-14","2021-04-18",null,null,{"$f":"VLOOKUP(P3834,Campos!$B$2:$C$7,2,FALSE)","v":0},"Sin información"]
[3829,23,"Quintana Roo",11,"Documentación y material electoral","11.1",1,"Entrega a la Junta Local Ejecutiva del INE, de los diseños y especificaciones técnicas de la documentación y materiales electorales, en medios impresos y electrónicos","OPL","CG","2020-09-01","2020-09-30",null,null,{"$f":"VLOOKUP(P3835,Campos!$B$2:$C$7,2,FALSE)","v":0},"Sin información"]
[3830,23,"Quintana Roo",11,"Documentación y material electoral","11.2",2,"Revisión de los documentos y materiales electorales y especificaciones técnicas, presentadas por el OPL","INE","JLE","2020-09-15","2020-12-16",null,null,{"$f":"VLOOKUP(P3836,Campos!$B$2:$C$7,2,FALSE)","v":0},"Sin información"]
[3831,23,"Quintana Roo",11,"Documentación y material electoral","11.3",3,"En su caso, atención y presentación, de los cambios pertinentes, conforme a las observaciones emitidas por la Junta Local Ejecutiva del INE","OPL","CG","2020-09-15","2020-12-16",null,null,{"$f":"VLOOKUP(P3837,Campos!$B$2:$C$7,2,FALSE)","v":0},"Sin información"]
[3832,23,"Quintana Roo",11,"Documentación y material electoral","11.4",4,"Validación de los documentos y materiales electorales y especificaciones técnicas, con las observaciones subsanadas","INE","DEOE","2020-10-28","2020-12-18",null,null,{"$f":"VLOOKUP(P3838,Campos!$B$2:$C$7,2,FALSE)","v":0},"Sin información"]
[3833,23,"Quintana Roo",11,"Documentación y material electoral","11.5",5,"Entrega a la Dirección Ejecutiva de Organización Electoral del INE, del Reporte único sobre la aprobación y adjudicación de los documentos y materiales electorales del OPL, en medios electrónicos","OPL","CG","2021-02-01","2021-02-26",null,null,{"$f":"VLOOKUP(P3839,Campos!$B$2:$C$7,2,FALSE)","v":0},"Sin información"]
[3834,23,"Quintana Roo",11,"Documentación y material electoral","11.6",6,"Revisión y en su caso validación, del Reporte único sobre la aprobación y adjudicación de los documentos y materiales electorales del OPL, en medios electrónicos","INE","DEOE","2021-02-15","2021-03-12",null,null,{"$f":"VLOOKUP(P3840,Campos!$B$2:$C$7,2,FALSE)","v":0},"Sin información"]
[3835,23,"Quintana Roo",11,"Documentación y material electoral","11.7",7,"Entrega  a la Dirección Ejecutiva de Organización Electoral del INE, del Reporte semanal sobre el avance en la producción de los documentos y materiales electorales del OPL, en medios electrónicos.","OPL","CG","2021-03-15","2021-05-22",null,null,{"$f":"VLOOKUP(P3841,Campos!$B$2:$C$7,2,FALSE)","v":0},"Sin información"]
[3836,23,"Quintana Roo",11,"Documentación y material electoral","11.8",8,"Aprobación de la documentación y material electoral","OPL","CG","2020-11-11","2020-12-31",null,null,{"$f":"VLOOKUP(P3842,Campos!$B$2:$C$7,2,FALSE)","v":0},"Sin información"]
[3837,23,"Quintana Roo",11,"Documentación y material electoral","11.9",9,"Entrega a la Dirección Ejecutiva de Organización Electoral del INE, del Reporte con los resultados de las verificaciones de las medidas de seguridad en la documentación electoral","OPL","CG","2021-05-27","2021-06-11",null,null,{"$f":"VLOOKUP(P3843,Campos!$B$2:$C$7,2,FALSE)","v":0},"Sin información"]
[3838,23,"Quintana Roo",11,"Documentación y material electoral","11.10",10,"Supervisiones respecto de los procedimientos de impresión y producción de la documentación y materiales electorales","INE","DEOE","2021-03-15","2021-05-22",null,null,{"$f":"VLOOKUP(P3844,Campos!$B$2:$C$7,2,FALSE)","v":0},"Sin información"]
[3839,23,"Quintana Roo",11,"Documentación y material electoral","11.11",11,"Designación de la persona responsable de llevar el control sobre la asignación de los folios de las boletas que se distribuirán en cada mesa directiva de casilla","OPL","CG","2021-03-01","2021-03-30",null,null,{"$f":"VLOOKUP(P3845,Campos!$B$2:$C$7,2,FALSE)","v":0},"Sin información"]
[3840,23,"Quintana Roo",11,"Documentación y material electoral","11.12",12,"Aprobación de SE y CAE, así como de personal que auxiliará en el procedimiento de conteo, sellado y agrupamiento de las boletas electorales; así como la integración de documentación para las casillas","OPL","CG","2021-04-24","2021-05-11",null,null,{"$f":"VLOOKUP(P3846,Campos!$B$2:$C$7,2,FALSE)","v":0},"Sin información"]
[3841,23,"Quintana Roo",11,"Documentación y material electoral","11.13",13,"Recepción de las boletas electorales por el órgano competente que realizará el conteo, sellado y agrupamiento","OPL","CG","2021-05-18","2021-05-22",null,null,{"$f":"VLOOKUP(P3847,Campos!$B$2:$C$7,2,FALSE)","v":0},"Sin información"]
[3842,23,"Quintana Roo",11,"Documentación y material electoral","11.14",14,"Conteo, sellado y agrupamiento de boletas","OPL","CG","2021-05-18","2021-05-28",null,null,{"$f":"VLOOKUP(P3848,Campos!$B$2:$C$7,2,FALSE)","v":0},"Sin información"]
[3843,23,"Quintana Roo",11,"Documentación y material electoral","11.15",15,"Distribución de la documentación y materiales electorales a las y los Presidentes de mesas directivas de casilla","OPL","OD","2021-05-31","2021-06-04",null,null,{"$f":"VLOOKUP(P3849,Campos!$B$2:$C$7,2,FALSE)","v":0},"Sin información"]
[3844,23,"Quintana Roo",11,"Documentación y material electoral","11.16",16,"Remisión de los recibos de la entrega de la documentación y materiales electorales al Consejo General del OPL","INE","JLE","2021-06-24","2021-06-30",null,null,{"$f":"VLOOKUP(P3850,Campos!$B$2:$C$7,2,FALSE)","v":0},"Sin información"]
[3845,23,"Quintana Roo",12,"Jornada Electoral","12.1",1,"Aprobación del Programa de Operación del SIJE 2021","INE","COE","2020-07-01","2020-07-31",null,null,{"$f":"VLOOKUP(P3851,Campos!$B$2:$C$7,2,FALSE)","v":0},"Sin información"]
[3846,23,"Quintana Roo",12,"Jornada Electoral","12.2",2,"Aprobación de las metas del SIJE 2021","INE","CG","2021-03-01","2021-03-31",null,null,{"$f":"VLOOKUP(P3852,Campos!$B$2:$C$7,2,FALSE)","v":0},"Sin información"]
[3847,23,"Quintana Roo",12,"Jornada Electoral","12.3",3,"Realización de pruebas del SIJE 2021","INE","DEOE","2021-04-01","2021-04-15",null,null,{"$f":"VLOOKUP(P3853,Campos!$B$2:$C$7,2,FALSE)","v":0},"Sin información"]
[3848,23,"Quintana Roo",12,"Jornada Electoral","12.4",4,"Desarrollo del primer simulacro del SIJE","INE/OPL","DEOE/OD","2021-04-29","2021-04-29",null,null,{"$f":"VLOOKUP(P3854,Campos!$B$2:$C$7,2,FALSE)","v":0},"Sin información"]
[3849,23,"Quintana Roo",12,"Jornada Electoral","12.5",5,"Desarrollo del segundo simulacro del SIJE","INE/OPL","DEOE/OD","2021-05-09","2021-05-09",null,null,{"$f":"VLOOKUP(P3855,Campos!$B$2:$C$7,2,FALSE)","v":0},"Sin información"]
[3850,23,"Quintana Roo",12,"Jornada Electoral","12.6",6,"Desarrollo del tercer simulacro del SIJE","INE/OPL","DEOE/OD","2021-05-23","2021-05-23",null,null,{"$f":"VLOOKUP(P3856,Campos!$B$2:$C$7,2,FALSE)","v":0},"Sin información"]
[3851,23,"Quintana Roo",12,"Jornada Electoral","12.7",7,"Jornada Electoral","OPL","CG/OD","2021-06-06","2021-06-06",null,null,{"$f":"VLOOKUP(P3857,Campos!$B$2:$C$7,2,FALSE)","v":0},"Sin información"]
[3852,23,"Quintana Roo",13,"Bodegas electorales","13.1",1,"Determinación de los lugares que ocuparán las bodegas electorales para el resguardo de la documentación electoral","OPL","CG","2021-02-01","2021-02-28",null,null,{"$f":"VLOOKUP(P3858,Campos!$B$2:$C$7,2,FALSE)","v":0},"Sin información"]
[3853,23,"Quintana Roo",13,"Bodegas electorales","13.2",2,"Informe que rinden las y los Presidentes sobre las condiciones de equipamiento, mecanismos de operación y medidas de seguridad de las bodegas electorales","OPL","OD","2021-03-01","2021-03-31",null,null,{"$f":"VLOOKUP(P3859,Campos!$B$2:$C$7,2,FALSE)","v":0},"Sin información"]
[3854,23,"Quintana Roo",13,"Bodegas electorales","13.3",3,"Designación, por parte del órgano competente del OPL, del personal que tendrá acceso a la bodega electoral","OPL","CG/OD","2021-03-01","2021-03-30",null,null,{"$f":"VLOOKUP(P3860,Campos!$B$2:$C$7,2,FALSE)","v":0},"Sin información"]
[3855,23,"Quintana Roo",13,"Bodegas electorales","13.4",4,"Envío a la UTVOPL, por conducto de la JLE, el informe sobre las condiciones que guardan las bodegas electorales","OPL","CG","2021-04-04","2021-04-10",null,null,{"$f":"VLOOKUP(P3861,Campos!$B$2:$C$7,2,FALSE)","v":0},"Sin información"]
[3856,23,"Quintana Roo",14,"Mecanismos de recolección","14.1",1,"Entrega de estudios de factibilidad al OPL","INE","CL","2021-03-15","2021-03-31",null,null,{"$f":"VLOOKUP(P3862,Campos!$B$2:$C$7,2,FALSE)","v":0},"Sin información"]
[3857,23,"Quintana Roo",14,"Mecanismos de recolección","14.2",2,"Entrega de observaciones a los estudios de factibilidad ","OPL","CG","2021-04-01","2021-04-24",null,null,{"$f":"VLOOKUP(P3863,Campos!$B$2:$C$7,2,FALSE)","v":0},"Sin información"]
[3858,23,"Quintana Roo",14,"Mecanismos de recolección","14.3",3,"Recorridos para verificar las propuestas de los mecanismos de recolección","INE/OPL","CD/OD","2021-03-16","2021-04-24",null,null,{"$f":"VLOOKUP(P3864,Campos!$B$2:$C$7,2,FALSE)","v":0},"Sin información"]
[3859,23,"Quintana Roo",14,"Mecanismos de recolección","14.4",4,"Aprobación de los mecanismos de recolección ","INE","CD","2021-04-26","2021-04-30",null,null,{"$f":"VLOOKUP(P3865,Campos!$B$2:$C$7,2,FALSE)","v":0},"Sin información"]
[3860,23,"Quintana Roo",14,"Mecanismos de recolección","14.5",5,"Traslado y recolección de los paquetes electorales","INE/OPL","CD/OD","2021-06-06","2021-06-07",null,null,{"$f":"VLOOKUP(P3866,Campos!$B$2:$C$7,2,FALSE)","v":0},"Sin información"]
[3861,23,"Quintana Roo",14,"Mecanismos de recolección","14.6",6,"Acreditación de representantes de partidos políticos y candidaturas independientes ante los mecanismos de recolección","INE","CL/CD","2021-04-27","2021-06-03",null,null,{"$f":"VLOOKUP(P3867,Campos!$B$2:$C$7,2,FALSE)","v":0},"Sin información"]
[3862,23,"Quintana Roo",14,"Mecanismos de recolección","14.7",7,"Sustitución de representantes de partidos políticos y candidaturas independientes ante los mecanismos de recolección","INE","CL/CD","2021-04-28","2021-06-04",null,null,{"$f":"VLOOKUP(P3868,Campos!$B$2:$C$7,2,FALSE)","v":0},"Sin información"]
[3863,23,"Quintana Roo",14,"Mecanismos de recolección","14.8",8,"Entrega a la JLE, el informe sobre la recepción de paquetes electorales en los órganos competentes","OPL","CG","2021-06-06","2021-06-28",null,null,{"$f":"VLOOKUP(P3869,Campos!$B$2:$C$7,2,FALSE)","v":0},"Sin información"]
[3864,23,"Quintana Roo",15,"Cómputos","15.1",1,"Aprobación de los lineamientos de cómputo y del cuadernillo de consulta sobre votos válidos y votos nulos","OPL","CG","2021-01-18","2021-01-29",null,null,{"$f":"VLOOKUP(P3870,Campos!$B$2:$C$7,2,FALSE)","v":0},"Sin información"]
[3865,23,"Quintana Roo",15,"Cómputos","15.2",2,"Integración por parte de los Órganos Desconcentrados del OPL, de la propuesta para la habilitación de espacios para el recuento de votos con las alternativas para todos los escenarios de cómputo","OPL","OD","2021-03-01","2021-03-07",null,null,{"$f":"VLOOKUP(P3871,Campos!$B$2:$C$7,2,FALSE)","v":0},"Sin información"]
[3866,23,"Quintana Roo",15,"Cómputos","15.3",3,"Informe de los escenarios de cómputos de la totalidad de sus órganos desconcentrados","OPL","CG","2021-04-01","2021-04-04",null,null,{"$f":"VLOOKUP(P3872,Campos!$B$2:$C$7,2,FALSE)","v":0},"Sin información"]
[3867,23,"Quintana Roo",15,"Cómputos","15.4",4,"Remisión a la JLE en la entidad, las propuestas de escenarios de cómputos, para la dictaminación de viabilidad","OPL","CG","2021-05-01","2021-05-07",null,null,{"$f":"VLOOKUP(P3873,Campos!$B$2:$C$7,2,FALSE)","v":0},"Sin información"]
[3868,23,"Quintana Roo",15,"Cómputos","15.5",5,"Remisión de las observaciones a los escenarios de Cómputos al OPL y a su vez informar de las mismas a la UTVOPL","INE","JLE","2021-05-08","2021-05-15",null,null,{"$f":"VLOOKUP(P3874,Campos!$B$2:$C$7,2,FALSE)","v":0},"Sin información"]
[3869,23,"Quintana Roo",15,"Cómputos","15.6",6,"Aprobación por parte del órgano competente del OPL, del acuerdo mediante el cual se designa al personal que participará en las tareas de apoyo a los Cómputos Municipales","OPL","CG/OD","2021-04-26","2021-05-05",null,null,{"$f":"VLOOKUP(P3875,Campos!$B$2:$C$7,2,FALSE)","v":0},"Sin información"]
[3870,23,"Quintana Roo",15,"Cómputos","15.8",8,"Aprobación por parte de los órganos competentes del OPL, de los distintos escenarios de cómputos","OPL","OD","2021-05-08","2021-05-15",null,null,{"$f":"VLOOKUP(P3876,Campos!$B$2:$C$7,2,FALSE)","v":0},"Sin información"]
[3871,23,"Quintana Roo",15,"Cómputos","15.9",9,"Aprobación por parte del órgano competente del OPL, del acuerdo por el que se habilitarán espacios para la instalación de grupos de trabajo y, en su caso, puntos de recuento","OPL","CG/OD","2021-06-08","2021-06-08",null,null,{"$f":"VLOOKUP(P3877,Campos!$B$2:$C$7,2,FALSE)","v":0},"Sin información"]
[3872,23,"Quintana Roo",15,"Cómputos","15.11",11,"Cómputos Municipales","OPL","OD","2021-06-13","2021-06-14",null,null,{"$f":"VLOOKUP(P3878,Campos!$B$2:$C$7,2,FALSE)","v":0},"Sin información"]
[3873,23,"Quintana Roo",15,"Cómputos","15.16",16,"Asignación de regidurías por el principio de Representación Proporcional","OPL","CG","2021-06-16","2021-06-16",null,null,{"$f":"VLOOKUP(P3879,Campos!$B$2:$C$7,2,FALSE)","v":0},"Sin información"]
[3874,23,"Quintana Roo",16,"PREP","16.1",1,"Aprobación del Acuerdo por el que se designa o ratifica a la instancia interna responsable de coordinar el PREP","OPL","CG","2020-09-11","2020-09-11",null,null,{"$f":"VLOOKUP(P3880,Campos!$B$2:$C$7,2,FALSE)","v":0},"Sin información"]
[3875,23,"Quintana Roo",16,"PREP","16.2",2,"Aprobación del Acuerdo de Integración del COTAPREP","OPL","CG","2020-11-11","2020-11-11",null,null,{"$f":"VLOOKUP(P3881,Campos!$B$2:$C$7,2,FALSE)","v":0},"Sin información"]
[3876,23,"Quintana Roo",16,"PREP","16.3",3,"Documento por el que se determina la implementación del PREP por el OPL o con el apoyo de un Tercero","OPL","CG","2020-12-11","2020-12-11",null,null,{"$f":"VLOOKUP(P3882,Campos!$B$2:$C$7,2,FALSE)","v":0},"Sin información"]
[3877,23,"Quintana Roo",16,"PREP","16.4",4,"Aprobación del acuerdo por el que se determina el Proceso Técnico Operativo ","OPL","CG","2021-01-11","2021-01-11",null,null,{"$f":"VLOOKUP(P3883,Campos!$B$2:$C$7,2,FALSE)","v":0},"Sin información"]
[3878,23,"Quintana Roo",16,"PREP","16.5",5,"Aprobación del Acuerdo por el que se determina la ubicación, instalación y habilitación de los CATD y, en su caso, CCV","OPL","CG","2021-02-11","2021-02-11",null,null,{"$f":"VLOOKUP(P3884,Campos!$B$2:$C$7,2,FALSE)","v":0},"Sin información"]
[3879,23,"Quintana Roo",16,"PREP","16.7",7,"Instrumento jurídico celebrado entre el OPL y el ente auditor","OPL","CG","2021-03-11","2021-03-11",null,null,{"$f":"VLOOKUP(P3885,Campos!$B$2:$C$7,2,FALSE)","v":0},"Sin información"]
[3880,23,"Quintana Roo",16,"PREP","16.6",6,"Documento de Designación del Ente Auditor ","OPL","CG","2021-02-11","2021-02-11",null,null,{"$f":"VLOOKUP(P3886,Campos!$B$2:$C$7,2,FALSE)","v":0},"Sin información"]
[3881,23,"Quintana Roo",16,"PREP","16.8",8,"Realización del primer simulacro del PREP","OPL","CG","2021-05-16","2021-05-16",null,null,{"$f":"VLOOKUP(P3887,Campos!$B$2:$C$7,2,FALSE)","v":0},"Sin información"]
[3882,23,"Quintana Roo",16,"PREP","16.9",9,"Realización del segundo simulacro del PREP","OPL","CG","2021-05-23","2021-05-23",null,null,{"$f":"VLOOKUP(P3888,Campos!$B$2:$C$7,2,FALSE)","v":0},"Sin información"]
[3883,23,"Quintana Roo",16,"PREP","16.10",10,"Realización del tercer simulacro del PREP","OPL","CG","2021-05-30","2021-05-30",null,null,{"$f":"VLOOKUP(P3889,Campos!$B$2:$C$7,2,FALSE)","v":0},"Sin información"]
[3884,23,"Quintana Roo",16,"PREP","16.11",11,"Operación del PREP","OPL","CG","2021-06-06","2021-06-07",null,null,{"$f":"VLOOKUP(P3890,Campos!$B$2:$C$7,2,FALSE)","v":0},"Sin información"]
[3885,23,"Quintana Roo",19,"Visitantes extranjeros","19.1",1,"Emisión de la Convocatoria para visitantes extranjeros","INE","CG","2020-08-03","2020-09-30",null,null,{"$f":"VLOOKUP(P3891,Campos!$B$2:$C$7,2,FALSE)","v":0},"Sin información"]
[3886,23,"Quintana Roo",19,"Visitantes extranjeros","19.2",2,"Difusión de la Convocatoria para visitantes extranjeros","INE","CAI","2020-09-01","2021-05-26",null,null,{"$f":"VLOOKUP(P3892,Campos!$B$2:$C$7,2,FALSE)","v":0},"Sin información"]
[3887,23,"Quintana Roo",19,"Visitantes extranjeros","19.3",3,"Recepción de solicitudes de acreditación como visitantes extranjeros","INE","CAI","2020-09-01","2021-05-26",null,null,{"$f":"VLOOKUP(P3893,Campos!$B$2:$C$7,2,FALSE)","v":0},"Sin información"]
[3888,23,"Quintana Roo",19,"Visitantes extranjeros","19.4",4,"Resolución de solicitudes de acreditación como visitantes extranjeros","INE","CAI","2020-09-02","2021-05-30",null,null,{"$f":"VLOOKUP(P3894,Campos!$B$2:$C$7,2,FALSE)","v":0},"Sin información"]
[3889,23,"Quintana Roo",19,"Visitantes extranjeros","19.5",5,"Entrega de acreditaciones a los visitantes extranjeros","INE","CAI","2020-09-04","2021-06-05",null,null,{"$f":"VLOOKUP(P3895,Campos!$B$2:$C$7,2,FALSE)","v":0},"Sin información"]
[3890,26,"Sonora",1,"Mecanismos de coordinación","1.1",1,"Aprobar Calendarios y Planes Integrales de los Procesos Electorales Locales","INE","CG","2020-08-01","2020-08-07",null,null,{"$f":"VLOOKUP(P3896,Campos!$B$2:$C$7,2,FALSE)","v":0},"Sin información"]
[3891,26,"Sonora",1,"Mecanismos de coordinación","1.2",2,"Firma del Convenio General de Coordinación y Colaboración 2020-2021","INE/OPL","INE/OPL","2020-09-01","2020-10-01",null,null,{"$f":"VLOOKUP(P3897,Campos!$B$2:$C$7,2,FALSE)","v":0},"Sin información"]
[3892,26,"Sonora",1,"Mecanismos de coordinación","1.3",3,"Elaborar un plan de trabajo conjunto para la promoción de la participación ciudadana","INE/OPL","INE/OPL","2020-09-01","2020-12-31",null,null,{"$f":"VLOOKUP(P3898,Campos!$B$2:$C$7,2,FALSE)","v":0},"Sin información"]
[3893,26,"Sonora",1,"Mecanismos de coordinación","1.4",4,"Sesión para dar inicio al PEL","OPL","CG","2020-09-01","2020-09-07",null,null,{"$f":"VLOOKUP(P3899,Campos!$B$2:$C$7,2,FALSE)","v":0},"Sin información"]
[3894,26,"Sonora",1,"Mecanismos de coordinación","1.5",5,"Implementar un plan de trabajo conjunto para la promoción de la participación ciudadana","INE/OPL","INE/OPL","2021-02-01","2021-06-06",null,null,{"$f":"VLOOKUP(P3900,Campos!$B$2:$C$7,2,FALSE)","v":0},"Sin información"]
[3895,26,"Sonora",2,"Integración de órganos desconcentrados","2.1",1,"Convocatoria para la integración de los Órganos Distritales","OPL","CG","2020-04-01","2020-12-10",null,null,{"$f":"VLOOKUP(P3901,Campos!$B$2:$C$7,2,FALSE)","v":0},"Sin información"]
[3896,26,"Sonora",2,"Integración de órganos desconcentrados","2.2",2,"Sesión en la que se designan e integran los Órganos Distritales ","OPL","CG","2020-04-01","2020-12-10",null,null,{"$f":"VLOOKUP(P3902,Campos!$B$2:$C$7,2,FALSE)","v":0},"Sin información"]
[3897,26,"Sonora",2,"Integración de órganos desconcentrados","2.3",3,"Instalación de los Órganos Distritales ","OPL","OD","2020-12-11","2021-01-10",null,null,{"$f":"VLOOKUP(P3903,Campos!$B$2:$C$7,2,FALSE)","v":0},"Sin información"]
[3898,26,"Sonora",2,"Integración de órganos desconcentrados","2.4",4,"Convocatoria para la integración de los Órganos Municipales ","OPL","CG","2020-04-01","2020-12-10",null,null,{"$f":"VLOOKUP(P3904,Campos!$B$2:$C$7,2,FALSE)","v":0},"Sin información"]
[3899,26,"Sonora",2,"Integración de órganos desconcentrados","2.5",5,"Sesión en la que se designan e integran los Órganos Municipales ","OPL","CG","2020-04-01","2020-12-10",null,null,{"$f":"VLOOKUP(P3905,Campos!$B$2:$C$7,2,FALSE)","v":0},"Sin información"]
[3900,26,"Sonora",2,"Integración de órganos desconcentrados","2.6",6,"Instalación de los Órganos Municipales ","OPL","OD","2020-12-10","2021-01-10",null,null,{"$f":"VLOOKUP(P3906,Campos!$B$2:$C$7,2,FALSE)","v":0},"Sin información"]
[3901,26,"Sonora",2,"Integración de órganos desconcentrados","2.7",7,"Designación y/o ratificación de las y los Consejeros Electorales del Consejo Local ","INE","CG","2020-10-01","2020-10-15",null,null,{"$f":"VLOOKUP(P3907,Campos!$B$2:$C$7,2,FALSE)","v":0},"Sin información"]
[3902,26,"Sonora",2,"Integración de órganos desconcentrados","2.8",8,"Instalación del Consejo Local","INE","CL","2020-11-01","2020-11-30",null,null,{"$f":"VLOOKUP(P3908,Campos!$B$2:$C$7,2,FALSE)","v":0},"Sin información"]
[3903,26,"Sonora",2,"Integración de órganos desconcentrados","2.9",9,"Designación y/o ratificación de las y los Consejeros Electorales de los Consejos Distritales ","INE","CL","2020-11-01","2020-11-30",null,null,{"$f":"VLOOKUP(P3909,Campos!$B$2:$C$7,2,FALSE)","v":0},"Sin información"]
[3904,26,"Sonora",2,"Integración de órganos desconcentrados","2.10",10,"Instalación de los Consejos Distritales","INE","CD","2020-12-01","2020-12-15",null,null,{"$f":"VLOOKUP(P3910,Campos!$B$2:$C$7,2,FALSE)","v":0},"Sin información"]
[3905,26,"Sonora",3,"Lista Nominal de Electores","3.1",1,"Generación y entrega de la Lista Nominal de Electores para Revisión en medios ópticos a los representantes de los partidos políticos, y en su caso a las candidaturas independientes acreditados ante el OPL, para observaciones","INE","DERFE","2021-02-15","2021-02-15",null,null,{"$f":"VLOOKUP(P3911,Campos!$B$2:$C$7,2,FALSE)","v":0},"Sin información"]
[3906,26,"Sonora",3,"Lista Nominal de Electores","3.2",2,"Recepción de observaciones de los partidos políticos y en su caso, candidatos independientes, a la Lista Nominal de Electores para revisión","INE/OPL","DERFE","2021-03-14","2021-03-14",null,null,{"$f":"VLOOKUP(P3912,Campos!$B$2:$C$7,2,FALSE)","v":0},"Sin información"]
[3907,26,"Sonora",3,"Lista Nominal de Electores","3.3",3,"Entrega en formato digital el informe respecto de la atención a las observaciones formuladas a la Lista Nominal de Electores para Revisión","INE","DERFE","2021-04-15","2021-04-15",null,null,{"$f":"VLOOKUP(P3913,Campos!$B$2:$C$7,2,FALSE)","v":0},"Sin información"]
[3908,26,"Sonora",3,"Lista Nominal de Electores","3.4",4,"Entrega de la Lista Nominal de Electores Definitiva con fotografía","INE","DERFE","2021-05-06","2021-05-14",null,null,{"$f":"VLOOKUP(P3914,Campos!$B$2:$C$7,2,FALSE)","v":0},"Sin información"]
[3909,26,"Sonora",3,"Lista Nominal de Electores","3.5",5,"Fecha de entrega de la Lista Nominal de Electores con fotografía Producto de Instancias Administrativas y Resoluciones del Tribunal (ADENDA)","INE","DERFE","2021-05-19","2021-05-24",null,null,{"$f":"VLOOKUP(P3915,Campos!$B$2:$C$7,2,FALSE)","v":0},"Sin información"]
[3910,26,"Sonora",4,"Observación Electoral","4.1",1,"Emisión de la convocatoria para la ciudadanía que desee participar en la observación electoral","OPL","CG","2020-09-01","2020-09-01",null,null,{"$f":"VLOOKUP(P3916,Campos!$B$2:$C$7,2,FALSE)","v":0},"Sin información"]
[3911,26,"Sonora",4,"Observación Electoral","4.2",2,"Recepción de solicitudes de la ciudadanía que desee participar en observación electoral","INE/OPL","OPL/JLE/JDE","2020-09-01","2021-04-30",null,null,{"$f":"VLOOKUP(P3917,Campos!$B$2:$C$7,2,FALSE)","v":0},"Sin información"]
[3912,26,"Sonora",4,"Observación Electoral","4.3",3,"Impartición de los cursos de capacitación, preparación o información","INE/OPL","OPL/JLE/JDE","2020-09-01","2021-05-17",null,null,{"$f":"VLOOKUP(P3918,Campos!$B$2:$C$7,2,FALSE)","v":0},"Sin información"]
[3913,26,"Sonora",4,"Observación Electoral","4.4",4,"Acreditación de la ciudadanía como observadores u observadoras electorales","INE","CL/CD","2020-09-01","2021-06-05",null,null,{"$f":"VLOOKUP(P3919,Campos!$B$2:$C$7,2,FALSE)","v":0},"Sin información"]
[3914,26,"Sonora",4,"Observación Electoral","4.5",5,"Seguimiento a los informes mensuales de acreditación","INE","CG","2020-09-01","2021-07-31",null,null,{"$f":"VLOOKUP(P3920,Campos!$B$2:$C$7,2,FALSE)","v":0},"Sin información"]
[3915,26,"Sonora",4,"Observación Electoral","4.6",6,"Remisión de materiales de capacitación a la JLE para revisión","OPL","CG","2020-10-08","2020-10-08",null,null,{"$f":"VLOOKUP(P3921,Campos!$B$2:$C$7,2,FALSE)","v":0},"Sin información"]
[3916,26,"Sonora",4,"Observación Electoral","4.7",7,"Revisión, corrección, verificación y validación de materiales de capacitación para observación electoral ","INE","JLE","2020-10-09","2020-10-30",null,null,{"$f":"VLOOKUP(P3922,Campos!$B$2:$C$7,2,FALSE)","v":0},"Sin información"]
[3917,26,"Sonora",4,"Observación Electoral","4.8",8,"Entrega de materiales de capacitación para observación electoral entre OPL e INE","INE/OPL","VEL/OPL","2020-11-01","2020-11-23",null,null,{"$f":"VLOOKUP(P3923,Campos!$B$2:$C$7,2,FALSE)","v":0},"Sin información"]
[3918,26,"Sonora",5,"Ubicación de casillas","5.1",1,"Recorridos por las secciones de los distritos para localizar los lugares donde se ubicarán las casillas","INE/OPL","JDE/OPL","2021-01-15","2021-02-15",null,null,{"$f":"VLOOKUP(P3924,Campos!$B$2:$C$7,2,FALSE)","v":0},"Sin información"]
[3919,26,"Sonora",5,"Ubicación de casillas","5.2",2,"Presentación a los Consejos Distritales del listado de lugares propuestos para ubicar casillas","INE","JDE","2021-02-24","2021-02-24",null,null,{"$f":"VLOOKUP(P3925,Campos!$B$2:$C$7,2,FALSE)","v":0},"Sin información"]
[3920,26,"Sonora",5,"Ubicación de casillas","5.3",3,"Visitas de examinación en los lugares propuestos para ubicar casillas básicas, contiguas, especiales y extraordinarias","INE/OPL","CD/OPL","2021-02-25","2021-03-16",null,null,{"$f":"VLOOKUP(P3926,Campos!$B$2:$C$7,2,FALSE)","v":0},"Sin información"]
[3921,26,"Sonora",5,"Ubicación de casillas","5.4",4,"Aprobación del número y ubicación de casillas extraordinarias y especiales","INE","CD","2021-03-16","2021-03-16",null,null,{"$f":"VLOOKUP(P3927,Campos!$B$2:$C$7,2,FALSE)","v":0},"Sin información"]
[3922,26,"Sonora",5,"Ubicación de casillas","5.5",5,"Aprobación del número y ubicación de casillas básicas y contiguas","INE","CD","2021-03-25","2021-03-25",null,null,{"$f":"VLOOKUP(P3928,Campos!$B$2:$C$7,2,FALSE)","v":0},"Sin información"]
[3923,26,"Sonora",5,"Ubicación de casillas","5.6",6,"Entrega de la base de datos de la Lista Nominal Definitiva a UNICOM con corte al 10 de abril","INE","DERFE","2021-04-15","2021-04-16",null,null,{"$f":"VLOOKUP(P3929,Campos!$B$2:$C$7,2,FALSE)","v":0},"Sin información"]
[3924,26,"Sonora",5,"Ubicación de casillas","5.7",7,"Realizar la primera publicación de la lista de ubicación de casillas en los lugares más concurridos del distrito electoral  y en los medios electrónicos del Instituto","INE","CD","2021-04-15","2021-04-15",null,null,{"$f":"VLOOKUP(P3930,Campos!$B$2:$C$7,2,FALSE)","v":0},"Sin información"]
[3925,26,"Sonora",5,"Ubicación de casillas","5.8",8,"En su caso, segunda publicación de la lista de ubicación de casillas por causas supervenientes en los lugares más concurridos del distrito y en los medios electrónicos del Instituto","INE","CD","2021-05-15","2021-05-25",null,null,{"$f":"VLOOKUP(P3931,Campos!$B$2:$C$7,2,FALSE)","v":0},"Sin información"]
[3926,26,"Sonora",5,"Ubicación de casillas","5.9",9,"Publicación de los encartes y difusión en medios electrónicos del Instituto","INE/OPL","DEOE/CG","2021-06-05","2021-06-06",null,null,{"$f":"VLOOKUP(P3932,Campos!$B$2:$C$7,2,FALSE)","v":0},"Sin información"]
[3927,26,"Sonora",5,"Ubicación de casillas","5.10",10,"Registro de representantes generales y ante mesas directivas de casilla","INE","CD","2021-04-16","2021-05-24",null,null,{"$f":"VLOOKUP(P3933,Campos!$B$2:$C$7,2,FALSE)","v":0},"Sin información"]
[3928,26,"Sonora",5,"Ubicación de casillas","5.11",11,"Sustitución de representantes generales y ante mesas directivas de casilla","INE","CD","2021-04-16","2021-05-27",null,null,{"$f":"VLOOKUP(P3934,Campos!$B$2:$C$7,2,FALSE)","v":0},"Sin información"]
[3929,26,"Sonora",5,"Ubicación de casillas","5.12",12,"Entrega de listados de representantes generales y ante casilla al OPL","INE","CD","2021-05-30","2021-05-30",null,null,{"$f":"VLOOKUP(P3935,Campos!$B$2:$C$7,2,FALSE)","v":0},"Sin información"]
[3930,26,"Sonora",5,"Ubicación de casillas","5.13",13,"Notificación ciudadana de ubicación de casillas en secciones electorales involucradas en la actualización del Marco Geográfico Electoral","INE/OPL","DERFE/OPL","2021-04-01","2021-06-15",null,null,{"$f":"VLOOKUP(P3936,Campos!$B$2:$C$7,2,FALSE)","v":0},"Sin información"]
[3931,26,"Sonora",6,"Integración de las Mesas Directivas de Casilla","6.1",1,"Aprobación de la Estrategia de Capacitación y Asistencia Electoral","INE","CG","2020-08-01","2020-08-15",null,null,{"$f":"VLOOKUP(P3937,Campos!$B$2:$C$7,2,FALSE)","v":0},"Sin información"]
[3932,26,"Sonora",6,"Integración de las Mesas Directivas de Casilla","6.2",2,"Entrega para revisión y validación de materiales didácticos de primera etapa","OPL","CG","2020-11-03","2020-11-03",null,null,{"$f":"VLOOKUP(P3938,Campos!$B$2:$C$7,2,FALSE)","v":0},"Sin información"]
[3933,26,"Sonora",6,"Integración de las Mesas Directivas de Casilla","6.3",3,"Revisión, corrección, verificación y validación de los materiales didácticos de primera etapa","INE/OPL","JLE/DECEYEC/OPL","2020-11-03","2020-12-19",null,null,{"$f":"VLOOKUP(P3939,Campos!$B$2:$C$7,2,FALSE)","v":0},"Sin información"]
[3934,26,"Sonora",6,"Integración de las Mesas Directivas de Casilla","6.4",4,"Entrega de los materiales impresos de la primera etapa a la JLE","OPL","OPL","2021-02-05","2021-02-05",null,null,{"$f":"VLOOKUP(P3940,Campos!$B$2:$C$7,2,FALSE)","v":0},"Sin información"]
[3935,26,"Sonora",6,"Integración de las Mesas Directivas de Casilla","6.5",5,"Sorteo del mes del calendario como base para la insaculación de las y los ciudadanos que integrarán las mesas directivas de casilla","INE","CG","2020-12-15","2020-12-19",null,null,{"$f":"VLOOKUP(P3941,Campos!$B$2:$C$7,2,FALSE)","v":0},"Sin información"]
[3936,26,"Sonora",6,"Integración de las Mesas Directivas de Casilla","6.6",6,"Entrega para revisión y validación de materiales didácticos de segunda etapa","OPL","OPL","2021-02-03","2021-02-03",null,null,{"$f":"VLOOKUP(P3942,Campos!$B$2:$C$7,2,FALSE)","v":0},"Sin información"]
[3937,26,"Sonora",6,"Integración de las Mesas Directivas de Casilla","6.7",7,"Revisión, corrección, verificación y validación de los materiales didácticos de la segunda etapa","INE/OPL","JLE/DECEYEC/OPL","2021-02-03","2021-03-22",null,null,{"$f":"VLOOKUP(P3943,Campos!$B$2:$C$7,2,FALSE)","v":0},"Sin información"]
[3938,26,"Sonora",6,"Integración de las Mesas Directivas de Casilla","6.8",8,"Entrega de los materiales impresos de la segunda etapa a la JLE","OPL","OPL","2021-04-05","2021-04-05",null,null,{"$f":"VLOOKUP(P3944,Campos!$B$2:$C$7,2,FALSE)","v":0},"Sin información"]
[3939,26,"Sonora",6,"Integración de las Mesas Directivas de Casilla","6.9",9,"Sorteo de la letra a partir de la cual, con base en el apellido paterno, se seleccionará a las y los ciudadanos que integrarán las mesas directivas de casilla","INE","CG","2021-02-02","2021-02-02",null,null,{"$f":"VLOOKUP(P3945,Campos!$B$2:$C$7,2,FALSE)","v":0},"Sin información"]
[3940,26,"Sonora",6,"Integración de las Mesas Directivas de Casilla","6.10",10,"Entrega de la Lista Nominal de Electores para el Procedimiento de la Primera insaculación con corte al 15 de enero de 2021.","INE","DERFE/UNICOM","2021-01-21","2021-01-26",null,null,{"$f":"VLOOKUP(P3946,Campos!$B$2:$C$7,2,FALSE)","v":0},"Sin información"]
[3941,26,"Sonora",6,"Integración de las Mesas Directivas de Casilla","6.11",11,"Primera insaculación","INE","JDE","2021-02-06","2021-02-06",null,null,{"$f":"VLOOKUP(P3947,Campos!$B$2:$C$7,2,FALSE)","v":0},"Sin información"]
[3942,26,"Sonora",6,"Integración de las Mesas Directivas de Casilla","6.12",12,"Primera etapa de capacitación a las personas insaculadas","INE","CD","2021-02-09","2021-03-31",null,null,{"$f":"VLOOKUP(P3948,Campos!$B$2:$C$7,2,FALSE)","v":0},"Sin información"]
[3943,26,"Sonora",6,"Integración de las Mesas Directivas de Casilla","6.13",13,"Integración de la lista de ciudadanos y ciudadanas que cumplen los requisitos legales para integrar las mesas directivas de casilla","INE","CD","2021-02-09","2021-03-31",null,null,{"$f":"VLOOKUP(P3949,Campos!$B$2:$C$7,2,FALSE)","v":0},"Sin información"]
[3944,26,"Sonora",6,"Integración de las Mesas Directivas de Casilla","6.14",14,"Segunda insaculación y designación de funcionarios para mesas directivas de casilla","INE","CD","2021-04-08","2021-04-08",null,null,{"$f":"VLOOKUP(P3950,Campos!$B$2:$C$7,2,FALSE)","v":0},"Sin información"]
[3945,26,"Sonora",6,"Integración de las Mesas Directivas de Casilla","6.15",15,"Segunda etapa de capacitación a funcionarios de mesa directiva de casilla y simulacros","INE","CD","2021-04-18","2021-06-05",null,null,{"$f":"VLOOKUP(P3951,Campos!$B$2:$C$7,2,FALSE)","v":0},"Sin información"]
[3946,26,"Sonora",6,"Integración de las Mesas Directivas de Casilla","6.16",16,"Entrega de reconocimientos a funcionarios de mesas directivas de casilla","INE","CD","2021-06-07","2021-06-12",null,null,{"$f":"VLOOKUP(P3952,Campos!$B$2:$C$7,2,FALSE)","v":0},"Sin información"]
[3947,26,"Sonora",6,"Integración de las Mesas Directivas de Casilla","6.17",17,"Periodo para contratación de CAE locales","INE/OPL","INE/OPL","Por definir","Por definir",null,null,{"$f":"VLOOKUP(P3953,Campos!$B$2:$C$7,2,FALSE)","v":0},"Sin información"]
[3948,26,"Sonora",6,"Integración de las Mesas Directivas de Casilla","6.18",18,"Reclutamiento y selección de CAE locales","INE/OPL","INE/OPL","Por definir","Por definir",null,null,{"$f":"VLOOKUP(P3954,Campos!$B$2:$C$7,2,FALSE)","v":0},"Sin información"]
[3949,26,"Sonora",7,"Fiscalización de los recursos de los Partidos Políticos y candidaturas independientes","7.1",1,"Aprobación de topes de gastos de precampaña Gubernatura","OPL","CG","2020-11-01","2020-11-30",null,null,{"$f":"VLOOKUP(P3955,Campos!$B$2:$C$7,2,FALSE)","v":0},"Sin información"]
[3950,26,"Sonora",7,"Fiscalización de los recursos de los Partidos Políticos y candidaturas independientes","7.2",2,"Aprobación de topes de gastos de precampaña Diputaciones","OPL","CG","2020-11-01","2020-11-30",null,null,{"$f":"VLOOKUP(P3956,Campos!$B$2:$C$7,2,FALSE)","v":0},"Sin información"]
[3951,26,"Sonora",7,"Fiscalización de los recursos de los Partidos Políticos y candidaturas independientes","7.3",3,"Aprobación de topes de gastos de precampaña Ayuntamientos","OPL","CG","2020-11-01","2020-11-30",null,null,{"$f":"VLOOKUP(P3957,Campos!$B$2:$C$7,2,FALSE)","v":0},"Sin información"]
[3952,26,"Sonora",7,"Fiscalización de los recursos de los Partidos Políticos y candidaturas independientes","7.4",4,"Aprobación de los límites de financiamiento privado, aportaciones de militantes, simpatizantes y precandidatos o candidatos; así como el límite individual de aportaciones para Gubernatura","OPL","CG","2020-11-01","2020-11-30",null,null,{"$f":"VLOOKUP(P3958,Campos!$B$2:$C$7,2,FALSE)","v":0},"Sin información"]
[3953,26,"Sonora",7,"Fiscalización de los recursos de los Partidos Políticos y candidaturas independientes","7.5",5,"Aprobación de los límites de financiamiento privado, aportaciones de militantes, simpatizantes y precandidatos o candidatos; así como el límite individual de aportaciones para Diputaciones","OPL","CG","2020-11-01","2020-11-30",null,null,{"$f":"VLOOKUP(P3959,Campos!$B$2:$C$7,2,FALSE)","v":0},"Sin información"]
[3954,26,"Sonora",7,"Fiscalización de los recursos de los Partidos Políticos y candidaturas independientes","7.6",6,"Aprobación de los límites de financiamiento privado, aportaciones de militantes, simpatizantes y precandidatos o candidatos; así como el límite individual de aportaciones para Ayuntamientos","OPL","CG","2020-11-01","2020-11-30",null,null,{"$f":"VLOOKUP(P3960,Campos!$B$2:$C$7,2,FALSE)","v":0},"Sin información"]
[3955,26,"Sonora",7,"Fiscalización de los recursos de los Partidos Políticos y candidaturas independientes","7.7",7,"Aprobación de topes de gastos para el periodo de obtención del apoyo ciudadano para Gubernatura","OPL","CG","2020-09-01","2020-12-15",null,null,{"$f":"VLOOKUP(P3961,Campos!$B$2:$C$7,2,FALSE)","v":0},"Sin información"]
[3956,26,"Sonora",7,"Fiscalización de los recursos de los Partidos Políticos y candidaturas independientes","7.8",8,"Aprobación de topes de gastos para el periodo de obtención del apoyo ciudadano para Diputaciones","OPL","CG","2020-09-01","2020-12-15",null,null,{"$f":"VLOOKUP(P3962,Campos!$B$2:$C$7,2,FALSE)","v":0},"Sin información"]
[3957,26,"Sonora",7,"Fiscalización de los recursos de los Partidos Políticos y candidaturas independientes","7.9",9,"Aprobación de topes de gastos para el periodo de obtención del apoyo ciudadano para Ayuntamientos","OPL","CG","2020-09-01","2020-12-15",null,null,{"$f":"VLOOKUP(P3963,Campos!$B$2:$C$7,2,FALSE)","v":0},"Sin información"]
[3958,26,"Sonora",7,"Fiscalización de los recursos de los Partidos Políticos y candidaturas independientes","7.10",10,"Precampaña para Gubernatura","OPL","CG","2021-01-07","2021-02-15",null,null,{"$f":"VLOOKUP(P3964,Campos!$B$2:$C$7,2,FALSE)","v":0},"Sin información"]
[3959,26,"Sonora",7,"Fiscalización de los recursos de los Partidos Políticos y candidaturas independientes","7.11",11,"Precampaña para Diputaciones","OPL","CG","2021-03-15","2021-04-03",null,null,{"$f":"VLOOKUP(P3965,Campos!$B$2:$C$7,2,FALSE)","v":0},"Sin información"]
[3960,26,"Sonora",7,"Fiscalización de los recursos de los Partidos Políticos y candidaturas independientes","7.12",12,"Precampaña para Ayuntamientos","OPL","CG","2021-03-15","2021-04-03",null,null,{"$f":"VLOOKUP(P3966,Campos!$B$2:$C$7,2,FALSE)","v":0},"Sin información"]
[3961,26,"Sonora",7,"Fiscalización de los recursos de los Partidos Políticos y candidaturas independientes","7.13",13,"Aprobación de topes de gastos de campaña para Gubernatura","OPL","CG","2021-01-01","2021-01-31",null,null,{"$f":"VLOOKUP(P3967,Campos!$B$2:$C$7,2,FALSE)","v":0},"Sin información"]
[3962,26,"Sonora",7,"Fiscalización de los recursos de los Partidos Políticos y candidaturas independientes","7.14",14,"Aprobación de topes de gastos de campaña para Diputaciones","OPL","CG","2021-01-01","2021-01-31",null,null,{"$f":"VLOOKUP(P3968,Campos!$B$2:$C$7,2,FALSE)","v":0},"Sin información"]
[3963,26,"Sonora",7,"Fiscalización de los recursos de los Partidos Políticos y candidaturas independientes","7.15",15,"Aprobación de topes de gastos de campaña para Ayuntamientos","OPL","CG","2021-01-01","2021-01-31",null,null,{"$f":"VLOOKUP(P3969,Campos!$B$2:$C$7,2,FALSE)","v":0},"Sin información"]
[3964,26,"Sonora",7,"Fiscalización de los recursos de los Partidos Políticos y candidaturas independientes","7.16",16,"Campaña para Gubernatura","OPL","CG","2021-03-05","2021-06-02",null,null,{"$f":"VLOOKUP(P3970,Campos!$B$2:$C$7,2,FALSE)","v":0},"Sin información"]
[3965,26,"Sonora",7,"Fiscalización de los recursos de los Partidos Políticos y candidaturas independientes","7.17",17,"Campaña para Diputaciones","OPL","CG","2021-04-24","2021-06-02",null,null,{"$f":"VLOOKUP(P3971,Campos!$B$2:$C$7,2,FALSE)","v":0},"Sin información"]
[3966,26,"Sonora",7,"Fiscalización de los recursos de los Partidos Políticos y candidaturas independientes","7.18",18,"Campaña para Ayuntamientos","OPL","CG","2021-04-24","2021-06-02",null,null,{"$f":"VLOOKUP(P3972,Campos!$B$2:$C$7,2,FALSE)","v":0},"Sin información"]
[3967,26,"Sonora",7,"Fiscalización de los recursos de los Partidos Políticos y candidaturas independientes","7.19",19,"Aprobación de la distribución de financiamiento público para partidos políticos","OPL","CG","2021-01-01","2021-01-31",null,null,{"$f":"VLOOKUP(P3973,Campos!$B$2:$C$7,2,FALSE)","v":0},"Sin información"]
[3968,26,"Sonora",8,"Candidaturas Independientes","8.1",1,"Emisión de la convocatoria para la ciudadanía interesada en participar en Candidaturas Independientes ","OPL","CG","2020-09-01","2020-12-15",null,null,{"$f":"VLOOKUP(P3974,Campos!$B$2:$C$7,2,FALSE)","v":0},"Sin información"]
[3969,26,"Sonora",8,"Candidaturas Independientes","8.2",2,"Recepción de escrito de intención y documentación anexa de la ciudadanía que aspire a la candidatura independiente para Gubernatura","OPL","OD","2020-09-02","2021-01-06",null,null,{"$f":"VLOOKUP(P3975,Campos!$B$2:$C$7,2,FALSE)","v":0},"Sin información"]
[3970,26,"Sonora",8,"Candidaturas Independientes","8.3",3,"Recepción de escrito de intención y documentación anexa de la ciudadanía que aspire a la candidatura independiente para Diputaciones","OPL","OD","2020-09-02","2021-03-14",null,null,{"$f":"VLOOKUP(P3976,Campos!$B$2:$C$7,2,FALSE)","v":0},"Sin información"]
[3971,26,"Sonora",8,"Candidaturas Independientes","8.4",4,"Recepción de escrito de intención y documentación anexa de la ciudadanía que aspire a la candidatura independiente para Ayuntamientos","OPL","SE/OD","2020-09-02","2021-03-14",null,null,{"$f":"VLOOKUP(P3977,Campos!$B$2:$C$7,2,FALSE)","v":0},"Sin información"]
[3972,26,"Sonora",8,"Candidaturas Independientes","8.5",5,"Resolución sobre procedencia de manifestación de intención de aspirantes a candidaturas independientes para Gubernatura","OPL","CG","2020-12-21","2021-01-06",null,null,{"$f":"VLOOKUP(P3978,Campos!$B$2:$C$7,2,FALSE)","v":0},"Sin información"]
[3973,26,"Sonora",8,"Candidaturas Independientes","8.6",6,"Resolución sobre procedencia de manifestación de intención de aspirantes a candidaturas independientes para Diputaciones","OPL","CG","2021-03-01","2021-03-14",null,null,{"$f":"VLOOKUP(P3979,Campos!$B$2:$C$7,2,FALSE)","v":0},"Sin información"]
[3974,26,"Sonora",8,"Candidaturas Independientes","8.7",7,"Resolución sobre procedencia de manifestación de intención de aspirantes a candidaturas independientes para Ayuntamientos","OPL","CG","2021-03-01","2021-03-14",null,null,{"$f":"VLOOKUP(P3980,Campos!$B$2:$C$7,2,FALSE)","v":0},"Sin información"]
[3975,26,"Sonora",8,"Candidaturas Independientes","8.8",8,"Plazo para obtener el apoyo ciudadano de las candidaturas independientes para Gubernatura","OPL","OD","2021-01-07","2021-02-15",null,null,{"$f":"VLOOKUP(P3981,Campos!$B$2:$C$7,2,FALSE)","v":0},"Sin información"]
[3976,26,"Sonora",8,"Candidaturas Independientes","8.9",9,"Plazo para obtener el apoyo ciudadano de las candidaturas independientes para Diputaciones","OPL","OD","2021-03-15","2021-04-03",null,null,{"$f":"VLOOKUP(P3982,Campos!$B$2:$C$7,2,FALSE)","v":0},"Sin información"]
[3977,26,"Sonora",8,"Candidaturas Independientes","8.10",10,"Plazo para obtener el apoyo ciudadano de las candidaturas independientes para Ayuntamientos","OPL","OD","2021-03-15","2021-04-03",null,null,{"$f":"VLOOKUP(P3983,Campos!$B$2:$C$7,2,FALSE)","v":0},"Sin información"]
[3978,26,"Sonora",8,"Candidaturas Independientes","8.11",11,"Plazo para otorgar las constancias de porcentaje a favor de aspirantes a la candidatura independiente para Gubernatura","OPL","CG","2021-02-16","2021-04-20",null,null,{"$f":"VLOOKUP(P3984,Campos!$B$2:$C$7,2,FALSE)","v":0},"Sin información"]
[3979,26,"Sonora",8,"Candidaturas Independientes","8.12",12,"Plazo para otorgar las constancias de porcentaje a favor de aspirantes a la candidatura independiente para Diputaciones","OPL","CG","2021-04-04","2021-04-08",null,null,{"$f":"VLOOKUP(P3985,Campos!$B$2:$C$7,2,FALSE)","v":0},"Sin información"]
[3980,26,"Sonora",8,"Candidaturas Independientes","8.13",13,"Plazo para otorgar las constancias de porcentaje a favor de aspirantes a la candidatura independiente para Ayuntamientos","OPL","CG","2021-04-04","2021-04-08",null,null,{"$f":"VLOOKUP(P3986,Campos!$B$2:$C$7,2,FALSE)","v":0},"Sin información"]
[3981,26,"Sonora",9,"Candidaturas","9.1",1,"Registro de plataformas electorales","OPL","CG","2021-01-01","2021-01-31",null,null,{"$f":"VLOOKUP(P3987,Campos!$B$2:$C$7,2,FALSE)","v":0},"Sin información"]
[3982,26,"Sonora",9,"Candidaturas","9.2",2,"Solicitud de registro de convenio de coalición para Gubernatura","OPL","CG","2020-09-01","2021-01-07",null,null,{"$f":"VLOOKUP(P3988,Campos!$B$2:$C$7,2,FALSE)","v":0},"Sin información"]
[3983,26,"Sonora",9,"Candidaturas","9.3",3,"Solicitud de registro de convenio de coalición para Diputaciones","OPL","CG","2020-09-01","2021-03-15",null,null,{"$f":"VLOOKUP(P3989,Campos!$B$2:$C$7,2,FALSE)","v":0},"Sin información"]
[3984,26,"Sonora",9,"Candidaturas","9.4",4,"Solicitud de registro de convenio de coalición para Ayuntamientos","OPL","CG","2020-09-01","2021-03-15",null,null,{"$f":"VLOOKUP(P3990,Campos!$B$2:$C$7,2,FALSE)","v":0},"Sin información"]
[3985,26,"Sonora",9,"Candidaturas","9.5",5,"Resolución sobre Convenio de Coalición para Gubernatura","OPL","CG","2020-09-01","2021-01-16",null,null,{"$f":"VLOOKUP(P3991,Campos!$B$2:$C$7,2,FALSE)","v":0},"Sin información"]
[3986,26,"Sonora",9,"Candidaturas","9.6",6,"Resolución sobre Convenio de Coalición para Diputaciones","OPL","CG","2020-09-01","2021-03-24",null,null,{"$f":"VLOOKUP(P3992,Campos!$B$2:$C$7,2,FALSE)","v":0},"Sin información"]
[3987,26,"Sonora",9,"Candidaturas","9.7",7,"Resolución sobre Convenio de Coalición para Ayuntamientos","OPL","CG","2020-09-01","2021-03-24",null,null,{"$f":"VLOOKUP(P3993,Campos!$B$2:$C$7,2,FALSE)","v":0},"Sin información"]
[3988,26,"Sonora",9,"Candidaturas","9.8",8,"Solicitud de registro de Candidaturas para Gubernatura","OPL","CG/OD","2021-02-16","2021-02-20",null,null,{"$f":"VLOOKUP(P3994,Campos!$B$2:$C$7,2,FALSE)","v":0},"Sin información"]
[3989,26,"Sonora",9,"Candidaturas","9.9",9,"Solicitud de registro de Candidaturas para Diputaciones","OPL","CG/OD","2021-04-04","2021-04-08",null,null,{"$f":"VLOOKUP(P3995,Campos!$B$2:$C$7,2,FALSE)","v":0},"Sin información"]
[3990,26,"Sonora",9,"Candidaturas","9.11",11,"Solicitud de registro de Candidaturas para Ayuntamientos","OPL","CG/OD","2021-04-04","2021-04-08",null,null,{"$f":"VLOOKUP(P3996,Campos!$B$2:$C$7,2,FALSE)","v":0},"Sin información"]
[3991,26,"Sonora",9,"Candidaturas","9.13",13,"Resolución para aprobar las candidaturas para Gubernatura","OPL","CG","2021-02-21","2021-03-04",null,null,{"$f":"VLOOKUP(P3997,Campos!$B$2:$C$7,2,FALSE)","v":0},"Sin información"]
[3992,26,"Sonora",9,"Candidaturas","9.14",14,"Resolución para aprobar las candidaturas para Diputaciones","OPL","CG","2021-04-09","2021-04-23",null,null,{"$f":"VLOOKUP(P3998,Campos!$B$2:$C$7,2,FALSE)","v":0},"Sin información"]
[3993,26,"Sonora",9,"Candidaturas","9.16",16,"Resolución para aprobar las candidaturas para Ayuntamientos","OPL","CG/OD","2021-04-09","2021-04-23",null,null,{"$f":"VLOOKUP(P3999,Campos!$B$2:$C$7,2,FALSE)","v":0},"Sin información"]
[3994,26,"Sonora",9,"Candidaturas","9.17",17,"Solicitud de registro de candidaturas comunes para Gubernatura ","OPL","CG/OD","2020-09-02","2021-02-15",null,null,{"$f":"VLOOKUP(P4000,Campos!$B$2:$C$7,2,FALSE)","v":0},"Sin información"]
[3995,26,"Sonora",9,"Candidaturas","9.18",18,"Solicitud de registro de candidaturas comunes para Diputaciones ","OPL","CG/OD","2020-09-02","2021-04-03",null,null,{"$f":"VLOOKUP(P4001,Campos!$B$2:$C$7,2,FALSE)","v":0},"Sin información"]
[3996,26,"Sonora",9,"Candidaturas","9.19",19,"Solicitud de registro de candidaturas comunes para Ayuntamientos  ","OPL","CG/OD","2020-09-02","2021-04-03",null,null,{"$f":"VLOOKUP(P4002,Campos!$B$2:$C$7,2,FALSE)","v":0},"Sin información"]
[3997,26,"Sonora",9,"Candidaturas","9.20",20,"Resolución para aprobar las candidaturas comunes para Gubernatura","OPL","CG/OD","2020-09-03","2021-02-20",null,null,{"$f":"VLOOKUP(P4003,Campos!$B$2:$C$7,2,FALSE)","v":0},"Sin información"]
[3998,26,"Sonora",9,"Candidaturas","9.21",21,"Resolución para aprobar las candidaturas comunes para Diputaciones ","OPL","CG/OD","2020-09-03","2021-04-08",null,null,{"$f":"VLOOKUP(P4004,Campos!$B$2:$C$7,2,FALSE)","v":0},"Sin información"]
[3999,26,"Sonora",9,"Candidaturas","9.22",22,"Resolución para aprobar las candidaturas comunes para Ayuntamientos ","OPL","CG/OD","2020-09-03","2021-04-08",null,null,{"$f":"VLOOKUP(P4005,Campos!$B$2:$C$7,2,FALSE)","v":0},"Sin información"]
[4000,26,"Sonora",10,"Debates","10.1",1,"Aprobación de las fechas en que se celebrarán los debates","OPL","CG","2021-02-24","2021-03-05",null,null,{"$f":"VLOOKUP(P4006,Campos!$B$2:$C$7,2,FALSE)","v":0},"Sin información"]
[4001,26,"Sonora",10,"Debates","10.2",2,"Realización de debate(s)","OPL","CG","2021-03-15","2021-06-02",null,null,{"$f":"VLOOKUP(P4007,Campos!$B$2:$C$7,2,FALSE)","v":0},"Sin información"]
[4002,26,"Sonora",11,"Documentación y material electoral","11.1",1,"Entrega a la Junta Local Ejecutiva del INE, de los diseños y especificaciones técnicas de la documentación y materiales electorales, en medios impresos y electrónicos","OPL","CG","2020-09-01","2020-09-30",null,null,{"$f":"VLOOKUP(P4008,Campos!$B$2:$C$7,2,FALSE)","v":0},"Sin información"]
[4003,26,"Sonora",11,"Documentación y material electoral","11.2",2,"Revisión de los documentos y materiales electorales y especificaciones técnicas, presentadas por el OPL","INE","JLE","2020-09-15","2020-12-16",null,null,{"$f":"VLOOKUP(P4009,Campos!$B$2:$C$7,2,FALSE)","v":0},"Sin información"]
[4004,26,"Sonora",11,"Documentación y material electoral","11.3",3,"En su caso, atención y presentación, de los cambios pertinentes, conforme a las observaciones emitidas por la Junta Local Ejecutiva del INE","OPL","CG","2020-09-15","2020-12-16",null,null,{"$f":"VLOOKUP(P4010,Campos!$B$2:$C$7,2,FALSE)","v":0},"Sin información"]
[4005,26,"Sonora",11,"Documentación y material electoral","11.4",4,"Validación de los documentos y materiales electorales y especificaciones técnicas, con las observaciones subsanadas","INE","DEOE","2020-10-28","2020-12-18",null,null,{"$f":"VLOOKUP(P4011,Campos!$B$2:$C$7,2,FALSE)","v":0},"Sin información"]
[4006,26,"Sonora",11,"Documentación y material electoral","11.5",5,"Entrega a la Dirección Ejecutiva de Organización Electoral del INE, del Reporte único sobre la aprobación y adjudicación de los documentos y materiales electorales del OPL, en medios electrónicos","OPL","CG","2021-02-01","2021-02-26",null,null,{"$f":"VLOOKUP(P4012,Campos!$B$2:$C$7,2,FALSE)","v":0},"Sin información"]
[4007,26,"Sonora",11,"Documentación y material electoral","11.6",6,"Revisión y en su caso validación, del Reporte único sobre la aprobación y adjudicación de los documentos y materiales electorales del OPL, en medios electrónicos","INE","DEOE","2021-02-15","2021-03-12",null,null,{"$f":"VLOOKUP(P4013,Campos!$B$2:$C$7,2,FALSE)","v":0},"Sin información"]
[4008,26,"Sonora",11,"Documentación y material electoral","11.7",7,"Entrega  a la Dirección Ejecutiva de Organización Electoral del INE, del Reporte semanal sobre el avance en la producción de los documentos y materiales electorales del OPL, en medios electrónicos.","OPL","CG","2021-03-15","2021-05-22",null,null,{"$f":"VLOOKUP(P4014,Campos!$B$2:$C$7,2,FALSE)","v":0},"Sin información"]
[4009,26,"Sonora",11,"Documentación y material electoral","11.8",8,"Aprobación de la documentación y material electoral","OPL","CG","2020-11-11","2020-12-31",null,null,{"$f":"VLOOKUP(P4015,Campos!$B$2:$C$7,2,FALSE)","v":0},"Sin información"]
[4010,26,"Sonora",11,"Documentación y material electoral","11.9",9,"Entrega a la Dirección Ejecutiva de Organización Electoral del INE, del Reporte con los resultados de las verificaciones de las medidas de seguridad en la documentación electoral","OPL","CG","2021-05-27","2021-06-11",null,null,{"$f":"VLOOKUP(P4016,Campos!$B$2:$C$7,2,FALSE)","v":0},"Sin información"]
[4011,26,"Sonora",11,"Documentación y material electoral","11.10",10,"Supervisiones respecto de los procedimientos de impresión y producción de la documentación y materiales electorales","INE","DEOE","2021-03-15","2021-05-22",null,null,{"$f":"VLOOKUP(P4017,Campos!$B$2:$C$7,2,FALSE)","v":0},"Sin información"]
[4012,26,"Sonora",11,"Documentación y material electoral","11.11",11,"Designación de la persona responsable de llevar el control sobre la asignación de los folios de las boletas que se distribuirán en cada mesa directiva de casilla","OPL","CG","2021-03-01","2021-03-30",null,null,{"$f":"VLOOKUP(P4018,Campos!$B$2:$C$7,2,FALSE)","v":0},"Sin información"]
[4013,26,"Sonora",11,"Documentación y material electoral","11.12",12,"Aprobación de SE y CAE, así como de personal que auxiliará en el procedimiento de conteo, sellado y agrupamiento de las boletas electorales; así como la integración de documentación para las casillas","OPL","CG","2021-04-24","2021-05-11",null,null,{"$f":"VLOOKUP(P4019,Campos!$B$2:$C$7,2,FALSE)","v":0},"Sin información"]
[4014,26,"Sonora",11,"Documentación y material electoral","11.13",13,"Recepción de las boletas electorales por el órgano competente que realizará el conteo, sellado y agrupamiento","OPL","CG","2021-05-18","2021-05-22",null,null,{"$f":"VLOOKUP(P4020,Campos!$B$2:$C$7,2,FALSE)","v":0},"Sin información"]
[4015,26,"Sonora",11,"Documentación y material electoral","11.14",14,"Conteo, sellado y agrupamiento de boletas","OPL","CG","2021-05-18","2021-05-28",null,null,{"$f":"VLOOKUP(P4021,Campos!$B$2:$C$7,2,FALSE)","v":0},"Sin información"]
[4016,26,"Sonora",11,"Documentación y material electoral","11.15",15,"Distribución de la documentación y materiales electorales a las y los Presidentes de mesas directivas de casilla","OPL","OD","2021-05-31","2021-06-04",null,null,{"$f":"VLOOKUP(P4022,Campos!$B$2:$C$7,2,FALSE)","v":0},"Sin información"]
[4017,26,"Sonora",11,"Documentación y material electoral","11.16",16,"Remisión de los recibos de la entrega de la documentación y materiales electorales al Consejo General del OPL","INE","JLE","2021-06-24","2021-06-30",null,null,{"$f":"VLOOKUP(P4023,Campos!$B$2:$C$7,2,FALSE)","v":0},"Sin información"]
[4018,26,"Sonora",12,"Jornada Electoral","12.1",1,"Aprobación del Programa de Operación del SIJE 2021","INE","CCOE","2020-07-01","2020-07-31",null,null,{"$f":"VLOOKUP(P4024,Campos!$B$2:$C$7,2,FALSE)","v":0},"Sin información"]
[4019,26,"Sonora",12,"Jornada Electoral","12.2",2,"Aprobación de las metas del SIJE 2021","INE","CG","2021-03-01","2021-03-31",null,null,{"$f":"VLOOKUP(P4025,Campos!$B$2:$C$7,2,FALSE)","v":0},"Sin información"]
[4020,26,"Sonora",12,"Jornada Electoral","12.3",3,"Realización de pruebas del SIJE 2021","INE","DEOE","2021-04-01","2021-04-15",null,null,{"$f":"VLOOKUP(P4026,Campos!$B$2:$C$7,2,FALSE)","v":0},"Sin información"]
[4021,26,"Sonora",12,"Jornada Electoral","12.4",4,"Desarrollo del primer simulacro del SIJE","INE/OPL","DEOE/OD","2021-04-29","2021-04-29",null,null,{"$f":"VLOOKUP(P4027,Campos!$B$2:$C$7,2,FALSE)","v":0},"Sin información"]
[4022,26,"Sonora",12,"Jornada Electoral","12.5",5,"Desarrollo del segundo simulacro del SIJE","INE/OPL","DEOE/OD","2021-05-09","2021-05-09",null,null,{"$f":"VLOOKUP(P4028,Campos!$B$2:$C$7,2,FALSE)","v":0},"Sin información"]
[4023,26,"Sonora",12,"Jornada Electoral","12.6",6,"Desarrollo del tercer simulacro del SIJE","INE/OPL","DEOE/OD","2021-05-23","2021-05-23",null,null,{"$f":"VLOOKUP(P4029,Campos!$B$2:$C$7,2,FALSE)","v":0},"Sin información"]
[4024,26,"Sonora",12,"Jornada Electoral","12.7",7,"Jornada Electoral","OPL","CG/OD","2021-06-06","2021-06-06",null,null,{"$f":"VLOOKUP(P4030,Campos!$B$2:$C$7,2,FALSE)","v":0},"Sin información"]
[4025,26,"Sonora",13,"Bodegas electorales","13.1",1,"Determinación de los lugares que ocuparán las bodegas electorales para el resguardo de la documentación electoral","OPL","CG","2021-02-01","2021-02-28",null,null,{"$f":"VLOOKUP(P4031,Campos!$B$2:$C$7,2,FALSE)","v":0},"Sin información"]
[4026,26,"Sonora",13,"Bodegas electorales","13.2",2,"Informe que rinden las y los Presidentes sobre las condiciones de equipamiento, mecanismos de operación y medidas de seguridad de las bodegas electorales","OPL","OD","2021-03-01","2021-03-31",null,null,{"$f":"VLOOKUP(P4032,Campos!$B$2:$C$7,2,FALSE)","v":0},"Sin información"]
[4027,26,"Sonora",13,"Bodegas electorales","13.3",3,"Designación, por parte del órgano competente del OPL, del personal que tendrá acceso a la bodega electoral","OPL","CG/OD","2021-03-01","2021-03-30",null,null,{"$f":"VLOOKUP(P4033,Campos!$B$2:$C$7,2,FALSE)","v":0},"Sin información"]
[4028,26,"Sonora",13,"Bodegas electorales","13.4",4,"Envío a la UTVOPL, por conducto de la JLE, el informe sobre las condiciones que guardan las bodegas electorales","OPL","CG","2021-04-04","2021-04-10",null,null,{"$f":"VLOOKUP(P4034,Campos!$B$2:$C$7,2,FALSE)","v":0},"Sin información"]
[4029,26,"Sonora",14,"Mecanismos de recolección","14.1",1,"Entrega de estudios de factibilidad al OPL","INE","CL","2021-03-15","2021-03-31",null,null,{"$f":"VLOOKUP(P4035,Campos!$B$2:$C$7,2,FALSE)","v":0},"Sin información"]
[4030,26,"Sonora",14,"Mecanismos de recolección","14.2",2,"Entrega de observaciones a los estudios de factibilidad ","OPL","CG","2021-04-01","2021-04-24",null,null,{"$f":"VLOOKUP(P4036,Campos!$B$2:$C$7,2,FALSE)","v":0},"Sin información"]
[4031,26,"Sonora",14,"Mecanismos de recolección","14.3",3,"Recorridos para verificar las propuestas de los mecanismos de recolección","INE/OPL","CD/OD","2021-03-16","2021-04-24",null,null,{"$f":"VLOOKUP(P4037,Campos!$B$2:$C$7,2,FALSE)","v":0},"Sin información"]
[4032,26,"Sonora",14,"Mecanismos de recolección","14.4",4,"Aprobación de los mecanismos de recolección ","INE","CD","2021-04-26","2021-04-30",null,null,{"$f":"VLOOKUP(P4038,Campos!$B$2:$C$7,2,FALSE)","v":0},"Sin información"]
[4033,26,"Sonora",14,"Mecanismos de recolección","14.5",5,"Traslado y recolección de los paquetes electorales","INE/OPL","CD/OD","2021-06-06","2021-06-07",null,null,{"$f":"VLOOKUP(P4039,Campos!$B$2:$C$7,2,FALSE)","v":0},"Sin información"]
[4034,26,"Sonora",14,"Mecanismos de recolección","14.6",6,"Acreditación de representantes de partidos políticos y candidaturas independientes ante los mecanismos de recolección","INE","CL/CD","2021-04-27","2021-06-03",null,null,{"$f":"VLOOKUP(P4040,Campos!$B$2:$C$7,2,FALSE)","v":0},"Sin información"]
[4035,26,"Sonora",14,"Mecanismos de recolección","14.7",7,"Sustitución de representantes de partidos políticos y candidaturas independientes ante los mecanismos de recolección","INE","CL/CD","2021-04-28","2021-06-04",null,null,{"$f":"VLOOKUP(P4041,Campos!$B$2:$C$7,2,FALSE)","v":0},"Sin información"]
[4036,26,"Sonora",14,"Mecanismos de recolección","14.8",8,"Entrega a la JLE, el informe sobre la recepción de paquetes electorales en los órganos competentes","OPL","CG","2021-06-06","2021-06-28",null,null,{"$f":"VLOOKUP(P4042,Campos!$B$2:$C$7,2,FALSE)","v":0},"Sin información"]
[4037,26,"Sonora",15,"Cómputos","15.1",1,"Aprobación de los lineamientos de cómputo y del cuadernillo de consulta sobre votos válidos y votos nulos","OPL","CG","2021-01-18","2021-01-29",null,null,{"$f":"VLOOKUP(P4043,Campos!$B$2:$C$7,2,FALSE)","v":0},"Sin información"]
[4038,26,"Sonora",15,"Cómputos","15.2",2,"Integración por parte de los Órganos Desconcentrados del OPL, de la propuesta para la habilitación de espacios para el recuento de votos con las alternativas para todos los escenarios de cómputo","OPL","OD","2021-03-01","2021-03-07",null,null,{"$f":"VLOOKUP(P4044,Campos!$B$2:$C$7,2,FALSE)","v":0},"Sin información"]
[4039,26,"Sonora",15,"Cómputos","15.3",3,"Informe de los escenarios de cómputos de la totalidad de sus órganos desconcentrados","OPL","CG","2021-04-01","2021-04-04",null,null,{"$f":"VLOOKUP(P4045,Campos!$B$2:$C$7,2,FALSE)","v":0},"Sin información"]
[4040,26,"Sonora",15,"Cómputos","15.4",4,"Remisión a la JLE en la entidad, las propuestas de escenarios de cómputos, para la dictaminación de viabilidad","OPL","CG","2021-05-01","2021-05-07",null,null,{"$f":"VLOOKUP(P4046,Campos!$B$2:$C$7,2,FALSE)","v":0},"Sin información"]
[4041,26,"Sonora",15,"Cómputos","15.5",5,"Remisión de las observaciones a los escenarios de Cómputos al OPL y a su vez informar de las mismas a la UTVOPL","INE","JLE","2021-05-08","2021-05-15",null,null,{"$f":"VLOOKUP(P4047,Campos!$B$2:$C$7,2,FALSE)","v":0},"Sin información"]
[4042,26,"Sonora",15,"Cómputos","15.6",6,"Aprobación por parte del órgano competente del OPL, del acuerdo mediante el cual se designa al personal que participará en las tareas de apoyo a los Cómputos Municipales","OPL","CG/OD","2021-04-26","2021-05-05",null,null,{"$f":"VLOOKUP(P4048,Campos!$B$2:$C$7,2,FALSE)","v":0},"Sin información"]
[4043,26,"Sonora",15,"Cómputos","15.7",7,"Aprobación por parte del órgano competente del OPL, del acuerdo mediante el cual se designa al personal que participará en las tareas de apoyo a los Cómputos Distritales ","OPL","CG/OD","2021-04-26","2021-05-05",null,null,{"$f":"VLOOKUP(P4049,Campos!$B$2:$C$7,2,FALSE)","v":0},"Sin información"]
[4044,26,"Sonora",15,"Cómputos","15.8",8,"Aprobación por parte de los órganos competentes del OPL, de los distintos escenarios de cómputos","OPL","OD","2021-05-08","2021-05-15",null,null,{"$f":"VLOOKUP(P4050,Campos!$B$2:$C$7,2,FALSE)","v":0},"Sin información"]
[4045,26,"Sonora",15,"Cómputos","15.9",9,"Aprobación por parte del órgano competente del OPL, del acuerdo por el que se habilitarán espacios para la instalación de grupos de trabajo y, en su caso, puntos de recuento","OPL","CG/OD","2021-06-08","2021-06-08",null,null,{"$f":"VLOOKUP(P4051,Campos!$B$2:$C$7,2,FALSE)","v":0},"Sin información"]
[4046,26,"Sonora",15,"Cómputos","15.10",10,"Cómputos Distritales","OPL","OD","2021-06-07","2021-06-11",null,null,{"$f":"VLOOKUP(P4052,Campos!$B$2:$C$7,2,FALSE)","v":0},"Sin información"]
[4047,26,"Sonora",15,"Cómputos","15.14",14,"Cómputo Estatal para la asignación diputaciones de Representación Proporcional","OPL","CG","2021-06-13","2021-06-13",null,null,{"$f":"VLOOKUP(P4053,Campos!$B$2:$C$7,2,FALSE)","v":0},"Sin información"]
[4048,26,"Sonora",15,"Cómputos","15.13",13,"Cómputo Estatal para la Gubernatura","OPL","CG","2021-06-13","2021-06-13",null,null,{"$f":"VLOOKUP(P4054,Campos!$B$2:$C$7,2,FALSE)","v":0},"Sin información"]
[4049,26,"Sonora",15,"Cómputos","15.11",11,"Cómputos Municipales","OPL","OD","2021-06-07","2021-06-09",null,null,{"$f":"VLOOKUP(P4055,Campos!$B$2:$C$7,2,FALSE)","v":0},"Sin información"]
[4050,26,"Sonora",15,"Cómputos","15.16",16,"Asignación de regidurías por el principio de Representación Proporcional","OPL","CG","2021-06-13","2021-06-13",null,null,{"$f":"VLOOKUP(P4056,Campos!$B$2:$C$7,2,FALSE)","v":0},"Sin información"]
[4051,26,"Sonora",16,"PREP","16.1",1,"Aprobación del Acuerdo por el que se designa o ratifica a la instancia interna responsable de coordinar el PREP","OPL","CG","2020-09-11","2020-09-11",null,null,{"$f":"VLOOKUP(P4057,Campos!$B$2:$C$7,2,FALSE)","v":0},"Sin información"]
[4052,26,"Sonora",16,"PREP","16.2",2,"Aprobación del Acuerdo de Integración del COTAPREP","OPL","CG","2020-11-11","2020-11-11",null,null,{"$f":"VLOOKUP(P4058,Campos!$B$2:$C$7,2,FALSE)","v":0},"Sin información"]
[4053,26,"Sonora",16,"PREP","16.3",3,"Documento por el que se determina la implementación del PREP por el OPL o con el apoyo de un Tercero","OPL","CG","2020-12-11","2020-12-11",null,null,{"$f":"VLOOKUP(P4059,Campos!$B$2:$C$7,2,FALSE)","v":0},"Sin información"]
[4054,26,"Sonora",16,"PREP","16.4",4,"Aprobación del Acuerdo por el que se determina el Proceso Técnico Operativo ","OPL","CG","2021-01-11","2021-01-11",null,null,{"$f":"VLOOKUP(P4060,Campos!$B$2:$C$7,2,FALSE)","v":0},"Sin información"]
[4055,26,"Sonora",16,"PREP","16.5",5,"Aprobación del Acuerdo por el que se determina la ubicación, instalación y habilitación de los CATD y, en su caso, CCV","OPL","CG","2021-02-11","2021-02-11",null,null,{"$f":"VLOOKUP(P4061,Campos!$B$2:$C$7,2,FALSE)","v":0},"Sin información"]
[4056,26,"Sonora",16,"PREP","16.6",6,"Documento de Designación del Ente Auditor ","OPL","CG","2021-02-11","2021-02-11",null,null,{"$f":"VLOOKUP(P4062,Campos!$B$2:$C$7,2,FALSE)","v":0},"Sin información"]
[4057,26,"Sonora",16,"PREP","16.7",7,"Instrumento jurídico celebrado entre el OPL y el ente auditor","OPL","CG","2021-03-11","2021-03-11",null,null,{"$f":"VLOOKUP(P4063,Campos!$B$2:$C$7,2,FALSE)","v":0},"Sin información"]
[4058,26,"Sonora",16,"PREP","16.8",8,"Realización del primer simulacro del PREP","OPL","CG","2021-05-16","2021-05-16",null,null,{"$f":"VLOOKUP(P4064,Campos!$B$2:$C$7,2,FALSE)","v":0},"Sin información"]
[4059,26,"Sonora",16,"PREP","16.9",9,"Realización del segundo simulacro del PREP","OPL","CG","2021-05-23","2021-05-23",null,null,{"$f":"VLOOKUP(P4065,Campos!$B$2:$C$7,2,FALSE)","v":0},"Sin información"]
[4060,26,"Sonora",16,"PREP","16.10",10,"Realización del tercer simulacro del PREP","OPL","CG","2021-05-30","2021-05-30",null,null,{"$f":"VLOOKUP(P4066,Campos!$B$2:$C$7,2,FALSE)","v":0},"Sin información"]
[4061,26,"Sonora",16,"PREP","16.11",11,"Operación del PREP","OPL","CG","2021-06-06","2021-06-07",null,null,{"$f":"VLOOKUP(P4067,Campos!$B$2:$C$7,2,FALSE)","v":0},"Sin información"]
[4062,26,"Sonora",17,"Conteo Rápido","17.1",1,"Aprobación del Acuerdo de Integración del COTECORA","Por definir","Por definir","2021-02-01","2021-02-06",null,null,{"$f":"VLOOKUP(P4068,Campos!$B$2:$C$7,2,FALSE)","v":0},"Sin información"]
[4063,26,"Sonora",17,"Conteo Rápido","17.2",2,"Realización de pruebas de captura","Por definir","Por definir","2021-04-14","2021-04-15",null,null,{"$f":"VLOOKUP(P4069,Campos!$B$2:$C$7,2,FALSE)","v":0},"Sin información"]
[4064,26,"Sonora",17,"Conteo Rápido","17.3",3,"Realización de primer simulacro del Conteo Rápido","Por definir","Por definir","2021-04-29","2021-04-29",null,null,{"$f":"VLOOKUP(P4070,Campos!$B$2:$C$7,2,FALSE)","v":0},"Sin información"]
[4065,26,"Sonora",17,"Conteo Rápido","17.4",4,"Realización de segundo simulacro del Conteo Rápido","Por definir","Por definir","2021-05-16","2021-05-16",null,null,{"$f":"VLOOKUP(P4071,Campos!$B$2:$C$7,2,FALSE)","v":0},"Sin información"]
[4066,26,"Sonora",17,"Conteo Rápido","17.5",5,"Selección de la Muestra para el Conteo Rápido","Por definir","Por definir","2021-06-02","2021-06-04",null,null,{"$f":"VLOOKUP(P4072,Campos!$B$2:$C$7,2,FALSE)","v":0},"Sin información"]
[4067,26,"Sonora",17,"Conteo Rápido","17.6",6,"Realización de tercer simulacro del Conteo Rápido","Por definir","Por definir","2021-05-23","2021-05-23",null,null,{"$f":"VLOOKUP(P4073,Campos!$B$2:$C$7,2,FALSE)","v":0},"Sin información"]
[4068,26,"Sonora",19,"Visitantes extranjeros","19.1",1,"Emisión de la Convocatoria para visitantes extranjeros","INE","CG","2020-08-03","2020-09-30",null,null,{"$f":"VLOOKUP(P4074,Campos!$B$2:$C$7,2,FALSE)","v":0},"Sin información"]
[4069,26,"Sonora",19,"Visitantes extranjeros","19.2",2,"Difusión de la Convocatoria para visitantes extranjeros","INE","CAI","2020-09-01","2021-05-26",null,null,{"$f":"VLOOKUP(P4075,Campos!$B$2:$C$7,2,FALSE)","v":0},"Sin información"]
[4070,26,"Sonora",19,"Visitantes extranjeros","19.3",3,"Recepción de solicitudes de acreditación como visitantes extranjeros","INE","CAI","2020-09-01","2021-05-26",null,null,{"$f":"VLOOKUP(P4076,Campos!$B$2:$C$7,2,FALSE)","v":0},"Sin información"]
[4071,26,"Sonora",19,"Visitantes extranjeros","19.4",4,"Resolución de solicitudes de acreditación como visitantes extranjeros","INE","CAI","2020-09-02","2021-05-30",null,null,{"$f":"VLOOKUP(P4077,Campos!$B$2:$C$7,2,FALSE)","v":0},"Sin información"]
[4072,26,"Sonora",19,"Visitantes extranjeros","19.5",5,"Entrega de acreditaciones a los visitantes extranjeros","INE","CAI","2020-09-04","2021-06-05",null,null,{"$f":"VLOOKUP(P4078,Campos!$B$2:$C$7,2,FALSE)","v":0},"Sin información"]
[4073,25,"Sinaloa",1,"Mecanismos de coordinación","1.1",1,"Aprobar Calendarios y Planes Integrales de los Procesos Electorales Locales","INE","CG","2020-08-01","2020-08-07",null,null,{"$f":"VLOOKUP(P4079,Campos!$B$2:$C$7,2,FALSE)","v":0},"Sin información"]
[4074,25,"Sinaloa",1,"Mecanismos de coordinación","1.2",2,"Firma del Convenio General de Coordinación y Colaboración 2020-2021","INE/OPL","INE/OPL","2020-09-01","2020-10-01",null,null,{"$f":"VLOOKUP(P4080,Campos!$B$2:$C$7,2,FALSE)","v":0},"Sin información"]
[4075,25,"Sinaloa",1,"Mecanismos de coordinación","1.3",3,"Elaborar un plan de trabajo conjunto para la promoción de la participación ciudadana","INE/OPL","INE/OPL","2020-09-01","2020-12-31",null,null,{"$f":"VLOOKUP(P4081,Campos!$B$2:$C$7,2,FALSE)","v":0},"Sin información"]
[4076,25,"Sinaloa",1,"Mecanismos de coordinación","1.4",4,"Sesión para dar inicio al PEL","OPL","CG","2020-12-06","2020-12-20",null,null,{"$f":"VLOOKUP(P4082,Campos!$B$2:$C$7,2,FALSE)","v":0},"Sin información"]
[4077,25,"Sinaloa",1,"Mecanismos de coordinación","1.5",5,"Implementar un plan de trabajo conjunto para la promoción de la participación ciudadana","INE/OPL","INE/OPL","2021-02-01","2021-06-07",null,null,{"$f":"VLOOKUP(P4083,Campos!$B$2:$C$7,2,FALSE)","v":0},"Sin información"]
[4078,25,"Sinaloa",2,"Integración de órganos desconcentrados","2.1",1,"Convocatoria para la integración de los Órganos Distritales","OPL","CG","2020-09-01","2020-10-10",null,null,{"$f":"VLOOKUP(P4084,Campos!$B$2:$C$7,2,FALSE)","v":0},"Sin información"]
[4079,25,"Sinaloa",2,"Integración de órganos desconcentrados","2.2",2,"Sesión en la que se designan e integran los Órganos Distritales ","OPL","CG","2021-01-01","2021-01-15",null,null,{"$f":"VLOOKUP(P4085,Campos!$B$2:$C$7,2,FALSE)","v":0},"Sin información"]
[4080,25,"Sinaloa",2,"Integración de órganos desconcentrados","2.3",3,"Instalación de los Órganos Distritales ","OPL","OD","2021-01-16","2021-01-31",null,null,{"$f":"VLOOKUP(P4086,Campos!$B$2:$C$7,2,FALSE)","v":0},"Sin información"]
[4081,25,"Sinaloa",2,"Integración de órganos desconcentrados","2.4",4,"Convocatoria para la integración de los Órganos Municipales ","OPL","CG","2020-09-01","2020-10-10",null,null,{"$f":"VLOOKUP(P4087,Campos!$B$2:$C$7,2,FALSE)","v":0},"Sin información"]
[4082,25,"Sinaloa",2,"Integración de órganos desconcentrados","2.5",5,"Sesión en la que se designan e integran los Órganos Municipales ","OPL","CG","2021-01-01","2021-01-15",null,null,{"$f":"VLOOKUP(P4088,Campos!$B$2:$C$7,2,FALSE)","v":0},"Sin información"]
[4083,25,"Sinaloa",2,"Integración de órganos desconcentrados","2.6",6,"Instalación de los Órganos Municipales ","OPL","OD","2021-01-16","2021-01-31",null,null,{"$f":"VLOOKUP(P4089,Campos!$B$2:$C$7,2,FALSE)","v":0},"Sin información"]
[4084,25,"Sinaloa",2,"Integración de órganos desconcentrados","2.7",7,"Designación y/o ratificación de las y los Consejeros Electorales del Consejo Local ","INE","CG","2020-10-01","2020-10-15",null,null,{"$f":"VLOOKUP(P4090,Campos!$B$2:$C$7,2,FALSE)","v":0},"Sin información"]
[4085,25,"Sinaloa",2,"Integración de órganos desconcentrados","2.8",8,"Instalación del Consejo Local","INE","CL","2020-11-01","2020-11-30",null,null,{"$f":"VLOOKUP(P4091,Campos!$B$2:$C$7,2,FALSE)","v":0},"Sin información"]
[4086,25,"Sinaloa",2,"Integración de órganos desconcentrados","2.9",9,"Designación y/o ratificación de las y los Consejeros Electorales de los Consejos Distritales ","INE","CL","2020-11-01","2020-11-30",null,null,{"$f":"VLOOKUP(P4092,Campos!$B$2:$C$7,2,FALSE)","v":0},"Sin información"]
[4087,25,"Sinaloa",2,"Integración de órganos desconcentrados","2.10",10,"Instalación de los Consejos Distritales","INE","CD","2020-12-01","2020-12-15",null,null,{"$f":"VLOOKUP(P4093,Campos!$B$2:$C$7,2,FALSE)","v":0},"Sin información"]
[4088,25,"Sinaloa",3,"Lista Nominal de Electores","3.1",1,"Generación y entrega de la Lista Nominal de Electores para Revisión en medios ópticos a los representantes de los partidos políticos, y en su caso a las candidaturas independientes acreditados ante el OPL, para observaciones","INE","DERFE","2021-02-15","2021-02-15",null,null,{"$f":"VLOOKUP(P4094,Campos!$B$2:$C$7,2,FALSE)","v":0},"Sin información"]
[4089,25,"Sinaloa",3,"Lista Nominal de Electores","3.2",2,"Recepción de observaciones de los partidos políticos y en su caso, candidatos independientes, a la Lista Nominal de Electores para revisión","INE/OPL","DERFE","2021-03-14","2021-03-14",null,null,{"$f":"VLOOKUP(P4095,Campos!$B$2:$C$7,2,FALSE)","v":0},"Sin información"]
[4090,25,"Sinaloa",3,"Lista Nominal de Electores","3.3",3,"Entrega en formato digital el informe respecto de la atención a las observaciones formuladas a la Lista Nominal de Electores para Revisión","INE","DERFE","2021-04-15","2021-04-15",null,null,{"$f":"VLOOKUP(P4096,Campos!$B$2:$C$7,2,FALSE)","v":0},"Sin información"]
[4091,25,"Sinaloa",3,"Lista Nominal de Electores","3.4",4,"Entrega de la Lista Nominal de Electores Definitiva con fotografía","INE","DERFE","2021-05-06","2021-05-14",null,null,{"$f":"VLOOKUP(P4097,Campos!$B$2:$C$7,2,FALSE)","v":0},"Sin información"]
[4092,25,"Sinaloa",3,"Lista Nominal de Electores","3.5",5,"Fecha de entrega de la Lista Nominal de Electores con fotografía Producto de Instancias Administrativas y Resoluciones del Tribunal (ADENDA)","INE","DERFE","2021-05-19","2021-05-24",null,null,{"$f":"VLOOKUP(P4098,Campos!$B$2:$C$7,2,FALSE)","v":0},"Sin información"]
[4093,25,"Sinaloa",4,"Observación Electoral","4.1",1,"Emisión de la convocatoria para la ciudadanía que desee participar en la observación electoral","OPL","CG","2020-12-06","2020-12-20",null,null,{"$f":"VLOOKUP(P4099,Campos!$B$2:$C$7,2,FALSE)","v":0},"Sin información"]
[4094,25,"Sinaloa",4,"Observación Electoral","4.2",2,"Recepción de solicitudes de la ciudadanía que desee participar en observación electoral","INE/OPL","OPL/JLE/JDE","2020-12-06","2021-04-30",null,null,{"$f":"VLOOKUP(P4100,Campos!$B$2:$C$7,2,FALSE)","v":0},"Sin información"]
[4095,25,"Sinaloa",4,"Observación Electoral","4.3",3,"Impartición de los cursos de capacitación, preparación o información","INE/OPL","OPL/JLE/JDE","2020-12-06","2021-05-17",null,null,{"$f":"VLOOKUP(P4101,Campos!$B$2:$C$7,2,FALSE)","v":0},"Sin información"]
[4096,25,"Sinaloa",4,"Observación Electoral","4.4",4,"Acreditación de la ciudadanía como observadores u observadoras electorales","INE","CL/CD","2020-12-06","2021-06-05",null,null,{"$f":"VLOOKUP(P4102,Campos!$B$2:$C$7,2,FALSE)","v":0},"Sin información"]
[4097,25,"Sinaloa",4,"Observación Electoral","4.5",5,"Seguimiento a los informes mensuales de acreditación","INE","CG","2020-12-06","2021-07-31",null,null,{"$f":"VLOOKUP(P4103,Campos!$B$2:$C$7,2,FALSE)","v":0},"Sin información"]
[4098,25,"Sinaloa",4,"Observación Electoral","4.6",6,"Remisión de materiales de capacitación a la JLE para revisión","OPL","CG","2020-10-08","2020-10-08",null,null,{"$f":"VLOOKUP(P4104,Campos!$B$2:$C$7,2,FALSE)","v":0},"Sin información"]
[4099,25,"Sinaloa",4,"Observación Electoral","4.7",7,"Revisión, corrección, verificación y validación de materiales de capacitación para observación electoral ","INE","JLE","2020-10-09","2020-10-30",null,null,{"$f":"VLOOKUP(P4105,Campos!$B$2:$C$7,2,FALSE)","v":0},"Sin información"]
[4100,25,"Sinaloa",4,"Observación Electoral","4.8",8,"Entrega de materiales de capacitación para observación electoral entre OPL e INE","INE/OPL","VEL/OPL","2020-11-01","2020-11-23",null,null,{"$f":"VLOOKUP(P4106,Campos!$B$2:$C$7,2,FALSE)","v":0},"Sin información"]
[4101,25,"Sinaloa",5,"Ubicación de casillas","5.1",1,"Recorridos por las secciones de los distritos para localizar los lugares donde se ubicarán las casillas","INE/OPL","JDE/OPL","2021-01-15","2021-02-15",null,null,{"$f":"VLOOKUP(P4107,Campos!$B$2:$C$7,2,FALSE)","v":0},"Sin información"]
[4102,25,"Sinaloa",5,"Ubicación de casillas","5.2",2,"Presentación a los Consejos Distritales del listado de lugares propuestos para ubicar casillas","INE","JDE","2021-02-24","2021-02-24",null,null,{"$f":"VLOOKUP(P4108,Campos!$B$2:$C$7,2,FALSE)","v":0},"Sin información"]
[4103,25,"Sinaloa",5,"Ubicación de casillas","5.3",3,"Visitas de examinación en los lugares propuestos para ubicar casillas básicas, contiguas, especiales y extraordinarias","INE/OPL","CD/OPL","2021-02-25","2021-03-16",null,null,{"$f":"VLOOKUP(P4109,Campos!$B$2:$C$7,2,FALSE)","v":0},"Sin información"]
[4104,25,"Sinaloa",5,"Ubicación de casillas","5.4",4,"Aprobación del número y ubicación de casillas extraordinarias y especiales","INE","CD","2021-03-16","2021-03-16",null,null,{"$f":"VLOOKUP(P4110,Campos!$B$2:$C$7,2,FALSE)","v":0},"Sin información"]
[4105,25,"Sinaloa",5,"Ubicación de casillas","5.5",5,"Aprobación del número y ubicación de casillas básicas y contiguas","INE","CD","2021-03-25","2021-03-25",null,null,{"$f":"VLOOKUP(P4111,Campos!$B$2:$C$7,2,FALSE)","v":0},"Sin información"]
[4106,25,"Sinaloa",5,"Ubicación de casillas","5.6",6,"Entrega de la base de datos de la Lista Nominal Definitiva a UNICOM con corte al 10 de abril","INE","DERFE","2021-04-15","2021-04-16",null,null,{"$f":"VLOOKUP(P4112,Campos!$B$2:$C$7,2,FALSE)","v":0},"Sin información"]
[4107,25,"Sinaloa",5,"Ubicación de casillas","5.7",7,"Realizar la primera publicación de la lista de ubicación de casillas en los lugares más concurridos del distrito electoral  y en los medios electrónicos del Instituto","INE","CD","2021-04-15","2021-04-15",null,null,{"$f":"VLOOKUP(P4113,Campos!$B$2:$C$7,2,FALSE)","v":0},"Sin información"]
[4108,25,"Sinaloa",5,"Ubicación de casillas","5.8",8,"En su caso, segunda publicación de la lista de ubicación de casillas por causas supervenientes en los lugares más concurridos del distrito y en los medios electrónicos del Instituto","INE","CD","2021-05-15","2021-05-25",null,null,{"$f":"VLOOKUP(P4114,Campos!$B$2:$C$7,2,FALSE)","v":0},"Sin información"]
[4109,25,"Sinaloa",5,"Ubicación de casillas","5.9",9,"Publicación de los encartes y difusión en medios electrónicos del Instituto","INE/OPL","DEOE/CG","2021-06-05","2021-06-06",null,null,{"$f":"VLOOKUP(P4115,Campos!$B$2:$C$7,2,FALSE)","v":0},"Sin información"]
[4110,25,"Sinaloa",5,"Ubicación de casillas","5.10",10,"Registro de representantes generales y ante mesas directivas de casilla","INE","CD","2021-04-16","2021-05-24",null,null,{"$f":"VLOOKUP(P4116,Campos!$B$2:$C$7,2,FALSE)","v":0},"Sin información"]
[4111,25,"Sinaloa",5,"Ubicación de casillas","5.11",11,"Sustitución de representantes generales y ante mesas directivas de casilla","INE","CD","2021-04-16","2021-05-27",null,null,{"$f":"VLOOKUP(P4117,Campos!$B$2:$C$7,2,FALSE)","v":0},"Sin información"]
[4112,25,"Sinaloa",5,"Ubicación de casillas","5.12",12,"Entrega de listados de representantes generales y ante casilla al OPL","INE","CD","2021-05-30","2021-05-30",null,null,{"$f":"VLOOKUP(P4118,Campos!$B$2:$C$7,2,FALSE)","v":0},"Sin información"]
[4113,25,"Sinaloa",5,"Ubicación de casillas","5.13",13,"Notificación ciudadana de ubicación de casillas en secciones electorales involucradas en la actualización del Marco Geográfico Electoral","INE/OPL","DERFE/OPL","2021-04-01","2021-06-15",null,null,{"$f":"VLOOKUP(P4119,Campos!$B$2:$C$7,2,FALSE)","v":0},"Sin información"]
[4114,25,"Sinaloa",6,"Integración de las Mesas Directivas de Casilla","6.1",1,"Aprobación de la Estrategia de Capacitación y Asistencia Electoral","INE","CG","2020-08-01","2020-08-15",null,null,{"$f":"VLOOKUP(P4120,Campos!$B$2:$C$7,2,FALSE)","v":0},"Sin información"]
[4115,25,"Sinaloa",6,"Integración de las Mesas Directivas de Casilla","6.2",2,"Entrega para revisión y validación de materiales didácticos de primera etapa","OPL","CG","2020-11-03","2020-11-03",null,null,{"$f":"VLOOKUP(P4121,Campos!$B$2:$C$7,2,FALSE)","v":0},"Sin información"]
[4116,25,"Sinaloa",6,"Integración de las Mesas Directivas de Casilla","6.3",3,"Revisión, corrección, verificación y validación de los materiales didácticos de primera etapa","INE/OPL","JLE/DECEYEC/OPL","2020-11-03","2020-12-19",null,null,{"$f":"VLOOKUP(P4122,Campos!$B$2:$C$7,2,FALSE)","v":0},"Sin información"]
[4117,25,"Sinaloa",6,"Integración de las Mesas Directivas de Casilla","6.4",4,"Entrega de los materiales impresos de la primera etapa a la JLE","OPL","OPL","2021-02-05","2021-02-05",null,null,{"$f":"VLOOKUP(P4123,Campos!$B$2:$C$7,2,FALSE)","v":0},"Sin información"]
[4118,25,"Sinaloa",6,"Integración de las Mesas Directivas de Casilla","6.5",5,"Sorteo del mes del calendario como base para la insaculación de las y los ciudadanos que integrarán las mesas directivas de casilla","INE","CG","2020-12-15","2020-12-19",null,null,{"$f":"VLOOKUP(P4124,Campos!$B$2:$C$7,2,FALSE)","v":0},"Sin información"]
[4119,25,"Sinaloa",6,"Integración de las Mesas Directivas de Casilla","6.6",6,"Entrega para revisión y validación de materiales didácticos de segunda etapa","OPL","OPL","2021-02-03","2021-02-03",null,null,{"$f":"VLOOKUP(P4125,Campos!$B$2:$C$7,2,FALSE)","v":0},"Sin información"]
[4120,25,"Sinaloa",6,"Integración de las Mesas Directivas de Casilla","6.7",7,"Revisión, corrección, verificación y validación de los materiales didácticos de la segunda etapa","INE/OPL","JLE/DECEYEC/OPL","2021-02-03","2021-03-22",null,null,{"$f":"VLOOKUP(P4126,Campos!$B$2:$C$7,2,FALSE)","v":0},"Sin información"]
[4121,25,"Sinaloa",6,"Integración de las Mesas Directivas de Casilla","6.8",8,"Entrega de los materiales impresos de la segunda etapa a la JLE","OPL","OPL","2021-04-05","2021-04-05",null,null,{"$f":"VLOOKUP(P4127,Campos!$B$2:$C$7,2,FALSE)","v":0},"Sin información"]
[4122,25,"Sinaloa",6,"Integración de las Mesas Directivas de Casilla","6.9",9,"Sorteo de la letra a partir de la cual, con base en el apellido paterno, se seleccionará a las y los ciudadanos que integrarán las mesas directivas de casilla","INE","CG","2021-02-02","2021-02-02",null,null,{"$f":"VLOOKUP(P4128,Campos!$B$2:$C$7,2,FALSE)","v":0},"Sin información"]
[4123,25,"Sinaloa",6,"Integración de las Mesas Directivas de Casilla","6.10",10,"Entrega de la Lista Nominal de Electores para el Procedimiento de la Primera insaculación con corte al 15 de enero de 2021.","INE","DERFE/UNICOM","2021-01-21","2021-01-26",null,null,{"$f":"VLOOKUP(P4129,Campos!$B$2:$C$7,2,FALSE)","v":0},"Sin información"]
[4124,25,"Sinaloa",6,"Integración de las Mesas Directivas de Casilla","6.11",11,"Primera insaculación","INE","JDE","2021-02-06","2021-02-06",null,null,{"$f":"VLOOKUP(P4130,Campos!$B$2:$C$7,2,FALSE)","v":0},"Sin información"]
[4125,25,"Sinaloa",6,"Integración de las Mesas Directivas de Casilla","6.12",12,"Primera etapa de capacitación a las personas insaculadas","INE","CD","2021-02-09","2021-03-31",null,null,{"$f":"VLOOKUP(P4131,Campos!$B$2:$C$7,2,FALSE)","v":0},"Sin información"]
[4126,25,"Sinaloa",6,"Integración de las Mesas Directivas de Casilla","6.13",13,"Integración de la lista de ciudadanos y ciudadanas que cumplen los requisitos legales para integrar las mesas directivas de casilla","INE","CD","2021-02-09","2021-03-31",null,null,{"$f":"VLOOKUP(P4132,Campos!$B$2:$C$7,2,FALSE)","v":0},"Sin información"]
[4127,25,"Sinaloa",6,"Integración de las Mesas Directivas de Casilla","6.14",14,"Segunda insaculación y designación de funcionarios para mesas directivas de casilla","INE","CD","2021-04-08","2021-04-08",null,null,{"$f":"VLOOKUP(P4133,Campos!$B$2:$C$7,2,FALSE)","v":0},"Sin información"]
[4128,25,"Sinaloa",6,"Integración de las Mesas Directivas de Casilla","6.15",15,"Segunda etapa de capacitación a funcionarios de mesa directiva de casilla y simulacros","INE","CD","2021-04-18","2021-06-05",null,null,{"$f":"VLOOKUP(P4134,Campos!$B$2:$C$7,2,FALSE)","v":0},"Sin información"]
[4129,25,"Sinaloa",6,"Integración de las Mesas Directivas de Casilla","6.16",16,"Entrega de reconocimientos a funcionarios de mesas directivas de casilla","INE","CD","2021-06-07","2021-06-12",null,null,{"$f":"VLOOKUP(P4135,Campos!$B$2:$C$7,2,FALSE)","v":0},"Sin información"]
[4130,25,"Sinaloa",6,"Integración de las Mesas Directivas de Casilla","6.17",17,"Periodo para contratación de CAE locales","INE/OPL","INE/OPL","Por definir","Por definir",null,null,{"$f":"VLOOKUP(P4136,Campos!$B$2:$C$7,2,FALSE)","v":0},"Sin información"]
[4131,25,"Sinaloa",6,"Integración de las Mesas Directivas de Casilla","6.18",18,"Reclutamiento y selección de CAE locales","INE/OPL","INE/OPL","Por definir","Por definir",null,null,{"$f":"VLOOKUP(P4137,Campos!$B$2:$C$7,2,FALSE)","v":0},"Sin información"]
[4132,25,"Sinaloa",7,"Fiscalización de los recursos de los Partidos Políticos y candidaturas independientes","7.1",1,"Aprobación de topes de gastos de precampaña Gubernatura","OPL","CG","2020-12-01","2020-12-15",null,null,{"$f":"VLOOKUP(P4138,Campos!$B$2:$C$7,2,FALSE)","v":0},"Sin información"]
[4133,25,"Sinaloa",7,"Fiscalización de los recursos de los Partidos Políticos y candidaturas independientes","7.2",2,"Aprobación de topes de gastos de precampaña Diputaciones","OPL","CG","2020-12-01","2020-12-15",null,null,{"$f":"VLOOKUP(P4139,Campos!$B$2:$C$7,2,FALSE)","v":0},"Sin información"]
[4134,25,"Sinaloa",7,"Fiscalización de los recursos de los Partidos Políticos y candidaturas independientes","7.3",3,"Aprobación de topes de gastos de precampaña Ayuntamientos","OPL","CG","2020-12-01","2020-12-15",null,null,{"$f":"VLOOKUP(P4140,Campos!$B$2:$C$7,2,FALSE)","v":0},"Sin información"]
[4135,25,"Sinaloa",7,"Fiscalización de los recursos de los Partidos Políticos y candidaturas independientes","7.4",4,"Aprobación de los límites de financiamiento privado, aportaciones de militantes, simpatizantes y precandidatos o candidatos; así como el límite individual de aportaciones para Gubernatura","OPL","CG","2021-01-19","2021-01-31",null,null,{"$f":"VLOOKUP(P4141,Campos!$B$2:$C$7,2,FALSE)","v":0},"Sin información"]
[4136,25,"Sinaloa",7,"Fiscalización de los recursos de los Partidos Políticos y candidaturas independientes","7.5",5,"Aprobación de los límites de financiamiento privado, aportaciones de militantes, simpatizantes y precandidatos o candidatos; así como el límite individual de aportaciones para Diputaciones","OPL","CG","2021-01-19","2021-01-31",null,null,{"$f":"VLOOKUP(P4142,Campos!$B$2:$C$7,2,FALSE)","v":0},"Sin información"]
[4137,25,"Sinaloa",7,"Fiscalización de los recursos de los Partidos Políticos y candidaturas independientes","7.6",6,"Aprobación de los límites de financiamiento privado, aportaciones de militantes, simpatizantes y precandidatos o candidatos; así como el límite individual de aportaciones para Ayuntamientos","OPL","CG","2021-01-19","2021-01-31",null,null,{"$f":"VLOOKUP(P4143,Campos!$B$2:$C$7,2,FALSE)","v":0},"Sin información"]
[4138,25,"Sinaloa",7,"Fiscalización de los recursos de los Partidos Políticos y candidaturas independientes","7.7",7,"Aprobación de topes de gastos para el periodo de obtención del apoyo ciudadano para Gubernatura","OPL","CG","2020-12-01","2020-12-15",null,null,{"$f":"VLOOKUP(P4144,Campos!$B$2:$C$7,2,FALSE)","v":0},"Sin información"]
[4139,25,"Sinaloa",7,"Fiscalización de los recursos de los Partidos Políticos y candidaturas independientes","7.8",8,"Aprobación de topes de gastos para el periodo de obtención del apoyo ciudadano para Diputaciones","OPL","CG","2020-12-01","2020-12-15",null,null,{"$f":"VLOOKUP(P4145,Campos!$B$2:$C$7,2,FALSE)","v":0},"Sin información"]
[4140,25,"Sinaloa",7,"Fiscalización de los recursos de los Partidos Políticos y candidaturas independientes","7.9",9,"Aprobación de topes de gastos para el periodo de obtención del apoyo ciudadano para Ayuntamientos","OPL","CG","2020-12-01","2020-12-15",null,null,{"$f":"VLOOKUP(P4146,Campos!$B$2:$C$7,2,FALSE)","v":0},"Sin información"]
[4141,25,"Sinaloa",7,"Fiscalización de los recursos de los Partidos Políticos y candidaturas independientes","7.10",10,"Precampaña para Gubernatura","OPL","CG","2021-01-24","2021-03-04",null,null,{"$f":"VLOOKUP(P4147,Campos!$B$2:$C$7,2,FALSE)","v":0},"Sin información"]
[4142,25,"Sinaloa",7,"Fiscalización de los recursos de los Partidos Políticos y candidaturas independientes","7.11",11,"Precampaña para Diputaciones","OPL","CG","2021-01-24","2021-03-04",null,null,{"$f":"VLOOKUP(P4148,Campos!$B$2:$C$7,2,FALSE)","v":0},"Sin información"]
[4143,25,"Sinaloa",7,"Fiscalización de los recursos de los Partidos Políticos y candidaturas independientes","7.12",12,"Precampaña para Ayuntamientos","OPL","CG","2021-01-24","2021-03-04",null,null,{"$f":"VLOOKUP(P4149,Campos!$B$2:$C$7,2,FALSE)","v":0},"Sin información"]
[4144,25,"Sinaloa",7,"Fiscalización de los recursos de los Partidos Políticos y candidaturas independientes","7.13",13,"Aprobación de topes de gastos de campaña para Gubernatura","OPL","CG","2021-01-01","2021-01-15",null,null,{"$f":"VLOOKUP(P4150,Campos!$B$2:$C$7,2,FALSE)","v":0},"Sin información"]
[4145,25,"Sinaloa",7,"Fiscalización de los recursos de los Partidos Políticos y candidaturas independientes","7.14",14,"Aprobación de topes de gastos de campaña para Diputaciones","OPL","CG","2021-01-01","2021-01-15",null,null,{"$f":"VLOOKUP(P4151,Campos!$B$2:$C$7,2,FALSE)","v":0},"Sin información"]
[4146,25,"Sinaloa",7,"Fiscalización de los recursos de los Partidos Políticos y candidaturas independientes","7.15",15,"Aprobación de topes de gastos de campaña para Ayuntamientos","OPL","CG","2021-01-01","2021-01-15",null,null,{"$f":"VLOOKUP(P4152,Campos!$B$2:$C$7,2,FALSE)","v":0},"Sin información"]
[4147,25,"Sinaloa",7,"Fiscalización de los recursos de los Partidos Políticos y candidaturas independientes","7.16",16,"Campaña para Gubernatura","OPL","CG","2021-04-04","2021-06-02",null,null,{"$f":"VLOOKUP(P4153,Campos!$B$2:$C$7,2,FALSE)","v":0},"Sin información"]
[4148,25,"Sinaloa",7,"Fiscalización de los recursos de los Partidos Políticos y candidaturas independientes","7.17",17,"Campaña para Diputaciones","OPL","CG","2021-04-04","2021-06-02",null,null,{"$f":"VLOOKUP(P4154,Campos!$B$2:$C$7,2,FALSE)","v":0},"Sin información"]
[4149,25,"Sinaloa",7,"Fiscalización de los recursos de los Partidos Políticos y candidaturas independientes","7.18",18,"Campaña para Ayuntamientos","OPL","CG","2021-04-04","2021-06-02",null,null,{"$f":"VLOOKUP(P4155,Campos!$B$2:$C$7,2,FALSE)","v":0},"Sin información"]
[4150,25,"Sinaloa",7,"Fiscalización de los recursos de los Partidos Políticos y candidaturas independientes","7.19",19,"Aprobación de la distribución de financiamiento público para partidos políticos","OPL","CG","2021-01-01","2021-01-15",null,null,{"$f":"VLOOKUP(P4156,Campos!$B$2:$C$7,2,FALSE)","v":0},"Sin información"]
[4151,25,"Sinaloa",8,"Candidaturas Independientes","8.1",1,"Emisión de la convocatoria para la ciudadanía interesada en participar en Candidaturas Independientes ","OPL","CG","2020-11-01","2020-11-15",null,null,{"$f":"VLOOKUP(P4157,Campos!$B$2:$C$7,2,FALSE)","v":0},"Sin información"]
[4152,25,"Sinaloa",8,"Candidaturas Independientes","8.2",2,"Recepción de escrito de intención y documentación anexa de la ciudadanía que aspire a la candidatura independiente para Gubernatura","OPL","OD","2020-12-07","2021-01-23",null,null,{"$f":"VLOOKUP(P4158,Campos!$B$2:$C$7,2,FALSE)","v":0},"Sin información"]
[4153,25,"Sinaloa",8,"Candidaturas Independientes","8.3",3,"Recepción de escrito de intención y documentación anexa de la ciudadanía que aspire a la candidatura independiente para Diputaciones","OPL","OD","2020-12-07","2021-01-23",null,null,{"$f":"VLOOKUP(P4159,Campos!$B$2:$C$7,2,FALSE)","v":0},"Sin información"]
[4154,25,"Sinaloa",8,"Candidaturas Independientes","8.4",4,"Recepción de escrito de intención y documentación anexa de la ciudadanía que aspire a la candidatura independiente para Ayuntamientos","OPL","SE/OD","2020-12-07","2021-01-23",null,null,{"$f":"VLOOKUP(P4160,Campos!$B$2:$C$7,2,FALSE)","v":0},"Sin información"]
[4155,25,"Sinaloa",8,"Candidaturas Independientes","8.5",5,"Resolución sobre procedencia de manifestación de intención de aspirantes a candidaturas independientes para Gubernatura","OPL","CG","2021-01-23","2021-01-23",null,null,{"$f":"VLOOKUP(P4161,Campos!$B$2:$C$7,2,FALSE)","v":0},"Sin información"]
[4156,25,"Sinaloa",8,"Candidaturas Independientes","8.6",6,"Resolución sobre procedencia de manifestación de intención de aspirantes a candidaturas independientes para Diputaciones","OPL","CG","2021-01-23","2021-01-23",null,null,{"$f":"VLOOKUP(P4162,Campos!$B$2:$C$7,2,FALSE)","v":0},"Sin información"]
[4157,25,"Sinaloa",8,"Candidaturas Independientes","8.7",7,"Resolución sobre procedencia de manifestación de intención de aspirantes a candidaturas independientes para Ayuntamientos","OPL","CG","2021-01-23","2021-01-23",null,null,{"$f":"VLOOKUP(P4163,Campos!$B$2:$C$7,2,FALSE)","v":0},"Sin información"]
[4158,25,"Sinaloa",8,"Candidaturas Independientes","8.8",8,"Plazo para obtener el apoyo ciudadano de las candidaturas independientes para Gubernatura","OPL","OD","2021-01-24","2021-03-04",null,null,{"$f":"VLOOKUP(P4164,Campos!$B$2:$C$7,2,FALSE)","v":0},"Sin información"]
[4159,25,"Sinaloa",8,"Candidaturas Independientes","8.9",9,"Plazo para obtener el apoyo ciudadano de las candidaturas independientes para Diputaciones","OPL","OD","2021-01-24","2021-03-04",null,null,{"$f":"VLOOKUP(P4165,Campos!$B$2:$C$7,2,FALSE)","v":0},"Sin información"]
[4160,25,"Sinaloa",8,"Candidaturas Independientes","8.10",10,"Plazo para obtener el apoyo ciudadano de las candidaturas independientes para Ayuntamientos","OPL","OD","2021-01-24","2021-03-04",null,null,{"$f":"VLOOKUP(P4166,Campos!$B$2:$C$7,2,FALSE)","v":0},"Sin información"]
[4161,25,"Sinaloa",8,"Candidaturas Independientes","8.11",11,"Plazo para otorgar las constancias de porcentaje a favor de aspirantes a la candidatura independiente para Gubernatura","OPL","CG","2021-03-05","2021-03-16",null,null,{"$f":"VLOOKUP(P4167,Campos!$B$2:$C$7,2,FALSE)","v":0},"Sin información"]
[4162,25,"Sinaloa",8,"Candidaturas Independientes","8.12",12,"Plazo para otorgar las constancias de porcentaje a favor de aspirantes a la candidatura independiente para Diputaciones","OPL","CG","2021-03-05","2021-03-11",null,null,{"$f":"VLOOKUP(P4168,Campos!$B$2:$C$7,2,FALSE)","v":0},"Sin información"]
[4163,25,"Sinaloa",8,"Candidaturas Independientes","8.13",13,"Plazo para otorgar las constancias de porcentaje a favor de aspirantes a la candidatura independiente para Ayuntamientos","OPL","CG","2021-03-05","2021-03-11",null,null,{"$f":"VLOOKUP(P4169,Campos!$B$2:$C$7,2,FALSE)","v":0},"Sin información"]
[4164,25,"Sinaloa",9,"Candidaturas","9.1",1,"Registro de plataformas electorales","OPL","CG","2021-03-12","2021-03-26",null,null,{"$f":"VLOOKUP(P4170,Campos!$B$2:$C$7,2,FALSE)","v":0},"Sin información"]
[4165,25,"Sinaloa",9,"Candidaturas","9.2",2,"Solicitud de registro de convenio de coalición para Gubernatura","OPL","CG","2020-12-06","2021-01-24",null,null,{"$f":"VLOOKUP(P4171,Campos!$B$2:$C$7,2,FALSE)","v":0},"Sin información"]
[4166,25,"Sinaloa",9,"Candidaturas","9.3",3,"Solicitud de registro de convenio de coalición para Diputaciones","OPL","CG","2020-12-06","2021-01-24",null,null,{"$f":"VLOOKUP(P4172,Campos!$B$2:$C$7,2,FALSE)","v":0},"Sin información"]
[4167,25,"Sinaloa",9,"Candidaturas","9.4",4,"Solicitud de registro de convenio de coalición para Ayuntamientos","OPL","CG","2020-12-06","2021-01-24",null,null,{"$f":"VLOOKUP(P4173,Campos!$B$2:$C$7,2,FALSE)","v":0},"Sin información"]
[4168,25,"Sinaloa",9,"Candidaturas","9.5",5,"Resolución sobre Convenio de Coalición para Gubernatura","OPL","CG","2021-01-25","2021-02-04",null,null,{"$f":"VLOOKUP(P4174,Campos!$B$2:$C$7,2,FALSE)","v":0},"Sin información"]
[4169,25,"Sinaloa",9,"Candidaturas","9.6",6,"Resolución sobre Convenio de Coalición para Diputaciones","OPL","CG","2021-01-25","2021-02-04",null,null,{"$f":"VLOOKUP(P4175,Campos!$B$2:$C$7,2,FALSE)","v":0},"Sin información"]
[4170,25,"Sinaloa",9,"Candidaturas","9.7",7,"Resolución sobre Convenio de Coalición para Ayuntamientos","OPL","CG","2021-01-25","2021-02-04",null,null,{"$f":"VLOOKUP(P4176,Campos!$B$2:$C$7,2,FALSE)","v":0},"Sin información"]
[4171,25,"Sinaloa",9,"Candidaturas","9.8",8,"Solicitud de registro de Candidaturas para Gubernatura","OPL","CG/OD","2021-03-17","2021-03-26",null,null,{"$f":"VLOOKUP(P4177,Campos!$B$2:$C$7,2,FALSE)","v":0},"Sin información"]
[4172,25,"Sinaloa",9,"Candidaturas","9.9",9,"Solicitud de registro de Candidaturas para Diputaciones","OPL","CG/OD","2021-03-12","2021-03-21",null,null,{"$f":"VLOOKUP(P4178,Campos!$B$2:$C$7,2,FALSE)","v":0},"Sin información"]
[4173,25,"Sinaloa",9,"Candidaturas","9.11",11,"Solicitud de registro de Candidaturas para Ayuntamientos","OPL","CG/OD","2021-03-12","2021-03-21",null,null,{"$f":"VLOOKUP(P4179,Campos!$B$2:$C$7,2,FALSE)","v":0},"Sin información"]
[4174,25,"Sinaloa",9,"Candidaturas","9.13",13,"Resolución para aprobar las candidaturas para Gubernatura","OPL","CG","2021-03-27","2021-03-31",null,null,{"$f":"VLOOKUP(P4180,Campos!$B$2:$C$7,2,FALSE)","v":0},"Sin información"]
[4175,25,"Sinaloa",9,"Candidaturas","9.14",14,"Resolución para aprobar las candidaturas para Diputaciones","OPL","CG","2021-03-22","2021-03-31",null,null,{"$f":"VLOOKUP(P4181,Campos!$B$2:$C$7,2,FALSE)","v":0},"Sin información"]
[4176,25,"Sinaloa",9,"Candidaturas","9.16",16,"Resolución para aprobar las candidaturas para Ayuntamientos","OPL","CG/OD","2021-03-22","2021-03-31",null,null,{"$f":"VLOOKUP(P4182,Campos!$B$2:$C$7,2,FALSE)","v":0},"Sin información"]
[4177,25,"Sinaloa",9,"Candidaturas","9.17",17,"Solicitud de registro de candidaturas comunes para Gubernatura ","OPL","CG/OD","2021-03-17","2021-03-26",null,null,{"$f":"VLOOKUP(P4183,Campos!$B$2:$C$7,2,FALSE)","v":0},"Sin información"]
[4178,25,"Sinaloa",9,"Candidaturas","9.18",18,"Solicitud de registro de candidaturas comunes para Diputaciones ","OPL","CG/OD","2021-03-12","2021-03-21",null,null,{"$f":"VLOOKUP(P4184,Campos!$B$2:$C$7,2,FALSE)","v":0},"Sin información"]
[4179,25,"Sinaloa",9,"Candidaturas","9.19",19,"Solicitud de registro de candidaturas comunes para Ayuntamientos  ","OPL","CG/OD","2021-03-12","2021-03-21",null,null,{"$f":"VLOOKUP(P4185,Campos!$B$2:$C$7,2,FALSE)","v":0},"Sin información"]
[4180,25,"Sinaloa",9,"Candidaturas","9.20",20,"Resolución para aprobar las candidaturas comunes para Gubernatura","OPL","CG/OD","2021-03-27","2021-03-31",null,null,{"$f":"VLOOKUP(P4186,Campos!$B$2:$C$7,2,FALSE)","v":0},"Sin información"]
[4181,25,"Sinaloa",9,"Candidaturas","9.21",21,"Resolución para aprobar las candidaturas comunes para Diputaciones ","OPL","CG/OD","2021-03-22","2021-03-31",null,null,{"$f":"VLOOKUP(P4187,Campos!$B$2:$C$7,2,FALSE)","v":0},"Sin información"]
[4182,25,"Sinaloa",9,"Candidaturas","9.22",22,"Resolución para aprobar las candidaturas comunes para Ayuntamientos ","OPL","CG/OD","2021-03-22","2021-03-31",null,null,{"$f":"VLOOKUP(P4188,Campos!$B$2:$C$7,2,FALSE)","v":0},"Sin información"]
[4183,25,"Sinaloa",10,"Debates","10.1",1,"Aprobación de las fechas en que se celebrarán los debates","OPL","CG","2021-04-04","2021-06-02",null,null,{"$f":"VLOOKUP(P4189,Campos!$B$2:$C$7,2,FALSE)","v":0},"Sin información"]
[4184,25,"Sinaloa",10,"Debates","10.2",2,"Realización de debate(s)","OPL","CG","2021-04-04","2021-06-02",null,null,{"$f":"VLOOKUP(P4190,Campos!$B$2:$C$7,2,FALSE)","v":0},"Sin información"]
[4185,25,"Sinaloa",11,"Documentación y material electoral","11.1",1,"Entrega a la Junta Local Ejecutiva del INE, de los diseños y especificaciones técnicas de la documentación y materiales electorales, en medios impresos y electrónicos","OPL","CG","2020-09-01","2020-09-30",null,null,{"$f":"VLOOKUP(P4191,Campos!$B$2:$C$7,2,FALSE)","v":0},"Sin información"]
[4186,25,"Sinaloa",11,"Documentación y material electoral","11.2",2,"Revisión de los documentos y materiales electorales y especificaciones técnicas, presentadas por el OPL","INE","JLE","2020-09-15","2020-12-16",null,null,{"$f":"VLOOKUP(P4192,Campos!$B$2:$C$7,2,FALSE)","v":0},"Sin información"]
[4187,25,"Sinaloa",11,"Documentación y material electoral","11.3",3,"En su caso, atención y presentación, de los cambios pertinentes, conforme a las observaciones emitidas por la Junta Local Ejecutiva del INE","OPL","CG","2020-09-15","2020-12-16",null,null,{"$f":"VLOOKUP(P4193,Campos!$B$2:$C$7,2,FALSE)","v":0},"Sin información"]
[4188,25,"Sinaloa",11,"Documentación y material electoral","11.4",4,"Validación de los documentos y materiales electorales y especificaciones técnicas, con las observaciones subsanadas","INE","DEOE","2020-10-28","2020-12-18",null,null,{"$f":"VLOOKUP(P4194,Campos!$B$2:$C$7,2,FALSE)","v":0},"Sin información"]
[4189,25,"Sinaloa",11,"Documentación y material electoral","11.5",5,"Entrega a la Dirección Ejecutiva de Organización Electoral del INE, del Reporte único sobre la aprobación y adjudicación de los documentos y materiales electorales del OPL, en medios electrónicos","OPL","CG","2021-02-01","2021-02-26",null,null,{"$f":"VLOOKUP(P4195,Campos!$B$2:$C$7,2,FALSE)","v":0},"Sin información"]
[4190,25,"Sinaloa",11,"Documentación y material electoral","11.6",6,"Revisión y en su caso validación, del Reporte único sobre la aprobación y adjudicación de los documentos y materiales electorales del OPL, en medios electrónicos","INE","DEOE","2021-02-15","2021-03-12",null,null,{"$f":"VLOOKUP(P4196,Campos!$B$2:$C$7,2,FALSE)","v":0},"Sin información"]
[4191,25,"Sinaloa",11,"Documentación y material electoral","11.7",7,"Entrega  a la Dirección Ejecutiva de Organización Electoral del INE, del Reporte semanal sobre el avance en la producción de los documentos y materiales electorales del OPL, en medios electrónicos.","OPL","CG","2021-03-15","2021-05-22",null,null,{"$f":"VLOOKUP(P4197,Campos!$B$2:$C$7,2,FALSE)","v":0},"Sin información"]
[4192,25,"Sinaloa",11,"Documentación y material electoral","11.8",8,"Aprobación de la documentación y material electoral","OPL","CG","2020-11-11","2020-12-31",null,null,{"$f":"VLOOKUP(P4198,Campos!$B$2:$C$7,2,FALSE)","v":0},"Sin información"]
[4193,25,"Sinaloa",11,"Documentación y material electoral","11.9",9,"Entrega a la Dirección Ejecutiva de Organización Electoral del INE, del Reporte con los resultados de las verificaciones de las medidas de seguridad en la documentación electoral","OPL","CG","2021-05-27","2021-06-11",null,null,{"$f":"VLOOKUP(P4199,Campos!$B$2:$C$7,2,FALSE)","v":0},"Sin información"]
[4194,25,"Sinaloa",11,"Documentación y material electoral","11.10",10,"Supervisiones respecto de los procedimientos de impresión y producción de la documentación y materiales electorales","INE","DEOE","2021-03-15","2021-05-22",null,null,{"$f":"VLOOKUP(P4200,Campos!$B$2:$C$7,2,FALSE)","v":0},"Sin información"]
[4195,25,"Sinaloa",11,"Documentación y material electoral","11.11",11,"Designación de la persona responsable de llevar el control sobre la asignación de los folios de las boletas que se distribuirán en cada mesa directiva de casilla","OPL","CG","2021-03-01","2021-03-30",null,null,{"$f":"VLOOKUP(P4201,Campos!$B$2:$C$7,2,FALSE)","v":0},"Sin información"]
[4196,25,"Sinaloa",11,"Documentación y material electoral","11.12",12,"Aprobación de SE y CAE, así como de personal que auxiliará en el procedimiento de conteo, sellado y agrupamiento de las boletas electorales; así como la integración de documentación para las casillas","OPL","CG","2021-04-24","2021-05-11",null,null,{"$f":"VLOOKUP(P4202,Campos!$B$2:$C$7,2,FALSE)","v":0},"Sin información"]
[4197,25,"Sinaloa",11,"Documentación y material electoral","11.13",13,"Recepción de las boletas electorales por el órgano competente que realizará el conteo, sellado y agrupamiento","OPL","CG","2021-05-18","2021-05-22",null,null,{"$f":"VLOOKUP(P4203,Campos!$B$2:$C$7,2,FALSE)","v":0},"Sin información"]
[4198,25,"Sinaloa",11,"Documentación y material electoral","11.14",14,"Conteo, sellado y agrupamiento de boletas","OPL","CG","2021-05-18","2021-05-28",null,null,{"$f":"VLOOKUP(P4204,Campos!$B$2:$C$7,2,FALSE)","v":0},"Sin información"]
[4199,25,"Sinaloa",11,"Documentación y material electoral","11.15",15,"Distribución de la documentación y materiales electorales a las y los Presidentes de mesas directivas de casilla","OPL","OD","2021-05-31","2021-06-04",null,null,{"$f":"VLOOKUP(P4205,Campos!$B$2:$C$7,2,FALSE)","v":0},"Sin información"]
[4200,25,"Sinaloa",11,"Documentación y material electoral","11.16",16,"Remisión de los recibos de la entrega de la documentación y materiales electorales al Consejo General del OPL","INE","JLE","2021-06-24","2021-06-30",null,null,{"$f":"VLOOKUP(P4206,Campos!$B$2:$C$7,2,FALSE)","v":0},"Sin información"]
[4201,25,"Sinaloa",12,"Jornada Electoral","12.1",1,"Aprobación del Programa de Operación del SIJE 2021","INE","CCOE","2020-07-01","2020-07-31",null,null,{"$f":"VLOOKUP(P4207,Campos!$B$2:$C$7,2,FALSE)","v":0},"Sin información"]
[4202,25,"Sinaloa",12,"Jornada Electoral","12.2",2,"Aprobación de las metas del SIJE 2021","INE","CG","2021-03-01","2021-03-31",null,null,{"$f":"VLOOKUP(P4208,Campos!$B$2:$C$7,2,FALSE)","v":0},"Sin información"]
[4203,25,"Sinaloa",12,"Jornada Electoral","12.3",3,"Realización de pruebas del SIJE 2021","INE","DEOE","2021-04-01","2021-04-15",null,null,{"$f":"VLOOKUP(P4209,Campos!$B$2:$C$7,2,FALSE)","v":0},"Sin información"]
[4204,25,"Sinaloa",12,"Jornada Electoral","12.4",4,"Desarrollo del primer simulacro del SIJE","INE/OPL","DEOE/OD","2021-04-29","2021-04-29",null,null,{"$f":"VLOOKUP(P4210,Campos!$B$2:$C$7,2,FALSE)","v":0},"Sin información"]
[4205,25,"Sinaloa",12,"Jornada Electoral","12.5",5,"Desarrollo del segundo simulacro del SIJE","INE/OPL","DEOE/OD","2021-05-09","2021-05-09",null,null,{"$f":"VLOOKUP(P4211,Campos!$B$2:$C$7,2,FALSE)","v":0},"Sin información"]
[4206,25,"Sinaloa",12,"Jornada Electoral","12.6",6,"Desarrollo del tercer simulacro del SIJE","INE/OPL","DEOE/OD","2021-05-23","2021-05-23",null,null,{"$f":"VLOOKUP(P4212,Campos!$B$2:$C$7,2,FALSE)","v":0},"Sin información"]
[4207,25,"Sinaloa",12,"Jornada Electoral","12.7",7,"Jornada Electoral","OPL","CG/OD","2021-06-06","2021-06-06",null,null,{"$f":"VLOOKUP(P4213,Campos!$B$2:$C$7,2,FALSE)","v":0},"Sin información"]
[4208,25,"Sinaloa",13,"Bodegas electorales","13.1",1,"Determinación de los lugares que ocuparán las bodegas electorales para el resguardo de la documentación electoral","OPL","CG","2021-02-01","2021-02-28",null,null,{"$f":"VLOOKUP(P4214,Campos!$B$2:$C$7,2,FALSE)","v":0},"Sin información"]
[4209,25,"Sinaloa",13,"Bodegas electorales","13.2",2,"Informe que rinden las y los Presidentes sobre las condiciones de equipamiento, mecanismos de operación y medidas de seguridad de las bodegas electorales","OPL","OD","2021-03-01","2021-03-31",null,null,{"$f":"VLOOKUP(P4215,Campos!$B$2:$C$7,2,FALSE)","v":0},"Sin información"]
[4210,25,"Sinaloa",13,"Bodegas electorales","13.3",3,"Designación, por parte del órgano competente del OPL, del personal que tendrá acceso a la bodega electoral","OPL","CG/OD","2021-03-01","2021-03-30",null,null,{"$f":"VLOOKUP(P4216,Campos!$B$2:$C$7,2,FALSE)","v":0},"Sin información"]
[4211,25,"Sinaloa",13,"Bodegas electorales","13.4",4,"Envío a la UTVOPL, por conducto de la JLE, el informe sobre las condiciones que guardan las bodegas electorales","OPL","CG","2021-04-04","2021-04-10",null,null,{"$f":"VLOOKUP(P4217,Campos!$B$2:$C$7,2,FALSE)","v":0},"Sin información"]
[4212,25,"Sinaloa",14,"Mecanismos de recolección","14.1",1,"Entrega de estudios de factibilidad al OPL","INE","CL","2021-03-15","2021-03-31",null,null,{"$f":"VLOOKUP(P4218,Campos!$B$2:$C$7,2,FALSE)","v":0},"Sin información"]
[4213,25,"Sinaloa",14,"Mecanismos de recolección","14.2",2,"Entrega de observaciones a los estudios de factibilidad ","OPL","CG","2021-04-01","2021-04-24",null,null,{"$f":"VLOOKUP(P4219,Campos!$B$2:$C$7,2,FALSE)","v":0},"Sin información"]
[4214,25,"Sinaloa",14,"Mecanismos de recolección","14.3",3,"Recorridos para verificar las propuestas de los mecanismos de recolección","INE/OPL","CD/OD","2021-03-16","2021-04-24",null,null,{"$f":"VLOOKUP(P4220,Campos!$B$2:$C$7,2,FALSE)","v":0},"Sin información"]
[4215,25,"Sinaloa",14,"Mecanismos de recolección","14.4",4,"Aprobación de los mecanismos de recolección ","INE","CD","2021-04-26","2021-04-30",null,null,{"$f":"VLOOKUP(P4221,Campos!$B$2:$C$7,2,FALSE)","v":0},"Sin información"]
[4216,25,"Sinaloa",14,"Mecanismos de recolección","14.5",5,"Traslado y recolección de los paquetes electorales","INE/OPL","CD/OD","2021-06-06","2021-06-07",null,null,{"$f":"VLOOKUP(P4222,Campos!$B$2:$C$7,2,FALSE)","v":0},"Sin información"]
[4217,25,"Sinaloa",14,"Mecanismos de recolección","14.6",6,"Acreditación de representantes de partidos políticos y candidaturas independientes ante los mecanismos de recolección","INE","CL/CD","2021-04-27","2021-06-03",null,null,{"$f":"VLOOKUP(P4223,Campos!$B$2:$C$7,2,FALSE)","v":0},"Sin información"]
[4218,25,"Sinaloa",14,"Mecanismos de recolección","14.7",7,"Sustitución de representantes de partidos políticos y candidaturas independientes ante los mecanismos de recolección","INE","CL/CD","2021-04-28","2021-06-04",null,null,{"$f":"VLOOKUP(P4224,Campos!$B$2:$C$7,2,FALSE)","v":0},"Sin información"]
[4219,25,"Sinaloa",14,"Mecanismos de recolección","14.8",8,"Entrega a la JLE, el informe sobre la recepción de paquetes electorales en los órganos competentes","OPL","CG","2021-06-06","2021-06-28",null,null,{"$f":"VLOOKUP(P4225,Campos!$B$2:$C$7,2,FALSE)","v":0},"Sin información"]
[4220,25,"Sinaloa",15,"Cómputos","15.1",1,"Aprobación de los lineamientos de cómputo y del cuadernillo de consulta sobre votos válidos y votos nulos","OPL","CG","2021-01-18","2021-01-29",null,null,{"$f":"VLOOKUP(P4226,Campos!$B$2:$C$7,2,FALSE)","v":0},"Sin información"]
[4221,25,"Sinaloa",15,"Cómputos","15.2",2,"Integración por parte de los Órganos Desconcentrados del OPL, de la propuesta para la habilitación de espacios para el recuento de votos con las alternativas para todos los escenarios de cómputo","OPL","OD","2021-03-01","2021-03-07",null,null,{"$f":"VLOOKUP(P4227,Campos!$B$2:$C$7,2,FALSE)","v":0},"Sin información"]
[4222,25,"Sinaloa",15,"Cómputos","15.3",3,"Informe de los escenarios de cómputos de la totalidad de sus órganos desconcentrados","OPL","CG","2021-04-01","2021-04-04",null,null,{"$f":"VLOOKUP(P4228,Campos!$B$2:$C$7,2,FALSE)","v":0},"Sin información"]
[4223,25,"Sinaloa",15,"Cómputos","15.4",4,"Remisión a la JLE en la entidad, las propuestas de escenarios de cómputos, para la dictaminación de viabilidad","OPL","CG","2021-05-01","2021-05-07",null,null,{"$f":"VLOOKUP(P4229,Campos!$B$2:$C$7,2,FALSE)","v":0},"Sin información"]
[4224,25,"Sinaloa",15,"Cómputos","15.5",5,"Remisión de las observaciones a los escenarios de Cómputos al OPL y a su vez informar de las mismas a la UTVOPL","INE","JLE","2021-05-08","2021-05-15",null,null,{"$f":"VLOOKUP(P4230,Campos!$B$2:$C$7,2,FALSE)","v":0},"Sin información"]
[4225,25,"Sinaloa",15,"Cómputos","15.6",6,"Aprobación por parte del órgano competente del OPL, del acuerdo mediante el cual se designa al personal que participará en las tareas de apoyo a los Cómputos Municipales","OPL","CG/OD","2021-04-26","2021-05-05",null,null,{"$f":"VLOOKUP(P4231,Campos!$B$2:$C$7,2,FALSE)","v":0},"Sin información"]
[4226,25,"Sinaloa",15,"Cómputos","15.7",7,"Aprobación por parte del órgano competente del OPL, del acuerdo mediante el cual se designa al personal que participará en las tareas de apoyo a los Cómputos Distritales ","OPL","CG/OD","2021-04-26","2021-05-05",null,null,{"$f":"VLOOKUP(P4232,Campos!$B$2:$C$7,2,FALSE)","v":0},"Sin información"]
[4227,25,"Sinaloa",15,"Cómputos","15.8",8,"Aprobación por parte de los órganos competentes del OPL, de los distintos escenarios de cómputos","OPL","OD","2021-05-08","2021-05-15",null,null,{"$f":"VLOOKUP(P4233,Campos!$B$2:$C$7,2,FALSE)","v":0},"Sin información"]
[4228,25,"Sinaloa",15,"Cómputos","15.9",9,"Aprobación por parte del órgano competente del OPL, del acuerdo por el que se habilitarán espacios para la instalación de grupos de trabajo y, en su caso, puntos de recuento","OPL","CG/OD","2021-06-08","2021-06-08",null,null,{"$f":"VLOOKUP(P4234,Campos!$B$2:$C$7,2,FALSE)","v":0},"Sin información"]
[4229,25,"Sinaloa",15,"Cómputos","15.10",10,"Cómputos Distritales","OPL","OD","2021-06-09","2021-06-12",null,null,{"$f":"VLOOKUP(P4235,Campos!$B$2:$C$7,2,FALSE)","v":0},"Sin información"]
[4230,25,"Sinaloa",15,"Cómputos","15.14",14,"Cómputo Estatal para la asignación diputaciones de Representación Proporcional","OPL","CG","2021-06-13","2021-06-13",null,null,{"$f":"VLOOKUP(P4236,Campos!$B$2:$C$7,2,FALSE)","v":0},"Sin información"]
[4231,25,"Sinaloa",15,"Cómputos","15.13",13,"Cómputo Estatal para la Gubernatura","OPL","CG","2021-06-13","2021-06-13",null,null,{"$f":"VLOOKUP(P4237,Campos!$B$2:$C$7,2,FALSE)","v":0},"Sin información"]
[4232,25,"Sinaloa",15,"Cómputos","15.11",11,"Cómputos Municipales","OPL","OD","2021-06-09","2021-06-12",null,null,{"$f":"VLOOKUP(P4238,Campos!$B$2:$C$7,2,FALSE)","v":0},"Sin información"]
[4233,25,"Sinaloa",15,"Cómputos","15.16",16,"Asignación de regidurías por el principio de Representación Proporcional","OPL","CG","2021-06-09","2021-06-12",null,null,{"$f":"VLOOKUP(P4239,Campos!$B$2:$C$7,2,FALSE)","v":0},"Sin información"]
[4234,25,"Sinaloa",16,"PREP","16.1",1,"Aprobación del Acuerdo por el que se designa o ratifica a la instancia interna responsable de coordinar el PREP","OPL","CG","2020-09-11","2020-09-11",null,null,{"$f":"VLOOKUP(P4240,Campos!$B$2:$C$7,2,FALSE)","v":0},"Sin información"]
[4235,25,"Sinaloa",16,"PREP","16.2",2,"Aprobación del Acuerdo de Integración del COTAPREP","OPL","CG","2020-11-11","2020-11-11",null,null,{"$f":"VLOOKUP(P4241,Campos!$B$2:$C$7,2,FALSE)","v":0},"Sin información"]
[4236,25,"Sinaloa",16,"PREP","16.3",3,"Documento por el que se determina la implementación del PREP por el OPL o con el apoyo de un Tercero","OPL","CG","2020-12-11","2020-12-11",null,null,{"$f":"VLOOKUP(P4242,Campos!$B$2:$C$7,2,FALSE)","v":0},"Sin información"]
[4237,25,"Sinaloa",16,"PREP","16.4",4,"Aprobación del Acuerdo por el que se determina el Proceso Técnico Operativo ","OPL","CG","2021-01-11","2021-01-11",null,null,{"$f":"VLOOKUP(P4243,Campos!$B$2:$C$7,2,FALSE)","v":0},"Sin información"]
[4238,25,"Sinaloa",16,"PREP","16.5",5,"Aprobación del Acuerdo por el que se determina la ubicación, instalación y habilitación de los CATD y, en su caso, CCV","OPL","CG","2021-02-11","2021-02-11",null,null,{"$f":"VLOOKUP(P4244,Campos!$B$2:$C$7,2,FALSE)","v":0},"Sin información"]
[4239,25,"Sinaloa",16,"PREP","16.6",6,"Documento de Designación del Ente Auditor ","OPL","CG","2021-02-11","2021-02-11",null,null,{"$f":"VLOOKUP(P4245,Campos!$B$2:$C$7,2,FALSE)","v":0},"Sin información"]
[4240,25,"Sinaloa",16,"PREP","16.7",7,"Instrumento jurídico celebrado entre el OPL y el ente auditor","OPL","CG","2021-03-11","2021-03-11",null,null,{"$f":"VLOOKUP(P4246,Campos!$B$2:$C$7,2,FALSE)","v":0},"Sin información"]
[4241,25,"Sinaloa",16,"PREP","16.8",8,"Realización del primer simulacro del PREP","OPL","CG","2021-05-16","2021-05-16",null,null,{"$f":"VLOOKUP(P4247,Campos!$B$2:$C$7,2,FALSE)","v":0},"Sin información"]
[4242,25,"Sinaloa",16,"PREP","16.9",9,"Realización del segundo simulacro del PREP","OPL","CG","2021-05-23","2021-05-23",null,null,{"$f":"VLOOKUP(P4248,Campos!$B$2:$C$7,2,FALSE)","v":0},"Sin información"]
[4243,25,"Sinaloa",16,"PREP","16.10",10,"Realización del tercer simulacro del PREP","OPL","CG","2021-05-30","2021-05-30",null,null,{"$f":"VLOOKUP(P4249,Campos!$B$2:$C$7,2,FALSE)","v":0},"Sin información"]
[4244,25,"Sinaloa",16,"PREP","16.11",11,"Operación del PREP","OPL","CG","2021-06-06","2021-06-07",null,null,{"$f":"VLOOKUP(P4250,Campos!$B$2:$C$7,2,FALSE)","v":0},"Sin información"]
[4245,25,"Sinaloa",17,"Conteo Rápido","17.1",1,"Aprobación del Acuerdo de Integración del COTECORA","Por definir","Por definir","2021-02-01","2021-02-06",null,null,{"$f":"VLOOKUP(P4251,Campos!$B$2:$C$7,2,FALSE)","v":0},"Sin información"]
[4246,25,"Sinaloa",17,"Conteo Rápido","17.2",2,"Realización de pruebas de captura","Por definir","Por definir","2021-04-14","2021-04-15",null,null,{"$f":"VLOOKUP(P4252,Campos!$B$2:$C$7,2,FALSE)","v":0},"Sin información"]
[4247,25,"Sinaloa",17,"Conteo Rápido","17.3",3,"Realización de primer simulacro del Conteo Rápido","Por definir","Por definir","2021-04-29","2021-04-29",null,null,{"$f":"VLOOKUP(P4253,Campos!$B$2:$C$7,2,FALSE)","v":0},"Sin información"]
[4248,25,"Sinaloa",17,"Conteo Rápido","17.4",4,"Realización de segundo simulacro del Conteo Rápido","Por definir","Por definir","2021-05-16","2021-05-16",null,null,{"$f":"VLOOKUP(P4254,Campos!$B$2:$C$7,2,FALSE)","v":0},"Sin información"]
[4249,25,"Sinaloa",17,"Conteo Rápido","17.5",5,"Selección de la Muestra para el Conteo Rápido","Por definir","Por definir","2021-06-02","2021-06-04",null,null,{"$f":"VLOOKUP(P4255,Campos!$B$2:$C$7,2,FALSE)","v":0},"Sin información"]
[4250,25,"Sinaloa",17,"Conteo Rápido","17.6",6,"Realización de tercer simulacro del Conteo Rápido","Por definir","Por definir","2021-05-23","2021-05-23",null,null,{"$f":"VLOOKUP(P4256,Campos!$B$2:$C$7,2,FALSE)","v":0},"Sin información"]
[4251,25,"Sinaloa",19,"Visitantes extranjeros","19.1",1,"Emisión de la Convocatoria para visitantes extranjeros","INE","CG","2020-08-03","2020-09-30",null,null,{"$f":"VLOOKUP(P4257,Campos!$B$2:$C$7,2,FALSE)","v":0},"Sin información"]
[4252,25,"Sinaloa",19,"Visitantes extranjeros","19.2",2,"Difusión de la Convocatoria para visitantes extranjeros","INE","CAI","2020-09-01","2021-05-26",null,null,{"$f":"VLOOKUP(P4258,Campos!$B$2:$C$7,2,FALSE)","v":0},"Sin información"]
[4253,25,"Sinaloa",19,"Visitantes extranjeros","19.3",3,"Recepción de solicitudes de acreditación como visitantes extranjeros","INE","CAI","2020-09-01","2021-05-26",null,null,{"$f":"VLOOKUP(P4259,Campos!$B$2:$C$7,2,FALSE)","v":0},"Sin información"]
[4254,25,"Sinaloa",19,"Visitantes extranjeros","19.4",4,"Resolución de solicitudes de acreditación como visitantes extranjeros","INE","CAI","2020-09-02","2021-05-30",null,null,{"$f":"VLOOKUP(P4260,Campos!$B$2:$C$7,2,FALSE)","v":0},"Sin información"]
[4255,25,"Sinaloa",19,"Visitantes extranjeros","19.5",5,"Entrega de acreditaciones a los visitantes extranjeros","INE","CAI","2020-09-04","2021-06-05",null,null,{"$f":"VLOOKUP(P4261,Campos!$B$2:$C$7,2,FALSE)","v":0},"Sin información"]
[4256,24,"San Luis Potosí",1,"Mecanismos de coordinación","1.1",1,"Aprobar Calendarios y Planes Integrales de los Procesos Electorales Locales","INE","CG","2020-08-01","2020-08-07",null,null,{"$f":"VLOOKUP(P4262,Campos!$B$2:$C$7,2,FALSE)","v":0},"Sin información"]
[4257,24,"San Luis Potosí",1,"Mecanismos de coordinación","1.2",2,"Firma del Convenio General de Coordinación y Colaboración 2020-2021","INE/OPL","INE/OPL","2020-09-01","2020-10-01",null,null,{"$f":"VLOOKUP(P4263,Campos!$B$2:$C$7,2,FALSE)","v":0},"Sin información"]
[4258,24,"San Luis Potosí",1,"Mecanismos de coordinación","1.3",3,"Elaborar un plan de trabajo conjunto para la promoción de la participación ciudadana","INE/OPL","INE/OPL","2020-09-01","2020-12-31",null,null,{"$f":"VLOOKUP(P4264,Campos!$B$2:$C$7,2,FALSE)","v":0},"Sin información"]
[4259,24,"San Luis Potosí",1,"Mecanismos de coordinación","1.4",4,"Sesión para dar inicio al PEL","OPL","CG","2020-09-01","2020-09-30",null,null,{"$f":"VLOOKUP(P4265,Campos!$B$2:$C$7,2,FALSE)","v":0},"Sin información"]
[4260,24,"San Luis Potosí",1,"Mecanismos de coordinación","1.5",5,"Implementar un plan de trabajo conjunto para la promoción de la participación ciudadana","INE/OPL","INE/OPL","2021-02-01","2021-06-06",null,null,{"$f":"VLOOKUP(P4266,Campos!$B$2:$C$7,2,FALSE)","v":0},"Sin información"]
[4261,24,"San Luis Potosí",2,"Integración de órganos desconcentrados","2.1",1,"Convocatoria para la integración de los Órganos Distritales","OPL","CG","2020-04-22","2020-04-22",null,null,{"$f":"VLOOKUP(P4267,Campos!$B$2:$C$7,2,FALSE)","v":0},"Sin información"]
[4262,24,"San Luis Potosí",2,"Integración de órganos desconcentrados","2.2",2,"Sesión en la que se designan e integran los Órganos Distritales ","OPL","CG","2020-10-15","2020-11-29",null,null,{"$f":"VLOOKUP(P4268,Campos!$B$2:$C$7,2,FALSE)","v":0},"Sin información"]
[4263,24,"San Luis Potosí",2,"Integración de órganos desconcentrados","2.3",3,"Instalación de los Órganos Distritales ","OPL","OD","2020-11-01","2021-01-31",null,null,{"$f":"VLOOKUP(P4269,Campos!$B$2:$C$7,2,FALSE)","v":0},"Sin información"]
[4264,24,"San Luis Potosí",2,"Integración de órganos desconcentrados","2.4",4,"Convocatoria para la integración de los Órganos Municipales ","OPL","CG","2020-04-22","2020-04-22",null,null,{"$f":"VLOOKUP(P4270,Campos!$B$2:$C$7,2,FALSE)","v":0},"Sin información"]
[4265,24,"San Luis Potosí",2,"Integración de órganos desconcentrados","2.5",5,"Sesión en la que se designan e integran los Órganos Municipales ","OPL","CG","2020-10-15","2020-11-29",null,null,{"$f":"VLOOKUP(P4271,Campos!$B$2:$C$7,2,FALSE)","v":0},"Sin información"]
[4266,24,"San Luis Potosí",2,"Integración de órganos desconcentrados","2.6",6,"Instalación de los Órganos Municipales ","OPL","OD","2020-11-01","2021-01-31",null,null,{"$f":"VLOOKUP(P4272,Campos!$B$2:$C$7,2,FALSE)","v":0},"Sin información"]
[4267,24,"San Luis Potosí",2,"Integración de órganos desconcentrados","2.7",7,"Designación y/o ratificación de las y los Consejeros Electorales del Consejo Local ","INE","CG","2020-10-01","2020-10-15",null,null,{"$f":"VLOOKUP(P4273,Campos!$B$2:$C$7,2,FALSE)","v":0},"Sin información"]
[4268,24,"San Luis Potosí",2,"Integración de órganos desconcentrados","2.8",8,"Instalación del Consejo Local","INE","CL","2020-11-01","2020-11-30",null,null,{"$f":"VLOOKUP(P4274,Campos!$B$2:$C$7,2,FALSE)","v":0},"Sin información"]
[4269,24,"San Luis Potosí",2,"Integración de órganos desconcentrados","2.9",9,"Designación y/o ratificación de las y los Consejeros Electorales de los Consejos Distritales ","INE","CL","2020-11-01","2020-11-30",null,null,{"$f":"VLOOKUP(P4275,Campos!$B$2:$C$7,2,FALSE)","v":0},"Sin información"]
[4270,24,"San Luis Potosí",2,"Integración de órganos desconcentrados","2.10",10,"Instalación de los Consejos Distritales","INE","CD","2020-12-01","2020-12-15",null,null,{"$f":"VLOOKUP(P4276,Campos!$B$2:$C$7,2,FALSE)","v":0},"Sin información"]
[4271,24,"San Luis Potosí",3,"Lista Nominal de Electores","3.1",1,"Generación y entrega de la Lista Nominal de Electores para Revisión en medios ópticos a los representantes de los partidos políticos, y en su caso a las candidaturas independientes acreditados ante el OPL, para observaciones","INE","DERFE","2021-02-15","2021-02-15",null,null,{"$f":"VLOOKUP(P4277,Campos!$B$2:$C$7,2,FALSE)","v":0},"Sin información"]
[4272,24,"San Luis Potosí",3,"Lista Nominal de Electores","3.2",2,"Recepción de observaciones de los partidos políticos y en su caso, candidatos independientes, a la Lista Nominal de Electores para revisión","INE/OPL","DERFE","2021-03-14","2021-03-14",null,null,{"$f":"VLOOKUP(P4278,Campos!$B$2:$C$7,2,FALSE)","v":0},"Sin información"]
[4273,24,"San Luis Potosí",3,"Lista Nominal de Electores","3.3",3,"Entrega en formato digital el informe respecto de la atención a las observaciones formuladas a la Lista Nominal de Electores para Revisión","INE","DERFE","2021-04-15","2021-04-15",null,null,{"$f":"VLOOKUP(P4279,Campos!$B$2:$C$7,2,FALSE)","v":0},"Sin información"]
[4274,24,"San Luis Potosí",3,"Lista Nominal de Electores","3.4",4,"Entrega de la Lista Nominal de Electores Definitiva con fotografía","INE","DERFE","2021-05-06","2021-05-14",null,null,{"$f":"VLOOKUP(P4280,Campos!$B$2:$C$7,2,FALSE)","v":0},"Sin información"]
[4275,24,"San Luis Potosí",3,"Lista Nominal de Electores","3.5",5,"Fecha de entrega de la Lista Nominal de Electores con fotografía Producto de Instancias Administrativas y Resoluciones del Tribunal (ADENDA)","INE","DERFE","2021-05-19","2021-05-24",null,null,{"$f":"VLOOKUP(P4281,Campos!$B$2:$C$7,2,FALSE)","v":0},"Sin información"]
[4276,24,"San Luis Potosí",4,"Observación Electoral","4.1",1,"Emisión de la convocatoria para la ciudadanía que desee participar en la observación electoral","OPL","CG","2020-09-01","2020-09-30",null,null,{"$f":"VLOOKUP(P4282,Campos!$B$2:$C$7,2,FALSE)","v":0},"Sin información"]
[4277,24,"San Luis Potosí",4,"Observación Electoral","4.2",2,"Recepción de solicitudes de la ciudadanía que desee participar en observación electoral","INE/OPL","OPL/JLE/JDE","2020-09-01","2021-04-30",null,null,{"$f":"VLOOKUP(P4283,Campos!$B$2:$C$7,2,FALSE)","v":0},"Sin información"]
[4278,24,"San Luis Potosí",4,"Observación Electoral","4.3",3,"Impartición de los cursos de capacitación, preparación o información","INE/OPL","OPL/JLE/JDE","2020-09-01","2021-05-17",null,null,{"$f":"VLOOKUP(P4284,Campos!$B$2:$C$7,2,FALSE)","v":0},"Sin información"]
[4279,24,"San Luis Potosí",4,"Observación Electoral","4.4",4,"Acreditación de la ciudadanía como observadores u observadoras electorales","INE","CL/CD","2020-09-01","2021-06-05",null,null,{"$f":"VLOOKUP(P4285,Campos!$B$2:$C$7,2,FALSE)","v":0},"Sin información"]
[4280,24,"San Luis Potosí",4,"Observación Electoral","4.5",5,"Seguimiento a los informes mensuales de acreditación","INE","CG","2020-09-01","2021-07-31",null,null,{"$f":"VLOOKUP(P4286,Campos!$B$2:$C$7,2,FALSE)","v":0},"Sin información"]
[4281,24,"San Luis Potosí",4,"Observación Electoral","4.6",6,"Remisión de materiales de capacitación a la JLE para revisión","OPL","CG","2020-10-08","2020-10-08",null,null,{"$f":"VLOOKUP(P4287,Campos!$B$2:$C$7,2,FALSE)","v":0},"Sin información"]
[4282,24,"San Luis Potosí",4,"Observación Electoral","4.7",7,"Revisión, corrección, verificación y validación de materiales de capacitación para observación electoral ","INE","JLE","2020-10-09","2020-10-30",null,null,{"$f":"VLOOKUP(P4288,Campos!$B$2:$C$7,2,FALSE)","v":0},"Sin información"]
[4283,24,"San Luis Potosí",4,"Observación Electoral","4.8",8,"Entrega de materiales de capacitación para observación electoral entre OPL e INE","INE/OPL","VEL/OPL","2020-11-01","2020-11-23",null,null,{"$f":"VLOOKUP(P4289,Campos!$B$2:$C$7,2,FALSE)","v":0},"Sin información"]
[4284,24,"San Luis Potosí",5,"Ubicación de casillas","5.1",1,"Recorridos por las secciones de los distritos para localizar los lugares donde se ubicarán las casillas","INE/OPL","JDE/OPL","2021-01-15","2021-02-15",null,null,{"$f":"VLOOKUP(P4290,Campos!$B$2:$C$7,2,FALSE)","v":0},"Sin información"]
[4285,24,"San Luis Potosí",5,"Ubicación de casillas","5.2",2,"Presentación a los Consejos Distritales del listado de lugares propuestos para ubicar casillas","INE","JDE","2021-02-24","2021-02-24",null,null,{"$f":"VLOOKUP(P4291,Campos!$B$2:$C$7,2,FALSE)","v":0},"Sin información"]
[4286,24,"San Luis Potosí",5,"Ubicación de casillas","5.3",3,"Visitas de examinación en los lugares propuestos para ubicar casillas básicas, contiguas, especiales y extraordinarias","INE/OPL","CD/OPL","2021-02-25","2021-03-16",null,null,{"$f":"VLOOKUP(P4292,Campos!$B$2:$C$7,2,FALSE)","v":0},"Sin información"]
[4287,24,"San Luis Potosí",5,"Ubicación de casillas","5.4",4,"Aprobación del número y ubicación de casillas extraordinarias y especiales","INE","CD","2021-03-16","2021-03-16",null,null,{"$f":"VLOOKUP(P4293,Campos!$B$2:$C$7,2,FALSE)","v":0},"Sin información"]
[4288,24,"San Luis Potosí",5,"Ubicación de casillas","5.5",5,"Aprobación del número y ubicación de casillas básicas y contiguas","INE","CD","2021-03-25","2021-03-25",null,null,{"$f":"VLOOKUP(P4294,Campos!$B$2:$C$7,2,FALSE)","v":0},"Sin información"]
[4289,24,"San Luis Potosí",5,"Ubicación de casillas","5.6",6,"Entrega de la base de datos de la Lista Nominal Definitiva a UNICOM con corte al 10 de abril","INE","DERFE","2021-04-15","2021-04-16",null,null,{"$f":"VLOOKUP(P4295,Campos!$B$2:$C$7,2,FALSE)","v":0},"Sin información"]
[4290,24,"San Luis Potosí",5,"Ubicación de casillas","5.7",7,"Realizar la primera publicación de la lista de ubicación de casillas en los lugares más concurridos del distrito electoral  y en los medios electrónicos del Instituto","INE","CD","2021-04-15","2021-04-15",null,null,{"$f":"VLOOKUP(P4296,Campos!$B$2:$C$7,2,FALSE)","v":0},"Sin información"]
[4291,24,"San Luis Potosí",5,"Ubicación de casillas","5.8",8,"En su caso, segunda publicación de la lista de ubicación de casillas por causas supervenientes en los lugares más concurridos del distrito y en los medios electrónicos del Instituto","INE","CD","2021-05-15","2021-05-25",null,null,{"$f":"VLOOKUP(P4297,Campos!$B$2:$C$7,2,FALSE)","v":0},"Sin información"]
[4292,24,"San Luis Potosí",5,"Ubicación de casillas","5.9",9,"Publicación de los encartes y difusión en medios electrónicos del Instituto","INE/OPL","DEOE/CG","2021-06-05","2021-06-06",null,null,{"$f":"VLOOKUP(P4298,Campos!$B$2:$C$7,2,FALSE)","v":0},"Sin información"]
[4293,24,"San Luis Potosí",5,"Ubicación de casillas","5.10",10,"Registro de representantes generales y ante mesas directivas de casilla","INE","CD","2021-04-16","2021-05-24",null,null,{"$f":"VLOOKUP(P4299,Campos!$B$2:$C$7,2,FALSE)","v":0},"Sin información"]
[4294,24,"San Luis Potosí",5,"Ubicación de casillas","5.11",11,"Sustitución de representantes generales y ante mesas directivas de casilla","INE","CD","2021-04-16","2021-05-27",null,null,{"$f":"VLOOKUP(P4300,Campos!$B$2:$C$7,2,FALSE)","v":0},"Sin información"]
[4295,24,"San Luis Potosí",5,"Ubicación de casillas","5.12",12,"Entrega de listados de representantes generales y ante casilla al OPL","INE","CD","2021-05-30","2021-05-30",null,null,{"$f":"VLOOKUP(P4301,Campos!$B$2:$C$7,2,FALSE)","v":0},"Sin información"]
[4296,24,"San Luis Potosí",5,"Ubicación de casillas","5.13",13,"Notificación ciudadana de ubicación de casillas en secciones electorales involucradas en la actualización del Marco Geográfico Electoral","INE/OPL","DERFE/OPL","2021-04-01","2021-06-15",null,null,{"$f":"VLOOKUP(P4302,Campos!$B$2:$C$7,2,FALSE)","v":0},"Sin información"]
[4297,24,"San Luis Potosí",6,"Integración de las Mesas Directivas de Casilla","6.1",1,"Aprobación de la Estrategia de Capacitación y Asistencia Electoral","INE","CG","2020-08-01","2020-08-15",null,null,{"$f":"VLOOKUP(P4303,Campos!$B$2:$C$7,2,FALSE)","v":0},"Sin información"]
[4298,24,"San Luis Potosí",6,"Integración de las Mesas Directivas de Casilla","6.2",2,"Entrega para revisión y validación de materiales didácticos de primera etapa","OPL","CG","2020-11-03","2020-11-03",null,null,{"$f":"VLOOKUP(P4304,Campos!$B$2:$C$7,2,FALSE)","v":0},"Sin información"]
[4299,24,"San Luis Potosí",6,"Integración de las Mesas Directivas de Casilla","6.3",3,"Revisión, corrección, verificación y validación de los materiales didácticos de primera etapa","INE/OPL","JLE/DECEYEC/OPL","2020-11-03","2020-12-19",null,null,{"$f":"VLOOKUP(P4305,Campos!$B$2:$C$7,2,FALSE)","v":0},"Sin información"]
[4300,24,"San Luis Potosí",6,"Integración de las Mesas Directivas de Casilla","6.4",4,"Entrega de los materiales impresos de la primera etapa a la JLE","OPL","OPL","2021-02-05","2021-02-05",null,null,{"$f":"VLOOKUP(P4306,Campos!$B$2:$C$7,2,FALSE)","v":0},"Sin información"]
[4301,24,"San Luis Potosí",6,"Integración de las Mesas Directivas de Casilla","6.5",5,"Sorteo del mes del calendario como base para la insaculación de las y los ciudadanos que integrarán las mesas directivas de casilla","INE","CG","2020-12-15","2020-12-19",null,null,{"$f":"VLOOKUP(P4307,Campos!$B$2:$C$7,2,FALSE)","v":0},"Sin información"]
[4302,24,"San Luis Potosí",6,"Integración de las Mesas Directivas de Casilla","6.6",6,"Entrega para revisión y validación de materiales didácticos de segunda etapa","OPL","OPL","2021-02-03","2021-02-03",null,null,{"$f":"VLOOKUP(P4308,Campos!$B$2:$C$7,2,FALSE)","v":0},"Sin información"]
[4303,24,"San Luis Potosí",6,"Integración de las Mesas Directivas de Casilla","6.7",7,"Revisión, corrección, verificación y validación de los materiales didácticos de la segunda etapa","INE/OPL","JLE/DECEYEC/OPL","2021-02-03","2021-03-22",null,null,{"$f":"VLOOKUP(P4309,Campos!$B$2:$C$7,2,FALSE)","v":0},"Sin información"]
[4304,24,"San Luis Potosí",6,"Integración de las Mesas Directivas de Casilla","6.8",8,"Entrega de los materiales impresos de la segunda etapa a la JLE","OPL","OPL","2021-04-05","2021-04-05",null,null,{"$f":"VLOOKUP(P4310,Campos!$B$2:$C$7,2,FALSE)","v":0},"Sin información"]
[4305,24,"San Luis Potosí",6,"Integración de las Mesas Directivas de Casilla","6.9",9,"Sorteo de la letra a partir de la cual, con base en el apellido paterno, se seleccionará a las y los ciudadanos que integrarán las mesas directivas de casilla","INE","CG","2021-02-02","2021-02-02",null,null,{"$f":"VLOOKUP(P4311,Campos!$B$2:$C$7,2,FALSE)","v":0},"Sin información"]
[4306,24,"San Luis Potosí",6,"Integración de las Mesas Directivas de Casilla","6.10",10,"Entrega de la Lista Nominal de Electores para el Procedimiento de la Primera insaculación con corte al 15 de enero de 2021.","INE","DERFE/UNICOM","2021-01-21","2021-01-26",null,null,{"$f":"VLOOKUP(P4312,Campos!$B$2:$C$7,2,FALSE)","v":0},"Sin información"]
[4307,24,"San Luis Potosí",6,"Integración de las Mesas Directivas de Casilla","6.11",11,"Primera insaculación","INE","JDE","2021-02-06","2021-02-06",null,null,{"$f":"VLOOKUP(P4313,Campos!$B$2:$C$7,2,FALSE)","v":0},"Sin información"]
[4308,24,"San Luis Potosí",6,"Integración de las Mesas Directivas de Casilla","6.12",12,"Primera etapa de capacitación a las personas insaculadas","INE","CD","2021-02-09","2021-03-31",null,null,{"$f":"VLOOKUP(P4314,Campos!$B$2:$C$7,2,FALSE)","v":0},"Sin información"]
[4309,24,"San Luis Potosí",6,"Integración de las Mesas Directivas de Casilla","6.13",13,"Integración de la lista de ciudadanos y ciudadanas que cumplen los requisitos legales para integrar las mesas directivas de casilla","INE","CD","2021-02-09","2021-03-31",null,null,{"$f":"VLOOKUP(P4315,Campos!$B$2:$C$7,2,FALSE)","v":0},"Sin información"]
[4310,24,"San Luis Potosí",6,"Integración de las Mesas Directivas de Casilla","6.14",14,"Segunda insaculación y designación de funcionarios para mesas directivas de casilla","INE","CD","2021-04-08","2021-04-08",null,null,{"$f":"VLOOKUP(P4316,Campos!$B$2:$C$7,2,FALSE)","v":0},"Sin información"]
[4311,24,"San Luis Potosí",6,"Integración de las Mesas Directivas de Casilla","6.15",15,"Segunda etapa de capacitación a funcionarios de mesa directiva de casilla y simulacros","INE","CD","2021-04-18","2021-06-05",null,null,{"$f":"VLOOKUP(P4317,Campos!$B$2:$C$7,2,FALSE)","v":0},"Sin información"]
[4312,24,"San Luis Potosí",6,"Integración de las Mesas Directivas de Casilla","6.16",16,"Entrega de reconocimientos a funcionarios de mesas directivas de casilla","INE","CD","2021-06-07","2021-06-12",null,null,{"$f":"VLOOKUP(P4318,Campos!$B$2:$C$7,2,FALSE)","v":0},"Sin información"]
[4313,24,"San Luis Potosí",6,"Integración de las Mesas Directivas de Casilla","6.17",17,"Periodo para contratación de CAE locales","INE/OPL","INE/OPL","Por definir","Por definir",null,null,{"$f":"VLOOKUP(P4319,Campos!$B$2:$C$7,2,FALSE)","v":0},"Sin información"]
[4314,24,"San Luis Potosí",6,"Integración de las Mesas Directivas de Casilla","6.18",18,"Reclutamiento y selección de CAE locales","INE/OPL","INE/OPL","Por definir","Por definir",null,null,{"$f":"VLOOKUP(P4320,Campos!$B$2:$C$7,2,FALSE)","v":0},"Sin información"]
[4315,24,"San Luis Potosí",7,"Fiscalización de los recursos de los Partidos Políticos y candidaturas independientes","7.1",1,"Aprobación de topes de gastos de precampaña Gubernatura","OPL","CG","2020-10-10","2020-10-18",null,null,{"$f":"VLOOKUP(P4321,Campos!$B$2:$C$7,2,FALSE)","v":0},"Sin información"]
[4316,24,"San Luis Potosí",7,"Fiscalización de los recursos de los Partidos Políticos y candidaturas independientes","7.2",2,"Aprobación de topes de gastos de precampaña Diputaciones","OPL","CG","2020-10-10","2020-10-18",null,null,{"$f":"VLOOKUP(P4322,Campos!$B$2:$C$7,2,FALSE)","v":0},"Sin información"]
[4317,24,"San Luis Potosí",7,"Fiscalización de los recursos de los Partidos Políticos y candidaturas independientes","7.3",3,"Aprobación de topes de gastos de precampaña Ayuntamientos","OPL","CG","2020-10-10","2020-10-18",null,null,{"$f":"VLOOKUP(P4323,Campos!$B$2:$C$7,2,FALSE)","v":0},"Sin información"]
[4318,24,"San Luis Potosí",7,"Fiscalización de los recursos de los Partidos Políticos y candidaturas independientes","7.4",4,"Aprobación de los límites de financiamiento privado, aportaciones de militantes, simpatizantes y precandidatos o candidatos; así como el límite individual de aportaciones para Gubernatura","OPL","CG","2020-10-10","2020-10-18",null,null,{"$f":"VLOOKUP(P4324,Campos!$B$2:$C$7,2,FALSE)","v":0},"Sin información"]
[4319,24,"San Luis Potosí",7,"Fiscalización de los recursos de los Partidos Políticos y candidaturas independientes","7.5",5,"Aprobación de los límites de financiamiento privado, aportaciones de militantes, simpatizantes y precandidatos o candidatos; así como el límite individual de aportaciones para Diputaciones","OPL","CG","2020-10-10","2020-10-18",null,null,{"$f":"VLOOKUP(P4325,Campos!$B$2:$C$7,2,FALSE)","v":0},"Sin información"]
[4320,24,"San Luis Potosí",7,"Fiscalización de los recursos de los Partidos Políticos y candidaturas independientes","7.6",6,"Aprobación de los límites de financiamiento privado, aportaciones de militantes, simpatizantes y precandidatos o candidatos; así como el límite individual de aportaciones para Ayuntamientos","OPL","CG","2020-10-10","2020-10-18",null,null,{"$f":"VLOOKUP(P4326,Campos!$B$2:$C$7,2,FALSE)","v":0},"Sin información"]
[4321,24,"San Luis Potosí",7,"Fiscalización de los recursos de los Partidos Políticos y candidaturas independientes","7.7",7,"Aprobación de topes de gastos para el periodo de obtención del apoyo ciudadano para Gubernatura","OPL","CG","2020-10-10","2020-10-18",null,null,{"$f":"VLOOKUP(P4327,Campos!$B$2:$C$7,2,FALSE)","v":0},"Sin información"]
[4322,24,"San Luis Potosí",7,"Fiscalización de los recursos de los Partidos Políticos y candidaturas independientes","7.8",8,"Aprobación de topes de gastos para el periodo de obtención del apoyo ciudadano para Diputaciones","OPL","CG","2020-10-10","2020-10-18",null,null,{"$f":"VLOOKUP(P4328,Campos!$B$2:$C$7,2,FALSE)","v":0},"Sin información"]
[4323,24,"San Luis Potosí",7,"Fiscalización de los recursos de los Partidos Políticos y candidaturas independientes","7.9",9,"Aprobación de topes de gastos para el periodo de obtención del apoyo ciudadano para Ayuntamientos","OPL","CG","2020-10-10","2020-10-18",null,null,{"$f":"VLOOKUP(P4329,Campos!$B$2:$C$7,2,FALSE)","v":0},"Sin información"]
[4324,24,"San Luis Potosí",7,"Fiscalización de los recursos de los Partidos Políticos y candidaturas independientes","7.10",10,"Precampaña para Gubernatura","OPL","CG","2020-11-15","2021-02-15",null,null,{"$f":"VLOOKUP(P4330,Campos!$B$2:$C$7,2,FALSE)","v":0},"Sin información"]
[4325,24,"San Luis Potosí",7,"Fiscalización de los recursos de los Partidos Políticos y candidaturas independientes","7.11",11,"Precampaña para Diputaciones","OPL","CG","2020-12-15","2021-02-15",null,null,{"$f":"VLOOKUP(P4331,Campos!$B$2:$C$7,2,FALSE)","v":0},"Sin información"]
[4326,24,"San Luis Potosí",7,"Fiscalización de los recursos de los Partidos Políticos y candidaturas independientes","7.12",12,"Precampaña para Ayuntamientos","OPL","CG","2020-12-15","2021-02-15",null,null,{"$f":"VLOOKUP(P4332,Campos!$B$2:$C$7,2,FALSE)","v":0},"Sin información"]
[4327,24,"San Luis Potosí",7,"Fiscalización de los recursos de los Partidos Políticos y candidaturas independientes","7.13",13,"Aprobación de topes de gastos de campaña para Gubernatura","OPL","CG","2020-10-23","2020-10-30",null,null,{"$f":"VLOOKUP(P4333,Campos!$B$2:$C$7,2,FALSE)","v":0},"Sin información"]
[4328,24,"San Luis Potosí",7,"Fiscalización de los recursos de los Partidos Políticos y candidaturas independientes","7.14",14,"Aprobación de topes de gastos de campaña para Diputaciones","OPL","CG","2020-10-23","2020-10-30",null,null,{"$f":"VLOOKUP(P4334,Campos!$B$2:$C$7,2,FALSE)","v":0},"Sin información"]
[4329,24,"San Luis Potosí",7,"Fiscalización de los recursos de los Partidos Políticos y candidaturas independientes","7.15",15,"Aprobación de topes de gastos de campaña para Ayuntamientos","OPL","CG","2020-10-23","2020-10-30",null,null,{"$f":"VLOOKUP(P4335,Campos!$B$2:$C$7,2,FALSE)","v":0},"Sin información"]
[4330,24,"San Luis Potosí",7,"Fiscalización de los recursos de los Partidos Políticos y candidaturas independientes","7.16",16,"Campaña para Gubernatura","OPL","CG","2021-03-05","2021-06-02",null,null,{"$f":"VLOOKUP(P4336,Campos!$B$2:$C$7,2,FALSE)","v":0},"Sin información"]
[4331,24,"San Luis Potosí",7,"Fiscalización de los recursos de los Partidos Políticos y candidaturas independientes","7.17",17,"Campaña para Diputaciones","OPL","CG","2021-04-04","2021-06-02",null,null,{"$f":"VLOOKUP(P4337,Campos!$B$2:$C$7,2,FALSE)","v":0},"Sin información"]
[4332,24,"San Luis Potosí",7,"Fiscalización de los recursos de los Partidos Políticos y candidaturas independientes","7.18",18,"Campaña para Ayuntamientos","OPL","CG","2021-04-04","2021-06-02",null,null,{"$f":"VLOOKUP(P4338,Campos!$B$2:$C$7,2,FALSE)","v":0},"Sin información"]
[4333,24,"San Luis Potosí",7,"Fiscalización de los recursos de los Partidos Políticos y candidaturas independientes","7.19",19,"Aprobación de la distribución de financiamiento público para partidos políticos","OPL","CG","2021-01-01","2021-01-31",null,null,{"$f":"VLOOKUP(P4339,Campos!$B$2:$C$7,2,FALSE)","v":0},"Sin información"]
[4334,24,"San Luis Potosí",8,"Candidaturas Independientes","8.1",1,"Emisión de la convocatoria para la ciudadanía interesada en participar en Candidaturas Independientes ","OPL","CG","2020-09-01","2020-09-30",null,null,{"$f":"VLOOKUP(P4340,Campos!$B$2:$C$7,2,FALSE)","v":0},"Sin información"]
[4335,24,"San Luis Potosí",8,"Candidaturas Independientes","8.2",2,"Recepción de escrito de intención y documentación anexa de la ciudadanía que aspire a la candidatura independiente para Gubernatura","OPL","OD","2020-09-30","2020-10-30",null,null,{"$f":"VLOOKUP(P4341,Campos!$B$2:$C$7,2,FALSE)","v":0},"Sin información"]
[4336,24,"San Luis Potosí",8,"Candidaturas Independientes","8.3",3,"Recepción de escrito de intención y documentación anexa de la ciudadanía que aspire a la candidatura independiente para Diputaciones","OPL","OD","2020-09-30","2020-10-30",null,null,{"$f":"VLOOKUP(P4342,Campos!$B$2:$C$7,2,FALSE)","v":0},"Sin información"]
[4337,24,"San Luis Potosí",8,"Candidaturas Independientes","8.4",4,"Recepción de escrito de intención y documentación anexa de la ciudadanía que aspire a la candidatura independiente para Ayuntamientos","OPL","SE/OD","2020-09-30","2020-10-21",null,null,{"$f":"VLOOKUP(P4343,Campos!$B$2:$C$7,2,FALSE)","v":0},"Sin información"]
[4338,24,"San Luis Potosí",8,"Candidaturas Independientes","8.5",5,"Resolución sobre procedencia de manifestación de intención de aspirantes a candidaturas independientes para Gubernatura","OPL","CG","2020-11-09","2020-11-11",null,null,{"$f":"VLOOKUP(P4344,Campos!$B$2:$C$7,2,FALSE)","v":0},"Sin información"]
[4339,24,"San Luis Potosí",8,"Candidaturas Independientes","8.6",6,"Resolución sobre procedencia de manifestación de intención de aspirantes a candidaturas independientes para Diputaciones","OPL","CG","2020-11-09","2020-11-11",null,null,{"$f":"VLOOKUP(P4345,Campos!$B$2:$C$7,2,FALSE)","v":0},"Sin información"]
[4340,24,"San Luis Potosí",8,"Candidaturas Independientes","8.7",7,"Resolución sobre procedencia de manifestación de intención de aspirantes a candidaturas independientes para Ayuntamientos","OPL","CG","2020-11-09","2020-11-11",null,null,{"$f":"VLOOKUP(P4346,Campos!$B$2:$C$7,2,FALSE)","v":0},"Sin información"]
[4341,24,"San Luis Potosí",8,"Candidaturas Independientes","8.8",8,"Plazo para obtener el apoyo ciudadano de las candidaturas independientes para Gubernatura","OPL","OD","2020-11-15","2021-02-15",null,null,{"$f":"VLOOKUP(P4347,Campos!$B$2:$C$7,2,FALSE)","v":0},"Sin información"]
[4342,24,"San Luis Potosí",8,"Candidaturas Independientes","8.9",9,"Plazo para obtener el apoyo ciudadano de las candidaturas independientes para Diputaciones","OPL","OD","2020-12-15","2021-02-15",null,null,{"$f":"VLOOKUP(P4348,Campos!$B$2:$C$7,2,FALSE)","v":0},"Sin información"]
[4343,24,"San Luis Potosí",8,"Candidaturas Independientes","8.10",10,"Plazo para obtener el apoyo ciudadano de las candidaturas independientes para Ayuntamientos","OPL","OD","2020-12-15","2021-02-15",null,null,{"$f":"VLOOKUP(P4349,Campos!$B$2:$C$7,2,FALSE)","v":0},"Sin información"]
[4344,24,"San Luis Potosí",8,"Candidaturas Independientes","8.11",11,"Plazo para otorgar las constancias de porcentaje a favor de aspirantes a la candidatura independiente para Gubernatura","OPL","CG","2021-02-19","2021-02-23",null,null,{"$f":"VLOOKUP(P4350,Campos!$B$2:$C$7,2,FALSE)","v":0},"Sin información"]
[4345,24,"San Luis Potosí",8,"Candidaturas Independientes","8.12",12,"Plazo para otorgar las constancias de porcentaje a favor de aspirantes a la candidatura independiente para Diputaciones","OPL","CG","2021-03-17","2021-03-24",null,null,{"$f":"VLOOKUP(P4351,Campos!$B$2:$C$7,2,FALSE)","v":0},"Sin información"]
[4346,24,"San Luis Potosí",8,"Candidaturas Independientes","8.13",13,"Plazo para otorgar las constancias de porcentaje a favor de aspirantes a la candidatura independiente para Ayuntamientos","OPL","CG","2021-03-25","2021-03-31",null,null,{"$f":"VLOOKUP(P4352,Campos!$B$2:$C$7,2,FALSE)","v":0},"Sin información"]
[4347,24,"San Luis Potosí",9,"Candidaturas","9.1",1,"Registro de plataformas electorales","OPL","CG","2021-01-01","2021-01-15",null,null,{"$f":"VLOOKUP(P4353,Campos!$B$2:$C$7,2,FALSE)","v":0},"Sin información"]
[4348,24,"San Luis Potosí",9,"Candidaturas","9.2",2,"Solicitud de registro de convenio de coalición para Gubernatura","OPL","CG","2020-09-01","2020-11-15",null,null,{"$f":"VLOOKUP(P4354,Campos!$B$2:$C$7,2,FALSE)","v":0},"Sin información"]
[4349,24,"San Luis Potosí",9,"Candidaturas","9.3",3,"Solicitud de registro de convenio de coalición para Diputaciones","OPL","CG","2020-09-01","2020-12-15",null,null,{"$f":"VLOOKUP(P4355,Campos!$B$2:$C$7,2,FALSE)","v":0},"Sin información"]
[4350,24,"San Luis Potosí",9,"Candidaturas","9.4",4,"Solicitud de registro de convenio de coalición para Ayuntamientos","OPL","CG","2020-09-01","2020-12-15",null,null,{"$f":"VLOOKUP(P4356,Campos!$B$2:$C$7,2,FALSE)","v":0},"Sin información"]
[4351,24,"San Luis Potosí",9,"Candidaturas","9.5",5,"Resolución sobre Convenio de Coalición para Gubernatura","OPL","CG","2020-09-11","2020-11-25",null,null,{"$f":"VLOOKUP(P4357,Campos!$B$2:$C$7,2,FALSE)","v":0},"Sin información"]
[4352,24,"San Luis Potosí",9,"Candidaturas","9.6",6,"Resolución sobre Convenio de Coalición para Diputaciones","OPL","CG","2020-09-11","2020-12-25",null,null,{"$f":"VLOOKUP(P4358,Campos!$B$2:$C$7,2,FALSE)","v":0},"Sin información"]
[4353,24,"San Luis Potosí",9,"Candidaturas","9.7",7,"Resolución sobre Convenio de Coalición para Ayuntamientos","OPL","CG","2020-09-11","2020-12-25",null,null,{"$f":"VLOOKUP(P4359,Campos!$B$2:$C$7,2,FALSE)","v":0},"Sin información"]
[4354,24,"San Luis Potosí",9,"Candidaturas","9.8",8,"Solicitud de registro de Candidaturas para Gubernatura","OPL","CG/OD","2021-02-21","2021-02-27",null,null,{"$f":"VLOOKUP(P4360,Campos!$B$2:$C$7,2,FALSE)","v":0},"Sin información"]
[4355,24,"San Luis Potosí",9,"Candidaturas","9.9",9,"Solicitud de registro de Candidaturas para Diputaciones","OPL","CG/OD","2021-03-01","2021-03-07",null,null,{"$f":"VLOOKUP(P4361,Campos!$B$2:$C$7,2,FALSE)","v":0},"Sin información"]
[4356,24,"San Luis Potosí",9,"Candidaturas","9.10",10,"Solicitud de registro de Candidaturas para Diputaciones de Representación Proporcional","OPL","CG/OD","2021-03-08","2021-03-15",null,null,{"$f":"VLOOKUP(P4362,Campos!$B$2:$C$7,2,FALSE)","v":0},"Sin información"]
[4357,24,"San Luis Potosí",9,"Candidaturas","9.11",11,"Solicitud de registro de Candidaturas para Ayuntamientos","OPL","CG/OD","2021-03-08","2021-03-15",null,null,{"$f":"VLOOKUP(P4363,Campos!$B$2:$C$7,2,FALSE)","v":0},"Sin información"]
[4358,24,"San Luis Potosí",9,"Candidaturas","9.13",13,"Resolución para aprobar las candidaturas para Gubernatura","OPL","CG","2021-02-28","2021-03-08",null,null,{"$f":"VLOOKUP(P4364,Campos!$B$2:$C$7,2,FALSE)","v":0},"Sin información"]
[4359,24,"San Luis Potosí",9,"Candidaturas","9.14",14,"Resolución para aprobar las candidaturas para Diputaciones","OPL","CG","2021-03-08","2021-03-16",null,null,{"$f":"VLOOKUP(P4365,Campos!$B$2:$C$7,2,FALSE)","v":0},"Sin información"]
[4360,24,"San Luis Potosí",9,"Candidaturas","9.15",15,"Resolución para aprobar las candidaturas para Diputaciones de Representación Proporcional","OPL","CG","2021-03-15","2021-03-24",null,null,{"$f":"VLOOKUP(P4366,Campos!$B$2:$C$7,2,FALSE)","v":0},"Sin información"]
[4361,24,"San Luis Potosí",9,"Candidaturas","9.16",16,"Resolución para aprobar las candidaturas para Ayuntamientos","OPL","CG/OD","2021-03-15","2021-03-24",null,null,{"$f":"VLOOKUP(P4367,Campos!$B$2:$C$7,2,FALSE)","v":0},"Sin información"]
[4362,24,"San Luis Potosí",10,"Debates","10.1",1,"Aprobación de las fechas en que se celebrarán los debates","OPL","CG","2021-04-05","2021-05-03",null,null,{"$f":"VLOOKUP(P4368,Campos!$B$2:$C$7,2,FALSE)","v":0},"Sin información"]
[4363,24,"San Luis Potosí",10,"Debates","10.2",2,"Realización de debate(s)","OPL","CG","2021-05-04","2021-06-02",null,null,{"$f":"VLOOKUP(P4369,Campos!$B$2:$C$7,2,FALSE)","v":0},"Sin información"]
[4364,24,"San Luis Potosí",11,"Documentación y material electoral","11.1",1,"Entrega a la Junta Local Ejecutiva del INE, de los diseños y especificaciones técnicas de la documentación y materiales electorales, en medios impresos y electrónicos","OPL","CG","2020-09-01","2020-09-30",null,null,{"$f":"VLOOKUP(P4370,Campos!$B$2:$C$7,2,FALSE)","v":0},"Sin información"]
[4365,24,"San Luis Potosí",11,"Documentación y material electoral","11.2",2,"Revisión de los documentos y materiales electorales y especificaciones técnicas, presentadas por el OPL","INE","JLE","2020-09-15","2020-12-16",null,null,{"$f":"VLOOKUP(P4371,Campos!$B$2:$C$7,2,FALSE)","v":0},"Sin información"]
[4366,24,"San Luis Potosí",11,"Documentación y material electoral","11.3",3,"En su caso, atención y presentación, de los cambios pertinentes, conforme a las observaciones emitidas por la Junta Local Ejecutiva del INE","OPL","CG","2020-09-15","2020-12-16",null,null,{"$f":"VLOOKUP(P4372,Campos!$B$2:$C$7,2,FALSE)","v":0},"Sin información"]
[4367,24,"San Luis Potosí",11,"Documentación y material electoral","11.4",4,"Validación de los documentos y materiales electorales y especificaciones técnicas, con las observaciones subsanadas","INE","DEOE","2020-10-28","2020-12-18",null,null,{"$f":"VLOOKUP(P4373,Campos!$B$2:$C$7,2,FALSE)","v":0},"Sin información"]
[4368,24,"San Luis Potosí",11,"Documentación y material electoral","11.5",5,"Entrega a la Dirección Ejecutiva de Organización Electoral del INE, del Reporte único sobre la aprobación y adjudicación de los documentos y materiales electorales del OPL, en medios electrónicos","OPL","CG","2021-02-01","2021-02-26",null,null,{"$f":"VLOOKUP(P4374,Campos!$B$2:$C$7,2,FALSE)","v":0},"Sin información"]
[4369,24,"San Luis Potosí",11,"Documentación y material electoral","11.6",6,"Revisión y en su caso validación, del Reporte único sobre la aprobación y adjudicación de los documentos y materiales electorales del OPL, en medios electrónicos","INE","DEOE","2021-02-15","2021-03-12",null,null,{"$f":"VLOOKUP(P4375,Campos!$B$2:$C$7,2,FALSE)","v":0},"Sin información"]
[4370,24,"San Luis Potosí",11,"Documentación y material electoral","11.7",7,"Entrega  a la Dirección Ejecutiva de Organización Electoral del INE, del Reporte semanal sobre el avance en la producción de los documentos y materiales electorales del OPL, en medios electrónicos.","OPL","CG","2021-03-15","2021-05-22",null,null,{"$f":"VLOOKUP(P4376,Campos!$B$2:$C$7,2,FALSE)","v":0},"Sin información"]
[4371,24,"San Luis Potosí",11,"Documentación y material electoral","11.8",8,"Aprobación de la documentación y material electoral","OPL","CG","2020-11-11","2020-12-31",null,null,{"$f":"VLOOKUP(P4377,Campos!$B$2:$C$7,2,FALSE)","v":0},"Sin información"]
[4372,24,"San Luis Potosí",11,"Documentación y material electoral","11.9",9,"Entrega a la Dirección Ejecutiva de Organización Electoral del INE, del Reporte con los resultados de las verificaciones de las medidas de seguridad en la documentación electoral","OPL","CG","2021-05-27","2021-06-11",null,null,{"$f":"VLOOKUP(P4378,Campos!$B$2:$C$7,2,FALSE)","v":0},"Sin información"]
[4373,24,"San Luis Potosí",11,"Documentación y material electoral","11.10",10,"Supervisiones respecto de los procedimientos de impresión y producción de la documentación y materiales electorales","INE","DEOE","2021-03-15","2021-05-22",null,null,{"$f":"VLOOKUP(P4379,Campos!$B$2:$C$7,2,FALSE)","v":0},"Sin información"]
[4374,24,"San Luis Potosí",11,"Documentación y material electoral","11.11",11,"Designación de la persona responsable de llevar el control sobre la asignación de los folios de las boletas que se distribuirán en cada mesa directiva de casilla","OPL","CG","2021-03-01","2021-03-30",null,null,{"$f":"VLOOKUP(P4380,Campos!$B$2:$C$7,2,FALSE)","v":0},"Sin información"]
[4375,24,"San Luis Potosí",11,"Documentación y material electoral","11.12",12,"Aprobación de SE y CAE, así como de personal que auxiliará en el procedimiento de conteo, sellado y agrupamiento de las boletas electorales; así como la integración de documentación para las casillas","OPL","CG","2021-04-24","2021-05-11",null,null,{"$f":"VLOOKUP(P4381,Campos!$B$2:$C$7,2,FALSE)","v":0},"Sin información"]
[4376,24,"San Luis Potosí",11,"Documentación y material electoral","11.13",13,"Recepción de las boletas electorales por el órgano competente que realizará el conteo, sellado y agrupamiento","OPL","CG","2021-05-18","2021-05-22",null,null,{"$f":"VLOOKUP(P4382,Campos!$B$2:$C$7,2,FALSE)","v":0},"Sin información"]
[4377,24,"San Luis Potosí",11,"Documentación y material electoral","11.14",14,"Conteo, sellado y agrupamiento de boletas","OPL","CG","2021-05-18","2021-05-28",null,null,{"$f":"VLOOKUP(P4383,Campos!$B$2:$C$7,2,FALSE)","v":0},"Sin información"]
[4378,24,"San Luis Potosí",11,"Documentación y material electoral","11.15",15,"Distribución de la documentación y materiales electorales a las y los Presidentes de mesas directivas de casilla","OPL","OD","2021-05-31","2021-06-04",null,null,{"$f":"VLOOKUP(P4384,Campos!$B$2:$C$7,2,FALSE)","v":0},"Sin información"]
[4379,24,"San Luis Potosí",11,"Documentación y material electoral","11.16",16,"Remisión de los recibos de la entrega de la documentación y materiales electorales al Consejo General del OPL","INE","JLE","2021-06-24","2021-06-30",null,null,{"$f":"VLOOKUP(P4385,Campos!$B$2:$C$7,2,FALSE)","v":0},"Sin información"]
[4380,24,"San Luis Potosí",12,"Jornada Electoral","12.1",1,"Aprobación del Programa de Operación del SIJE 2021","INE","CCOE","2020-07-01","2020-07-31",null,null,{"$f":"VLOOKUP(P4386,Campos!$B$2:$C$7,2,FALSE)","v":0},"Sin información"]
[4381,24,"San Luis Potosí",12,"Jornada Electoral","12.2",2,"Aprobación de las metas del SIJE 2021","INE","CG","2021-03-01","2021-03-31",null,null,{"$f":"VLOOKUP(P4387,Campos!$B$2:$C$7,2,FALSE)","v":0},"Sin información"]
[4382,24,"San Luis Potosí",12,"Jornada Electoral","12.3",3,"Realización de pruebas del SIJE 2021","INE","DEOE","2021-04-01","2021-04-15",null,null,{"$f":"VLOOKUP(P4388,Campos!$B$2:$C$7,2,FALSE)","v":0},"Sin información"]
[4383,24,"San Luis Potosí",12,"Jornada Electoral","12.4",4,"Desarrollo del primer simulacro del SIJE","INE/OPL","DEOE/OD","2021-04-29","2021-04-29",null,null,{"$f":"VLOOKUP(P4389,Campos!$B$2:$C$7,2,FALSE)","v":0},"Sin información"]
[4384,24,"San Luis Potosí",12,"Jornada Electoral","12.5",5,"Desarrollo del segundo simulacro del SIJE","INE/OPL","DEOE/OD","2021-05-09","2021-05-09",null,null,{"$f":"VLOOKUP(P4390,Campos!$B$2:$C$7,2,FALSE)","v":0},"Sin información"]
[4385,24,"San Luis Potosí",12,"Jornada Electoral","12.6",6,"Desarrollo del tercer simulacro del SIJE","INE/OPL","DEOE/OD","2021-05-23","2021-05-23",null,null,{"$f":"VLOOKUP(P4391,Campos!$B$2:$C$7,2,FALSE)","v":0},"Sin información"]
[4386,24,"San Luis Potosí",12,"Jornada Electoral","12.7",7,"Jornada Electoral","OPL","CG/OD","2021-06-06","2021-06-06",null,null,{"$f":"VLOOKUP(P4392,Campos!$B$2:$C$7,2,FALSE)","v":0},"Sin información"]
[4387,24,"San Luis Potosí",13,"Bodegas electorales","13.1",1,"Determinación de los lugares que ocuparán las bodegas electorales para el resguardo de la documentación electoral","OPL","CG","2021-02-01","2021-02-28",null,null,{"$f":"VLOOKUP(P4393,Campos!$B$2:$C$7,2,FALSE)","v":0},"Sin información"]
[4388,24,"San Luis Potosí",13,"Bodegas electorales","13.2",2,"Informe que rinden las y los Presidentes sobre las condiciones de equipamiento, mecanismos de operación y medidas de seguridad de las bodegas electorales","OPL","OD","2021-03-01","2021-03-31",null,null,{"$f":"VLOOKUP(P4394,Campos!$B$2:$C$7,2,FALSE)","v":0},"Sin información"]
[4389,24,"San Luis Potosí",13,"Bodegas electorales","13.3",3,"Designación, por parte del órgano competente del OPL, del personal que tendrá acceso a la bodega electoral","OPL","CG/OD","2021-03-01","2021-03-30",null,null,{"$f":"VLOOKUP(P4395,Campos!$B$2:$C$7,2,FALSE)","v":0},"Sin información"]
[4390,24,"San Luis Potosí",13,"Bodegas electorales","13.4",4,"Envío a la UTVOPL, por conducto de la JLE, el informe sobre las condiciones que guardan las bodegas electorales","OPL","CG","2021-04-04","2021-04-10",null,null,{"$f":"VLOOKUP(P4396,Campos!$B$2:$C$7,2,FALSE)","v":0},"Sin información"]
[4391,24,"San Luis Potosí",14,"Mecanismos de recolección","14.1",1,"Entrega de estudios de factibilidad al OPL","INE","CL","2021-03-15","2021-03-31",null,null,{"$f":"VLOOKUP(P4397,Campos!$B$2:$C$7,2,FALSE)","v":0},"Sin información"]
[4392,24,"San Luis Potosí",14,"Mecanismos de recolección","14.2",2,"Entrega de observaciones a los estudios de factibilidad ","OPL","CG","2021-04-01","2021-04-24",null,null,{"$f":"VLOOKUP(P4398,Campos!$B$2:$C$7,2,FALSE)","v":0},"Sin información"]
[4393,24,"San Luis Potosí",14,"Mecanismos de recolección","14.3",3,"Recorridos para verificar las propuestas de los mecanismos de recolección","INE/OPL","CD/OD","2021-03-16","2021-04-24",null,null,{"$f":"VLOOKUP(P4399,Campos!$B$2:$C$7,2,FALSE)","v":0},"Sin información"]
[4394,24,"San Luis Potosí",14,"Mecanismos de recolección","14.4",4,"Aprobación de los mecanismos de recolección ","INE","CD","2021-04-26","2021-04-30",null,null,{"$f":"VLOOKUP(P4400,Campos!$B$2:$C$7,2,FALSE)","v":0},"Sin información"]
[4395,24,"San Luis Potosí",14,"Mecanismos de recolección","14.5",5,"Traslado y recolección de los paquetes electorales","INE/OPL","CD/OD","2021-06-06","2021-06-07",null,null,{"$f":"VLOOKUP(P4401,Campos!$B$2:$C$7,2,FALSE)","v":0},"Sin información"]
[4396,24,"San Luis Potosí",14,"Mecanismos de recolección","14.6",6,"Acreditación de representantes de partidos políticos y candidaturas independientes ante los mecanismos de recolección","INE","CL/CD","2021-04-27","2021-06-03",null,null,{"$f":"VLOOKUP(P4402,Campos!$B$2:$C$7,2,FALSE)","v":0},"Sin información"]
[4397,24,"San Luis Potosí",14,"Mecanismos de recolección","14.7",7,"Sustitución de representantes de partidos políticos y candidaturas independientes ante los mecanismos de recolección","INE","CL/CD","2021-04-28","2021-06-04",null,null,{"$f":"VLOOKUP(P4403,Campos!$B$2:$C$7,2,FALSE)","v":0},"Sin información"]
[4398,24,"San Luis Potosí",14,"Mecanismos de recolección","14.8",8,"Entrega a la JLE, el informe sobre la recepción de paquetes electorales en los órganos competentes","OPL","CG","2021-06-06","2021-06-28",null,null,{"$f":"VLOOKUP(P4404,Campos!$B$2:$C$7,2,FALSE)","v":0},"Sin información"]
[4399,24,"San Luis Potosí",15,"Cómputos","15.1",1,"Aprobación de los lineamientos de cómputo y del cuadernillo de consulta sobre votos válidos y votos nulos","OPL","CG","2021-01-18","2021-01-29",null,null,{"$f":"VLOOKUP(P4405,Campos!$B$2:$C$7,2,FALSE)","v":0},"Sin información"]
[4400,24,"San Luis Potosí",15,"Cómputos","15.2",2,"Integración por parte de los Órganos Desconcentrados del OPL, de la propuesta para la habilitación de espacios para el recuento de votos con las alternativas para todos los escenarios de cómputo","OPL","OD","2021-03-01","2021-03-07",null,null,{"$f":"VLOOKUP(P4406,Campos!$B$2:$C$7,2,FALSE)","v":0},"Sin información"]
[4401,24,"San Luis Potosí",15,"Cómputos","15.3",3,"Informe de los escenarios de cómputos de la totalidad de sus órganos desconcentrados","OPL","CG","2021-04-01","2021-04-04",null,null,{"$f":"VLOOKUP(P4407,Campos!$B$2:$C$7,2,FALSE)","v":0},"Sin información"]
[4402,24,"San Luis Potosí",15,"Cómputos","15.4",4,"Remisión a la JLE en la entidad, las propuestas de escenarios de cómputos, para la dictaminación de viabilidad","OPL","CG","2021-05-01","2021-05-07",null,null,{"$f":"VLOOKUP(P4408,Campos!$B$2:$C$7,2,FALSE)","v":0},"Sin información"]
[4403,24,"San Luis Potosí",15,"Cómputos","15.5",5,"Remisión de las observaciones a los escenarios de Cómputos al OPL y a su vez informar de las mismas a la UTVOPL","INE","JLE","2021-05-08","2021-05-15",null,null,{"$f":"VLOOKUP(P4409,Campos!$B$2:$C$7,2,FALSE)","v":0},"Sin información"]
[4404,24,"San Luis Potosí",15,"Cómputos","15.6",6,"Aprobación por parte del órgano competente del OPL, del acuerdo mediante el cual se designa al personal que participará en las tareas de apoyo a los Cómputos Municipales","OPL","CG/OD","2021-04-26","2021-05-05",null,null,{"$f":"VLOOKUP(P4410,Campos!$B$2:$C$7,2,FALSE)","v":0},"Sin información"]
[4405,24,"San Luis Potosí",15,"Cómputos","15.7",7,"Aprobación por parte del órgano competente del OPL, del acuerdo mediante el cual se designa al personal que participará en las tareas de apoyo a los Cómputos Distritales ","OPL","CG/OD","2021-04-26","2021-05-05",null,null,{"$f":"VLOOKUP(P4411,Campos!$B$2:$C$7,2,FALSE)","v":0},"Sin información"]
[4406,24,"San Luis Potosí",15,"Cómputos","15.8",8,"Aprobación por parte de los órganos competentes del OPL, de los distintos escenarios de cómputos","OPL","OD","2021-05-08","2021-05-15",null,null,{"$f":"VLOOKUP(P4412,Campos!$B$2:$C$7,2,FALSE)","v":0},"Sin información"]
[4407,24,"San Luis Potosí",15,"Cómputos","15.9",9,"Aprobación por parte del órgano competente del OPL, del acuerdo por el que se habilitarán espacios para la instalación de grupos de trabajo y, en su caso, puntos de recuento","OPL","CG/OD","2021-06-08","2021-06-08",null,null,{"$f":"VLOOKUP(P4413,Campos!$B$2:$C$7,2,FALSE)","v":0},"Sin información"]
[4408,24,"San Luis Potosí",15,"Cómputos","15.10",10,"Cómputos Distritales","OPL","OD","2021-06-09","2021-06-12",null,null,{"$f":"VLOOKUP(P4414,Campos!$B$2:$C$7,2,FALSE)","v":0},"Sin información"]
[4409,24,"San Luis Potosí",15,"Cómputos","15.14",14,"Cómputo Estatal para la asignación diputaciones de Representación Proporcional","OPL","CG","2021-06-13","2021-06-13",null,null,{"$f":"VLOOKUP(P4415,Campos!$B$2:$C$7,2,FALSE)","v":0},"Sin información"]
[4410,24,"San Luis Potosí",15,"Cómputos","15.13",13,"Cómputo Estatal para la Gubernatura","OPL","CG","2021-06-13","2021-06-13",null,null,{"$f":"VLOOKUP(P4416,Campos!$B$2:$C$7,2,FALSE)","v":0},"Sin información"]
[4411,24,"San Luis Potosí",15,"Cómputos","15.11",11,"Cómputos Municipales","OPL","OD","2021-06-09","2021-06-12",null,null,{"$f":"VLOOKUP(P4417,Campos!$B$2:$C$7,2,FALSE)","v":0},"Sin información"]
[4412,24,"San Luis Potosí",15,"Cómputos","15.16",16,"Asignación de regidurías por el principio de Representación Proporcional","OPL","CG","2021-06-13","2021-06-13",null,null,{"$f":"VLOOKUP(P4418,Campos!$B$2:$C$7,2,FALSE)","v":0},"Sin información"]
[4413,24,"San Luis Potosí",16,"PREP","16.1",1,"Aprobación del Acuerdo por el que se designa o ratifica a la instancia interna responsable de coordinar el PREP","OPL","CG","2020-09-11","2020-09-11",null,null,{"$f":"VLOOKUP(P4419,Campos!$B$2:$C$7,2,FALSE)","v":0},"Sin información"]
[4414,24,"San Luis Potosí",16,"PREP","16.2",2,"Aprobación del Acuerdo de Integración del COTAPREP","OPL","CG","2020-11-11","2020-11-11",null,null,{"$f":"VLOOKUP(P4420,Campos!$B$2:$C$7,2,FALSE)","v":0},"Sin información"]
[4415,24,"San Luis Potosí",16,"PREP","16.3",3,"Documento por el que se determina la implementación del PREP por el OPL o con el apoyo de un Tercero","OPL","CG","2020-12-11","2020-12-11",null,null,{"$f":"VLOOKUP(P4421,Campos!$B$2:$C$7,2,FALSE)","v":0},"Sin información"]
[4416,24,"San Luis Potosí",16,"PREP","16.4",4,"Aprobación del Acuerdo por el que se determina el Proceso Técnico Operativo ","OPL","CG","2021-01-11","2021-01-11",null,null,{"$f":"VLOOKUP(P4422,Campos!$B$2:$C$7,2,FALSE)","v":0},"Sin información"]
[4417,24,"San Luis Potosí",16,"PREP","16.5",5,"Aprobación del Acuerdo por el que se determina la ubicación, instalación y habilitación de los CATD y, en su caso, CCV","OPL","CG","2021-02-11","2021-02-11",null,null,{"$f":"VLOOKUP(P4423,Campos!$B$2:$C$7,2,FALSE)","v":0},"Sin información"]
[4418,24,"San Luis Potosí",16,"PREP","16.6",6,"Documento de Designación del Ente Auditor ","OPL","CG","2021-02-11","2021-02-11",null,null,{"$f":"VLOOKUP(P4424,Campos!$B$2:$C$7,2,FALSE)","v":0},"Sin información"]
[4419,24,"San Luis Potosí",16,"PREP","16.7",7,"Instrumento jurídico celebrado entre el OPL y el ente auditor","OPL","CG","2021-03-11","2021-03-11",null,null,{"$f":"VLOOKUP(P4425,Campos!$B$2:$C$7,2,FALSE)","v":0},"Sin información"]
[4420,24,"San Luis Potosí",16,"PREP","16.8",8,"Realización del primer simulacro del PREP","OPL","CG","2021-05-16","2021-05-16",null,null,{"$f":"VLOOKUP(P4426,Campos!$B$2:$C$7,2,FALSE)","v":0},"Sin información"]
[4421,24,"San Luis Potosí",16,"PREP","16.9",9,"Realización del segundo simulacro del PREP","OPL","CG","2021-05-23","2021-05-23",null,null,{"$f":"VLOOKUP(P4427,Campos!$B$2:$C$7,2,FALSE)","v":0},"Sin información"]
[4422,24,"San Luis Potosí",16,"PREP","16.10",10,"Realización del tercer simulacro del PREP","OPL","CG","2021-05-30","2021-05-30",null,null,{"$f":"VLOOKUP(P4428,Campos!$B$2:$C$7,2,FALSE)","v":0},"Sin información"]
[4423,24,"San Luis Potosí",16,"PREP","16.11",11,"Operación del PREP","OPL","CG","2021-06-06","2021-06-07",null,null,{"$f":"VLOOKUP(P4429,Campos!$B$2:$C$7,2,FALSE)","v":0},"Sin información"]
[4424,24,"San Luis Potosí",17,"Conteo Rápido","17.1",1,"Aprobación del Acuerdo de Integración del COTECORA","Por definir","Por definir","2021-02-01","2021-02-06",null,null,{"$f":"VLOOKUP(P4430,Campos!$B$2:$C$7,2,FALSE)","v":0},"Sin información"]
[4425,24,"San Luis Potosí",17,"Conteo Rápido","17.2",2,"Realización de pruebas de captura","Por definir","Por definir","2021-04-14","2021-04-15",null,null,{"$f":"VLOOKUP(P4431,Campos!$B$2:$C$7,2,FALSE)","v":0},"Sin información"]
[4426,24,"San Luis Potosí",17,"Conteo Rápido","17.3",3,"Realización de primer simulacro del Conteo Rápido","Por definir","Por definir","2021-04-29","2021-04-29",null,null,{"$f":"VLOOKUP(P4432,Campos!$B$2:$C$7,2,FALSE)","v":0},"Sin información"]
[4427,24,"San Luis Potosí",17,"Conteo Rápido","17.4",4,"Realización de segundo simulacro del Conteo Rápido","Por definir","Por definir","2021-05-16","2021-05-16",null,null,{"$f":"VLOOKUP(P4433,Campos!$B$2:$C$7,2,FALSE)","v":0},"Sin información"]
[4428,24,"San Luis Potosí",17,"Conteo Rápido","17.5",5,"Selección de la Muestra para el Conteo Rápido","Por definir","Por definir","2021-06-02","2021-06-04",null,null,{"$f":"VLOOKUP(P4434,Campos!$B$2:$C$7,2,FALSE)","v":0},"Sin información"]
[4429,24,"San Luis Potosí",17,"Conteo Rápido","17.6",6,"Realización de tercer simulacro del Conteo Rápido","Por definir","Por definir","2021-05-23","2021-05-23",null,null,{"$f":"VLOOKUP(P4435,Campos!$B$2:$C$7,2,FALSE)","v":0},"Sin información"]
[4430,24,"San Luis Potosí",18,"Voto de la ciudadanía residente en el extranjero","18.1",1,"Puesta a disposición de la Solicitud individual de Inscripción a la Lista Nominal de Electores Residentes en el extranjero para procesos electorales locales (SIILNERE), por los medios que determine el INE.","INE","DERFE","2020-09-01","2021-03-15",null,null,{"$f":"VLOOKUP(P4436,Campos!$B$2:$C$7,2,FALSE)","v":0},"Sin información"]
[4431,24,"San Luis Potosí",18,"Voto de la ciudadanía residente en el extranjero","18.2",2,"Recepción de la Solicitud individual de Inscripción a la Lista Nominal de Electores Residentes en el extranjero para procesos electorales locales (SIILNERE), por los medios que determine el INE","INE","DERFE","2020-09-01","2021-03-15",null,null,{"$f":"VLOOKUP(P4437,Campos!$B$2:$C$7,2,FALSE)","v":0},"Sin información"]
[4432,24,"San Luis Potosí",18,"Voto de la ciudadanía residente en el extranjero","18.3",3,"Conformación de la Lista Nominal de Electores Residentes en el Extranjero (subsanes, observaciones de partidos políticos e informe)","INE","DERFE","2020-09-01","2021-04-15",null,null,{"$f":"VLOOKUP(P4438,Campos!$B$2:$C$7,2,FALSE)","v":0},"Sin información"]
[4433,24,"San Luis Potosí",18,"Voto de la ciudadanía residente en el extranjero","18.4",4,"En caso de voto postal, entrega-recepción de materiales del PEP.","INE","DERFE/UTVOPL/OPL","Por definir","2021-03-15",null,null,{"$f":"VLOOKUP(P4439,Campos!$B$2:$C$7,2,FALSE)","v":0},"Sin información"]
[4434,24,"San Luis Potosí",18,"Voto de la ciudadanía residente en el extranjero","18.5",5,"En caso de voto postal, preparación y envío de los PEP a la ciudadanía residente en el extranjero","INE","DERFE/DEOE/UNICOM/DECEYEC","2021-04-02","2021-04-30",null,null,{"$f":"VLOOKUP(P4440,Campos!$B$2:$C$7,2,FALSE)","v":0},"Sin información"]
[4435,24,"San Luis Potosí",18,"Voto de la ciudadanía residente en el extranjero","18.6",6,"En caso de voto postal, recepción de Sobres Voto y resguardo","INE","DERFE/DEOE","2021-04-11","2021-06-05",null,null,{"$f":"VLOOKUP(P4441,Campos!$B$2:$C$7,2,FALSE)","v":0},"Sin información"]
[4436,24,"San Luis Potosí",18,"Voto de la ciudadanía residente en el extranjero","18.7",7,"Elaboración y aprobación del Programa de Integración de Mesas de Escrutinio y Cómputo y Capacitación Electoral para el Voto de las y los Mexicanos Residentes en el Extranjero","INE","CG","Por definir","Por definir",null,null,{"$f":"VLOOKUP(P4442,Campos!$B$2:$C$7,2,FALSE)","v":0},"Sin información"]
[4437,24,"San Luis Potosí",18,"Voto de la ciudadanía residente en el extranjero","18.8",8,"Aprobación del número de mesas de escrutinio y cómputo a instalar","INE","CL","Por definir","Por definir",null,null,{"$f":"VLOOKUP(P4443,Campos!$B$2:$C$7,2,FALSE)","v":0},"Sin información"]
[4438,24,"San Luis Potosí",18,"Voto de la ciudadanía residente en el extranjero","18.9",9,"Integración y aprobación del Listado del personal que realizará las suplencias en las Mesas de Escrutinio y Cómputo","INE","CL","Por definir","Por definir",null,null,{"$f":"VLOOKUP(P4444,Campos!$B$2:$C$7,2,FALSE)","v":0},"Sin información"]
[4439,24,"San Luis Potosí",18,"Voto de la ciudadanía residente en el extranjero","18.10",10,"Logística del Local Único","OPL","CG","Por definir","Por definir",null,null,{"$f":"VLOOKUP(P4445,Campos!$B$2:$C$7,2,FALSE)","v":0},"Sin información"]
[4440,24,"San Luis Potosí",18,"Voto de la ciudadanía residente en el extranjero","18.11",11,"Escrutinio y Cómputo de los votos de los mexicanos residentes en el extranjero","OPL","CG","2021-06-06","2021-06-06",null,null,{"$f":"VLOOKUP(P4446,Campos!$B$2:$C$7,2,FALSE)","v":0},"Sin información"]
[4441,24,"San Luis Potosí",18,"Voto de la ciudadanía residente en el extranjero","18.12",12,"Promoción del Voto de los Mexicanos Residentes en el Extranjero (Difusión, Comunicación, Vinculación y Plataformas Digitales)","INE/OPL","CG/CG","Por definir","Por definir",null,null,{"$f":"VLOOKUP(P4447,Campos!$B$2:$C$7,2,FALSE)","v":0},"Sin información"]
[4442,24,"San Luis Potosí",18,"Voto de la ciudadanía residente en el extranjero","18.13",13,"Entrega de la Lista Nominal de Electores Residentes en el Extranjero (LNERE), para escrutinio y cómputo.","INE","DERFE/DEOE","2021-06-05","2021-06-05",null,null,{"$f":"VLOOKUP(P4448,Campos!$B$2:$C$7,2,FALSE)","v":0},"Sin información"]
[4443,24,"San Luis Potosí",19,"Visitantes extranjeros","19.1",1,"Emisión de la Convocatoria para visitantes extranjeros","OPL ","CG","2020-08-03","2020-09-30",null,null,{"$f":"VLOOKUP(P4449,Campos!$B$2:$C$7,2,FALSE)","v":0},"Sin información"]
[4444,24,"San Luis Potosí",19,"Visitantes extranjeros","19.2",2,"Difusión de la Convocatoria para visitantes extranjeros","INE","CAI","2020-09-01","2021-05-26",null,null,{"$f":"VLOOKUP(P4450,Campos!$B$2:$C$7,2,FALSE)","v":0},"Sin información"]
[4445,24,"San Luis Potosí",19,"Visitantes extranjeros","19.3",3,"Recepción de solicitudes de acreditación como visitantes extranjeros","INE","CAI","2020-09-01","2021-05-26",null,null,{"$f":"VLOOKUP(P4451,Campos!$B$2:$C$7,2,FALSE)","v":0},"Sin información"]
[4446,24,"San Luis Potosí",19,"Visitantes extranjeros","19.4",4,"Resolución de solicitudes de acreditación como visitantes extranjeros","INE","CAI","2020-09-02","2021-05-30",null,null,{"$f":"VLOOKUP(P4452,Campos!$B$2:$C$7,2,FALSE)","v":0},"Sin información"]
[4447,24,"San Luis Potosí",19,"Visitantes extranjeros","19.5",5,"Entrega de acreditaciones a los visitantes extranjeros","INE","CAI","2020-09-04","2021-06-05",null,null,{"$f":"VLOOKUP(P4453,Campos!$B$2:$C$7,2,FALSE)","v":0},"Sin información"]
[4448,27,"Tabasco",1,"Mecanismos de coordinación","1.1",1,"Aprobar Calendarios y Planes Integrales de los Procesos Electorales Locales","INE","CG","2020-08-01","2020-08-07",null,null,{"$f":"VLOOKUP(P4454,Campos!$B$2:$C$7,2,FALSE)","v":0},"Sin información"]
[4449,27,"Tabasco",1,"Mecanismos de coordinación","1.2",2,"Firma del Convenio General de Coordinación y Colaboración 2020-2021","INE/OPL","INE/OPL","2020-09-01","2020-10-01",null,null,{"$f":"VLOOKUP(P4455,Campos!$B$2:$C$7,2,FALSE)","v":0},"Sin información"]
[4450,27,"Tabasco",1,"Mecanismos de coordinación","1.3",3,"Elaborar un plan de trabajo conjunto para la promoción de la participación ciudadana","INE/OPL","INE/OPL","2020-09-01","2020-12-31",null,null,{"$f":"VLOOKUP(P4456,Campos!$B$2:$C$7,2,FALSE)","v":0},"Sin información"]
[4451,27,"Tabasco",1,"Mecanismos de coordinación","1.4",4,"Sesión para dar inicio al PEL","OPL","CG","2020-10-04","2020-10-10",null,null,{"$f":"VLOOKUP(P4457,Campos!$B$2:$C$7,2,FALSE)","v":0},"Sin información"]
[4452,27,"Tabasco",1,"Mecanismos de coordinación","1.5",5,"Implementar un plan de trabajo conjunto para la promoción de la participación ciudadana","INE/OPL","INE/OPL","2021-02-01","2021-06-06",null,null,{"$f":"VLOOKUP(P4458,Campos!$B$2:$C$7,2,FALSE)","v":0},"Sin información"]
[4453,27,"Tabasco",2,"Integración de órganos desconcentrados","2.1",1,"Convocatoria para la integración de los Órganos Distritales","OPL","CG","2020-06-01","2020-10-31",null,null,{"$f":"VLOOKUP(P4459,Campos!$B$2:$C$7,2,FALSE)","v":0},"Sin información"]
[4454,27,"Tabasco",2,"Integración de órganos desconcentrados","2.2",2,"Sesión en la que se designan e integran los Órganos Distritales ","OPL","CG","2020-12-06","2020-12-12",null,null,{"$f":"VLOOKUP(P4460,Campos!$B$2:$C$7,2,FALSE)","v":0},"Sin información"]
[4455,27,"Tabasco",2,"Integración de órganos desconcentrados","2.3",3,"Instalación de los Órganos Distritales ","OPL","OD","2020-12-13","2020-12-19",null,null,{"$f":"VLOOKUP(P4461,Campos!$B$2:$C$7,2,FALSE)","v":0},"Sin información"]
[4456,27,"Tabasco",2,"Integración de órganos desconcentrados","2.7",7,"Designación y/o ratificación de las y los Consejeros Electorales del Consejo Local ","INE","CG","2020-10-01","2020-10-15",null,null,{"$f":"VLOOKUP(P4462,Campos!$B$2:$C$7,2,FALSE)","v":0},"Sin información"]
[4457,27,"Tabasco",2,"Integración de órganos desconcentrados","2.8",8,"Instalación del Consejo Local","INE","CL","2020-11-01","2020-11-30",null,null,{"$f":"VLOOKUP(P4463,Campos!$B$2:$C$7,2,FALSE)","v":0},"Sin información"]
[4458,27,"Tabasco",2,"Integración de órganos desconcentrados","2.9",9,"Designación y/o ratificación de las y los Consejeros Electorales de los Consejos Distritales ","INE","CL","2020-11-01","2020-11-30",null,null,{"$f":"VLOOKUP(P4464,Campos!$B$2:$C$7,2,FALSE)","v":0},"Sin información"]
[4459,27,"Tabasco",2,"Integración de órganos desconcentrados","2.10",10,"Instalación de los Consejos Distritales","INE","CD","2020-12-01","2020-12-15",null,null,{"$f":"VLOOKUP(P4465,Campos!$B$2:$C$7,2,FALSE)","v":0},"Sin información"]
[4460,27,"Tabasco",3,"Lista Nominal de Electores","3.1",1,"Generación y entrega de la Lista Nominal de Electores para Revisión en medios ópticos a los representantes de los partidos políticos, y en su caso a las candidaturas independientes acreditados ante el OPL, para observaciones","INE","DERFE","2021-02-15","2021-02-15",null,null,{"$f":"VLOOKUP(P4466,Campos!$B$2:$C$7,2,FALSE)","v":0},"Sin información"]
[4461,27,"Tabasco",3,"Lista Nominal de Electores","3.2",2,"Recepción de observaciones de los partidos políticos y en su caso, candidatos independientes, a la Lista Nominal de Electores para revisión","INE/OPL","DERFE","2021-03-14","2021-03-14",null,null,{"$f":"VLOOKUP(P4467,Campos!$B$2:$C$7,2,FALSE)","v":0},"Sin información"]
[4462,27,"Tabasco",3,"Lista Nominal de Electores","3.3",3,"Entrega en formato digital el informe respecto de la atención a las observaciones formuladas a la Lista Nominal de Electores para Revisión","INE","DERFE","2021-04-15","2021-04-15",null,null,{"$f":"VLOOKUP(P4468,Campos!$B$2:$C$7,2,FALSE)","v":0},"Sin información"]
[4463,27,"Tabasco",3,"Lista Nominal de Electores","3.4",4,"Entrega de la Lista Nominal de Electores Definitiva con fotografía","INE","DERFE","2021-05-06","2021-05-14",null,null,{"$f":"VLOOKUP(P4469,Campos!$B$2:$C$7,2,FALSE)","v":0},"Sin información"]
[4464,27,"Tabasco",3,"Lista Nominal de Electores","3.5",5,"Fecha de entrega de la Lista Nominal de Electores con fotografía Producto de Instancias Administrativas y Resoluciones del Tribunal (ADENDA)","INE","DERFE","2021-05-19","2021-05-24",null,null,{"$f":"VLOOKUP(P4470,Campos!$B$2:$C$7,2,FALSE)","v":0},"Sin información"]
[4465,27,"Tabasco",4,"Observación Electoral","4.1",1,"Emisión de la convocatoria para la ciudadanía que desee participar en la observación electoral","OPL","CG","2020-10-04","2020-10-10",null,null,{"$f":"VLOOKUP(P4471,Campos!$B$2:$C$7,2,FALSE)","v":0},"Sin información"]
[4466,27,"Tabasco",4,"Observación Electoral","4.2",2,"Recepción de solicitudes de la ciudadanía que desee participar en observación electoral","INE/OPL","OPL/JLE/JDE","2020-10-04","2021-04-30",null,null,{"$f":"VLOOKUP(P4472,Campos!$B$2:$C$7,2,FALSE)","v":0},"Sin información"]
[4467,27,"Tabasco",4,"Observación Electoral","4.3",3,"Impartición de los cursos de capacitación, preparación o información","INE/OPL","OPL/JLE/JDE","2020-10-04","2021-05-17",null,null,{"$f":"VLOOKUP(P4473,Campos!$B$2:$C$7,2,FALSE)","v":0},"Sin información"]
[4468,27,"Tabasco",4,"Observación Electoral","4.4",4,"Acreditación de la ciudadanía como observadores u observadoras electorales","INE","CL/CD","2020-10-04","2021-06-05",null,null,{"$f":"VLOOKUP(P4474,Campos!$B$2:$C$7,2,FALSE)","v":0},"Sin información"]
[4469,27,"Tabasco",4,"Observación Electoral","4.5",5,"Seguimiento a los informes mensuales de acreditación","INE","CG","2020-10-04","2021-07-31",null,null,{"$f":"VLOOKUP(P4475,Campos!$B$2:$C$7,2,FALSE)","v":0},"Sin información"]
[4470,27,"Tabasco",4,"Observación Electoral","4.6",6,"Remisión de materiales de capacitación a la JLE para revisión","OPL","CG","2020-10-08","2020-10-08",null,null,{"$f":"VLOOKUP(P4476,Campos!$B$2:$C$7,2,FALSE)","v":0},"Sin información"]
[4471,27,"Tabasco",4,"Observación Electoral","4.7",7,"Revisión, corrección, verificación y validación de materiales de capacitación para observación electoral ","INE","JLE","2020-10-09","2020-10-30",null,null,{"$f":"VLOOKUP(P4477,Campos!$B$2:$C$7,2,FALSE)","v":0},"Sin información"]
[4472,27,"Tabasco",4,"Observación Electoral","4.8",8,"Entrega de materiales de capacitación para observación electoral entre OPL e INE","INE/OPL","VEL/OPL","2020-11-01","2020-11-23",null,null,{"$f":"VLOOKUP(P4478,Campos!$B$2:$C$7,2,FALSE)","v":0},"Sin información"]
[4473,27,"Tabasco",5,"Ubicación de casillas","5.1",1,"Recorridos por las secciones de los distritos para localizar los lugares donde se ubicarán las casillas","INE/OPL","JDE/OPL","2021-01-15","2021-02-15",null,null,{"$f":"VLOOKUP(P4479,Campos!$B$2:$C$7,2,FALSE)","v":0},"Sin información"]
[4474,27,"Tabasco",5,"Ubicación de casillas","5.2",2,"Presentación a los Consejos Distritales del listado de lugares propuestos para ubicar casillas","INE","JDE","2021-02-24","2021-02-24",null,null,{"$f":"VLOOKUP(P4480,Campos!$B$2:$C$7,2,FALSE)","v":0},"Sin información"]
[4475,27,"Tabasco",5,"Ubicación de casillas","5.3",3,"Visitas de examinación en los lugares propuestos para ubicar casillas básicas, contiguas, especiales y extraordinarias","INE/OPL","CD/OPL","2021-02-25","2021-03-16",null,null,{"$f":"VLOOKUP(P4481,Campos!$B$2:$C$7,2,FALSE)","v":0},"Sin información"]
[4476,27,"Tabasco",5,"Ubicación de casillas","5.4",4,"Aprobación del número y ubicación de casillas extraordinarias y especiales","INE","CD","2021-03-16","2021-03-16",null,null,{"$f":"VLOOKUP(P4482,Campos!$B$2:$C$7,2,FALSE)","v":0},"Sin información"]
[4477,27,"Tabasco",5,"Ubicación de casillas","5.5",5,"Aprobación del número y ubicación de casillas básicas y contiguas","INE","CD","2021-03-25","2021-03-25",null,null,{"$f":"VLOOKUP(P4483,Campos!$B$2:$C$7,2,FALSE)","v":0},"Sin información"]
[4478,27,"Tabasco",5,"Ubicación de casillas","5.6",6,"Entrega de la base de datos de la Lista Nominal Definitiva a UNICOM con corte al 10 de abril","INE","DERFE","2021-04-15","2021-04-16",null,null,{"$f":"VLOOKUP(P4484,Campos!$B$2:$C$7,2,FALSE)","v":0},"Sin información"]
[4479,27,"Tabasco",5,"Ubicación de casillas","5.7",7,"Realizar la primera publicación de la lista de ubicación de casillas en los lugares más concurridos del distrito electoral  y en los medios electrónicos del Instituto","INE","CD","2021-04-15","2021-04-15",null,null,{"$f":"VLOOKUP(P4485,Campos!$B$2:$C$7,2,FALSE)","v":0},"Sin información"]
[4480,27,"Tabasco",5,"Ubicación de casillas","5.8",8,"En su caso, segunda publicación de la lista de ubicación de casillas por causas supervenientes en los lugares más concurridos del distrito y en los medios electrónicos del Instituto","INE","CD","2021-05-15","2021-05-25",null,null,{"$f":"VLOOKUP(P4486,Campos!$B$2:$C$7,2,FALSE)","v":0},"Sin información"]
[4481,27,"Tabasco",5,"Ubicación de casillas","5.9",9,"Publicación de los encartes y difusión en medios electrónicos del Instituto","INE/OPL","DEOE/CG","2021-06-05","2021-06-06",null,null,{"$f":"VLOOKUP(P4487,Campos!$B$2:$C$7,2,FALSE)","v":0},"Sin información"]
[4482,27,"Tabasco",5,"Ubicación de casillas","5.10",10,"Registro de representantes generales y ante mesas directivas de casilla","INE","CD","2021-04-16","2021-05-24",null,null,{"$f":"VLOOKUP(P4488,Campos!$B$2:$C$7,2,FALSE)","v":0},"Sin información"]
[4483,27,"Tabasco",5,"Ubicación de casillas","5.11",11,"Sustitución de representantes generales y ante mesas directivas de casilla","INE","CD","2021-04-16","2021-05-27",null,null,{"$f":"VLOOKUP(P4489,Campos!$B$2:$C$7,2,FALSE)","v":0},"Sin información"]
[4484,27,"Tabasco",5,"Ubicación de casillas","5.12",12,"Entrega de listados de representantes generales y ante casilla al OPL","INE","CD","2021-05-30","2021-05-30",null,null,{"$f":"VLOOKUP(P4490,Campos!$B$2:$C$7,2,FALSE)","v":0},"Sin información"]
[4485,27,"Tabasco",5,"Ubicación de casillas","5.13",13,"Notificación ciudadana de ubicación de casillas en secciones electorales involucradas en la actualización del Marco Geográfico Electoral","INE/OPL","DERFE/OPL","2021-04-01","2021-06-15",null,null,{"$f":"VLOOKUP(P4491,Campos!$B$2:$C$7,2,FALSE)","v":0},"Sin información"]
[4486,27,"Tabasco",6,"Integración de las Mesas Directivas de Casilla","6.1",1,"Aprobación de la Estrategia de Capacitación y Asistencia Electoral","INE","CG","2020-08-01","2020-08-15",null,null,{"$f":"VLOOKUP(P4492,Campos!$B$2:$C$7,2,FALSE)","v":0},"Sin información"]
[4487,27,"Tabasco",6,"Integración de las Mesas Directivas de Casilla","6.2",2,"Entrega para revisión y validación de materiales didácticos de primera etapa","OPL","CG","2020-11-03","2020-11-03",null,null,{"$f":"VLOOKUP(P4493,Campos!$B$2:$C$7,2,FALSE)","v":0},"Sin información"]
[4488,27,"Tabasco",6,"Integración de las Mesas Directivas de Casilla","6.3",3,"Revisión, corrección, verificación y validación de los materiales didácticos de primera etapa","INE/OPL","JLE/DECEYEC/OPL","2020-11-03","2020-12-19",null,null,{"$f":"VLOOKUP(P4494,Campos!$B$2:$C$7,2,FALSE)","v":0},"Sin información"]
[4489,27,"Tabasco",6,"Integración de las Mesas Directivas de Casilla","6.4",4,"Entrega de los materiales impresos de la primera etapa a la JLE","OPL","OPL","2021-02-05","2021-02-05",null,null,{"$f":"VLOOKUP(P4495,Campos!$B$2:$C$7,2,FALSE)","v":0},"Sin información"]
[4490,27,"Tabasco",6,"Integración de las Mesas Directivas de Casilla","6.5",5,"Sorteo del mes del calendario como base para la insaculación de las y los ciudadanos que integrarán las mesas directivas de casilla","INE","CG","2020-12-15","2020-12-19",null,null,{"$f":"VLOOKUP(P4496,Campos!$B$2:$C$7,2,FALSE)","v":0},"Sin información"]
[4491,27,"Tabasco",6,"Integración de las Mesas Directivas de Casilla","6.6",6,"Entrega para revisión y validación de materiales didácticos de segunda etapa","OPL","OPL","2021-02-03","2021-02-03",null,null,{"$f":"VLOOKUP(P4497,Campos!$B$2:$C$7,2,FALSE)","v":0},"Sin información"]
[4492,27,"Tabasco",6,"Integración de las Mesas Directivas de Casilla","6.7",7,"Revisión, corrección, verificación y validación de los materiales didácticos de la segunda etapa","INE/OPL","JLE/DECEYEC/OPL","2021-02-03","2021-03-22",null,null,{"$f":"VLOOKUP(P4498,Campos!$B$2:$C$7,2,FALSE)","v":0},"Sin información"]
[4493,27,"Tabasco",6,"Integración de las Mesas Directivas de Casilla","6.8",8,"Entrega de los materiales impresos de la segunda etapa a la JLE","OPL","OPL","2021-04-05","2021-04-05",null,null,{"$f":"VLOOKUP(P4499,Campos!$B$2:$C$7,2,FALSE)","v":0},"Sin información"]
[4494,27,"Tabasco",6,"Integración de las Mesas Directivas de Casilla","6.9",9,"Sorteo de la letra a partir de la cual, con base en el apellido paterno, se seleccionará a las y los ciudadanos que integrarán las mesas directivas de casilla","INE","CG","2021-02-02","2021-02-02",null,null,{"$f":"VLOOKUP(P4500,Campos!$B$2:$C$7,2,FALSE)","v":0},"Sin información"]
[4495,27,"Tabasco",6,"Integración de las Mesas Directivas de Casilla","6.10",10,"Entrega de la Lista Nominal de Electores para el Procedimiento de la Primera insaculación con corte al 15 de enero de 2021.","INE","DERFE/UNICOM","2021-01-21","2021-01-26",null,null,{"$f":"VLOOKUP(P4501,Campos!$B$2:$C$7,2,FALSE)","v":0},"Sin información"]
[4496,27,"Tabasco",6,"Integración de las Mesas Directivas de Casilla","6.11",11,"Primera insaculación","INE","JDE","2021-02-06","2021-02-06",null,null,{"$f":"VLOOKUP(P4502,Campos!$B$2:$C$7,2,FALSE)","v":0},"Sin información"]
[4497,27,"Tabasco",6,"Integración de las Mesas Directivas de Casilla","6.12",12,"Primera etapa de capacitación a las personas insaculadas","INE","CD","2021-02-09","2021-03-31",null,null,{"$f":"VLOOKUP(P4503,Campos!$B$2:$C$7,2,FALSE)","v":0},"Sin información"]
[4498,27,"Tabasco",6,"Integración de las Mesas Directivas de Casilla","6.13",13,"Integración de la lista de ciudadanos y ciudadanas que cumplen los requisitos legales para integrar las mesas directivas de casilla","INE","CD","2021-02-09","2021-03-31",null,null,{"$f":"VLOOKUP(P4504,Campos!$B$2:$C$7,2,FALSE)","v":0},"Sin información"]
[4499,27,"Tabasco",6,"Integración de las Mesas Directivas de Casilla","6.14",14,"Segunda insaculación y designación de funcionarios para mesas directivas de casilla","INE","CD","2021-04-08","2021-04-08",null,null,{"$f":"VLOOKUP(P4505,Campos!$B$2:$C$7,2,FALSE)","v":0},"Sin información"]
[4500,27,"Tabasco",6,"Integración de las Mesas Directivas de Casilla","6.15",15,"Segunda etapa de capacitación a funcionarios de mesa directiva de casilla y simulacros","INE","CD","2021-04-18","2021-06-05",null,null,{"$f":"VLOOKUP(P4506,Campos!$B$2:$C$7,2,FALSE)","v":0},"Sin información"]
[4501,27,"Tabasco",6,"Integración de las Mesas Directivas de Casilla","6.16",16,"Entrega de reconocimientos a funcionarios de mesas directivas de casilla","INE","CD","2021-06-07","2021-06-12",null,null,{"$f":"VLOOKUP(P4507,Campos!$B$2:$C$7,2,FALSE)","v":0},"Sin información"]
[4502,27,"Tabasco",6,"Integración de las Mesas Directivas de Casilla","6.17",17,"Periodo para contratación de CAE locales","INE/OPL","INE/OPL","Por definir","Por definir",null,null,{"$f":"VLOOKUP(P4508,Campos!$B$2:$C$7,2,FALSE)","v":0},"Sin información"]
[4503,27,"Tabasco",7,"Fiscalización de los recursos de los Partidos Políticos y candidaturas independientes","7.2",2,"Aprobación de topes de gastos de precampaña Diputaciones","OPL","CG","2020-10-10","2021-01-31",null,null,{"$f":"VLOOKUP(P4509,Campos!$B$2:$C$7,2,FALSE)","v":0},"Sin información"]
[4504,27,"Tabasco",7,"Fiscalización de los recursos de los Partidos Políticos y candidaturas independientes","7.3",3,"Aprobación de topes de gastos de precampaña Ayuntamientos","OPL","CG","2020-10-10","2021-01-31",null,null,{"$f":"VLOOKUP(P4510,Campos!$B$2:$C$7,2,FALSE)","v":0},"Sin información"]
[4505,27,"Tabasco",7,"Fiscalización de los recursos de los Partidos Políticos y candidaturas independientes","7.5",5,"Aprobación de los límites de financiamiento privado, aportaciones de militantes, simpatizantes y precandidatos o candidatos; así como el límite individual de aportaciones para Diputaciones","OPL","CG","2020-10-10","2021-01-31",null,null,{"$f":"VLOOKUP(P4511,Campos!$B$2:$C$7,2,FALSE)","v":0},"Sin información"]
[4506,27,"Tabasco",7,"Fiscalización de los recursos de los Partidos Políticos y candidaturas independientes","7.6",6,"Aprobación de los límites de financiamiento privado, aportaciones de militantes, simpatizantes y precandidatos o candidatos; así como el límite individual de aportaciones para Ayuntamientos","OPL","CG","2020-10-10","2021-01-31",null,null,{"$f":"VLOOKUP(P4512,Campos!$B$2:$C$7,2,FALSE)","v":0},"Sin información"]
[4507,27,"Tabasco",7,"Fiscalización de los recursos de los Partidos Políticos y candidaturas independientes","7.8",8,"Aprobación de topes de gastos para el periodo de obtención del apoyo ciudadano para Diputaciones","OPL","CG","2020-10-10","2020-12-01",null,null,{"$f":"VLOOKUP(P4513,Campos!$B$2:$C$7,2,FALSE)","v":0},"Sin información"]
[4508,27,"Tabasco",7,"Fiscalización de los recursos de los Partidos Políticos y candidaturas independientes","7.9",9,"Aprobación de topes de gastos para el periodo de obtención del apoyo ciudadano para Ayuntamientos","OPL","CG","2020-10-10","2020-12-01",null,null,{"$f":"VLOOKUP(P4514,Campos!$B$2:$C$7,2,FALSE)","v":0},"Sin información"]
[4509,27,"Tabasco",7,"Fiscalización de los recursos de los Partidos Políticos y candidaturas independientes","7.11",11,"Precampaña para Diputaciones","OPL","CG","2021-02-28","2021-03-29",null,null,{"$f":"VLOOKUP(P4515,Campos!$B$2:$C$7,2,FALSE)","v":0},"Sin información"]
[4510,27,"Tabasco",7,"Fiscalización de los recursos de los Partidos Políticos y candidaturas independientes","7.12",12,"Precampaña para Ayuntamientos","OPL","CG","2021-02-28","2021-03-29",null,null,{"$f":"VLOOKUP(P4516,Campos!$B$2:$C$7,2,FALSE)","v":0},"Sin información"]
[4511,27,"Tabasco",7,"Fiscalización de los recursos de los Partidos Políticos y candidaturas independientes","7.14",14,"Aprobación de topes de gastos de campaña para Diputaciones","OPL","CG","2021-02-01","2021-02-28",null,null,{"$f":"VLOOKUP(P4517,Campos!$B$2:$C$7,2,FALSE)","v":0},"Sin información"]
[4512,27,"Tabasco",7,"Fiscalización de los recursos de los Partidos Políticos y candidaturas independientes","7.15",15,"Aprobación de topes de gastos de campaña para Ayuntamientos","OPL","CG","2021-02-01","2021-02-28",null,null,{"$f":"VLOOKUP(P4518,Campos!$B$2:$C$7,2,FALSE)","v":0},"Sin información"]
[4513,27,"Tabasco",7,"Fiscalización de los recursos de los Partidos Políticos y candidaturas independientes","7.17",17,"Campaña para Diputaciones","OPL","CG","2021-04-19","2021-06-02",null,null,{"$f":"VLOOKUP(P4519,Campos!$B$2:$C$7,2,FALSE)","v":0},"Sin información"]
[4514,27,"Tabasco",7,"Fiscalización de los recursos de los Partidos Políticos y candidaturas independientes","7.18",18,"Campaña para Ayuntamientos","OPL","CG","2021-04-19","2021-06-02",null,null,{"$f":"VLOOKUP(P4520,Campos!$B$2:$C$7,2,FALSE)","v":0},"Sin información"]
[4515,27,"Tabasco",8,"Candidaturas Independientes","8.1",1,"Emisión de la convocatoria para la ciudadanía interesada en participar en Candidaturas Independientes ","OPL","CG","2020-10-10","2020-12-01",null,null,{"$f":"VLOOKUP(P4521,Campos!$B$2:$C$7,2,FALSE)","v":0},"Sin información"]
[4516,27,"Tabasco",8,"Candidaturas Independientes","8.3",3,"Recepción de escrito de intención y documentación anexa de la ciudadanía que aspire a la candidatura independiente para Diputaciones","OPL","OD","2020-10-11","2020-12-31",null,null,{"$f":"VLOOKUP(P4522,Campos!$B$2:$C$7,2,FALSE)","v":0},"Sin información"]
[4517,27,"Tabasco",8,"Candidaturas Independientes","8.4",4,"Recepción de escrito de intención y documentación anexa de la ciudadanía que aspire a la candidatura independiente para Ayuntamientos","OPL","SE/OD","2020-10-11","2020-12-31",null,null,{"$f":"VLOOKUP(P4523,Campos!$B$2:$C$7,2,FALSE)","v":0},"Sin información"]
[4518,27,"Tabasco",8,"Candidaturas Independientes","8.6",6,"Resolución sobre procedencia de manifestación de intención de aspirantes a candidaturas independientes para Diputaciones","OPL","CG","2021-01-01","2021-01-08",null,null,{"$f":"VLOOKUP(P4524,Campos!$B$2:$C$7,2,FALSE)","v":0},"Sin información"]
[4519,27,"Tabasco",8,"Candidaturas Independientes","8.7",7,"Resolución sobre procedencia de manifestación de intención de aspirantes a candidaturas independientes para Ayuntamientos","OPL","CG","2021-01-01","2021-01-08",null,null,{"$f":"VLOOKUP(P4525,Campos!$B$2:$C$7,2,FALSE)","v":0},"Sin información"]
[4520,27,"Tabasco",8,"Candidaturas Independientes","8.9",9,"Plazo para obtener el apoyo ciudadano de las candidaturas independientes para Diputaciones","OPL","OD","2021-01-11","2021-02-09",null,null,{"$f":"VLOOKUP(P4526,Campos!$B$2:$C$7,2,FALSE)","v":0},"Sin información"]
[4521,27,"Tabasco",8,"Candidaturas Independientes","8.10",10,"Plazo para obtener el apoyo ciudadano de las candidaturas independientes para Ayuntamientos","OPL","OD","2021-01-11","2021-02-09",null,null,{"$f":"VLOOKUP(P4527,Campos!$B$2:$C$7,2,FALSE)","v":0},"Sin información"]
[4522,27,"Tabasco",8,"Candidaturas Independientes","8.12",12,"Plazo para otorgar las constancias de porcentaje a favor de aspirantes a la candidatura independiente para Diputaciones","OPL","CG/OD","2021-02-10","2021-04-05",null,null,{"$f":"VLOOKUP(P4528,Campos!$B$2:$C$7,2,FALSE)","v":0},"Sin información"]
[4523,27,"Tabasco",8,"Candidaturas Independientes","8.13",13,"Plazo para otorgar las constancias de porcentaje a favor de aspirantes a la candidatura independiente para Ayuntamientos","OPL","CG/OD","2021-02-10","2021-04-05",null,null,{"$f":"VLOOKUP(P4529,Campos!$B$2:$C$7,2,FALSE)","v":0},"Sin información"]
[4524,27,"Tabasco",9,"Candidaturas","9.1",1,"Registro de plataformas electorales","OPL","CG","2021-01-01","2021-01-15",null,null,{"$f":"VLOOKUP(P4530,Campos!$B$2:$C$7,2,FALSE)","v":0},"Sin información"]
[4525,27,"Tabasco",9,"Candidaturas","9.3",3,"Solicitud de registro de convenio de coalición para Diputaciones","OPL","CG","2020-10-04","2021-02-28",null,null,{"$f":"VLOOKUP(P4531,Campos!$B$2:$C$7,2,FALSE)","v":0},"Sin información"]
[4526,27,"Tabasco",9,"Candidaturas","9.4",4,"Solicitud de registro de convenio de coalición para Ayuntamientos","OPL","CG","2020-10-04","2021-02-28",null,null,{"$f":"VLOOKUP(P4532,Campos!$B$2:$C$7,2,FALSE)","v":0},"Sin información"]
[4527,27,"Tabasco",9,"Candidaturas","9.6",6,"Resolución sobre Convenio de Coalición para Diputaciones","OPL","CG","2020-10-14","2021-03-10",null,null,{"$f":"VLOOKUP(P4533,Campos!$B$2:$C$7,2,FALSE)","v":0},"Sin información"]
[4528,27,"Tabasco",9,"Candidaturas","9.7",7,"Resolución sobre Convenio de Coalición para Ayuntamientos","OPL","CG","2020-10-14","2021-03-10",null,null,{"$f":"VLOOKUP(P4534,Campos!$B$2:$C$7,2,FALSE)","v":0},"Sin información"]
[4529,27,"Tabasco",9,"Candidaturas","9.9",9,"Solicitud de registro de Candidaturas para Diputaciones","OPL","CG/OD","2021-04-06","2021-04-15",null,null,{"$f":"VLOOKUP(P4535,Campos!$B$2:$C$7,2,FALSE)","v":0},"Sin información"]
[4530,27,"Tabasco",9,"Candidaturas","9.11",11,"Solicitud de registro de Candidaturas para Ayuntamientos","OPL","CG/OD","2021-04-06","2021-04-15",null,null,{"$f":"VLOOKUP(P4536,Campos!$B$2:$C$7,2,FALSE)","v":0},"Sin información"]
[4531,27,"Tabasco",9,"Candidaturas","9.14",14,"Resolución para aprobar las candidaturas para Diputaciones","OPL","CG","2021-04-16","2021-04-18",null,null,{"$f":"VLOOKUP(P4537,Campos!$B$2:$C$7,2,FALSE)","v":0},"Sin información"]
[4532,27,"Tabasco",9,"Candidaturas","9.16",16,"Resolución para aprobar las candidaturas para Ayuntamientos","OPL","CG/OD","2021-04-16","2021-04-18",null,null,{"$f":"VLOOKUP(P4538,Campos!$B$2:$C$7,2,FALSE)","v":0},"Sin información"]
[4533,27,"Tabasco",9,"Candidaturas","9.18",18,"Solicitud de registro de candidaturas comunes para Diputaciones ","OPL","CG/OD","2021-04-06","2021-04-15",null,null,{"$f":"VLOOKUP(P4539,Campos!$B$2:$C$7,2,FALSE)","v":0},"Sin información"]
[4534,27,"Tabasco",9,"Candidaturas","9.19",19,"Solicitud de registro de candidaturas comunes para Ayuntamientos  ","OPL","CG/OD","2021-04-06","2021-04-15",null,null,{"$f":"VLOOKUP(P4540,Campos!$B$2:$C$7,2,FALSE)","v":0},"Sin información"]
[4535,27,"Tabasco",9,"Candidaturas","9.21",21,"Resolución para aprobar las candidaturas comunes para Diputaciones ","OPL","CG/OD","2021-04-16","2021-04-18",null,null,{"$f":"VLOOKUP(P4541,Campos!$B$2:$C$7,2,FALSE)","v":0},"Sin información"]
[4536,27,"Tabasco",9,"Candidaturas","9.22",22,"Resolución para aprobar las candidaturas comunes para Ayuntamientos ","OPL","CG/OD","2021-04-16","2021-04-18",null,null,{"$f":"VLOOKUP(P4542,Campos!$B$2:$C$7,2,FALSE)","v":0},"Sin información"]
[4537,27,"Tabasco",11,"Documentación y material electoral","11.1",1,"Entrega a la Junta Local Ejecutiva del INE, de los diseños y especificaciones técnicas de la documentación y materiales electorales, en medios impresos y electrónicos","OPL","CG","2020-09-01","2020-09-30",null,null,{"$f":"VLOOKUP(P4543,Campos!$B$2:$C$7,2,FALSE)","v":0},"Sin información"]
[4538,27,"Tabasco",11,"Documentación y material electoral","11.2",2,"Revisión de los documentos y materiales electorales y especificaciones técnicas, presentadas por el OPL","INE","JLE","2020-09-15","2020-12-16",null,null,{"$f":"VLOOKUP(P4544,Campos!$B$2:$C$7,2,FALSE)","v":0},"Sin información"]
[4539,27,"Tabasco",11,"Documentación y material electoral","11.3",3,"En su caso, atención y presentación, de los cambios pertinentes, conforme a las observaciones emitidas por la Junta Local Ejecutiva del INE","OPL","CG","2020-09-15","2020-12-16",null,null,{"$f":"VLOOKUP(P4545,Campos!$B$2:$C$7,2,FALSE)","v":0},"Sin información"]
[4540,27,"Tabasco",11,"Documentación y material electoral","11.4",4,"Validación de los documentos y materiales electorales y especificaciones técnicas, con las observaciones subsanadas","INE","DEOE","2020-10-28","2020-12-18",null,null,{"$f":"VLOOKUP(P4546,Campos!$B$2:$C$7,2,FALSE)","v":0},"Sin información"]
[4541,27,"Tabasco",11,"Documentación y material electoral","11.5",5,"Entrega a la Dirección Ejecutiva de Organización Electoral del INE, del Reporte único sobre la aprobación y adjudicación de los documentos y materiales electorales del OPL, en medios electrónicos","OPL","CG","2021-02-01","2021-02-26",null,null,{"$f":"VLOOKUP(P4547,Campos!$B$2:$C$7,2,FALSE)","v":0},"Sin información"]
[4542,27,"Tabasco",11,"Documentación y material electoral","11.6",6,"Revisión y en su caso validación, del Reporte único sobre la aprobación y adjudicación de los documentos y materiales electorales del OPL, en medios electrónicos","INE","DEOE","2021-02-15","2021-03-12",null,null,{"$f":"VLOOKUP(P4548,Campos!$B$2:$C$7,2,FALSE)","v":0},"Sin información"]
[4543,27,"Tabasco",11,"Documentación y material electoral","11.7",7,"Entrega  a la Dirección Ejecutiva de Organización Electoral del INE, del Reporte semanal sobre el avance en la producción de los documentos y materiales electorales del OPL, en medios electrónicos.","OPL","CG","2021-03-15","2021-05-22",null,null,{"$f":"VLOOKUP(P4549,Campos!$B$2:$C$7,2,FALSE)","v":0},"Sin información"]
[4544,27,"Tabasco",11,"Documentación y material electoral","11.8",8,"Aprobación de la documentación y material electoral","OPL","CG","2020-11-11","2020-12-31",null,null,{"$f":"VLOOKUP(P4550,Campos!$B$2:$C$7,2,FALSE)","v":0},"Sin información"]
[4545,27,"Tabasco",11,"Documentación y material electoral","11.9",9,"Entrega a la Dirección Ejecutiva de Organización Electoral del INE, del Reporte con los resultados de las verificaciones de las medidas de seguridad en la documentación electoral","OPL","CG","2021-05-27","2021-06-11",null,null,{"$f":"VLOOKUP(P4551,Campos!$B$2:$C$7,2,FALSE)","v":0},"Sin información"]
[4546,27,"Tabasco",11,"Documentación y material electoral","11.10",10,"Supervisiones respecto de los procedimientos de impresión y producción de la documentación y materiales electorales","INE","DEOE","2021-03-15","2021-05-22",null,null,{"$f":"VLOOKUP(P4552,Campos!$B$2:$C$7,2,FALSE)","v":0},"Sin información"]
[4547,27,"Tabasco",11,"Documentación y material electoral","11.11",11,"Designación de la persona responsable de llevar el control sobre la asignación de los folios de las boletas que se distribuirán en cada mesa directiva de casilla","OPL","CG","2021-03-01","2021-03-30",null,null,{"$f":"VLOOKUP(P4553,Campos!$B$2:$C$7,2,FALSE)","v":0},"Sin información"]
[4548,27,"Tabasco",11,"Documentación y material electoral","11.12",12,"Aprobación de SE y CAE, así como de personal que auxiliará en el procedimiento de conteo, sellado y agrupamiento de las boletas electorales; así como la integración de documentación para las casillas","OPL","CG","2021-04-24","2021-05-11",null,null,{"$f":"VLOOKUP(P4554,Campos!$B$2:$C$7,2,FALSE)","v":0},"Sin información"]
[4549,27,"Tabasco",11,"Documentación y material electoral","11.13",13,"Recepción de las boletas electorales por el órgano competente que realizará el conteo, sellado y agrupamiento","OPL","CG","2021-05-18","2021-05-22",null,null,{"$f":"VLOOKUP(P4555,Campos!$B$2:$C$7,2,FALSE)","v":0},"Sin información"]
[4550,27,"Tabasco",11,"Documentación y material electoral","11.14",14,"Conteo, sellado y agrupamiento de boletas","OPL","CG","2021-05-18","2021-05-28",null,null,{"$f":"VLOOKUP(P4556,Campos!$B$2:$C$7,2,FALSE)","v":0},"Sin información"]
[4551,27,"Tabasco",11,"Documentación y material electoral","11.15",15,"Distribución de la documentación y materiales electorales a las y los Presidentes de mesas directivas de casilla","OPL","OD","2021-05-31","2021-06-04",null,null,{"$f":"VLOOKUP(P4557,Campos!$B$2:$C$7,2,FALSE)","v":0},"Sin información"]
[4552,27,"Tabasco",11,"Documentación y material electoral","11.16",16,"Remisión de los recibos de la entrega de la documentación y materiales electorales al Consejo General del OPL","INE","JLE","2021-06-24","2021-06-30",null,null,{"$f":"VLOOKUP(P4558,Campos!$B$2:$C$7,2,FALSE)","v":0},"Sin información"]
[4553,27,"Tabasco",12,"Jornada Electoral","12.1",1,"Aprobación del Programa de Operación del SIJE 2021","INE","CCOE","2020-07-01","2020-07-31",null,null,{"$f":"VLOOKUP(P4559,Campos!$B$2:$C$7,2,FALSE)","v":0},"Sin información"]
[4554,27,"Tabasco",12,"Jornada Electoral","12.2",2,"Aprobación de las metas del SIJE 2021","INE","CG","2021-03-01","2021-03-31",null,null,{"$f":"VLOOKUP(P4560,Campos!$B$2:$C$7,2,FALSE)","v":0},"Sin información"]
[4555,27,"Tabasco",12,"Jornada Electoral","12.3",3,"Realización de pruebas del SIJE 2021","INE","DEOE","2021-04-01","2021-04-15",null,null,{"$f":"VLOOKUP(P4561,Campos!$B$2:$C$7,2,FALSE)","v":0},"Sin información"]
[4556,27,"Tabasco",12,"Jornada Electoral","12.4",4,"Desarrollo del primer simulacro del SIJE","INE/OPL","DEOE/OD","2021-04-29","2021-04-29",null,null,{"$f":"VLOOKUP(P4562,Campos!$B$2:$C$7,2,FALSE)","v":0},"Sin información"]
[4557,27,"Tabasco",12,"Jornada Electoral","12.5",5,"Desarrollo del segundo simulacro del SIJE","INE/OPL","DEOE/OD","2021-05-09","2021-05-09",null,null,{"$f":"VLOOKUP(P4563,Campos!$B$2:$C$7,2,FALSE)","v":0},"Sin información"]
[4558,27,"Tabasco",12,"Jornada Electoral","12.6",6,"Desarrollo del tercer simulacro del SIJE","INE/OPL","DEOE/OD","2021-05-23","2021-05-23",null,null,{"$f":"VLOOKUP(P4564,Campos!$B$2:$C$7,2,FALSE)","v":0},"Sin información"]
[4559,27,"Tabasco",12,"Jornada Electoral","12.7",7,"Jornada Electoral","OPL","CG/OD","2021-06-06","2021-06-06",null,null,{"$f":"VLOOKUP(P4565,Campos!$B$2:$C$7,2,FALSE)","v":0},"Sin información"]
[4560,27,"Tabasco",13,"Bodegas electorales","13.1",1,"Determinación de los lugares que ocuparán las bodegas electorales para el resguardo de la documentación electoral","OPL","CG","2021-02-01","2021-02-28",null,null,{"$f":"VLOOKUP(P4566,Campos!$B$2:$C$7,2,FALSE)","v":0},"Sin información"]
[4561,27,"Tabasco",13,"Bodegas electorales","13.2",2,"Informe que rinden las y los Presidentes sobre las condiciones de equipamiento, mecanismos de operación y medidas de seguridad de las bodegas electorales","OPL","OD","2021-03-01","2021-03-31",null,null,{"$f":"VLOOKUP(P4567,Campos!$B$2:$C$7,2,FALSE)","v":0},"Sin información"]
[4562,27,"Tabasco",13,"Bodegas electorales","13.3",3,"Designación, por parte del órgano competente del OPL, del personal que tendrá acceso a la bodega electoral","OPL","CG/OD","2021-03-01","2021-03-30",null,null,{"$f":"VLOOKUP(P4568,Campos!$B$2:$C$7,2,FALSE)","v":0},"Sin información"]
[4563,27,"Tabasco",13,"Bodegas electorales","13.4",4,"Envío a la UTVOPL, por conducto de la JLE, el informe sobre las condiciones que guardan las bodegas electorales","OPL","CG","2021-04-04","2021-04-10",null,null,{"$f":"VLOOKUP(P4569,Campos!$B$2:$C$7,2,FALSE)","v":0},"Sin información"]
[4564,27,"Tabasco",14,"Mecanismos de recolección","14.1",1,"Entrega de estudios de factibilidad al OPL","INE","CL","2021-03-15","2021-03-31",null,null,{"$f":"VLOOKUP(P4570,Campos!$B$2:$C$7,2,FALSE)","v":0},"Sin información"]
[4565,27,"Tabasco",14,"Mecanismos de recolección","14.2",2,"Entrega de observaciones a los estudios de factibilidad ","OPL","CG","2021-04-01","2021-04-24",null,null,{"$f":"VLOOKUP(P4571,Campos!$B$2:$C$7,2,FALSE)","v":0},"Sin información"]
[4566,27,"Tabasco",14,"Mecanismos de recolección","14.3",3,"Recorridos para verificar las propuestas de los mecanismos de recolección","INE/OPL","CD/OD","2021-03-16","2021-04-24",null,null,{"$f":"VLOOKUP(P4572,Campos!$B$2:$C$7,2,FALSE)","v":0},"Sin información"]
[4567,27,"Tabasco",14,"Mecanismos de recolección","14.4",4,"Aprobación de los mecanismos de recolección ","INE","CD","2021-04-26","2021-04-30",null,null,{"$f":"VLOOKUP(P4573,Campos!$B$2:$C$7,2,FALSE)","v":0},"Sin información"]
[4568,27,"Tabasco",14,"Mecanismos de recolección","14.5",5,"Traslado y recolección de los paquetes electorales","INE/OPL","CD/OD","2021-06-06","2021-06-07",null,null,{"$f":"VLOOKUP(P4574,Campos!$B$2:$C$7,2,FALSE)","v":0},"Sin información"]
[4569,27,"Tabasco",14,"Mecanismos de recolección","14.6",6,"Acreditación de representantes de partidos políticos y candidaturas independientes ante los mecanismos de recolección","INE","CL/CD","2021-04-27","2021-06-03",null,null,{"$f":"VLOOKUP(P4575,Campos!$B$2:$C$7,2,FALSE)","v":0},"Sin información"]
[4570,27,"Tabasco",14,"Mecanismos de recolección","14.7",7,"Sustitución de representantes de partidos políticos y candidaturas independientes ante los mecanismos de recolección","INE","CL/CD","2021-04-28","2021-06-04",null,null,{"$f":"VLOOKUP(P4576,Campos!$B$2:$C$7,2,FALSE)","v":0},"Sin información"]
[4571,27,"Tabasco",14,"Mecanismos de recolección","14.8",8,"Entrega a la JLE, el informe sobre la recepción de paquetes electorales en los órganos competentes","OPL","CG","2021-06-06","2021-06-28",null,null,{"$f":"VLOOKUP(P4577,Campos!$B$2:$C$7,2,FALSE)","v":0},"Sin información"]
[4572,27,"Tabasco",15,"Cómputos","15.1",1,"Aprobación de los lineamientos de cómputo y del cuadernillo de consulta sobre votos válidos y votos nulos","OPL","CG","2021-01-18","2021-01-29",null,null,{"$f":"VLOOKUP(P4578,Campos!$B$2:$C$7,2,FALSE)","v":0},"Sin información"]
[4573,27,"Tabasco",15,"Cómputos","15.2",2,"Integración por parte de los Órganos Desconcentrados del OPL, de la propuesta para la habilitación de espacios para el recuento de votos con las alternativas para todos los escenarios de cómputo","OPL","OD","2021-03-01","2021-03-07",null,null,{"$f":"VLOOKUP(P4579,Campos!$B$2:$C$7,2,FALSE)","v":0},"Sin información"]
[4574,27,"Tabasco",15,"Cómputos","15.3",3,"Informe de los escenarios de cómputos de la totalidad de sus órganos desconcentrados","OPL","CG","2021-04-01","2021-04-04",null,null,{"$f":"VLOOKUP(P4580,Campos!$B$2:$C$7,2,FALSE)","v":0},"Sin información"]
[4575,27,"Tabasco",15,"Cómputos","15.4",4,"Remisión a la JLE en la entidad, las propuestas de escenarios de cómputos, para la dictaminación de viabilidad","OPL","CG","2021-05-01","2021-05-07",null,null,{"$f":"VLOOKUP(P4581,Campos!$B$2:$C$7,2,FALSE)","v":0},"Sin información"]
[4576,27,"Tabasco",15,"Cómputos","15.5",5,"Remisión de las observaciones a los escenarios de Cómputos al OPL y a su vez informar de las mismas a la UTVOPL","INE","JLE","2021-05-08","2021-05-15",null,null,{"$f":"VLOOKUP(P4582,Campos!$B$2:$C$7,2,FALSE)","v":0},"Sin información"]
[4577,27,"Tabasco",15,"Cómputos","15.6",6,"Aprobación por parte del órgano competente del OPL, del acuerdo mediante el cual se designa al personal que participará en las tareas de apoyo a los Cómputos Municipales","OPL","CG/OD","2021-04-26","2021-05-05",null,null,{"$f":"VLOOKUP(P4583,Campos!$B$2:$C$7,2,FALSE)","v":0},"Sin información"]
[4578,27,"Tabasco",15,"Cómputos","15.7",7,"Aprobación por parte del órgano competente del OPL, del acuerdo mediante el cual se designa al personal que participará en las tareas de apoyo a los Cómputos Distritales ","OPL","CG/OD","2021-04-26","2021-05-05",null,null,{"$f":"VLOOKUP(P4584,Campos!$B$2:$C$7,2,FALSE)","v":0},"Sin información"]
[4579,27,"Tabasco",15,"Cómputos","15.8",8,"Aprobación por parte de los órganos competentes del OPL, de los distintos escenarios de cómputos","OPL","OD","2021-05-08","2021-05-15",null,null,{"$f":"VLOOKUP(P4585,Campos!$B$2:$C$7,2,FALSE)","v":0},"Sin información"]
[4580,27,"Tabasco",15,"Cómputos","15.9",9,"Aprobación por parte del órgano competente del OPL, del acuerdo por el que se habilitarán espacios para la instalación de grupos de trabajo y, en su caso, puntos de recuento","OPL","CG/OD","2021-06-08","2021-06-08",null,null,{"$f":"VLOOKUP(P4586,Campos!$B$2:$C$7,2,FALSE)","v":0},"Sin información"]
[4581,27,"Tabasco",15,"Cómputos","15.10",10,"Cómputos Distritales","OPL","OD","2021-06-09","2021-06-12",null,null,{"$f":"VLOOKUP(P4587,Campos!$B$2:$C$7,2,FALSE)","v":0},"Sin información"]
[4582,27,"Tabasco",15,"Cómputos","15.14",14,"Cómputo Estatal para la asignación diputaciones de Representación Proporcional","OPL","CG","2021-06-13","2021-06-13",null,null,{"$f":"VLOOKUP(P4588,Campos!$B$2:$C$7,2,FALSE)","v":0},"Sin información"]
[4583,27,"Tabasco",15,"Cómputos","15.16",16,"Asignación de regidurías por el principio de Representación Proporcional","OPL","CG","2021-06-13","2021-06-13",null,null,{"$f":"VLOOKUP(P4589,Campos!$B$2:$C$7,2,FALSE)","v":0},"Sin información"]
[4584,27,"Tabasco",16,"PREP","16.1",1,"Aprobación del Acuerdo por el que se designa o ratifica a la instancia interna responsable de coordinar el PREP","OPL","CG","2020-09-11","2020-09-11",null,null,{"$f":"VLOOKUP(P4590,Campos!$B$2:$C$7,2,FALSE)","v":0},"Sin información"]
[4585,27,"Tabasco",16,"PREP","16.2",2,"Aprobación del Acuerdo de Integración del COTAPREP","OPL","CG","2020-11-11","2020-11-11",null,null,{"$f":"VLOOKUP(P4591,Campos!$B$2:$C$7,2,FALSE)","v":0},"Sin información"]
[4586,27,"Tabasco",16,"PREP","16.3",3,"Documento por el que se determina la implementación del PREP por el OPL o con el apoyo de un Tercero","OPL","CG","2020-12-11","2020-12-11",null,null,{"$f":"VLOOKUP(P4592,Campos!$B$2:$C$7,2,FALSE)","v":0},"Sin información"]
[4587,27,"Tabasco",16,"PREP","16.4",4,"Aprobación del acuerdo por el que se determina el Proceso Técnico Operativo ","OPL","CG","2021-01-11","2021-01-11",null,null,{"$f":"VLOOKUP(P4593,Campos!$B$2:$C$7,2,FALSE)","v":0},"Sin información"]
[4588,27,"Tabasco",16,"PREP","16.5",5,"Aprobación del Acuerdo por el que se determina la ubicación, instalación y habilitación de los CATD y, en su caso, CCV","OPL","CG","2021-02-11","2021-02-11",null,null,{"$f":"VLOOKUP(P4594,Campos!$B$2:$C$7,2,FALSE)","v":0},"Sin información"]
[4589,27,"Tabasco",16,"PREP","16.7",7,"Instrumento jurídico celebrado entre el OPL y el ente auditor","OPL","CG","2021-03-11","2021-03-11",null,null,{"$f":"VLOOKUP(P4595,Campos!$B$2:$C$7,2,FALSE)","v":0},"Sin información"]
[4590,27,"Tabasco",16,"PREP","16.6",6,"Documento de Designación del Ente Auditor ","OPL","CG","2021-02-11","2021-02-11",null,null,{"$f":"VLOOKUP(P4596,Campos!$B$2:$C$7,2,FALSE)","v":0},"Sin información"]
[4591,27,"Tabasco",16,"PREP","16.8",8,"Realización del primer simulacro del PREP","OPL","CG","2021-05-16","2021-05-16",null,null,{"$f":"VLOOKUP(P4597,Campos!$B$2:$C$7,2,FALSE)","v":0},"Sin información"]
[4592,27,"Tabasco",16,"PREP","16.9",9,"Realización del segundo simulacro del PREP","OPL","CG","2021-05-23","2021-05-23",null,null,{"$f":"VLOOKUP(P4598,Campos!$B$2:$C$7,2,FALSE)","v":0},"Sin información"]
[4593,27,"Tabasco",16,"PREP","16.10",10,"Realización del tercer simulacro del PREP","OPL","CG","2021-05-30","2021-05-30",null,null,{"$f":"VLOOKUP(P4599,Campos!$B$2:$C$7,2,FALSE)","v":0},"Sin información"]
[4594,27,"Tabasco",16,"PREP","16.11",11,"Operación del PREP","OPL","CG","2021-06-06","2021-06-07",null,null,{"$f":"VLOOKUP(P4600,Campos!$B$2:$C$7,2,FALSE)","v":0},"Sin información"]
[4595,27,"Tabasco",19,"Visitantes extranjeros","19.1",1,"Emisión de la Convocatoria para visitantes extranjeros","INE","CG","2020-08-03","2020-09-30",null,null,{"$f":"VLOOKUP(P4601,Campos!$B$2:$C$7,2,FALSE)","v":0},"Sin información"]
[4596,27,"Tabasco",19,"Visitantes extranjeros","19.2",2,"Difusión de la Convocatoria para visitantes extranjeros","INE","CAI","2020-09-01","2021-05-26",null,null,{"$f":"VLOOKUP(P4602,Campos!$B$2:$C$7,2,FALSE)","v":0},"Sin información"]
[4597,27,"Tabasco",19,"Visitantes extranjeros","19.3",3,"Recepción de solicitudes de acreditación como visitantes extranjeros","INE","CAI","2020-09-01","2021-05-26",null,null,{"$f":"VLOOKUP(P4603,Campos!$B$2:$C$7,2,FALSE)","v":0},"Sin información"]
[4598,27,"Tabasco",19,"Visitantes extranjeros","19.4",4,"Resolución de solicitudes de acreditación como visitantes extranjeros","INE","CAI","2020-09-02","2021-05-30",null,null,{"$f":"VLOOKUP(P4604,Campos!$B$2:$C$7,2,FALSE)","v":0},"Sin información"]
[4599,27,"Tabasco",19,"Visitantes extranjeros","19.5",5,"Entrega de acreditaciones a los visitantes extranjeros","INE","CAI","2020-09-04","2021-06-05",null,null,{"$f":"VLOOKUP(P4605,Campos!$B$2:$C$7,2,FALSE)","v":0},"Sin información"]
[4600,28,"Tamaulipas",1,"Mecanismos de coordinación","1.1",1,"Aprobar Calendarios y Planes Integrales de los Procesos Electorales Locales","INE","CG","2020-08-01","2020-08-07",null,null,{"$f":"VLOOKUP(P4606,Campos!$B$2:$C$7,2,FALSE)","v":0},"Sin información"]
[4601,28,"Tamaulipas",1,"Mecanismos de coordinación","1.2",2,"Firma del Convenio General de Coordinación y Colaboración 2020-2021","INE/OPL","INE/OPL","2020-09-01","2020-10-01",null,null,{"$f":"VLOOKUP(P4607,Campos!$B$2:$C$7,2,FALSE)","v":0},"Sin información"]
[4602,28,"Tamaulipas",1,"Mecanismos de coordinación","1.3",3,"Elaborar un plan de trabajo conjunto para la promoción de la participación ciudadana","INE/OPL","INE/OPL","2020-09-01","2020-12-31",null,null,{"$f":"VLOOKUP(P4608,Campos!$B$2:$C$7,2,FALSE)","v":0},"Sin información"]
[4603,28,"Tamaulipas",1,"Mecanismos de coordinación","1.4",4,"Sesión para dar inicio al PEL","OPL","CG","2020-09-13","2020-09-13",null,null,{"$f":"VLOOKUP(P4609,Campos!$B$2:$C$7,2,FALSE)","v":0},"Sin información"]
[4604,28,"Tamaulipas",1,"Mecanismos de coordinación","1.5",5,"Implementar un plan de trabajo conjunto para la promoción de la participación ciudadana","INE/OPL","INE/OPL","2021-02-01","2021-06-06",null,null,{"$f":"VLOOKUP(P4610,Campos!$B$2:$C$7,2,FALSE)","v":0},"Sin información"]
[4605,28,"Tamaulipas",2,"Integración de órganos desconcentrados","2.1",1,"Convocatoria para la integración de los Órganos Distritales","OPL","CG","2020-04-01","2020-10-15",null,null,{"$f":"VLOOKUP(P4611,Campos!$B$2:$C$7,2,FALSE)","v":0},"Sin información"]
[4606,28,"Tamaulipas",2,"Integración de órganos desconcentrados","2.2",2,"Sesión en la que se designan e integran los Órganos Distritales ","OPL","CG","2020-10-16","2020-12-10",null,null,{"$f":"VLOOKUP(P4612,Campos!$B$2:$C$7,2,FALSE)","v":0},"Sin información"]
[4607,28,"Tamaulipas",2,"Integración de órganos desconcentrados","2.3",3,"Instalación de los Órganos Distritales ","OPL","OD","2021-01-03","2021-01-09",null,null,{"$f":"VLOOKUP(P4613,Campos!$B$2:$C$7,2,FALSE)","v":0},"Sin información"]
[4608,28,"Tamaulipas",2,"Integración de órganos desconcentrados","2.4",4,"Convocatoria para la integración de los Órganos Municipales ","OPL","CG","2020-04-01","2020-10-15",null,null,{"$f":"VLOOKUP(P4614,Campos!$B$2:$C$7,2,FALSE)","v":0},"Sin información"]
[4609,28,"Tamaulipas",2,"Integración de órganos desconcentrados","2.5",5,"Sesión en la que se designan e integran los Órganos Municipales ","OPL","CG","2020-10-16","2020-12-10",null,null,{"$f":"VLOOKUP(P4615,Campos!$B$2:$C$7,2,FALSE)","v":0},"Sin información"]
[4610,28,"Tamaulipas",2,"Integración de órganos desconcentrados","2.6",6,"Instalación de los Órganos Municipales ","OPL","OD","2021-01-03","2021-01-09",null,null,{"$f":"VLOOKUP(P4616,Campos!$B$2:$C$7,2,FALSE)","v":0},"Sin información"]
[4611,28,"Tamaulipas",2,"Integración de órganos desconcentrados","2.7",7,"Designación y/o ratificación de las y los Consejeros Electorales del Consejo Local ","INE","CG","2020-10-01","2020-10-15",null,null,{"$f":"VLOOKUP(P4617,Campos!$B$2:$C$7,2,FALSE)","v":0},"Sin información"]
[4612,28,"Tamaulipas",2,"Integración de órganos desconcentrados","2.8",8,"Instalación del Consejo Local","INE","CL","2020-11-01","2020-11-30",null,null,{"$f":"VLOOKUP(P4618,Campos!$B$2:$C$7,2,FALSE)","v":0},"Sin información"]
[4613,28,"Tamaulipas",2,"Integración de órganos desconcentrados","2.9",9,"Designación y/o ratificación de las y los Consejeros Electorales de los Consejos Distritales ","INE","CL","2020-11-01","2020-11-30",null,null,{"$f":"VLOOKUP(P4619,Campos!$B$2:$C$7,2,FALSE)","v":0},"Sin información"]
[4614,28,"Tamaulipas",2,"Integración de órganos desconcentrados","2.10",10,"Instalación de los Consejos Distritales","INE","CD","2020-12-01","2020-12-15",null,null,{"$f":"VLOOKUP(P4620,Campos!$B$2:$C$7,2,FALSE)","v":0},"Sin información"]
[4615,28,"Tamaulipas",3,"Lista Nominal de Electores","3.1",1,"Generación y entrega de la Lista Nominal de Electores para Revisión en medios ópticos a los representantes de los partidos políticos, y en su caso a las candidaturas independientes acreditados ante el OPL, para observaciones","INE","DERFE","2021-02-15","2021-02-15",null,null,{"$f":"VLOOKUP(P4621,Campos!$B$2:$C$7,2,FALSE)","v":0},"Sin información"]
[4616,28,"Tamaulipas",3,"Lista Nominal de Electores","3.2",2,"Recepción de observaciones de los partidos políticos y en su caso, candidatos independientes, a la Lista Nominal de Electores para revisión","INE/OPL","DERFE","2021-03-14","2021-03-14",null,null,{"$f":"VLOOKUP(P4622,Campos!$B$2:$C$7,2,FALSE)","v":0},"Sin información"]
[4617,28,"Tamaulipas",3,"Lista Nominal de Electores","3.3",3,"Entrega en formato digital el informe respecto de la atención a las observaciones formuladas a la Lista Nominal de Electores para Revisión","INE","DERFE","2021-04-15","2021-04-15",null,null,{"$f":"VLOOKUP(P4623,Campos!$B$2:$C$7,2,FALSE)","v":0},"Sin información"]
[4618,28,"Tamaulipas",3,"Lista Nominal de Electores","3.4",4,"Entrega de la Lista Nominal de Electores Definitiva con fotografía","INE","DERFE","2021-05-06","2021-05-14",null,null,{"$f":"VLOOKUP(P4624,Campos!$B$2:$C$7,2,FALSE)","v":0},"Sin información"]
[4619,28,"Tamaulipas",3,"Lista Nominal de Electores","3.5",5,"Fecha de entrega de la Lista Nominal de Electores con fotografía Producto de Instancias Administrativas y Resoluciones del Tribunal (ADENDA)","INE","DERFE","2021-05-19","2021-05-24",null,null,{"$f":"VLOOKUP(P4625,Campos!$B$2:$C$7,2,FALSE)","v":0},"Sin información"]
[4620,28,"Tamaulipas",4,"Observación Electoral","4.1",1,"Emisión de la convocatoria para la ciudadanía que desee participar en la observación electoral","OPL","CG","2020-09-13","2020-09-13",null,null,{"$f":"VLOOKUP(P4626,Campos!$B$2:$C$7,2,FALSE)","v":0},"Sin información"]
[4621,28,"Tamaulipas",4,"Observación Electoral","4.2",2,"Recepción de solicitudes de la ciudadanía que desee participar en observación electoral","INE/OPL","OPL/JLE/JDE","2020-09-13","2021-04-30",null,null,{"$f":"VLOOKUP(P4627,Campos!$B$2:$C$7,2,FALSE)","v":0},"Sin información"]
[4622,28,"Tamaulipas",4,"Observación Electoral","4.3",3,"Impartición de los cursos de capacitación, preparación o información","INE/OPL","OPL/JLE/JDE","2020-09-13","2021-05-17",null,null,{"$f":"VLOOKUP(P4628,Campos!$B$2:$C$7,2,FALSE)","v":0},"Sin información"]
[4623,28,"Tamaulipas",4,"Observación Electoral","4.4",4,"Acreditación de la ciudadanía como observadores u observadoras electorales","INE","CL/CD","2020-09-13","2021-06-05",null,null,{"$f":"VLOOKUP(P4629,Campos!$B$2:$C$7,2,FALSE)","v":0},"Sin información"]
[4624,28,"Tamaulipas",4,"Observación Electoral","4.5",5,"Seguimiento a los informes mensuales de acreditación","INE","CG","2020-09-13","2021-07-31",null,null,{"$f":"VLOOKUP(P4630,Campos!$B$2:$C$7,2,FALSE)","v":0},"Sin información"]
[4625,28,"Tamaulipas",4,"Observación Electoral","4.6",6,"Remisión de materiales de capacitación a la JLE para revisión","OPL","CG","2020-10-08","2020-10-08",null,null,{"$f":"VLOOKUP(P4631,Campos!$B$2:$C$7,2,FALSE)","v":0},"Sin información"]
[4626,28,"Tamaulipas",4,"Observación Electoral","4.7",7,"Revisión, corrección, verificación y validación de materiales de capacitación para observación electoral ","INE","JLE","2020-10-09","2020-10-30",null,null,{"$f":"VLOOKUP(P4632,Campos!$B$2:$C$7,2,FALSE)","v":0},"Sin información"]
[4627,28,"Tamaulipas",4,"Observación Electoral","4.8",8,"Entrega de materiales de capacitación para observación electoral entre OPL e INE","INE/OPL","VEL/OPL","2020-11-01","2020-11-23",null,null,{"$f":"VLOOKUP(P4633,Campos!$B$2:$C$7,2,FALSE)","v":0},"Sin información"]
[4628,28,"Tamaulipas",5,"Ubicación de casillas","5.1",1,"Recorridos por las secciones de los distritos para localizar los lugares donde se ubicarán las casillas","INE/OPL","JDE/OPL","2021-01-15","2021-02-15",null,null,{"$f":"VLOOKUP(P4634,Campos!$B$2:$C$7,2,FALSE)","v":0},"Sin información"]
[4629,28,"Tamaulipas",5,"Ubicación de casillas","5.2",2,"Presentación a los Consejos Distritales del listado de lugares propuestos para ubicar casillas","INE","JDE","2021-02-24","2021-02-24",null,null,{"$f":"VLOOKUP(P4635,Campos!$B$2:$C$7,2,FALSE)","v":0},"Sin información"]
[4630,28,"Tamaulipas",5,"Ubicación de casillas","5.3",3,"Visitas de examinación en los lugares propuestos para ubicar casillas básicas, contiguas, especiales y extraordinarias","INE/OPL","CD/OPL","2021-02-25","2021-03-16",null,null,{"$f":"VLOOKUP(P4636,Campos!$B$2:$C$7,2,FALSE)","v":0},"Sin información"]
[4631,28,"Tamaulipas",5,"Ubicación de casillas","5.4",4,"Aprobación del número y ubicación de casillas extraordinarias y especiales","INE","CD","2021-03-16","2021-03-16",null,null,{"$f":"VLOOKUP(P4637,Campos!$B$2:$C$7,2,FALSE)","v":0},"Sin información"]
[4632,28,"Tamaulipas",5,"Ubicación de casillas","5.5",5,"Aprobación del número y ubicación de casillas básicas y contiguas","INE","CD","2021-03-25","2021-03-25",null,null,{"$f":"VLOOKUP(P4638,Campos!$B$2:$C$7,2,FALSE)","v":0},"Sin información"]
[4633,28,"Tamaulipas",5,"Ubicación de casillas","5.6",6,"Entrega de la base de datos de la Lista Nominal Definitiva a UNICOM con corte al 10 de abril","INE","DERFE","2021-04-15","2021-04-16",null,null,{"$f":"VLOOKUP(P4639,Campos!$B$2:$C$7,2,FALSE)","v":0},"Sin información"]
[4634,28,"Tamaulipas",5,"Ubicación de casillas","5.7",7,"Realizar la primera publicación de la lista de ubicación de casillas en los lugares más concurridos del distrito electoral  y en los medios electrónicos del Instituto","INE","CD","2021-04-15","2021-04-15",null,null,{"$f":"VLOOKUP(P4640,Campos!$B$2:$C$7,2,FALSE)","v":0},"Sin información"]
[4635,28,"Tamaulipas",5,"Ubicación de casillas","5.8",8,"En su caso, segunda publicación de la lista de ubicación de casillas por causas supervenientes en los lugares más concurridos del distrito y en los medios electrónicos del Instituto","INE","CD","2021-05-15","2021-05-25",null,null,{"$f":"VLOOKUP(P4641,Campos!$B$2:$C$7,2,FALSE)","v":0},"Sin información"]
[4636,28,"Tamaulipas",5,"Ubicación de casillas","5.9",9,"Publicación de los encartes y difusión en medios electrónicos del Instituto","INE/OPL","DEOE/CG","2021-06-05","2021-06-06",null,null,{"$f":"VLOOKUP(P4642,Campos!$B$2:$C$7,2,FALSE)","v":0},"Sin información"]
[4637,28,"Tamaulipas",5,"Ubicación de casillas","5.10",10,"Registro de representantes generales y ante mesas directivas de casilla","INE","CD","2021-04-16","2021-05-24",null,null,{"$f":"VLOOKUP(P4643,Campos!$B$2:$C$7,2,FALSE)","v":0},"Sin información"]
[4638,28,"Tamaulipas",5,"Ubicación de casillas","5.11",11,"Sustitución de representantes generales y ante mesas directivas de casilla","INE","CD","2021-04-16","2021-05-27",null,null,{"$f":"VLOOKUP(P4644,Campos!$B$2:$C$7,2,FALSE)","v":0},"Sin información"]
[4639,28,"Tamaulipas",5,"Ubicación de casillas","5.12",12,"Entrega de listados de representantes generales y ante casilla al OPL","INE","CD","2021-05-30","2021-05-30",null,null,{"$f":"VLOOKUP(P4645,Campos!$B$2:$C$7,2,FALSE)","v":0},"Sin información"]
[4640,28,"Tamaulipas",5,"Ubicación de casillas","5.13",13,"Notificación ciudadana de ubicación de casillas en secciones electorales involucradas en la actualización del Marco Geográfico Electoral","INE/OPL","DERFE/OPL","2021-04-01","2021-06-15",null,null,{"$f":"VLOOKUP(P4646,Campos!$B$2:$C$7,2,FALSE)","v":0},"Sin información"]
[4641,28,"Tamaulipas",6,"Integración de las Mesas Directivas de Casilla","6.1",1,"Aprobación de la Estrategia de Capacitación y Asistencia Electoral","INE","CG","2020-08-01","2020-08-15",null,null,{"$f":"VLOOKUP(P4647,Campos!$B$2:$C$7,2,FALSE)","v":0},"Sin información"]
[4642,28,"Tamaulipas",6,"Integración de las Mesas Directivas de Casilla","6.2",2,"Entrega para revisión y validación de materiales didácticos de primera etapa","OPL","CG","2020-11-03","2020-11-03",null,null,{"$f":"VLOOKUP(P4648,Campos!$B$2:$C$7,2,FALSE)","v":0},"Sin información"]
[4643,28,"Tamaulipas",6,"Integración de las Mesas Directivas de Casilla","6.3",3,"Revisión, corrección, verificación y validación de los materiales didácticos de primera etapa","INE/OPL","JLE/DECEYEC/OPL","2020-11-03","2020-12-19",null,null,{"$f":"VLOOKUP(P4649,Campos!$B$2:$C$7,2,FALSE)","v":0},"Sin información"]
[4644,28,"Tamaulipas",6,"Integración de las Mesas Directivas de Casilla","6.4",4,"Entrega de los materiales impresos de la primera etapa a la JLE","OPL","OPL","2021-02-05","2021-02-05",null,null,{"$f":"VLOOKUP(P4650,Campos!$B$2:$C$7,2,FALSE)","v":0},"Sin información"]
[4645,28,"Tamaulipas",6,"Integración de las Mesas Directivas de Casilla","6.5",5,"Sorteo del mes del calendario como base para la insaculación de las y los ciudadanos que integrarán las mesas directivas de casilla","INE","CG","2020-12-15","2020-12-19",null,null,{"$f":"VLOOKUP(P4651,Campos!$B$2:$C$7,2,FALSE)","v":0},"Sin información"]
[4646,28,"Tamaulipas",6,"Integración de las Mesas Directivas de Casilla","6.6",6,"Entrega para revisión y validación de materiales didácticos de segunda etapa","OPL","OPL","2021-02-03","2021-02-03",null,null,{"$f":"VLOOKUP(P4652,Campos!$B$2:$C$7,2,FALSE)","v":0},"Sin información"]
[4647,28,"Tamaulipas",6,"Integración de las Mesas Directivas de Casilla","6.7",7,"Revisión, corrección, verificación y validación de los materiales didácticos de la segunda etapa","INE/OPL","JLE/DECEYEC/OPL","2021-02-03","2021-03-22",null,null,{"$f":"VLOOKUP(P4653,Campos!$B$2:$C$7,2,FALSE)","v":0},"Sin información"]
[4648,28,"Tamaulipas",6,"Integración de las Mesas Directivas de Casilla","6.8",8,"Entrega de los materiales impresos de la segunda etapa a la JLE","OPL","OPL","2021-04-05","2021-04-05",null,null,{"$f":"VLOOKUP(P4654,Campos!$B$2:$C$7,2,FALSE)","v":0},"Sin información"]
[4649,28,"Tamaulipas",6,"Integración de las Mesas Directivas de Casilla","6.9",9,"Sorteo de la letra a partir de la cual, con base en el apellido paterno, se seleccionará a las y los ciudadanos que integrarán las mesas directivas de casilla","INE","CG","2021-02-02","2021-02-02",null,null,{"$f":"VLOOKUP(P4655,Campos!$B$2:$C$7,2,FALSE)","v":0},"Sin información"]
[4650,28,"Tamaulipas",6,"Integración de las Mesas Directivas de Casilla","6.10",10,"Entrega de la Lista Nominal de Electores para el Procedimiento de la Primera insaculación con corte al 15 de enero de 2021.","INE","DERFE/UNICOM","2021-01-21","2021-01-26",null,null,{"$f":"VLOOKUP(P4656,Campos!$B$2:$C$7,2,FALSE)","v":0},"Sin información"]
[4651,28,"Tamaulipas",6,"Integración de las Mesas Directivas de Casilla","6.11",11,"Primera insaculación","INE","JDE","2021-02-06","2021-02-06",null,null,{"$f":"VLOOKUP(P4657,Campos!$B$2:$C$7,2,FALSE)","v":0},"Sin información"]
[4652,28,"Tamaulipas",6,"Integración de las Mesas Directivas de Casilla","6.12",12,"Primera etapa de capacitación a las personas insaculadas","INE","CD","2021-02-09","2021-03-31",null,null,{"$f":"VLOOKUP(P4658,Campos!$B$2:$C$7,2,FALSE)","v":0},"Sin información"]
[4653,28,"Tamaulipas",6,"Integración de las Mesas Directivas de Casilla","6.13",13,"Integración de la lista de ciudadanos y ciudadanas que cumplen los requisitos legales para integrar las mesas directivas de casilla","INE","CD","2021-02-09","2021-03-31",null,null,{"$f":"VLOOKUP(P4659,Campos!$B$2:$C$7,2,FALSE)","v":0},"Sin información"]
[4654,28,"Tamaulipas",6,"Integración de las Mesas Directivas de Casilla","6.14",14,"Segunda insaculación y designación de funcionarios para mesas directivas de casilla","INE","CD","2021-04-08","2021-04-08",null,null,{"$f":"VLOOKUP(P4660,Campos!$B$2:$C$7,2,FALSE)","v":0},"Sin información"]
[4655,28,"Tamaulipas",6,"Integración de las Mesas Directivas de Casilla","6.15",15,"Segunda etapa de capacitación a funcionarios de mesa directiva de casilla y simulacros","INE","CD","2021-04-18","2021-06-05",null,null,{"$f":"VLOOKUP(P4661,Campos!$B$2:$C$7,2,FALSE)","v":0},"Sin información"]
[4656,28,"Tamaulipas",6,"Integración de las Mesas Directivas de Casilla","6.16",16,"Entrega de reconocimientos a funcionarios de mesas directivas de casilla","INE","CD","2021-06-07","2021-06-12",null,null,{"$f":"VLOOKUP(P4662,Campos!$B$2:$C$7,2,FALSE)","v":0},"Sin información"]
[4657,28,"Tamaulipas",6,"Integración de las Mesas Directivas de Casilla","6.17",17,"Periodo para contratación de CAE locales","INE/OPL","INE/OPL","Por definir","Por definir",null,null,{"$f":"VLOOKUP(P4663,Campos!$B$2:$C$7,2,FALSE)","v":0},"Sin información"]
[4658,28,"Tamaulipas",7,"Fiscalización de los recursos de los Partidos Políticos y candidaturas independientes","7.2",2,"Aprobación de topes de gastos de precampaña Diputaciones","OPL","CG","2020-11-01","2020-11-30",null,null,{"$f":"VLOOKUP(P4664,Campos!$B$2:$C$7,2,FALSE)","v":0},"Sin información"]
[4659,28,"Tamaulipas",7,"Fiscalización de los recursos de los Partidos Políticos y candidaturas independientes","7.3",3,"Aprobación de topes de gastos de precampaña Ayuntamientos","OPL","CG","2020-11-01","2020-11-30",null,null,{"$f":"VLOOKUP(P4665,Campos!$B$2:$C$7,2,FALSE)","v":0},"Sin información"]
[4660,28,"Tamaulipas",7,"Fiscalización de los recursos de los Partidos Políticos y candidaturas independientes","7.5",5,"Aprobación de los límites de financiamiento privado, aportaciones de militantes, simpatizantes y precandidatos o candidatos; así como el límite individual de aportaciones para Diputaciones","OPL","CG","2020-12-13","2021-01-31",null,null,{"$f":"VLOOKUP(P4666,Campos!$B$2:$C$7,2,FALSE)","v":0},"Sin información"]
[4661,28,"Tamaulipas",7,"Fiscalización de los recursos de los Partidos Políticos y candidaturas independientes","7.6",6,"Aprobación de los límites de financiamiento privado, aportaciones de militantes, simpatizantes y precandidatos o candidatos; así como el límite individual de aportaciones para Ayuntamientos","OPL","CG","2020-12-13","2021-01-31",null,null,{"$f":"VLOOKUP(P4667,Campos!$B$2:$C$7,2,FALSE)","v":0},"Sin información"]
[4662,28,"Tamaulipas",7,"Fiscalización de los recursos de los Partidos Políticos y candidaturas independientes","7.8",8,"Aprobación de topes de gastos para el periodo de obtención del apoyo ciudadano para Diputaciones","OPL","CG","2020-09-13","2020-12-15",null,null,{"$f":"VLOOKUP(P4668,Campos!$B$2:$C$7,2,FALSE)","v":0},"Sin información"]
[4663,28,"Tamaulipas",7,"Fiscalización de los recursos de los Partidos Políticos y candidaturas independientes","7.9",9,"Aprobación de topes de gastos para el periodo de obtención del apoyo ciudadano para Ayuntamientos","OPL","CG","2020-09-13","2020-12-15",null,null,{"$f":"VLOOKUP(P4669,Campos!$B$2:$C$7,2,FALSE)","v":0},"Sin información"]
[4664,28,"Tamaulipas",7,"Fiscalización de los recursos de los Partidos Políticos y candidaturas independientes","7.11",11,"Precampaña para Diputaciones","OPL","CG","2021-01-20","2021-02-18",null,null,{"$f":"VLOOKUP(P4670,Campos!$B$2:$C$7,2,FALSE)","v":0},"Sin información"]
[4665,28,"Tamaulipas",7,"Fiscalización de los recursos de los Partidos Políticos y candidaturas independientes","7.12",12,"Precampaña para Ayuntamientos","OPL","CG","2021-01-20","2021-02-18",null,null,{"$f":"VLOOKUP(P4671,Campos!$B$2:$C$7,2,FALSE)","v":0},"Sin información"]
[4666,28,"Tamaulipas",7,"Fiscalización de los recursos de los Partidos Políticos y candidaturas independientes","7.14",14,"Aprobación de topes de gastos de campaña para Diputaciones","OPL","CG","2021-03-07","2021-04-10",null,null,{"$f":"VLOOKUP(P4672,Campos!$B$2:$C$7,2,FALSE)","v":0},"Sin información"]
[4667,28,"Tamaulipas",7,"Fiscalización de los recursos de los Partidos Políticos y candidaturas independientes","7.15",15,"Aprobación de topes de gastos de campaña para Ayuntamientos","OPL","CG","2021-03-07","2021-04-10",null,null,{"$f":"VLOOKUP(P4673,Campos!$B$2:$C$7,2,FALSE)","v":0},"Sin información"]
[4668,28,"Tamaulipas",7,"Fiscalización de los recursos de los Partidos Políticos y candidaturas independientes","7.17",17,"Campaña para Diputaciones","OPL","CG","2021-04-19","2021-06-02",null,null,{"$f":"VLOOKUP(P4674,Campos!$B$2:$C$7,2,FALSE)","v":0},"Sin información"]
[4669,28,"Tamaulipas",7,"Fiscalización de los recursos de los Partidos Políticos y candidaturas independientes","7.18",18,"Campaña para Ayuntamientos","OPL","CG","2021-04-19","2021-06-02",null,null,{"$f":"VLOOKUP(P4675,Campos!$B$2:$C$7,2,FALSE)","v":0},"Sin información"]
[4670,28,"Tamaulipas",8,"Candidaturas Independientes","8.1",1,"Emisión de la convocatoria para la ciudadanía interesada en participar en Candidaturas Independientes ","OPL","CG","2020-09-13","2020-12-15",null,null,{"$f":"VLOOKUP(P4676,Campos!$B$2:$C$7,2,FALSE)","v":0},"Sin información"]
[4671,28,"Tamaulipas",8,"Candidaturas Independientes","8.3",3,"Recepción de escrito de intención y documentación anexa de la ciudadanía que aspire a la candidatura independiente para Diputaciones","OPL","SE/OD","2020-09-14","2020-12-01",null,null,{"$f":"VLOOKUP(P4677,Campos!$B$2:$C$7,2,FALSE)","v":0},"Sin información"]
[4672,28,"Tamaulipas",8,"Candidaturas Independientes","8.4",4,"Recepción de escrito de intención y documentación anexa de la ciudadanía que aspire a la candidatura independiente para Ayuntamientos","OPL","SE/OD","2020-09-14","2020-12-01",null,null,{"$f":"VLOOKUP(P4678,Campos!$B$2:$C$7,2,FALSE)","v":0},"Sin información"]
[4673,28,"Tamaulipas",8,"Candidaturas Independientes","8.6",6,"Resolución sobre procedencia de manifestación de intención de aspirantes a candidaturas independientes para Diputaciones","OPL","CG","2020-12-02","2020-12-15",null,null,{"$f":"VLOOKUP(P4679,Campos!$B$2:$C$7,2,FALSE)","v":0},"Sin información"]
[4674,28,"Tamaulipas",8,"Candidaturas Independientes","8.7",7,"Resolución sobre procedencia de manifestación de intención de aspirantes a candidaturas independientes para Ayuntamientos","OPL","CG","2020-12-02","2020-12-15",null,null,{"$f":"VLOOKUP(P4680,Campos!$B$2:$C$7,2,FALSE)","v":0},"Sin información"]
[4675,28,"Tamaulipas",8,"Candidaturas Independientes","8.9",9,"Plazo para obtener el apoyo ciudadano de las candidaturas independientes para Diputaciones","OPL","OD","2021-01-20","2021-02-18",null,null,{"$f":"VLOOKUP(P4681,Campos!$B$2:$C$7,2,FALSE)","v":0},"Sin información"]
[4676,28,"Tamaulipas",8,"Candidaturas Independientes","8.10",10,"Plazo para obtener el apoyo ciudadano de las candidaturas independientes para Ayuntamientos","OPL","OD","2021-01-20","2021-02-18",null,null,{"$f":"VLOOKUP(P4682,Campos!$B$2:$C$7,2,FALSE)","v":0},"Sin información"]
[4677,28,"Tamaulipas",8,"Candidaturas Independientes","8.12",12,"Plazo para otorgar las constancias de porcentaje a favor de aspirantes a la candidatura independiente para Diputaciones","OPL","CG/OD","2021-02-19","2021-03-26",null,null,{"$f":"VLOOKUP(P4683,Campos!$B$2:$C$7,2,FALSE)","v":0},"Sin información"]
[4678,28,"Tamaulipas",8,"Candidaturas Independientes","8.13",13,"Plazo para otorgar las constancias de porcentaje a favor de aspirantes a la candidatura independiente para Ayuntamientos","OPL","CG/OD","2021-02-19","2021-03-26",null,null,{"$f":"VLOOKUP(P4684,Campos!$B$2:$C$7,2,FALSE)","v":0},"Sin información"]
[4679,28,"Tamaulipas",9,"Candidaturas","9.1",1,"Registro de plataformas electorales","OPL","CG","2020-09-13","2020-12-10",null,null,{"$f":"VLOOKUP(P4685,Campos!$B$2:$C$7,2,FALSE)","v":0},"Sin información"]
[4680,28,"Tamaulipas",9,"Candidaturas","9.3",3,"Solicitud de registro de convenio de coalición para Diputaciones","OPL","CG","2020-09-13","2021-01-20",null,null,{"$f":"VLOOKUP(P4686,Campos!$B$2:$C$7,2,FALSE)","v":0},"Sin información"]
[4681,28,"Tamaulipas",9,"Candidaturas","9.4",4,"Solicitud de registro de convenio de coalición para Ayuntamientos","OPL","CG","2020-09-13","2021-01-20",null,null,{"$f":"VLOOKUP(P4687,Campos!$B$2:$C$7,2,FALSE)","v":0},"Sin información"]
[4682,28,"Tamaulipas",9,"Candidaturas","9.6",6,"Resolución sobre Convenio de Coalición para Diputaciones","OPL","CG","2020-09-23","2021-01-30",null,null,{"$f":"VLOOKUP(P4688,Campos!$B$2:$C$7,2,FALSE)","v":0},"Sin información"]
[4683,28,"Tamaulipas",9,"Candidaturas","9.7",7,"Resolución sobre Convenio de Coalición para Ayuntamientos","OPL","CG","2020-09-23","2021-01-30",null,null,{"$f":"VLOOKUP(P4689,Campos!$B$2:$C$7,2,FALSE)","v":0},"Sin información"]
[4684,28,"Tamaulipas",9,"Candidaturas","9.9",9,"Solicitud de registro de Candidaturas para Diputaciones","OPL","CG/OD","2021-03-27","2021-03-31",null,null,{"$f":"VLOOKUP(P4690,Campos!$B$2:$C$7,2,FALSE)","v":0},"Sin información"]
[4685,28,"Tamaulipas",9,"Candidaturas","9.11",11,"Solicitud de registro de Candidaturas para Ayuntamientos","OPL","CG/OD","2021-03-27","2021-03-31",null,null,{"$f":"VLOOKUP(P4691,Campos!$B$2:$C$7,2,FALSE)","v":0},"Sin información"]
[4686,28,"Tamaulipas",9,"Candidaturas","9.14",14,"Resolución para aprobar las candidaturas para Diputaciones","OPL","CG/OD","2021-04-01","2021-04-18",null,null,{"$f":"VLOOKUP(P4692,Campos!$B$2:$C$7,2,FALSE)","v":0},"Sin información"]
[4687,28,"Tamaulipas",9,"Candidaturas","9.16",16,"Resolución para aprobar las candidaturas para Ayuntamientos","OPL","CG/OD","2021-04-01","2021-04-18",null,null,{"$f":"VLOOKUP(P4693,Campos!$B$2:$C$7,2,FALSE)","v":0},"Sin información"]
[4688,28,"Tamaulipas",9,"Candidaturas","9.18",18,"Solicitud de registro de candidaturas comunes para Diputaciones ","OPL","CG/OD","2020-09-13","2021-01-20",null,null,{"$f":"VLOOKUP(P4694,Campos!$B$2:$C$7,2,FALSE)","v":0},"Sin información"]
[4689,28,"Tamaulipas",9,"Candidaturas","9.19",19,"Solicitud de registro de candidaturas comunes para Ayuntamientos  ","OPL","CG/OD","2020-09-13","2021-01-20",null,null,{"$f":"VLOOKUP(P4695,Campos!$B$2:$C$7,2,FALSE)","v":0},"Sin información"]
[4690,28,"Tamaulipas",9,"Candidaturas","9.21",21,"Resolución para aprobar las candidaturas comunes para Diputaciones ","OPL","CG/OD","2020-09-14","2021-01-30",null,null,{"$f":"VLOOKUP(P4696,Campos!$B$2:$C$7,2,FALSE)","v":0},"Sin información"]
[4691,28,"Tamaulipas",9,"Candidaturas","9.22",22,"Resolución para aprobar las candidaturas comunes para Ayuntamientos ","OPL","CG/OD","2020-09-14","2021-01-30",null,null,{"$f":"VLOOKUP(P4697,Campos!$B$2:$C$7,2,FALSE)","v":0},"Sin información"]
[4692,28,"Tamaulipas",11,"Documentación y material electoral","11.1",1,"Entrega a la Junta Local Ejecutiva del INE, de los diseños y especificaciones técnicas de la documentación y materiales electorales, en medios impresos y electrónicos","OPL","CG","2020-09-01","2020-09-30",null,null,{"$f":"VLOOKUP(P4698,Campos!$B$2:$C$7,2,FALSE)","v":0},"Sin información"]
[4693,28,"Tamaulipas",11,"Documentación y material electoral","11.2",2,"Revisión de los documentos y materiales electorales y especificaciones técnicas, presentadas por el OPL","INE","JLE","2020-09-15","2020-12-16",null,null,{"$f":"VLOOKUP(P4699,Campos!$B$2:$C$7,2,FALSE)","v":0},"Sin información"]
[4694,28,"Tamaulipas",11,"Documentación y material electoral","11.3",3,"En su caso, atención y presentación, de los cambios pertinentes, conforme a las observaciones emitidas por la Junta Local Ejecutiva del INE","OPL","CG","2020-09-15","2020-12-16",null,null,{"$f":"VLOOKUP(P4700,Campos!$B$2:$C$7,2,FALSE)","v":0},"Sin información"]
[4695,28,"Tamaulipas",11,"Documentación y material electoral","11.4",4,"Validación de los documentos y materiales electorales y especificaciones técnicas, con las observaciones subsanadas","INE","DEOE","2020-10-28","2020-12-18",null,null,{"$f":"VLOOKUP(P4701,Campos!$B$2:$C$7,2,FALSE)","v":0},"Sin información"]
[4696,28,"Tamaulipas",11,"Documentación y material electoral","11.5",5,"Entrega a la Dirección Ejecutiva de Organización Electoral del INE, del Reporte único sobre la aprobación y adjudicación de los documentos y materiales electorales del OPL, en medios electrónicos","OPL","CG","2021-02-01","2021-02-26",null,null,{"$f":"VLOOKUP(P4702,Campos!$B$2:$C$7,2,FALSE)","v":0},"Sin información"]
[4697,28,"Tamaulipas",11,"Documentación y material electoral","11.6",6,"Revisión y en su caso validación, del Reporte único sobre la aprobación y adjudicación de los documentos y materiales electorales del OPL, en medios electrónicos","INE","DEOE","2021-02-15","2021-03-12",null,null,{"$f":"VLOOKUP(P4703,Campos!$B$2:$C$7,2,FALSE)","v":0},"Sin información"]
[4698,28,"Tamaulipas",11,"Documentación y material electoral","11.7",7,"Entrega  a la Dirección Ejecutiva de Organización Electoral del INE, del Reporte semanal sobre el avance en la producción de los documentos y materiales electorales del OPL, en medios electrónicos.","OPL","CG","2021-03-15","2021-05-22",null,null,{"$f":"VLOOKUP(P4704,Campos!$B$2:$C$7,2,FALSE)","v":0},"Sin información"]
[4699,28,"Tamaulipas",11,"Documentación y material electoral","11.8",8,"Aprobación de la documentación y material electoral","OPL","CG","2020-11-11","2020-12-31",null,null,{"$f":"VLOOKUP(P4705,Campos!$B$2:$C$7,2,FALSE)","v":0},"Sin información"]
[4700,28,"Tamaulipas",11,"Documentación y material electoral","11.9",9,"Entrega a la Dirección Ejecutiva de Organización Electoral del INE, del Reporte con los resultados de las verificaciones de las medidas de seguridad en la documentación electoral","OPL","CG","2021-05-27","2021-06-11",null,null,{"$f":"VLOOKUP(P4706,Campos!$B$2:$C$7,2,FALSE)","v":0},"Sin información"]
[4701,28,"Tamaulipas",11,"Documentación y material electoral","11.10",10,"Supervisiones respecto de los procedimientos de impresión y producción de la documentación y materiales electorales","INE","DEOE","2021-03-15","2021-05-22",null,null,{"$f":"VLOOKUP(P4707,Campos!$B$2:$C$7,2,FALSE)","v":0},"Sin información"]
[4702,28,"Tamaulipas",11,"Documentación y material electoral","11.11",11,"Designación de la persona responsable de llevar el control sobre la asignación de los folios de las boletas que se distribuirán en cada mesa directiva de casilla","OPL","CG","2021-03-01","2021-03-30",null,null,{"$f":"VLOOKUP(P4708,Campos!$B$2:$C$7,2,FALSE)","v":0},"Sin información"]
[4703,28,"Tamaulipas",11,"Documentación y material electoral","11.12",12,"Aprobación de SE y CAE, así como de personal que auxiliará en el procedimiento de conteo, sellado y agrupamiento de las boletas electorales; así como la integración de documentación para las casillas","OPL","CG","2021-04-24","2021-05-11",null,null,{"$f":"VLOOKUP(P4709,Campos!$B$2:$C$7,2,FALSE)","v":0},"Sin información"]
[4704,28,"Tamaulipas",11,"Documentación y material electoral","11.13",13,"Recepción de las boletas electorales por el órgano competente que realizará el conteo, sellado y agrupamiento","OPL","CG","2021-05-18","2021-05-22",null,null,{"$f":"VLOOKUP(P4710,Campos!$B$2:$C$7,2,FALSE)","v":0},"Sin información"]
[4705,28,"Tamaulipas",11,"Documentación y material electoral","11.14",14,"Conteo, sellado y agrupamiento de boletas","OPL","CG","2021-05-18","2021-05-28",null,null,{"$f":"VLOOKUP(P4711,Campos!$B$2:$C$7,2,FALSE)","v":0},"Sin información"]
[4706,28,"Tamaulipas",11,"Documentación y material electoral","11.15",15,"Distribución de la documentación y materiales electorales a las y los Presidentes de mesas directivas de casilla","OPL","OD","2021-05-31","2021-06-04",null,null,{"$f":"VLOOKUP(P4712,Campos!$B$2:$C$7,2,FALSE)","v":0},"Sin información"]
[4707,28,"Tamaulipas",11,"Documentación y material electoral","11.16",16,"Remisión de los recibos de la entrega de la documentación y materiales electorales al Consejo General del OPL","INE","JLE","2021-06-24","2021-06-30",null,null,{"$f":"VLOOKUP(P4713,Campos!$B$2:$C$7,2,FALSE)","v":0},"Sin información"]
[4708,28,"Tamaulipas",12,"Jornada Electoral","12.1",1,"Aprobación del Programa de Operación del SIJE 2021","INE","CCOE","2020-07-01","2020-07-31",null,null,{"$f":"VLOOKUP(P4714,Campos!$B$2:$C$7,2,FALSE)","v":0},"Sin información"]
[4709,28,"Tamaulipas",12,"Jornada Electoral","12.2",2,"Aprobación de las metas del SIJE 2021","INE","CG","2021-03-01","2021-03-31",null,null,{"$f":"VLOOKUP(P4715,Campos!$B$2:$C$7,2,FALSE)","v":0},"Sin información"]
[4710,28,"Tamaulipas",12,"Jornada Electoral","12.3",3,"Realización de pruebas del SIJE 2021","INE","DEOE","2021-04-01","2021-04-15",null,null,{"$f":"VLOOKUP(P4716,Campos!$B$2:$C$7,2,FALSE)","v":0},"Sin información"]
[4711,28,"Tamaulipas",12,"Jornada Electoral","12.4",4,"Desarrollo del primer simulacro del SIJE","INE/OPL","DEOE/OD","2021-04-29","2021-04-29",null,null,{"$f":"VLOOKUP(P4717,Campos!$B$2:$C$7,2,FALSE)","v":0},"Sin información"]
[4712,28,"Tamaulipas",12,"Jornada Electoral","12.5",5,"Desarrollo del segundo simulacro del SIJE","INE/OPL","DEOE/OD","2021-05-09","2021-05-09",null,null,{"$f":"VLOOKUP(P4718,Campos!$B$2:$C$7,2,FALSE)","v":0},"Sin información"]
[4713,28,"Tamaulipas",12,"Jornada Electoral","12.6",6,"Desarrollo del tercer simulacro del SIJE","INE/OPL","DEOE/OD","2021-05-23","2021-05-23",null,null,{"$f":"VLOOKUP(P4719,Campos!$B$2:$C$7,2,FALSE)","v":0},"Sin información"]
[4714,28,"Tamaulipas",12,"Jornada Electoral","12.7",7,"Jornada Electoral","OPL","CG/OD","2021-06-06","2021-06-06",null,null,{"$f":"VLOOKUP(P4720,Campos!$B$2:$C$7,2,FALSE)","v":0},"Sin información"]
[4715,28,"Tamaulipas",13,"Bodegas electorales","13.1",1,"Determinación de los lugares que ocuparán las bodegas electorales para el resguardo de la documentación electoral","OPL","CG","2021-02-01","2021-02-28",null,null,{"$f":"VLOOKUP(P4721,Campos!$B$2:$C$7,2,FALSE)","v":0},"Sin información"]
[4716,28,"Tamaulipas",13,"Bodegas electorales","13.2",2,"Informe que rinden las y los Presidentes sobre las condiciones de equipamiento, mecanismos de operación y medidas de seguridad de las bodegas electorales","OPL","OD","2021-03-01","2021-03-31",null,null,{"$f":"VLOOKUP(P4722,Campos!$B$2:$C$7,2,FALSE)","v":0},"Sin información"]
[4717,28,"Tamaulipas",13,"Bodegas electorales","13.3",3,"Designación, por parte del órgano competente del OPL, del personal que tendrá acceso a la bodega electoral","OPL","CG/OD","2021-03-01","2021-03-30",null,null,{"$f":"VLOOKUP(P4723,Campos!$B$2:$C$7,2,FALSE)","v":0},"Sin información"]
[4718,28,"Tamaulipas",13,"Bodegas electorales","13.4",4,"Envío a la UTVOPL, por conducto de la JLE, el informe sobre las condiciones que guardan las bodegas electorales","OPL","CG","2021-04-04","2021-04-10",null,null,{"$f":"VLOOKUP(P4724,Campos!$B$2:$C$7,2,FALSE)","v":0},"Sin información"]
[4719,28,"Tamaulipas",14,"Mecanismos de recolección","14.1",1,"Entrega de estudios de factibilidad al OPL","INE","CL","2021-03-15","2021-03-31",null,null,{"$f":"VLOOKUP(P4725,Campos!$B$2:$C$7,2,FALSE)","v":0},"Sin información"]
[4720,28,"Tamaulipas",14,"Mecanismos de recolección","14.2",2,"Entrega de observaciones a los estudios de factibilidad ","OPL","CG","2021-04-01","2021-04-24",null,null,{"$f":"VLOOKUP(P4726,Campos!$B$2:$C$7,2,FALSE)","v":0},"Sin información"]
[4721,28,"Tamaulipas",14,"Mecanismos de recolección","14.3",3,"Recorridos para verificar las propuestas de los mecanismos de recolección","INE/OPL","CD/OD","2021-03-16","2021-04-24",null,null,{"$f":"VLOOKUP(P4727,Campos!$B$2:$C$7,2,FALSE)","v":0},"Sin información"]
[4722,28,"Tamaulipas",14,"Mecanismos de recolección","14.4",4,"Aprobación de los mecanismos de recolección ","INE","CD","2021-04-26","2021-04-30",null,null,{"$f":"VLOOKUP(P4728,Campos!$B$2:$C$7,2,FALSE)","v":0},"Sin información"]
[4723,28,"Tamaulipas",14,"Mecanismos de recolección","14.5",5,"Traslado y recolección de los paquetes electorales","INE/OPL","CD/OD","2021-06-06","2021-06-07",null,null,{"$f":"VLOOKUP(P4729,Campos!$B$2:$C$7,2,FALSE)","v":0},"Sin información"]
[4724,28,"Tamaulipas",14,"Mecanismos de recolección","14.6",6,"Acreditación de representantes de partidos políticos y candidaturas independientes ante los mecanismos de recolección","INE","CL/CD","2021-04-27","2021-06-03",null,null,{"$f":"VLOOKUP(P4730,Campos!$B$2:$C$7,2,FALSE)","v":0},"Sin información"]
[4725,28,"Tamaulipas",14,"Mecanismos de recolección","14.7",7,"Sustitución de representantes de partidos políticos y candidaturas independientes ante los mecanismos de recolección","INE","CL/CD","2021-04-28","2021-06-04",null,null,{"$f":"VLOOKUP(P4731,Campos!$B$2:$C$7,2,FALSE)","v":0},"Sin información"]
[4726,28,"Tamaulipas",14,"Mecanismos de recolección","14.8",8,"Entrega a la JLE, el informe sobre la recepción de paquetes electorales en los órganos competentes","OPL","CG","2021-06-06","2021-06-28",null,null,{"$f":"VLOOKUP(P4732,Campos!$B$2:$C$7,2,FALSE)","v":0},"Sin información"]
[4727,28,"Tamaulipas",15,"Cómputos","15.1",1,"Aprobación de los lineamientos de cómputo y del cuadernillo de consulta sobre votos válidos y votos nulos","OPL","CG","2021-01-18","2021-01-29",null,null,{"$f":"VLOOKUP(P4733,Campos!$B$2:$C$7,2,FALSE)","v":0},"Sin información"]
[4728,28,"Tamaulipas",15,"Cómputos","15.2",2,"Integración por parte de los Órganos Desconcentrados del OPL, de la propuesta para la habilitación de espacios para el recuento de votos con las alternativas para todos los escenarios de cómputo","OPL","OD","2021-03-01","2021-03-07",null,null,{"$f":"VLOOKUP(P4734,Campos!$B$2:$C$7,2,FALSE)","v":0},"Sin información"]
[4729,28,"Tamaulipas",15,"Cómputos","15.3",3,"Informe de los escenarios de cómputos de la totalidad de sus órganos desconcentrados","OPL","CG","2021-04-01","2021-04-04",null,null,{"$f":"VLOOKUP(P4735,Campos!$B$2:$C$7,2,FALSE)","v":0},"Sin información"]
[4730,28,"Tamaulipas",15,"Cómputos","15.4",4,"Remisión a la JLE en la entidad, las propuestas de escenarios de cómputos, para la dictaminación de viabilidad","OPL","CG","2021-05-01","2021-05-07",null,null,{"$f":"VLOOKUP(P4736,Campos!$B$2:$C$7,2,FALSE)","v":0},"Sin información"]
[4731,28,"Tamaulipas",15,"Cómputos","15.5",5,"Remisión de las observaciones a los escenarios de Cómputos al OPL y a su vez informar de las mismas a la UTVOPL","INE","JLE","2021-05-08","2021-05-15",null,null,{"$f":"VLOOKUP(P4737,Campos!$B$2:$C$7,2,FALSE)","v":0},"Sin información"]
[4732,28,"Tamaulipas",15,"Cómputos","15.6",6,"Aprobación por parte del órgano competente del OPL, del acuerdo mediante el cual se designa al personal que participará en las tareas de apoyo a los Cómputos Municipales","OPL","CG/OD","2021-04-26","2021-05-05",null,null,{"$f":"VLOOKUP(P4738,Campos!$B$2:$C$7,2,FALSE)","v":0},"Sin información"]
[4733,28,"Tamaulipas",15,"Cómputos","15.7",7,"Aprobación por parte del órgano competente del OPL, del acuerdo mediante el cual se designa al personal que participará en las tareas de apoyo a los Cómputos Distritales ","OPL","CG/OD","2021-04-26","2021-05-05",null,null,{"$f":"VLOOKUP(P4739,Campos!$B$2:$C$7,2,FALSE)","v":0},"Sin información"]
[4734,28,"Tamaulipas",15,"Cómputos","15.8",8,"Aprobación por parte de los órganos competentes del OPL, de los distintos escenarios de cómputos","OPL","OD","2021-05-08","2021-05-15",null,null,{"$f":"VLOOKUP(P4740,Campos!$B$2:$C$7,2,FALSE)","v":0},"Sin información"]
[4735,28,"Tamaulipas",15,"Cómputos","15.9",9,"Aprobación por parte del órgano competente del OPL, del acuerdo por el que se habilitarán espacios para la instalación de grupos de trabajo y, en su caso, puntos de recuento","OPL","CG/OD","2021-06-07","2021-06-07",null,null,{"$f":"VLOOKUP(P4741,Campos!$B$2:$C$7,2,FALSE)","v":0},"Sin información"]
[4736,28,"Tamaulipas",15,"Cómputos","15.10",10,"Cómputos Distritales","OPL","OD","2021-06-08","2021-06-11",null,null,{"$f":"VLOOKUP(P4742,Campos!$B$2:$C$7,2,FALSE)","v":0},"Sin información"]
[4737,28,"Tamaulipas",15,"Cómputos","15.11",11,"Cómputos Municipales","OPL","OD","2021-06-08","2021-06-11",null,null,{"$f":"VLOOKUP(P4743,Campos!$B$2:$C$7,2,FALSE)","v":0},"Sin información"]
[4738,28,"Tamaulipas",15,"Cómputos","15.14",14,"Cómputo Estatal para la asignación diputaciones de Representación Proporcional","OPL","CG","2021-06-12","2021-08-28",null,null,{"$f":"VLOOKUP(P4744,Campos!$B$2:$C$7,2,FALSE)","v":0},"Sin información"]
[4739,28,"Tamaulipas",15,"Cómputos","15.16",16,"Asignación de regidurías por el principio de Representación Proporcional","OPL","CG","2021-06-12","2021-09-30",null,null,{"$f":"VLOOKUP(P4745,Campos!$B$2:$C$7,2,FALSE)","v":0},"Sin información"]
[4740,28,"Tamaulipas",16,"PREP","16.1",1,"Aprobación del Acuerdo por el que se designa o ratifica a la instancia interna responsable de coordinar el PREP","OPL","CG","2020-09-11","2020-09-11",null,null,{"$f":"VLOOKUP(P4746,Campos!$B$2:$C$7,2,FALSE)","v":0},"Sin información"]
[4741,28,"Tamaulipas",16,"PREP","16.2",2,"Aprobación del Acuerdo de Integración del COTAPREP","OPL","CG","2020-11-11","2020-11-11",null,null,{"$f":"VLOOKUP(P4747,Campos!$B$2:$C$7,2,FALSE)","v":0},"Sin información"]
[4742,28,"Tamaulipas",16,"PREP","16.3",3,"Documento por el que se determina la implementación del PREP por el OPL o con el apoyo de un Tercero","OPL","CG","2020-12-11","2020-12-11",null,null,{"$f":"VLOOKUP(P4748,Campos!$B$2:$C$7,2,FALSE)","v":0},"Sin información"]
[4743,28,"Tamaulipas",16,"PREP","16.4",4,"Aprobación del acuerdo por el que se determina el Proceso Técnico Operativo ","OPL","CG","2021-01-11","2021-01-11",null,null,{"$f":"VLOOKUP(P4749,Campos!$B$2:$C$7,2,FALSE)","v":0},"Sin información"]
[4744,28,"Tamaulipas",16,"PREP","16.5",5,"Aprobación del Acuerdo por el que se determina la ubicación, instalación y habilitación de los CATD y, en su caso, CCV","OPL","CG","2021-02-11","2021-02-11",null,null,{"$f":"VLOOKUP(P4750,Campos!$B$2:$C$7,2,FALSE)","v":0},"Sin información"]
[4745,28,"Tamaulipas",16,"PREP","16.7",7,"Instrumento jurídico celebrado entre el OPL y el ente auditor","OPL","CG","2021-03-11","2021-03-11",null,null,{"$f":"VLOOKUP(P4751,Campos!$B$2:$C$7,2,FALSE)","v":0},"Sin información"]
[4746,28,"Tamaulipas",16,"PREP","16.6",6,"Documento de Designación del Ente Auditor ","OPL","CG","2021-02-11","2021-02-11",null,null,{"$f":"VLOOKUP(P4752,Campos!$B$2:$C$7,2,FALSE)","v":0},"Sin información"]
[4747,28,"Tamaulipas",16,"PREP","16.8",8,"Realización del primer simulacro del PREP","OPL","CG","2021-05-16","2021-05-16",null,null,{"$f":"VLOOKUP(P4753,Campos!$B$2:$C$7,2,FALSE)","v":0},"Sin información"]
[4748,28,"Tamaulipas",16,"PREP","16.9",9,"Realización del segundo simulacro del PREP","OPL","CG","2021-05-23","2021-05-23",null,null,{"$f":"VLOOKUP(P4754,Campos!$B$2:$C$7,2,FALSE)","v":0},"Sin información"]
[4749,28,"Tamaulipas",16,"PREP","16.10",10,"Realización del tercer simulacro del PREP","OPL","CG","2021-05-30","2021-05-30",null,null,{"$f":"VLOOKUP(P4755,Campos!$B$2:$C$7,2,FALSE)","v":0},"Sin información"]
[4750,28,"Tamaulipas",16,"PREP","16.11",11,"Operación del PREP","OPL","CG","2021-06-06","2021-06-07",null,null,{"$f":"VLOOKUP(P4756,Campos!$B$2:$C$7,2,FALSE)","v":0},"Sin información"]
[4751,28,"Tamaulipas",19,"Visitantes extranjeros","19.1",1,"Emisión de la Convocatoria para visitantes extranjeros","INE","CG","2020-08-03","2020-09-30",null,null,{"$f":"VLOOKUP(P4757,Campos!$B$2:$C$7,2,FALSE)","v":0},"Sin información"]
[4752,28,"Tamaulipas",19,"Visitantes extranjeros","19.2",2,"Difusión de la Convocatoria para visitantes extranjeros","INE","CAI","2020-09-01","2021-05-26",null,null,{"$f":"VLOOKUP(P4758,Campos!$B$2:$C$7,2,FALSE)","v":0},"Sin información"]
[4753,28,"Tamaulipas",19,"Visitantes extranjeros","19.3",3,"Recepción de solicitudes de acreditación como visitantes extranjeros","INE","CAI","2020-09-01","2021-05-26",null,null,{"$f":"VLOOKUP(P4759,Campos!$B$2:$C$7,2,FALSE)","v":0},"Sin información"]
[4754,28,"Tamaulipas",19,"Visitantes extranjeros","19.4",4,"Resolución de solicitudes de acreditación como visitantes extranjeros","INE","CAI","2020-09-02","2021-05-30",null,null,{"$f":"VLOOKUP(P4760,Campos!$B$2:$C$7,2,FALSE)","v":0},"Sin información"]
[4755,28,"Tamaulipas",19,"Visitantes extranjeros","19.5",5,"Entrega de acreditaciones a los visitantes extranjeros","INE","CAI","2020-09-04","2021-06-05",null,null,{"$f":"VLOOKUP(P4761,Campos!$B$2:$C$7,2,FALSE)","v":0},"Sin información"]
[4756,29,"Tlaxcala",1,"Mecanismos de coordinación","1.1",1,"Aprobar Calendarios y Planes Integrales de los Procesos Electorales Locales","INE","CG","2020-08-01","2020-08-07",null,null,{"$f":"VLOOKUP(P4762,Campos!$B$2:$C$7,2,FALSE)","v":0},"Sin información"]
[4757,29,"Tlaxcala",1,"Mecanismos de coordinación","1.2",2,"Firma del Convenio General de Coordinación y Colaboración 2020-2021","INE/OPL","INE/OPL","2020-09-01","2020-10-01",null,null,{"$f":"VLOOKUP(P4763,Campos!$B$2:$C$7,2,FALSE)","v":0},"Sin información"]
[4758,29,"Tlaxcala",1,"Mecanismos de coordinación","1.3",3,"Elaborar un plan de trabajo conjunto para la promoción de la participación ciudadana","INE/OPL","INE/OPL","2020-09-01","2020-12-31",null,null,{"$f":"VLOOKUP(P4764,Campos!$B$2:$C$7,2,FALSE)","v":0},"Sin información"]
[4759,29,"Tlaxcala",1,"Mecanismos de coordinación","1.4",4,"Sesión para dar inicio al PEL","OPL","CG","2020-11-29","2020-12-06",null,null,{"$f":"VLOOKUP(P4765,Campos!$B$2:$C$7,2,FALSE)","v":0},"Sin información"]
[4760,29,"Tlaxcala",1,"Mecanismos de coordinación","1.5",5,"Implementar un plan de trabajo conjunto para la promoción de la participación ciudadana","INE/OPL","INE/OPL","2021-02-01","2021-06-06",null,null,{"$f":"VLOOKUP(P4766,Campos!$B$2:$C$7,2,FALSE)","v":0},"Sin información"]
[4761,29,"Tlaxcala",2,"Integración de órganos desconcentrados","2.1",1,"Convocatoria para la integración de los Órganos Distritales","OPL","CG","2020-11-29","2020-12-20",null,null,{"$f":"VLOOKUP(P4767,Campos!$B$2:$C$7,2,FALSE)","v":0},"Sin información"]
[4762,29,"Tlaxcala",2,"Integración de órganos desconcentrados","2.2",2,"Sesión en la que se designan e integran los Órganos Distritales ","OPL","CG","2021-03-01","2021-03-13",null,null,{"$f":"VLOOKUP(P4768,Campos!$B$2:$C$7,2,FALSE)","v":0},"Sin información"]
[4763,29,"Tlaxcala",2,"Integración de órganos desconcentrados","2.3",3,"Instalación de los Órganos Distritales ","OPL","CG","2021-03-14","2021-03-16",null,null,{"$f":"VLOOKUP(P4769,Campos!$B$2:$C$7,2,FALSE)","v":0},"Sin información"]
[4764,29,"Tlaxcala",2,"Integración de órganos desconcentrados","2.4",4,"Convocatoria para la integración de los Órganos Municipales ","OPL","CG","2020-11-29","2020-12-20",null,null,{"$f":"VLOOKUP(P4770,Campos!$B$2:$C$7,2,FALSE)","v":0},"Sin información"]
[4765,29,"Tlaxcala",2,"Integración de órganos desconcentrados","2.5",5,"Sesión en la que se designan e integran los Órganos Municipales ","OPL","CG","2021-03-01","2021-04-02",null,null,{"$f":"VLOOKUP(P4771,Campos!$B$2:$C$7,2,FALSE)","v":0},"Sin información"]
[4766,29,"Tlaxcala",2,"Integración de órganos desconcentrados","2.6",6,"Instalación de los Órganos Municipales ","OPL","CG","2021-04-03","2021-04-05",null,null,{"$f":"VLOOKUP(P4772,Campos!$B$2:$C$7,2,FALSE)","v":0},"Sin información"]
[4767,29,"Tlaxcala",2,"Integración de órganos desconcentrados","2.7",7,"Designación y/o ratificación de las y los Consejeros Electorales del Consejo Local ","INE","CG","2020-10-01","2020-10-15",null,null,{"$f":"VLOOKUP(P4773,Campos!$B$2:$C$7,2,FALSE)","v":0},"Sin información"]
[4768,29,"Tlaxcala",2,"Integración de órganos desconcentrados","2.8",8,"Instalación del Consejo Local","INE","CL","2020-11-01","2020-11-30",null,null,{"$f":"VLOOKUP(P4774,Campos!$B$2:$C$7,2,FALSE)","v":0},"Sin información"]
[4769,29,"Tlaxcala",2,"Integración de órganos desconcentrados","2.9",9,"Designación y/o ratificación de las y los Consejeros Electorales de los Consejos Distritales ","INE","CL","2020-11-01","2020-11-30",null,null,{"$f":"VLOOKUP(P4775,Campos!$B$2:$C$7,2,FALSE)","v":0},"Sin información"]
[4770,29,"Tlaxcala",2,"Integración de órganos desconcentrados","2.10",10,"Instalación de los Consejos Distritales","INE","CD","2020-12-01","2020-12-15",null,null,{"$f":"VLOOKUP(P4776,Campos!$B$2:$C$7,2,FALSE)","v":0},"Sin información"]
[4771,29,"Tlaxcala",3,"Lista Nominal de Electores","3.1",1,"Generación y entrega de la Lista Nominal de Electores para Revisión en medios ópticos a los representantes de los partidos políticos, y en su caso a las candidaturas independientes acreditados ante el OPL, para observaciones","INE","DERFE","2021-02-15","2021-02-15",null,null,{"$f":"VLOOKUP(P4777,Campos!$B$2:$C$7,2,FALSE)","v":0},"Sin información"]
[4772,29,"Tlaxcala",3,"Lista Nominal de Electores","3.2",2,"Recepción de observaciones de los partidos políticos y en su caso, candidatos independientes, a la Lista Nominal de Electores para revisión","INE/OPL","DERFE","2021-03-14","2021-03-14",null,null,{"$f":"VLOOKUP(P4778,Campos!$B$2:$C$7,2,FALSE)","v":0},"Sin información"]
[4773,29,"Tlaxcala",3,"Lista Nominal de Electores","3.3",3,"Entrega en formato digital el informe respecto de la atención a las observaciones formuladas a la Lista Nominal de Electores para Revisión","INE","DERFE","2021-04-15","2021-04-15",null,null,{"$f":"VLOOKUP(P4779,Campos!$B$2:$C$7,2,FALSE)","v":0},"Sin información"]
[4774,29,"Tlaxcala",3,"Lista Nominal de Electores","3.4",4,"Entrega de la Lista Nominal de Electores Definitiva con fotografía","INE","DERFE","2021-05-06","2021-05-14",null,null,{"$f":"VLOOKUP(P4780,Campos!$B$2:$C$7,2,FALSE)","v":0},"Sin información"]
[4775,29,"Tlaxcala",3,"Lista Nominal de Electores","3.5",5,"Fecha de entrega de la Lista Nominal de Electores con fotografía Producto de Instancias Administrativas y Resoluciones del Tribunal (ADENDA)","INE","DERFE","2021-05-19","2021-05-24",null,null,{"$f":"VLOOKUP(P4781,Campos!$B$2:$C$7,2,FALSE)","v":0},"Sin información"]
[4776,29,"Tlaxcala",4,"Observación Electoral","4.1",1,"Emisión de la convocatoria para la ciudadanía que desee participar en la observación electoral","OPL","CG","2020-11-29","2020-12-06",null,null,{"$f":"VLOOKUP(P4782,Campos!$B$2:$C$7,2,FALSE)","v":0},"Sin información"]
[4777,29,"Tlaxcala",4,"Observación Electoral","4.2",2,"Recepción de solicitudes de la ciudadanía que desee participar en observación electoral","INE/OPL","OPL/JLE/JDE","2020-11-29","2021-04-30",null,null,{"$f":"VLOOKUP(P4783,Campos!$B$2:$C$7,2,FALSE)","v":0},"Sin información"]
[4778,29,"Tlaxcala",4,"Observación Electoral","4.3",3,"Impartición de los cursos de capacitación, preparación o información","INE/OPL","OPL/JLE/JDE","2020-11-29","2021-05-17",null,null,{"$f":"VLOOKUP(P4784,Campos!$B$2:$C$7,2,FALSE)","v":0},"Sin información"]
[4779,29,"Tlaxcala",4,"Observación Electoral","4.4",4,"Acreditación de la ciudadanía como observadores u observadoras electorales","INE","CL/CD","2020-11-29","2021-06-05",null,null,{"$f":"VLOOKUP(P4785,Campos!$B$2:$C$7,2,FALSE)","v":0},"Sin información"]
[4780,29,"Tlaxcala",4,"Observación Electoral","4.5",5,"Seguimiento a los informes mensuales de acreditación","INE","CG","2020-11-29","2021-07-31",null,null,{"$f":"VLOOKUP(P4786,Campos!$B$2:$C$7,2,FALSE)","v":0},"Sin información"]
[4781,29,"Tlaxcala",4,"Observación Electoral","4.6",6,"Remisión de materiales de capacitación a la JLE para revisión","OPL","CG","2020-10-08","2020-10-08",null,null,{"$f":"VLOOKUP(P4787,Campos!$B$2:$C$7,2,FALSE)","v":0},"Sin información"]
[4782,29,"Tlaxcala",4,"Observación Electoral","4.7",7,"Revisión, corrección, verificación y validación de materiales de capacitación para observación electoral ","INE","JLE","2020-10-09","2020-10-30",null,null,{"$f":"VLOOKUP(P4788,Campos!$B$2:$C$7,2,FALSE)","v":0},"Sin información"]
[4783,29,"Tlaxcala",4,"Observación Electoral","4.8",8,"Entrega de materiales de capacitación para observación electoral entre OPL e INE","INE/OPL","VEL/OPL","2020-11-01","2020-11-23",null,null,{"$f":"VLOOKUP(P4789,Campos!$B$2:$C$7,2,FALSE)","v":0},"Sin información"]
[4784,29,"Tlaxcala",5,"Ubicación de casillas","5.1",1,"Recorridos por las secciones de los distritos para localizar los lugares donde se ubicarán las casillas","INE/OPL","JDE/OPL","2021-01-15","2021-02-15",null,null,{"$f":"VLOOKUP(P4790,Campos!$B$2:$C$7,2,FALSE)","v":0},"Sin información"]
[4785,29,"Tlaxcala",5,"Ubicación de casillas","5.2",2,"Presentación a los Consejos Distritales del listado de lugares propuestos para ubicar casillas","INE","JDE","2021-02-24","2021-02-24",null,null,{"$f":"VLOOKUP(P4791,Campos!$B$2:$C$7,2,FALSE)","v":0},"Sin información"]
[4786,29,"Tlaxcala",5,"Ubicación de casillas","5.3",3,"Visitas de examinación en los lugares propuestos para ubicar casillas básicas, contiguas, especiales y extraordinarias","INE/OPL","CD/OPL","2021-02-25","2021-03-16",null,null,{"$f":"VLOOKUP(P4792,Campos!$B$2:$C$7,2,FALSE)","v":0},"Sin información"]
[4787,29,"Tlaxcala",5,"Ubicación de casillas","5.4",4,"Aprobación del número y ubicación de casillas extraordinarias y especiales","INE","CD","2021-03-16","2021-03-16",null,null,{"$f":"VLOOKUP(P4793,Campos!$B$2:$C$7,2,FALSE)","v":0},"Sin información"]
[4788,29,"Tlaxcala",5,"Ubicación de casillas","5.5",5,"Aprobación del número y ubicación de casillas básicas y contiguas","INE","CD","2021-03-25","2021-03-25",null,null,{"$f":"VLOOKUP(P4794,Campos!$B$2:$C$7,2,FALSE)","v":0},"Sin información"]
[4789,29,"Tlaxcala",5,"Ubicación de casillas","5.6",6,"Entrega de la base de datos de la Lista Nominal Definitiva a UNICOM con corte al 10 de abril","INE","DERFE","2021-04-15","2021-04-16",null,null,{"$f":"VLOOKUP(P4795,Campos!$B$2:$C$7,2,FALSE)","v":0},"Sin información"]
[4790,29,"Tlaxcala",5,"Ubicación de casillas","5.7",7,"Realizar la primera publicación de la lista de ubicación de casillas en los lugares más concurridos del distrito electoral  y en los medios electrónicos del Instituto","INE","CD","2021-04-15","2021-04-15",null,null,{"$f":"VLOOKUP(P4796,Campos!$B$2:$C$7,2,FALSE)","v":0},"Sin información"]
[4791,29,"Tlaxcala",5,"Ubicación de casillas","5.8",8,"En su caso, segunda publicación de la lista de ubicación de casillas por causas supervenientes en los lugares más concurridos del distrito y en los medios electrónicos del Instituto","INE","CD","2021-05-15","2021-05-25",null,null,{"$f":"VLOOKUP(P4797,Campos!$B$2:$C$7,2,FALSE)","v":0},"Sin información"]
[4792,29,"Tlaxcala",5,"Ubicación de casillas","5.9",9,"Publicación de los encartes y difusión en medios electrónicos del Instituto","INE/OPL","DEOE/CG","2021-06-05","2021-06-06",null,null,{"$f":"VLOOKUP(P4798,Campos!$B$2:$C$7,2,FALSE)","v":0},"Sin información"]
[4793,29,"Tlaxcala",5,"Ubicación de casillas","5.10",10,"Registro de representantes generales y ante mesas directivas de casilla","INE","CD","2021-04-16","2021-05-24",null,null,{"$f":"VLOOKUP(P4799,Campos!$B$2:$C$7,2,FALSE)","v":0},"Sin información"]
[4794,29,"Tlaxcala",5,"Ubicación de casillas","5.11",11,"Sustitución de representantes generales y ante mesas directivas de casilla","INE","CD","2021-04-16","2021-05-27",null,null,{"$f":"VLOOKUP(P4800,Campos!$B$2:$C$7,2,FALSE)","v":0},"Sin información"]
[4795,29,"Tlaxcala",5,"Ubicación de casillas","5.12",12,"Entrega de listados de representantes generales y ante casilla al OPL","INE","CD","2021-05-30","2021-05-30",null,null,{"$f":"VLOOKUP(P4801,Campos!$B$2:$C$7,2,FALSE)","v":0},"Sin información"]
[4796,29,"Tlaxcala",5,"Ubicación de casillas","5.13",13,"Notificación ciudadana de ubicación de casillas en secciones electorales involucradas en la actualización del Marco Geográfico Electoral","INE/OPL","DERFE/OPL","2021-04-01","2021-06-15",null,null,{"$f":"VLOOKUP(P4802,Campos!$B$2:$C$7,2,FALSE)","v":0},"Sin información"]
[4797,29,"Tlaxcala",6,"Integración de las Mesas Directivas de Casilla","6.1",1,"Aprobación de la Estrategia de Capacitación y Asistencia Electoral","INE","CG","2020-08-01","2020-08-15",null,null,{"$f":"VLOOKUP(P4803,Campos!$B$2:$C$7,2,FALSE)","v":0},"Sin información"]
[4798,29,"Tlaxcala",6,"Integración de las Mesas Directivas de Casilla","6.2",2,"Entrega para revisión y validación de materiales didácticos de primera etapa","OPL","CG","2020-11-03","2020-11-03",null,null,{"$f":"VLOOKUP(P4804,Campos!$B$2:$C$7,2,FALSE)","v":0},"Sin información"]
[4799,29,"Tlaxcala",6,"Integración de las Mesas Directivas de Casilla","6.3",3,"Revisión, corrección, verificación y validación de los materiales didácticos de primera etapa","INE/OPL","JLE/DECEYEC/OPL","2020-11-03","2020-12-19",null,null,{"$f":"VLOOKUP(P4805,Campos!$B$2:$C$7,2,FALSE)","v":0},"Sin información"]
[4800,29,"Tlaxcala",6,"Integración de las Mesas Directivas de Casilla","6.4",4,"Entrega de los materiales impresos de la primera etapa a la JLE","OPL","OPL","2021-02-05","2021-02-05",null,null,{"$f":"VLOOKUP(P4806,Campos!$B$2:$C$7,2,FALSE)","v":0},"Sin información"]
[4801,29,"Tlaxcala",6,"Integración de las Mesas Directivas de Casilla","6.5",5,"Sorteo del mes del calendario como base para la insaculación de las y los ciudadanos que integrarán las mesas directivas de casilla","INE","CG","2020-12-15","2020-12-19",null,null,{"$f":"VLOOKUP(P4807,Campos!$B$2:$C$7,2,FALSE)","v":0},"Sin información"]
[4802,29,"Tlaxcala",6,"Integración de las Mesas Directivas de Casilla","6.6",6,"Entrega para revisión y validación de materiales didácticos de segunda etapa","OPL","OPL","2021-02-03","2021-02-03",null,null,{"$f":"VLOOKUP(P4808,Campos!$B$2:$C$7,2,FALSE)","v":0},"Sin información"]
[4803,29,"Tlaxcala",6,"Integración de las Mesas Directivas de Casilla","6.7",7,"Revisión, corrección, verificación y validación de los materiales didácticos de la segunda etapa","INE/OPL","JLE/DECEYEC/OPL","2021-02-03","2021-03-22",null,null,{"$f":"VLOOKUP(P4809,Campos!$B$2:$C$7,2,FALSE)","v":0},"Sin información"]
[4804,29,"Tlaxcala",6,"Integración de las Mesas Directivas de Casilla","6.8",8,"Entrega de los materiales impresos de la segunda etapa a la JLE","OPL","OPL","2021-04-05","2021-04-05",null,null,{"$f":"VLOOKUP(P4810,Campos!$B$2:$C$7,2,FALSE)","v":0},"Sin información"]
[4805,29,"Tlaxcala",6,"Integración de las Mesas Directivas de Casilla","6.9",9,"Sorteo de la letra a partir de la cual, con base en el apellido paterno, se seleccionará a las y los ciudadanos que integrarán las mesas directivas de casilla","INE","CG","2021-02-02","2021-02-02",null,null,{"$f":"VLOOKUP(P4811,Campos!$B$2:$C$7,2,FALSE)","v":0},"Sin información"]
[4806,29,"Tlaxcala",6,"Integración de las Mesas Directivas de Casilla","6.10",10,"Entrega de la Lista Nominal de Electores para el Procedimiento de la Primera insaculación con corte al 15 de enero de 2021.","INE","DERFE/UNICOM","2021-01-21","2021-01-26",null,null,{"$f":"VLOOKUP(P4812,Campos!$B$2:$C$7,2,FALSE)","v":0},"Sin información"]
[4807,29,"Tlaxcala",6,"Integración de las Mesas Directivas de Casilla","6.11",11,"Primera insaculación","INE","JDE","2021-02-06","2021-02-06",null,null,{"$f":"VLOOKUP(P4813,Campos!$B$2:$C$7,2,FALSE)","v":0},"Sin información"]
[4808,29,"Tlaxcala",6,"Integración de las Mesas Directivas de Casilla","6.12",12,"Primera etapa de capacitación a las personas insaculadas","INE","CD","2021-02-09","2021-03-31",null,null,{"$f":"VLOOKUP(P4814,Campos!$B$2:$C$7,2,FALSE)","v":0},"Sin información"]
[4809,29,"Tlaxcala",6,"Integración de las Mesas Directivas de Casilla","6.13",13,"Integración de la lista de ciudadanos y ciudadanas que cumplen los requisitos legales para integrar las mesas directivas de casilla","INE","CD","2021-02-09","2021-03-31",null,null,{"$f":"VLOOKUP(P4815,Campos!$B$2:$C$7,2,FALSE)","v":0},"Sin información"]
[4810,29,"Tlaxcala",6,"Integración de las Mesas Directivas de Casilla","6.14",14,"Segunda insaculación y designación de funcionarios para mesas directivas de casilla","INE","CD","2021-04-08","2021-04-08",null,null,{"$f":"VLOOKUP(P4816,Campos!$B$2:$C$7,2,FALSE)","v":0},"Sin información"]
[4811,29,"Tlaxcala",6,"Integración de las Mesas Directivas de Casilla","6.15",15,"Segunda etapa de capacitación a funcionarios de mesa directiva de casilla y simulacros","INE","CD","2021-04-18","2021-06-05",null,null,{"$f":"VLOOKUP(P4817,Campos!$B$2:$C$7,2,FALSE)","v":0},"Sin información"]
[4812,29,"Tlaxcala",6,"Integración de las Mesas Directivas de Casilla","6.16",16,"Entrega de reconocimientos a funcionarios de mesas directivas de casilla","INE","CD","2021-06-07","2021-06-12",null,null,{"$f":"VLOOKUP(P4818,Campos!$B$2:$C$7,2,FALSE)","v":0},"Sin información"]
[4813,29,"Tlaxcala",6,"Integración de las Mesas Directivas de Casilla","6.17",17,"Periodo para contratación de CAE locales","INE/OPL","INE/OPL","Por definir","Por definir",null,null,{"$f":"VLOOKUP(P4819,Campos!$B$2:$C$7,2,FALSE)","v":0},"Sin información"]
[4814,29,"Tlaxcala",6,"Integración de las Mesas Directivas de Casilla","6.18",18,"Reclutamiento y selección de CAE locales","INE/OPL","INE/OPL","Por definir","Por definir",null,null,{"$f":"VLOOKUP(P4820,Campos!$B$2:$C$7,2,FALSE)","v":0},"Sin información"]
[4815,29,"Tlaxcala",7,"Fiscalización de los recursos de los Partidos Políticos y candidaturas independientes","7.1",1,"Aprobación de topes de gastos de precampaña Gubernatura","OPL","CG","2020-12-11","2020-12-13",null,null,{"$f":"VLOOKUP(P4821,Campos!$B$2:$C$7,2,FALSE)","v":0},"Sin información"]
[4816,29,"Tlaxcala",7,"Fiscalización de los recursos de los Partidos Políticos y candidaturas independientes","7.2",2,"Aprobación de topes de gastos de precampaña Diputaciones","OPL","CG","2020-12-11","2020-12-13",null,null,{"$f":"VLOOKUP(P4822,Campos!$B$2:$C$7,2,FALSE)","v":0},"Sin información"]
[4817,29,"Tlaxcala",7,"Fiscalización de los recursos de los Partidos Políticos y candidaturas independientes","7.3",3,"Aprobación de topes de gastos de precampaña Ayuntamientos","OPL","CG","2020-12-11","2020-12-13",null,null,{"$f":"VLOOKUP(P4823,Campos!$B$2:$C$7,2,FALSE)","v":0},"Sin información"]
[4818,29,"Tlaxcala",7,"Fiscalización de los recursos de los Partidos Políticos y candidaturas independientes","7.4",4,"Aprobación de los límites de financiamiento privado, aportaciones de militantes, simpatizantes y precandidatos o candidatos; así como el límite individual de aportaciones para Gubernatura","OPL","CG","2020-12-13","2020-12-13",null,null,{"$f":"VLOOKUP(P4824,Campos!$B$2:$C$7,2,FALSE)","v":0},"Sin información"]
[4819,29,"Tlaxcala",7,"Fiscalización de los recursos de los Partidos Políticos y candidaturas independientes","7.5",5,"Aprobación de los límites de financiamiento privado, aportaciones de militantes, simpatizantes y precandidatos o candidatos; así como el límite individual de aportaciones para Diputaciones","OPL","CG","2020-12-13","2020-12-13",null,null,{"$f":"VLOOKUP(P4825,Campos!$B$2:$C$7,2,FALSE)","v":0},"Sin información"]
[4820,29,"Tlaxcala",7,"Fiscalización de los recursos de los Partidos Políticos y candidaturas independientes","7.6",6,"Aprobación de los límites de financiamiento privado, aportaciones de militantes, simpatizantes y precandidatos o candidatos; así como el límite individual de aportaciones para Ayuntamientos","OPL","CG","2020-12-13","2020-12-13",null,null,{"$f":"VLOOKUP(P4826,Campos!$B$2:$C$7,2,FALSE)","v":0},"Sin información"]
[4821,29,"Tlaxcala",7,"Fiscalización de los recursos de los Partidos Políticos y candidaturas independientes","7.7",7,"Aprobación de topes de gastos para el periodo de obtención del apoyo ciudadano para Gubernatura","OPL","CG","2020-10-15","2020-10-24",null,null,{"$f":"VLOOKUP(P4827,Campos!$B$2:$C$7,2,FALSE)","v":0},"Sin información"]
[4822,29,"Tlaxcala",7,"Fiscalización de los recursos de los Partidos Políticos y candidaturas independientes","7.8",8,"Aprobación de topes de gastos para el periodo de obtención del apoyo ciudadano para Diputaciones","OPL","CG","2020-10-15","2020-10-24",null,null,{"$f":"VLOOKUP(P4828,Campos!$B$2:$C$7,2,FALSE)","v":0},"Sin información"]
[4823,29,"Tlaxcala",7,"Fiscalización de los recursos de los Partidos Políticos y candidaturas independientes","7.9",9,"Aprobación de topes de gastos para el periodo de obtención del apoyo ciudadano para Ayuntamientos","OPL","CG","2020-10-15","2020-10-24",null,null,{"$f":"VLOOKUP(P4829,Campos!$B$2:$C$7,2,FALSE)","v":0},"Sin información"]
[4824,29,"Tlaxcala",7,"Fiscalización de los recursos de los Partidos Políticos y candidaturas independientes","7.10",10,"Precampaña para Gubernatura","OPL","CG","2021-01-02","2021-02-10",null,null,{"$f":"VLOOKUP(P4830,Campos!$B$2:$C$7,2,FALSE)","v":0},"Sin información"]
[4825,29,"Tlaxcala",7,"Fiscalización de los recursos de los Partidos Políticos y candidaturas independientes","7.11",11,"Precampaña para Diputaciones","OPL","CG","2021-01-02","2021-01-21",null,null,{"$f":"VLOOKUP(P4831,Campos!$B$2:$C$7,2,FALSE)","v":0},"Sin información"]
[4826,29,"Tlaxcala",7,"Fiscalización de los recursos de los Partidos Políticos y candidaturas independientes","7.12",12,"Precampaña para Ayuntamientos","OPL","CG","2021-01-02","2021-01-21",null,null,{"$f":"VLOOKUP(P4832,Campos!$B$2:$C$7,2,FALSE)","v":0},"Sin información"]
[4827,29,"Tlaxcala",7,"Fiscalización de los recursos de los Partidos Políticos y candidaturas independientes","7.13",13,"Aprobación de topes de gastos de campaña para Gubernatura","OPL","CG","2021-03-10","2021-03-15",null,null,{"$f":"VLOOKUP(P4833,Campos!$B$2:$C$7,2,FALSE)","v":0},"Sin información"]
[4828,29,"Tlaxcala",7,"Fiscalización de los recursos de los Partidos Políticos y candidaturas independientes","7.14",14,"Aprobación de topes de gastos de campaña para Diputaciones","OPL","CG","2021-03-10","2021-03-15",null,null,{"$f":"VLOOKUP(P4834,Campos!$B$2:$C$7,2,FALSE)","v":0},"Sin información"]
[4829,29,"Tlaxcala",7,"Fiscalización de los recursos de los Partidos Políticos y candidaturas independientes","7.15",15,"Aprobación de topes de gastos de campaña para Ayuntamientos","OPL","CG","2021-03-10","2021-03-15",null,null,{"$f":"VLOOKUP(P4835,Campos!$B$2:$C$7,2,FALSE)","v":0},"Sin información"]
[4830,29,"Tlaxcala",7,"Fiscalización de los recursos de los Partidos Políticos y candidaturas independientes","7.16",16,"Campaña para Gubernatura","OPL","CG","2021-04-04","2021-06-02",null,null,{"$f":"VLOOKUP(P4836,Campos!$B$2:$C$7,2,FALSE)","v":0},"Sin información"]
[4831,29,"Tlaxcala",7,"Fiscalización de los recursos de los Partidos Políticos y candidaturas independientes","7.17",17,"Campaña para Diputaciones","OPL","CG","2021-05-04","2021-06-02",null,null,{"$f":"VLOOKUP(P4837,Campos!$B$2:$C$7,2,FALSE)","v":0},"Sin información"]
[4832,29,"Tlaxcala",7,"Fiscalización de los recursos de los Partidos Políticos y candidaturas independientes","7.18",18,"Campaña para Ayuntamientos","OPL","CG","2021-05-04","2021-06-02",null,null,{"$f":"VLOOKUP(P4838,Campos!$B$2:$C$7,2,FALSE)","v":0},"Sin información"]
[4833,29,"Tlaxcala",7,"Fiscalización de los recursos de los Partidos Políticos y candidaturas independientes","7.19",19,"Aprobación de la distribución de financiamiento público para partidos políticos","OPL","CG","2021-01-01","2021-01-31",null,null,{"$f":"VLOOKUP(P4839,Campos!$B$2:$C$7,2,FALSE)","v":0},"Sin información"]
[4834,29,"Tlaxcala",8,"Candidaturas Independientes","8.1",1,"Emisión de la convocatoria para la ciudadanía interesada en participar en Candidaturas Independientes ","OPL","CG","2020-10-15","2020-10-24",null,null,{"$f":"VLOOKUP(P4840,Campos!$B$2:$C$7,2,FALSE)","v":0},"Sin información"]
[4835,29,"Tlaxcala",8,"Candidaturas Independientes","8.2",2,"Recepción de escrito de intención y documentación anexa de la ciudadanía que aspire a la candidatura independiente para Gubernatura","OPL","OD","2020-10-16","2020-11-03",null,null,{"$f":"VLOOKUP(P4841,Campos!$B$2:$C$7,2,FALSE)","v":0},"Sin información"]
[4836,29,"Tlaxcala",8,"Candidaturas Independientes","8.3",3,"Recepción de escrito de intención y documentación anexa de la ciudadanía que aspire a la candidatura independiente para Diputaciones","OPL","OD","2020-10-16","2020-11-03",null,null,{"$f":"VLOOKUP(P4842,Campos!$B$2:$C$7,2,FALSE)","v":0},"Sin información"]
[4837,29,"Tlaxcala",8,"Candidaturas Independientes","8.4",4,"Recepción de escrito de intención y documentación anexa de la ciudadanía que aspire a la candidatura independiente para Ayuntamientos","OPL","SE/OD","2020-10-16","2020-11-03",null,null,{"$f":"VLOOKUP(P4843,Campos!$B$2:$C$7,2,FALSE)","v":0},"Sin información"]
[4838,29,"Tlaxcala",8,"Candidaturas Independientes","8.5",5,"Resolución sobre procedencia de manifestación de intención de aspirantes a candidaturas independientes para Gubernatura","OPL","CG","2020-10-19","2020-11-06",null,null,{"$f":"VLOOKUP(P4844,Campos!$B$2:$C$7,2,FALSE)","v":0},"Sin información"]
[4839,29,"Tlaxcala",8,"Candidaturas Independientes","8.6",6,"Resolución sobre procedencia de manifestación de intención de aspirantes a candidaturas independientes para Diputaciones","OPL","CG","2020-10-19","2020-11-06",null,null,{"$f":"VLOOKUP(P4845,Campos!$B$2:$C$7,2,FALSE)","v":0},"Sin información"]
[4840,29,"Tlaxcala",8,"Candidaturas Independientes","8.7",7,"Resolución sobre procedencia de manifestación de intención de aspirantes a candidaturas independientes para Ayuntamientos","OPL","CG","2020-10-19","2020-11-06",null,null,{"$f":"VLOOKUP(P4846,Campos!$B$2:$C$7,2,FALSE)","v":0},"Sin información"]
[4841,29,"Tlaxcala",8,"Candidaturas Independientes","8.8",8,"Plazo para obtener el apoyo ciudadano de las candidaturas independientes para Gubernatura","OPL","OD","2021-01-02","2021-02-10",null,null,{"$f":"VLOOKUP(P4847,Campos!$B$2:$C$7,2,FALSE)","v":0},"Sin información"]
[4842,29,"Tlaxcala",8,"Candidaturas Independientes","8.9",9,"Plazo para obtener el apoyo ciudadano de las candidaturas independientes para Diputaciones","OPL","OD","2021-01-02","2021-01-31",null,null,{"$f":"VLOOKUP(P4848,Campos!$B$2:$C$7,2,FALSE)","v":0},"Sin información"]
[4843,29,"Tlaxcala",8,"Candidaturas Independientes","8.10",10,"Plazo para obtener el apoyo ciudadano de las candidaturas independientes para Ayuntamientos","OPL","OD","2021-01-02","2021-01-31",null,null,{"$f":"VLOOKUP(P4849,Campos!$B$2:$C$7,2,FALSE)","v":0},"Sin información"]
[4844,29,"Tlaxcala",8,"Candidaturas Independientes","8.11",11,"Plazo para otorgar las constancias de porcentaje a favor de aspirantes a la candidatura independiente para Gubernatura","OPL","CG","2021-02-13","2021-02-22",null,null,{"$f":"VLOOKUP(P4850,Campos!$B$2:$C$7,2,FALSE)","v":0},"Sin información"]
[4845,29,"Tlaxcala",8,"Candidaturas Independientes","8.12",12,"Plazo para otorgar las constancias de porcentaje a favor de aspirantes a la candidatura independiente para Diputaciones","OPL","CG","2021-02-03","2021-02-12",null,null,{"$f":"VLOOKUP(P4851,Campos!$B$2:$C$7,2,FALSE)","v":0},"Sin información"]
[4846,29,"Tlaxcala",8,"Candidaturas Independientes","8.13",13,"Plazo para otorgar las constancias de porcentaje a favor de aspirantes a la candidatura independiente para Ayuntamientos","OPL","CG","2021-02-03","2021-02-12",null,null,{"$f":"VLOOKUP(P4852,Campos!$B$2:$C$7,2,FALSE)","v":0},"Sin información"]
[4847,29,"Tlaxcala",9,"Candidaturas","9.1",1,"Registro de plataformas electorales","OPL","CG","2021-02-15","2021-03-01",null,null,{"$f":"VLOOKUP(P4853,Campos!$B$2:$C$7,2,FALSE)","v":0},"Sin información"]
[4848,29,"Tlaxcala",9,"Candidaturas","9.2",2,"Solicitud de registro de convenio de coalición para Gubernatura","OPL","CG","2020-12-17","2021-01-02",null,null,{"$f":"VLOOKUP(P4854,Campos!$B$2:$C$7,2,FALSE)","v":0},"Sin información"]
[4849,29,"Tlaxcala",9,"Candidaturas","9.3",3,"Solicitud de registro de convenio de coalición para Diputaciones","OPL","CG","2020-12-17","2021-01-02",null,null,{"$f":"VLOOKUP(P4855,Campos!$B$2:$C$7,2,FALSE)","v":0},"Sin información"]
[4850,29,"Tlaxcala",9,"Candidaturas","9.4",4,"Solicitud de registro de convenio de coalición para Ayuntamientos","OPL","CG","2020-12-17","2021-01-02",null,null,{"$f":"VLOOKUP(P4856,Campos!$B$2:$C$7,2,FALSE)","v":0},"Sin información"]
[4851,29,"Tlaxcala",9,"Candidaturas","9.5",5,"Resolución sobre Convenio de Coalición para Gubernatura","OPL","CG","2020-12-27","2021-01-12",null,null,{"$f":"VLOOKUP(P4857,Campos!$B$2:$C$7,2,FALSE)","v":0},"Sin información"]
[4852,29,"Tlaxcala",9,"Candidaturas","9.6",6,"Resolución sobre Convenio de Coalición para Diputaciones","OPL","CG","2020-12-27","2021-01-12",null,null,{"$f":"VLOOKUP(P4858,Campos!$B$2:$C$7,2,FALSE)","v":0},"Sin información"]
[4853,29,"Tlaxcala",9,"Candidaturas","9.7",7,"Resolución sobre Convenio de Coalición para Ayuntamientos","OPL","CG","2020-12-27","2021-01-12",null,null,{"$f":"VLOOKUP(P4859,Campos!$B$2:$C$7,2,FALSE)","v":0},"Sin información"]
[4854,29,"Tlaxcala",9,"Candidaturas","9.8",8,"Solicitud de registro de Candidaturas para Gubernatura","OPL","CG/OD","2021-03-16","2021-03-25",null,null,{"$f":"VLOOKUP(P4860,Campos!$B$2:$C$7,2,FALSE)","v":0},"Sin información"]
[4855,29,"Tlaxcala",9,"Candidaturas","9.9",9,"Solicitud de registro de Candidaturas para Diputaciones","OPL","CG/OD","2021-03-16","2021-03-25",null,null,{"$f":"VLOOKUP(P4861,Campos!$B$2:$C$7,2,FALSE)","v":0},"Sin información"]
[4856,29,"Tlaxcala",9,"Candidaturas","9.11",11,"Solicitud de registro de Candidaturas para Ayuntamientos","OPL","CG/OD","2021-04-05","2021-04-21",null,null,{"$f":"VLOOKUP(P4862,Campos!$B$2:$C$7,2,FALSE)","v":0},"Sin información"]
[4857,29,"Tlaxcala",9,"Candidaturas","9.13",13,"Resolución para aprobar las candidaturas para Gubernatura","OPL","CG","2021-03-26","2021-04-02",null,null,{"$f":"VLOOKUP(P4863,Campos!$B$2:$C$7,2,FALSE)","v":0},"Sin información"]
[4858,29,"Tlaxcala",9,"Candidaturas","9.14",14,"Resolución para aprobar las candidaturas para Diputaciones","OPL","CG","2021-03-26","2021-04-02",null,null,{"$f":"VLOOKUP(P4864,Campos!$B$2:$C$7,2,FALSE)","v":0},"Sin información"]
[4859,29,"Tlaxcala",9,"Candidaturas","9.16",16,"Resolución para aprobar las candidaturas para Ayuntamientos","OPL","CG/OD","2021-04-22","2021-04-29",null,null,{"$f":"VLOOKUP(P4865,Campos!$B$2:$C$7,2,FALSE)","v":0},"Sin información"]
[4860,29,"Tlaxcala",9,"Candidaturas","9.17",17,"Solicitud de registro de candidaturas comunes para Gubernatura ","OPL","CG/OD","2020-12-26","2021-01-14",null,null,{"$f":"VLOOKUP(P4866,Campos!$B$2:$C$7,2,FALSE)","v":0},"Sin información"]
[4861,29,"Tlaxcala",9,"Candidaturas","9.18",18,"Solicitud de registro de candidaturas comunes para Diputaciones ","OPL","CG/OD","2020-12-26","2021-01-14",null,null,{"$f":"VLOOKUP(P4867,Campos!$B$2:$C$7,2,FALSE)","v":0},"Sin información"]
[4862,29,"Tlaxcala",9,"Candidaturas","9.19",19,"Solicitud de registro de candidaturas comunes para Ayuntamientos  ","OPL","CG/OD","2020-12-26","2021-01-14",null,null,{"$f":"VLOOKUP(P4868,Campos!$B$2:$C$7,2,FALSE)","v":0},"Sin información"]
[4863,29,"Tlaxcala",9,"Candidaturas","9.20",20,"Resolución para aprobar las candidaturas comunes para Gubernatura","OPL","CG/OD","2020-12-27","2021-02-17",null,null,{"$f":"VLOOKUP(P4869,Campos!$B$2:$C$7,2,FALSE)","v":0},"Sin información"]
[4864,29,"Tlaxcala",9,"Candidaturas","9.21",21,"Resolución para aprobar las candidaturas comunes para Diputaciones ","OPL","CG/OD","2020-12-27","2021-02-17",null,null,{"$f":"VLOOKUP(P4870,Campos!$B$2:$C$7,2,FALSE)","v":0},"Sin información"]
[4865,29,"Tlaxcala",9,"Candidaturas","9.22",22,"Resolución para aprobar las candidaturas comunes para Ayuntamientos ","OPL","CG/OD","2020-12-27","2021-02-17",null,null,{"$f":"VLOOKUP(P4871,Campos!$B$2:$C$7,2,FALSE)","v":0},"Sin información"]
[4866,29,"Tlaxcala",10,"Debates","10.1",1,"Aprobación de las fechas en que se celebrarán los debates","OPL","CG","2021-04-04","2021-04-13",null,null,{"$f":"VLOOKUP(P4872,Campos!$B$2:$C$7,2,FALSE)","v":0},"Sin información"]
[4867,29,"Tlaxcala",10,"Debates","10.2",2,"Realización de debate(s)","OPL","CG","2021-04-14","2021-06-02",null,null,{"$f":"VLOOKUP(P4873,Campos!$B$2:$C$7,2,FALSE)","v":0},"Sin información"]
[4868,29,"Tlaxcala",11,"Documentación y material electoral","11.1",1,"Entrega a la Junta Local Ejecutiva del INE, de los diseños y especificaciones técnicas de la documentación y materiales electorales, en medios impresos y electrónicos","OPL","CG","2020-09-01","2020-09-30",null,null,{"$f":"VLOOKUP(P4874,Campos!$B$2:$C$7,2,FALSE)","v":0},"Sin información"]
[4869,29,"Tlaxcala",11,"Documentación y material electoral","11.2",2,"Revisión de los documentos y materiales electorales y especificaciones técnicas, presentadas por el OPL","INE","JLE","2020-09-15","2020-12-16",null,null,{"$f":"VLOOKUP(P4875,Campos!$B$2:$C$7,2,FALSE)","v":0},"Sin información"]
[4870,29,"Tlaxcala",11,"Documentación y material electoral","11.3",3,"En su caso, atención y presentación, de los cambios pertinentes, conforme a las observaciones emitidas por la Junta Local Ejecutiva del INE","OPL","CG","2020-09-15","2020-12-16",null,null,{"$f":"VLOOKUP(P4876,Campos!$B$2:$C$7,2,FALSE)","v":0},"Sin información"]
[4871,29,"Tlaxcala",11,"Documentación y material electoral","11.4",4,"Validación de los documentos y materiales electorales y especificaciones técnicas, con las observaciones subsanadas","INE","DEOE","2020-10-28","2020-12-18",null,null,{"$f":"VLOOKUP(P4877,Campos!$B$2:$C$7,2,FALSE)","v":0},"Sin información"]
[4872,29,"Tlaxcala",11,"Documentación y material electoral","11.5",5,"Entrega a la Dirección Ejecutiva de Organización Electoral del INE, del Reporte único sobre la aprobación y adjudicación de los documentos y materiales electorales del OPL, en medios electrónicos","OPL","CG","2021-02-01","2021-02-26",null,null,{"$f":"VLOOKUP(P4878,Campos!$B$2:$C$7,2,FALSE)","v":0},"Sin información"]
[4873,29,"Tlaxcala",11,"Documentación y material electoral","11.6",6,"Revisión y en su caso validación, del Reporte único sobre la aprobación y adjudicación de los documentos y materiales electorales del OPL, en medios electrónicos","INE","DEOE","2021-02-15","2021-03-12",null,null,{"$f":"VLOOKUP(P4879,Campos!$B$2:$C$7,2,FALSE)","v":0},"Sin información"]
[4874,29,"Tlaxcala",11,"Documentación y material electoral","11.7",7,"Entrega  a la Dirección Ejecutiva de Organización Electoral del INE, del Reporte semanal sobre el avance en la producción de los documentos y materiales electorales del OPL, en medios electrónicos.","OPL","CG","2021-03-15","2021-05-22",null,null,{"$f":"VLOOKUP(P4880,Campos!$B$2:$C$7,2,FALSE)","v":0},"Sin información"]
[4875,29,"Tlaxcala",11,"Documentación y material electoral","11.8",8,"Aprobación de la documentación y material electoral","OPL","CG","2020-11-11","2020-12-31",null,null,{"$f":"VLOOKUP(P4881,Campos!$B$2:$C$7,2,FALSE)","v":0},"Sin información"]
[4876,29,"Tlaxcala",11,"Documentación y material electoral","11.9",9,"Entrega a la Dirección Ejecutiva de Organización Electoral del INE, del Reporte con los resultados de las verificaciones de las medidas de seguridad en la documentación electoral","OPL","CG","2021-05-27","2021-06-11",null,null,{"$f":"VLOOKUP(P4882,Campos!$B$2:$C$7,2,FALSE)","v":0},"Sin información"]
[4877,29,"Tlaxcala",11,"Documentación y material electoral","11.10",10,"Supervisiones respecto de los procedimientos de impresión y producción de la documentación y materiales electorales","INE","DEOE","2021-03-15","2021-05-22",null,null,{"$f":"VLOOKUP(P4883,Campos!$B$2:$C$7,2,FALSE)","v":0},"Sin información"]
[4878,29,"Tlaxcala",11,"Documentación y material electoral","11.11",11,"Designación de la persona responsable de llevar el control sobre la asignación de los folios de las boletas que se distribuirán en cada mesa directiva de casilla","OPL","CG","2021-03-01","2021-03-30",null,null,{"$f":"VLOOKUP(P4884,Campos!$B$2:$C$7,2,FALSE)","v":0},"Sin información"]
[4879,29,"Tlaxcala",11,"Documentación y material electoral","11.12",12,"Aprobación de SE y CAE, así como de personal que auxiliará en el procedimiento de conteo, sellado y agrupamiento de las boletas electorales; así como la integración de documentación para las casillas","OPL","CG","2021-04-24","2021-05-11",null,null,{"$f":"VLOOKUP(P4885,Campos!$B$2:$C$7,2,FALSE)","v":0},"Sin información"]
[4880,29,"Tlaxcala",11,"Documentación y material electoral","11.13",13,"Recepción de las boletas electorales por el órgano competente que realizará el conteo, sellado y agrupamiento","OPL","CG","2021-05-18","2021-05-22",null,null,{"$f":"VLOOKUP(P4886,Campos!$B$2:$C$7,2,FALSE)","v":0},"Sin información"]
[4881,29,"Tlaxcala",11,"Documentación y material electoral","11.14",14,"Conteo, sellado y agrupamiento de boletas","OPL","CG","2021-05-18","2021-05-28",null,null,{"$f":"VLOOKUP(P4887,Campos!$B$2:$C$7,2,FALSE)","v":0},"Sin información"]
[4882,29,"Tlaxcala",11,"Documentación y material electoral","11.15",15,"Distribución de la documentación y materiales electorales a las y los Presidentes de mesas directivas de casilla","OPL","OD","2021-05-31","2021-06-04",null,null,{"$f":"VLOOKUP(P4888,Campos!$B$2:$C$7,2,FALSE)","v":0},"Sin información"]
[4883,29,"Tlaxcala",11,"Documentación y material electoral","11.16",16,"Remisión de los recibos de la entrega de la documentación y materiales electorales al Consejo General del OPL","INE","JLE","2021-06-24","2021-06-30",null,null,{"$f":"VLOOKUP(P4889,Campos!$B$2:$C$7,2,FALSE)","v":0},"Sin información"]
[4884,29,"Tlaxcala",12,"Jornada Electoral","12.1",1,"Aprobación del Programa de Operación del SIJE 2021","INE","CCOE","2020-07-01","2020-07-31",null,null,{"$f":"VLOOKUP(P4890,Campos!$B$2:$C$7,2,FALSE)","v":0},"Sin información"]
[4885,29,"Tlaxcala",12,"Jornada Electoral","12.2",2,"Aprobación de las metas del SIJE 2021","INE","CG","2021-03-01","2021-03-31",null,null,{"$f":"VLOOKUP(P4891,Campos!$B$2:$C$7,2,FALSE)","v":0},"Sin información"]
[4886,29,"Tlaxcala",12,"Jornada Electoral","12.3",3,"Realización de pruebas del SIJE 2021","INE","DEOE","2021-04-01","2021-04-15",null,null,{"$f":"VLOOKUP(P4892,Campos!$B$2:$C$7,2,FALSE)","v":0},"Sin información"]
[4887,29,"Tlaxcala",12,"Jornada Electoral","12.4",4,"Desarrollo del primer simulacro del SIJE","INE/OPL","DEOE/OD","2021-04-29","2021-04-29",null,null,{"$f":"VLOOKUP(P4893,Campos!$B$2:$C$7,2,FALSE)","v":0},"Sin información"]
[4888,29,"Tlaxcala",12,"Jornada Electoral","12.5",5,"Desarrollo del segundo simulacro del SIJE","INE/OPL","DEOE/OD","2021-05-09","2021-05-09",null,null,{"$f":"VLOOKUP(P4894,Campos!$B$2:$C$7,2,FALSE)","v":0},"Sin información"]
[4889,29,"Tlaxcala",12,"Jornada Electoral","12.6",6,"Desarrollo del tercer simulacro del SIJE","INE/OPL","DEOE/OD","2021-05-23","2021-05-23",null,null,{"$f":"VLOOKUP(P4895,Campos!$B$2:$C$7,2,FALSE)","v":0},"Sin información"]
[4890,29,"Tlaxcala",12,"Jornada Electoral","12.7",7,"Jornada Electoral","OPL","CG/OD","2021-06-06","2021-06-06",null,null,{"$f":"VLOOKUP(P4896,Campos!$B$2:$C$7,2,FALSE)","v":0},"Sin información"]
[4891,29,"Tlaxcala",13,"Bodegas electorales","13.1",1,"Determinación de los lugares que ocuparán las bodegas electorales para el resguardo de la documentación electoral","OPL","CG","2021-02-01","2021-02-28",null,null,{"$f":"VLOOKUP(P4897,Campos!$B$2:$C$7,2,FALSE)","v":0},"Sin información"]
[4892,29,"Tlaxcala",13,"Bodegas electorales","13.2",2,"Informe que rinden las y los Presidentes sobre las condiciones de equipamiento, mecanismos de operación y medidas de seguridad de las bodegas electorales","OPL","OD","2021-03-01","2021-03-31",null,null,{"$f":"VLOOKUP(P4898,Campos!$B$2:$C$7,2,FALSE)","v":0},"Sin información"]
[4893,29,"Tlaxcala",13,"Bodegas electorales","13.3",3,"Designación, por parte del órgano competente del OPL, del personal que tendrá acceso a la bodega electoral","OPL","CG/OD","2021-03-01","2021-03-30",null,null,{"$f":"VLOOKUP(P4899,Campos!$B$2:$C$7,2,FALSE)","v":0},"Sin información"]
[4894,29,"Tlaxcala",13,"Bodegas electorales","13.4",4,"Envío a la UTVOPL, por conducto de la JLE, el informe sobre las condiciones que guardan las bodegas electorales","OPL","CG","2021-04-04","2021-04-10",null,null,{"$f":"VLOOKUP(P4900,Campos!$B$2:$C$7,2,FALSE)","v":0},"Sin información"]
[4895,29,"Tlaxcala",14,"Mecanismos de recolección","14.1",1,"Entrega de estudios de factibilidad al OPL","INE","CL","2021-03-15","2021-03-31",null,null,{"$f":"VLOOKUP(P4901,Campos!$B$2:$C$7,2,FALSE)","v":0},"Sin información"]
[4896,29,"Tlaxcala",14,"Mecanismos de recolección","14.2",2,"Entrega de observaciones a los estudios de factibilidad ","OPL","CG","2021-04-01","2021-04-24",null,null,{"$f":"VLOOKUP(P4902,Campos!$B$2:$C$7,2,FALSE)","v":0},"Sin información"]
[4897,29,"Tlaxcala",14,"Mecanismos de recolección","14.3",3,"Recorridos para verificar las propuestas de los mecanismos de recolección","INE/OPL","CD/OD","2021-03-16","2021-04-24",null,null,{"$f":"VLOOKUP(P4903,Campos!$B$2:$C$7,2,FALSE)","v":0},"Sin información"]
[4898,29,"Tlaxcala",14,"Mecanismos de recolección","14.4",4,"Aprobación de los mecanismos de recolección ","INE","CD","2021-04-26","2021-04-30",null,null,{"$f":"VLOOKUP(P4904,Campos!$B$2:$C$7,2,FALSE)","v":0},"Sin información"]
[4899,29,"Tlaxcala",14,"Mecanismos de recolección","14.5",5,"Traslado y recolección de los paquetes electorales","INE/OPL","CD/OD","2021-06-06","2021-06-07",null,null,{"$f":"VLOOKUP(P4905,Campos!$B$2:$C$7,2,FALSE)","v":0},"Sin información"]
[4900,29,"Tlaxcala",14,"Mecanismos de recolección","14.6",6,"Acreditación de representantes de partidos políticos y candidaturas independientes ante los mecanismos de recolección","INE","CL/CD","2021-04-27","2021-06-03",null,null,{"$f":"VLOOKUP(P4906,Campos!$B$2:$C$7,2,FALSE)","v":0},"Sin información"]
[4901,29,"Tlaxcala",14,"Mecanismos de recolección","14.7",7,"Sustitución de representantes de partidos políticos y candidaturas independientes ante los mecanismos de recolección","INE","CL/CD","2021-04-28","2021-06-04",null,null,{"$f":"VLOOKUP(P4907,Campos!$B$2:$C$7,2,FALSE)","v":0},"Sin información"]
[4902,29,"Tlaxcala",14,"Mecanismos de recolección","14.8",8,"Entrega a la JLE, el informe sobre la recepción de paquetes electorales en los órganos competentes","OPL","CG","2021-06-06","2021-06-28",null,null,{"$f":"VLOOKUP(P4908,Campos!$B$2:$C$7,2,FALSE)","v":0},"Sin información"]
[4903,29,"Tlaxcala",15,"Cómputos","15.1",1,"Aprobación de los lineamientos de cómputo y del cuadernillo de consulta sobre votos válidos y votos nulos","OPL","CG","2021-01-18","2021-01-29",null,null,{"$f":"VLOOKUP(P4909,Campos!$B$2:$C$7,2,FALSE)","v":0},"Sin información"]
[4904,29,"Tlaxcala",15,"Cómputos","15.2",2,"Integración por parte de los Órganos Desconcentrados del OPL, de la propuesta para la habilitación de espacios para el recuento de votos con las alternativas para todos los escenarios de cómputo","OPL","OD","2021-03-01","2021-03-07",null,null,{"$f":"VLOOKUP(P4910,Campos!$B$2:$C$7,2,FALSE)","v":0},"Sin información"]
[4905,29,"Tlaxcala",15,"Cómputos","15.3",3,"Informe de los escenarios de cómputos de la totalidad de sus órganos desconcentrados","OPL","CG","2021-04-01","2021-04-04",null,null,{"$f":"VLOOKUP(P4911,Campos!$B$2:$C$7,2,FALSE)","v":0},"Sin información"]
[4906,29,"Tlaxcala",15,"Cómputos","15.4",4,"Remisión a la JLE en la entidad, las propuestas de escenarios de cómputos, para la dictaminación de viabilidad","OPL","CG","2021-05-01","2021-05-07",null,null,{"$f":"VLOOKUP(P4912,Campos!$B$2:$C$7,2,FALSE)","v":0},"Sin información"]
[4907,29,"Tlaxcala",15,"Cómputos","15.5",5,"Remisión de las observaciones a los escenarios de Cómputos al OPL y a su vez informar de las mismas a la UTVOPL","INE","JLE","2021-05-08","2021-05-15",null,null,{"$f":"VLOOKUP(P4913,Campos!$B$2:$C$7,2,FALSE)","v":0},"Sin información"]
[4908,29,"Tlaxcala",15,"Cómputos","15.6",6,"Aprobación por parte del órgano competente del OPL, del acuerdo mediante el cual se designa al personal que participará en las tareas de apoyo a los Cómputos Municipales","OPL","CG/OD","2021-04-26","2021-05-05",null,null,{"$f":"VLOOKUP(P4914,Campos!$B$2:$C$7,2,FALSE)","v":0},"Sin información"]
[4909,29,"Tlaxcala",15,"Cómputos","15.7",7,"Aprobación por parte del órgano competente del OPL, del acuerdo mediante el cual se designa al personal que participará en las tareas de apoyo a los Cómputos Distritales ","OPL","CG/OD","2021-04-26","2021-05-05",null,null,{"$f":"VLOOKUP(P4915,Campos!$B$2:$C$7,2,FALSE)","v":0},"Sin información"]
[4910,29,"Tlaxcala",15,"Cómputos","15.8",8,"Aprobación por parte de los órganos competentes del OPL, de los distintos escenarios de cómputos","OPL","OD","2021-05-08","2021-05-15",null,null,{"$f":"VLOOKUP(P4916,Campos!$B$2:$C$7,2,FALSE)","v":0},"Sin información"]
[4911,29,"Tlaxcala",15,"Cómputos","15.9",9,"Aprobación por parte del órgano competente del OPL, del acuerdo por el que se habilitarán espacios para la instalación de grupos de trabajo y, en su caso, puntos de recuento","OPL","CG/OD","2021-06-08","2021-06-08",null,null,{"$f":"VLOOKUP(P4917,Campos!$B$2:$C$7,2,FALSE)","v":0},"Sin información"]
[4912,29,"Tlaxcala",15,"Cómputos","15.10",10,"Cómputos Distritales","OPL","OD","2021-06-09","2021-06-12",null,null,{"$f":"VLOOKUP(P4918,Campos!$B$2:$C$7,2,FALSE)","v":0},"Sin información"]
[4913,29,"Tlaxcala",15,"Cómputos","15.14",14,"Cómputo Estatal para la asignación diputaciones de Representación Proporcional","OPL","CG","2021-06-13","2021-06-13",null,null,{"$f":"VLOOKUP(P4919,Campos!$B$2:$C$7,2,FALSE)","v":0},"Sin información"]
[4914,29,"Tlaxcala",15,"Cómputos","15.13",13,"Cómputo Estatal para la Gubernatura","OPL","CG","2021-06-13","2021-06-13",null,null,{"$f":"VLOOKUP(P4920,Campos!$B$2:$C$7,2,FALSE)","v":0},"Sin información"]
[4915,29,"Tlaxcala",15,"Cómputos","15.11",11,"Cómputos Municipales","OPL","OD","2021-06-09","2021-06-12",null,null,{"$f":"VLOOKUP(P4921,Campos!$B$2:$C$7,2,FALSE)","v":0},"Sin información"]
[4916,29,"Tlaxcala",15,"Cómputos","15.16",16,"Asignación de regidurías por el principio de Representación Proporcional","OPL","CG","2021-06-13","2021-06-13",null,null,{"$f":"VLOOKUP(P4922,Campos!$B$2:$C$7,2,FALSE)","v":0},"Sin información"]
[4917,29,"Tlaxcala",16,"PREP","16.1",1,"Aprobación del Acuerdo por el que se designa o ratifica a la instancia interna responsable de coordinar el PREP","OPL","CG","2020-09-11","2020-09-11",null,null,{"$f":"VLOOKUP(P4923,Campos!$B$2:$C$7,2,FALSE)","v":0},"Sin información"]
[4918,29,"Tlaxcala",16,"PREP","16.2",2,"Aprobación del Acuerdo de Integración del COTAPREP","OPL","CG","2020-11-11","2020-11-11",null,null,{"$f":"VLOOKUP(P4924,Campos!$B$2:$C$7,2,FALSE)","v":0},"Sin información"]
[4919,29,"Tlaxcala",16,"PREP","16.3",3,"Documento por el que se determina la implementación del PREP por el OPL o con el apoyo de un Tercero","OPL","CG","2020-12-11","2020-12-11",null,null,{"$f":"VLOOKUP(P4925,Campos!$B$2:$C$7,2,FALSE)","v":0},"Sin información"]
[4920,29,"Tlaxcala",16,"PREP","16.4",4,"Aprobación del Acuerdo por el que se determina el Proceso Técnico Operativo ","OPL","CG","2021-01-11","2021-01-11",null,null,{"$f":"VLOOKUP(P4926,Campos!$B$2:$C$7,2,FALSE)","v":0},"Sin información"]
[4921,29,"Tlaxcala",16,"PREP","16.5",5,"Aprobación del Acuerdo por el que se determina la ubicación, instalación y habilitación de los CATD y, en su caso, CCV","OPL","CG","2021-02-11","2021-02-11",null,null,{"$f":"VLOOKUP(P4927,Campos!$B$2:$C$7,2,FALSE)","v":0},"Sin información"]
[4922,29,"Tlaxcala",16,"PREP","16.6",6,"Documento de Designación del Ente Auditor ","OPL","CG","2021-02-11","2021-02-11",null,null,{"$f":"VLOOKUP(P4928,Campos!$B$2:$C$7,2,FALSE)","v":0},"Sin información"]
[4923,29,"Tlaxcala",16,"PREP","16.7",7,"Instrumento jurídico celebrado entre el OPL y el ente auditor","OPL","CG","2021-03-11","2021-03-11",null,null,{"$f":"VLOOKUP(P4929,Campos!$B$2:$C$7,2,FALSE)","v":0},"Sin información"]
[4924,29,"Tlaxcala",16,"PREP","16.8",8,"Realización del primer simulacro del PREP","OPL","CG","2021-05-16","2021-05-16",null,null,{"$f":"VLOOKUP(P4930,Campos!$B$2:$C$7,2,FALSE)","v":0},"Sin información"]
[4925,29,"Tlaxcala",16,"PREP","16.9",9,"Realización del segundo simulacro del PREP","OPL","CG","2021-05-23","2021-05-23",null,null,{"$f":"VLOOKUP(P4931,Campos!$B$2:$C$7,2,FALSE)","v":0},"Sin información"]
[4926,29,"Tlaxcala",16,"PREP","16.10",10,"Realización del tercer simulacro del PREP","OPL","CG","2021-05-30","2021-05-30",null,null,{"$f":"VLOOKUP(P4932,Campos!$B$2:$C$7,2,FALSE)","v":0},"Sin información"]
[4927,29,"Tlaxcala",16,"PREP","16.11",11,"Operación del PREP","OPL","CG","2021-06-06","2021-06-07",null,null,{"$f":"VLOOKUP(P4933,Campos!$B$2:$C$7,2,FALSE)","v":0},"Sin información"]
[4928,29,"Tlaxcala",17,"Conteo Rápido","17.1",1,"Aprobación del Acuerdo de Integración del COTECORA","Por definir","Por definir","2021-02-01","2021-02-06",null,null,{"$f":"VLOOKUP(P4934,Campos!$B$2:$C$7,2,FALSE)","v":0},"Sin información"]
[4929,29,"Tlaxcala",17,"Conteo Rápido","17.2",2,"Realización de pruebas de captura","Por definir","Por definir","2021-04-14","2021-04-15",null,null,{"$f":"VLOOKUP(P4935,Campos!$B$2:$C$7,2,FALSE)","v":0},"Sin información"]
[4930,29,"Tlaxcala",17,"Conteo Rápido","17.3",3,"Realización de primer simulacro del Conteo Rápido","Por definir","Por definir","2021-04-29","2021-04-29",null,null,{"$f":"VLOOKUP(P4936,Campos!$B$2:$C$7,2,FALSE)","v":0},"Sin información"]
[4931,29,"Tlaxcala",17,"Conteo Rápido","17.4",4,"Realización de segundo simulacro del Conteo Rápido","Por definir","Por definir","2021-05-16","2021-05-16",null,null,{"$f":"VLOOKUP(P4937,Campos!$B$2:$C$7,2,FALSE)","v":0},"Sin información"]
[4932,29,"Tlaxcala",17,"Conteo Rápido","17.5",5,"Selección de la Muestra para el Conteo Rápido","Por definir","Por definir","2021-06-02","2021-06-04",null,null,{"$f":"VLOOKUP(P4938,Campos!$B$2:$C$7,2,FALSE)","v":0},"Sin información"]
[4933,29,"Tlaxcala",17,"Conteo Rápido","17.6",6,"Realización de tercer simulacro del Conteo Rápido","Por definir","Por definir","2021-05-23","2021-05-23",null,null,{"$f":"VLOOKUP(P4939,Campos!$B$2:$C$7,2,FALSE)","v":0},"Sin información"]
[4934,29,"Tlaxcala",19,"Visitantes extranjeros","19.1",1,"Emisión de la Convocatoria para visitantes extranjeros","INE","CG","2020-08-03","2020-09-30",null,null,{"$f":"VLOOKUP(P4940,Campos!$B$2:$C$7,2,FALSE)","v":0},"Sin información"]
[4935,29,"Tlaxcala",19,"Visitantes extranjeros","19.2",2,"Difusión de la Convocatoria para visitantes extranjeros","INE","CAI","2020-09-01","2021-05-26",null,null,{"$f":"VLOOKUP(P4941,Campos!$B$2:$C$7,2,FALSE)","v":0},"Sin información"]
[4936,29,"Tlaxcala",19,"Visitantes extranjeros","19.3",3,"Recepción de solicitudes de acreditación como visitantes extranjeros","INE","CAI","2020-09-01","2021-05-26",null,null,{"$f":"VLOOKUP(P4942,Campos!$B$2:$C$7,2,FALSE)","v":0},"Sin información"]
[4937,29,"Tlaxcala",19,"Visitantes extranjeros","19.4",4,"Resolución de solicitudes de acreditación como visitantes extranjeros","INE","CAI","2020-09-02","2021-05-30",null,null,{"$f":"VLOOKUP(P4943,Campos!$B$2:$C$7,2,FALSE)","v":0},"Sin información"]
[4938,29,"Tlaxcala",19,"Visitantes extranjeros","19.5",5,"Entrega de acreditaciones a los visitantes extranjeros","INE","CAI","2020-09-04","2021-06-05",null,null,{"$f":"VLOOKUP(P4944,Campos!$B$2:$C$7,2,FALSE)","v":0},"Sin información"]
[4939,29,"Tlaxcala",20,"Cuarto Orden de Gobierno","20.1",1,"Aprobación de los límites de financiamiento privado, aportaciones de militantes, simpatizantes y precandidatos o candidatos; así como el límite individual de aportaciones para Cuarto Orden de Gobierno","OPL","CG","2020-12-13","2020-12-13",null,null,{"$f":"VLOOKUP(P4945,Campos!$B$2:$C$7,2,FALSE)","v":0},"Sin información"]
[4940,29,"Tlaxcala",20,"Cuarto Orden de Gobierno","20.2",2,"Recepción de escrito de intención y documentación anexa de los ciudadanos que aspiren a la candidatura independiente para Cuarto Orden de Gobierno","OPL","SE/OD","2020-11-04","2020-12-13",null,null,{"$f":"VLOOKUP(P4946,Campos!$B$2:$C$7,2,FALSE)","v":0},"Sin información"]
[4941,29,"Tlaxcala",20,"Cuarto Orden de Gobierno","20.3",3,"Resolución sobre procedencia de manifestación de intención de los aspirantes a candidaturas independientes para Cuarto Orden de Gobierno","OPL","CG","2020-11-07","2020-12-06",null,null,{"$f":"VLOOKUP(P4947,Campos!$B$2:$C$7,2,FALSE)","v":0},"Sin información"]
[4942,29,"Tlaxcala",20,"Cuarto Orden de Gobierno","20.4",4,"Plazo para obtener el apoyo ciudadano de las candidaturas independientes para Cuarto Orden de Gobierno","OPL","OD","2021-01-02","2021-01-21",null,null,{"$f":"VLOOKUP(P4948,Campos!$B$2:$C$7,2,FALSE)","v":0},"Sin información"]
[4943,29,"Tlaxcala",20,"Cuarto Orden de Gobierno","20.7",7,"Solicitud de registro de Candidaturas para Cuarto Orden de Gobierno","OPL","CG/OD","2021-04-05","2021-04-21",null,null,{"$f":"VLOOKUP(P4949,Campos!$B$2:$C$7,2,FALSE)","v":0},"Sin información"]
[4944,29,"Tlaxcala",20,"Cuarto Orden de Gobierno","20.8",8,"Resolución para aprobar las candidaturas para Cuarto Orden de Gobierno","OPL","CG/OD","2021-04-22","2021-04-29",null,null,{"$f":"VLOOKUP(P4950,Campos!$B$2:$C$7,2,FALSE)","v":0},"Sin información"]
[4945,30,"Veracruz",1,"Mecanismos de coordinación","1.1",1,"Aprobar Calendarios y Planes Integrales de los Procesos Electorales Locales","INE","CG","2020-08-01","2020-08-07",null,null,{"$f":"VLOOKUP(P4951,Campos!$B$2:$C$7,2,FALSE)","v":0},"Sin información"]
[4946,30,"Veracruz",1,"Mecanismos de coordinación","1.2",2,"Firma del Convenio General de Coordinación y Colaboración 2020-2021","INE/OPL","INE/OPL","2020-09-01","2020-10-01",null,null,{"$f":"VLOOKUP(P4952,Campos!$B$2:$C$7,2,FALSE)","v":0},"Sin información"]
[4947,30,"Veracruz",1,"Mecanismos de coordinación","1.3",3,"Elaborar un plan de trabajo conjunto para la promoción de la participación ciudadana","INE/OPL","INE/OPL","2020-09-01","2020-12-31",null,null,{"$f":"VLOOKUP(P4953,Campos!$B$2:$C$7,2,FALSE)","v":0},"Sin información"]
[4948,30,"Veracruz",1,"Mecanismos de coordinación","1.4",4,"Sesión para dar inicio al PEL","OPL","CG","2020-11-01","2020-11-10",null,null,{"$f":"VLOOKUP(P4954,Campos!$B$2:$C$7,2,FALSE)","v":0},"Sin información"]
[4949,30,"Veracruz",1,"Mecanismos de coordinación","1.5",5,"Implementar un plan de trabajo conjunto para la promoción de la participación ciudadana","INE/OPL","INE/OPL","2021-02-01","2021-06-06",null,null,{"$f":"VLOOKUP(P4955,Campos!$B$2:$C$7,2,FALSE)","v":0},"Sin información"]
[4950,30,"Veracruz",2,"Integración de órganos desconcentrados","2.1",1,"Convocatoria para la integración de los Órganos Distritales","OPL","CG","2020-11-08","2020-11-14",null,null,{"$f":"VLOOKUP(P4956,Campos!$B$2:$C$7,2,FALSE)","v":0},"Sin información"]
[4951,30,"Veracruz",2,"Integración de órganos desconcentrados","2.2",2,"Sesión en la que se designan e integran los Órganos Distritales ","OPL","CG","2020-12-01","2021-01-10",null,null,{"$f":"VLOOKUP(P4957,Campos!$B$2:$C$7,2,FALSE)","v":0},"Sin información"]
[4952,30,"Veracruz",2,"Integración de órganos desconcentrados","2.3",3,"Instalación de los Órganos Distritales ","OPL","OD","2021-01-05","2021-01-15",null,null,{"$f":"VLOOKUP(P4958,Campos!$B$2:$C$7,2,FALSE)","v":0},"Sin información"]
[4953,30,"Veracruz",2,"Integración de órganos desconcentrados","2.4",4,"Convocatoria para la integración de los Órganos Municipales ","OPL","CG","2020-11-08","2020-11-14",null,null,{"$f":"VLOOKUP(P4959,Campos!$B$2:$C$7,2,FALSE)","v":0},"Sin información"]
[4954,30,"Veracruz",2,"Integración de órganos desconcentrados","2.5",5,"Sesión en la que se designan e integran los Órganos Municipales ","OPL","CG","2020-12-01","2021-02-15",null,null,{"$f":"VLOOKUP(P4960,Campos!$B$2:$C$7,2,FALSE)","v":0},"Sin información"]
[4955,30,"Veracruz",2,"Integración de órganos desconcentrados","2.6",6,"Instalación de los Órganos Municipales ","OPL","OD","2021-02-16","2021-02-28",null,null,{"$f":"VLOOKUP(P4961,Campos!$B$2:$C$7,2,FALSE)","v":0},"Sin información"]
[4956,30,"Veracruz",2,"Integración de órganos desconcentrados","2.7",7,"Designación y/o ratificación de las y los Consejeros Electorales del Consejo Local ","INE","CG","2020-10-01","2020-10-15",null,null,{"$f":"VLOOKUP(P4962,Campos!$B$2:$C$7,2,FALSE)","v":0},"Sin información"]
[4957,30,"Veracruz",2,"Integración de órganos desconcentrados","2.8",8,"Instalación del Consejo Local","INE","CL","2020-11-01","2020-11-30",null,null,{"$f":"VLOOKUP(P4963,Campos!$B$2:$C$7,2,FALSE)","v":0},"Sin información"]
[4958,30,"Veracruz",2,"Integración de órganos desconcentrados","2.9",9,"Designación y/o ratificación de las y los Consejeros Electorales de los Consejos Distritales ","INE","CL","2020-11-01","2020-11-30",null,null,{"$f":"VLOOKUP(P4964,Campos!$B$2:$C$7,2,FALSE)","v":0},"Sin información"]
[4959,30,"Veracruz",2,"Integración de órganos desconcentrados","2.10",10,"Instalación de los Consejos Distritales","INE","CD","2020-12-01","2020-12-15",null,null,{"$f":"VLOOKUP(P4965,Campos!$B$2:$C$7,2,FALSE)","v":0},"Sin información"]
[4960,30,"Veracruz",3,"Lista Nominal de Electores","3.1",1,"Generación y entrega de la Lista Nominal de Electores para Revisión en medios ópticos a los representantes de los partidos políticos, y en su caso a las candidaturas independientes acreditados ante el OPL, para observaciones","INE","DERFE","2021-02-15","2021-02-15",null,null,{"$f":"VLOOKUP(P4966,Campos!$B$2:$C$7,2,FALSE)","v":0},"Sin información"]
[4961,30,"Veracruz",3,"Lista Nominal de Electores","3.2",2,"Recepción de observaciones de los partidos políticos y en su caso, candidatos independientes, a la Lista Nominal de Electores para revisión","INE/OPL","DERFE","2021-03-14","2021-03-14",null,null,{"$f":"VLOOKUP(P4967,Campos!$B$2:$C$7,2,FALSE)","v":0},"Sin información"]
[4962,30,"Veracruz",3,"Lista Nominal de Electores","3.3",3,"Entrega en formato digital el informe respecto de la atención a las observaciones formuladas a la Lista Nominal de Electores para Revisión","INE","DERFE","2021-04-15","2021-04-15",null,null,{"$f":"VLOOKUP(P4968,Campos!$B$2:$C$7,2,FALSE)","v":0},"Sin información"]
[4963,30,"Veracruz",3,"Lista Nominal de Electores","3.4",4,"Entrega de la Lista Nominal de Electores Definitiva con fotografía","INE","DERFE","2021-05-06","2021-05-14",null,null,{"$f":"VLOOKUP(P4969,Campos!$B$2:$C$7,2,FALSE)","v":0},"Sin información"]
[4964,30,"Veracruz",3,"Lista Nominal de Electores","3.5",5,"Fecha de entrega de la Lista Nominal de Electores con fotografía Producto de Instancias Administrativas y Resoluciones del Tribunal (ADENDA)","INE","DERFE","2021-05-19","2021-05-24",null,null,{"$f":"VLOOKUP(P4970,Campos!$B$2:$C$7,2,FALSE)","v":0},"Sin información"]
[4965,30,"Veracruz",4,"Observación Electoral","4.1",1,"Emisión de la convocatoria para la ciudadanía que desee participar en la observación electoral","OPL","CG","2020-11-01","2020-11-10",null,null,{"$f":"VLOOKUP(P4971,Campos!$B$2:$C$7,2,FALSE)","v":0},"Sin información"]
[4966,30,"Veracruz",4,"Observación Electoral","4.2",2,"Recepción de solicitudes de la ciudadanía que desee participar en observación electoral","INE/OPL","OPL/JLE/JDE","2020-11-01","2021-04-30",null,null,{"$f":"VLOOKUP(P4972,Campos!$B$2:$C$7,2,FALSE)","v":0},"Sin información"]
[4967,30,"Veracruz",4,"Observación Electoral","4.3",3,"Impartición de los cursos de capacitación, preparación o información","INE/OPL","OPL/JLE/JDE","2020-11-01","2021-05-17",null,null,{"$f":"VLOOKUP(P4973,Campos!$B$2:$C$7,2,FALSE)","v":0},"Sin información"]
[4968,30,"Veracruz",4,"Observación Electoral","4.4",4,"Acreditación de la ciudadanía como observadores u observadoras electorales","INE","CL/CD","2020-11-01","2021-06-05",null,null,{"$f":"VLOOKUP(P4974,Campos!$B$2:$C$7,2,FALSE)","v":0},"Sin información"]
[4969,30,"Veracruz",4,"Observación Electoral","4.5",5,"Seguimiento a los informes mensuales de acreditación","INE","CG","2020-11-01","2021-07-31",null,null,{"$f":"VLOOKUP(P4975,Campos!$B$2:$C$7,2,FALSE)","v":0},"Sin información"]
[4970,30,"Veracruz",4,"Observación Electoral","4.6",6,"Remisión de materiales de capacitación a la JLE para revisión","OPL","CG","2020-10-08","2020-10-08",null,null,{"$f":"VLOOKUP(P4976,Campos!$B$2:$C$7,2,FALSE)","v":0},"Sin información"]
[4971,30,"Veracruz",4,"Observación Electoral","4.7",7,"Revisión, corrección, verificación y validación de materiales de capacitación para observación electoral ","INE","JLE","2020-10-09","2020-10-30",null,null,{"$f":"VLOOKUP(P4977,Campos!$B$2:$C$7,2,FALSE)","v":0},"Sin información"]
[4972,30,"Veracruz",4,"Observación Electoral","4.8",8,"Entrega de materiales de capacitación para observación electoral entre OPL e INE","INE/OPL","VEL/OPL","2020-11-01","2020-11-23",null,null,{"$f":"VLOOKUP(P4978,Campos!$B$2:$C$7,2,FALSE)","v":0},"Sin información"]
[4973,30,"Veracruz",5,"Ubicación de casillas","5.1",1,"Recorridos por las secciones de los distritos para localizar los lugares donde se ubicarán las casillas","INE/OPL","JDE/OPL","2021-01-15","2021-02-15",null,null,{"$f":"VLOOKUP(P4979,Campos!$B$2:$C$7,2,FALSE)","v":0},"Sin información"]
[4974,30,"Veracruz",5,"Ubicación de casillas","5.2",2,"Presentación a los Consejos Distritales del listado de lugares propuestos para ubicar casillas","INE","JDE","2021-02-24","2021-02-24",null,null,{"$f":"VLOOKUP(P4980,Campos!$B$2:$C$7,2,FALSE)","v":0},"Sin información"]
[4975,30,"Veracruz",5,"Ubicación de casillas","5.3",3,"Visitas de examinación en los lugares propuestos para ubicar casillas básicas, contiguas, especiales y extraordinarias","INE/OPL","CD/OPL","2021-02-25","2021-03-16",null,null,{"$f":"VLOOKUP(P4981,Campos!$B$2:$C$7,2,FALSE)","v":0},"Sin información"]
[4976,30,"Veracruz",5,"Ubicación de casillas","5.4",4,"Aprobación del número y ubicación de casillas extraordinarias y especiales","INE","CD","2021-03-16","2021-03-16",null,null,{"$f":"VLOOKUP(P4982,Campos!$B$2:$C$7,2,FALSE)","v":0},"Sin información"]
[4977,30,"Veracruz",5,"Ubicación de casillas","5.5",5,"Aprobación del número y ubicación de casillas básicas y contiguas","INE","CD","2021-03-25","2021-03-25",null,null,{"$f":"VLOOKUP(P4983,Campos!$B$2:$C$7,2,FALSE)","v":0},"Sin información"]
[4978,30,"Veracruz",5,"Ubicación de casillas","5.6",6,"Entrega de la base de datos de la Lista Nominal Definitiva a UNICOM con corte al 10 de abril","INE","DERFE","2021-04-15","2021-04-16",null,null,{"$f":"VLOOKUP(P4984,Campos!$B$2:$C$7,2,FALSE)","v":0},"Sin información"]
[4979,30,"Veracruz",5,"Ubicación de casillas","5.7",7,"Realizar la primera publicación de la lista de ubicación de casillas en los lugares más concurridos del distrito electoral  y en los medios electrónicos del Instituto","INE","CD","2021-04-15","2021-04-15",null,null,{"$f":"VLOOKUP(P4985,Campos!$B$2:$C$7,2,FALSE)","v":0},"Sin información"]
[4980,30,"Veracruz",5,"Ubicación de casillas","5.8",8,"En su caso, segunda publicación de la lista de ubicación de casillas por causas supervenientes en los lugares más concurridos del distrito y en los medios electrónicos del Instituto","INE","CD","2021-05-15","2021-05-25",null,null,{"$f":"VLOOKUP(P4986,Campos!$B$2:$C$7,2,FALSE)","v":0},"Sin información"]
[4981,30,"Veracruz",5,"Ubicación de casillas","5.9",9,"Publicación de los encartes y difusión en medios electrónicos del Instituto","INE/OPL","DEOE/CG","2021-06-05","2021-06-06",null,null,{"$f":"VLOOKUP(P4987,Campos!$B$2:$C$7,2,FALSE)","v":0},"Sin información"]
[4982,30,"Veracruz",5,"Ubicación de casillas","5.10",10,"Registro de representantes generales y ante mesas directivas de casilla","INE","CD","2021-04-16","2021-05-24",null,null,{"$f":"VLOOKUP(P4988,Campos!$B$2:$C$7,2,FALSE)","v":0},"Sin información"]
[4983,30,"Veracruz",5,"Ubicación de casillas","5.11",11,"Sustitución de representantes generales y ante mesas directivas de casilla","INE","CD","2021-04-16","2021-05-27",null,null,{"$f":"VLOOKUP(P4989,Campos!$B$2:$C$7,2,FALSE)","v":0},"Sin información"]
[4984,30,"Veracruz",5,"Ubicación de casillas","5.12",12,"Entrega de listados de representantes generales y ante casilla al OPL","INE","CD","2021-05-30","2021-05-30",null,null,{"$f":"VLOOKUP(P4990,Campos!$B$2:$C$7,2,FALSE)","v":0},"Sin información"]
[4985,30,"Veracruz",5,"Ubicación de casillas","5.13",13,"Notificación ciudadana de ubicación de casillas en secciones electorales involucradas en la actualización del Marco Geográfico Electoral","INE/OPL","DERFE/OPL","2021-04-01","2021-06-15",null,null,{"$f":"VLOOKUP(P4991,Campos!$B$2:$C$7,2,FALSE)","v":0},"Sin información"]
[4986,30,"Veracruz",6,"Integración de las Mesas Directivas de Casilla","6.1",1,"Aprobación de la Estrategia de Capacitación y Asistencia Electoral","INE","CG","2020-08-01","2020-08-15",null,null,{"$f":"VLOOKUP(P4992,Campos!$B$2:$C$7,2,FALSE)","v":0},"Sin información"]
[4987,30,"Veracruz",6,"Integración de las Mesas Directivas de Casilla","6.2",2,"Entrega para revisión y validación de materiales didácticos de primera etapa","OPL","CG","2020-11-03","2020-11-03",null,null,{"$f":"VLOOKUP(P4993,Campos!$B$2:$C$7,2,FALSE)","v":0},"Sin información"]
[4988,30,"Veracruz",6,"Integración de las Mesas Directivas de Casilla","6.3",3,"Revisión, corrección, verificación y validación de los materiales didácticos de primera etapa","INE/OPL","JLE/DECEYEC/OPL","2020-11-03","2020-12-19",null,null,{"$f":"VLOOKUP(P4994,Campos!$B$2:$C$7,2,FALSE)","v":0},"Sin información"]
[4989,30,"Veracruz",6,"Integración de las Mesas Directivas de Casilla","6.4",4,"Entrega de los materiales impresos de la primera etapa a la JLE","OPL","OPL","2021-02-05","2021-02-05",null,null,{"$f":"VLOOKUP(P4995,Campos!$B$2:$C$7,2,FALSE)","v":0},"Sin información"]
[4990,30,"Veracruz",6,"Integración de las Mesas Directivas de Casilla","6.5",5,"Sorteo del mes del calendario como base para la insaculación de las y los ciudadanos que integrarán las mesas directivas de casilla","INE","CG","2020-12-15","2020-12-19",null,null,{"$f":"VLOOKUP(P4996,Campos!$B$2:$C$7,2,FALSE)","v":0},"Sin información"]
[4991,30,"Veracruz",6,"Integración de las Mesas Directivas de Casilla","6.6",6,"Entrega para revisión y validación de materiales didácticos de segunda etapa","OPL","OPL","2021-02-03","2021-02-03",null,null,{"$f":"VLOOKUP(P4997,Campos!$B$2:$C$7,2,FALSE)","v":0},"Sin información"]
[4992,30,"Veracruz",6,"Integración de las Mesas Directivas de Casilla","6.7",7,"Revisión, corrección, verificación y validación de los materiales didácticos de la segunda etapa","INE/OPL","JLE/DECEYEC/OPL","2021-02-03","2021-03-22",null,null,{"$f":"VLOOKUP(P4998,Campos!$B$2:$C$7,2,FALSE)","v":0},"Sin información"]
[4993,30,"Veracruz",6,"Integración de las Mesas Directivas de Casilla","6.8",8,"Entrega de los materiales impresos de la segunda etapa a la JLE","OPL","OPL","2021-04-05","2021-04-05",null,null,{"$f":"VLOOKUP(P4999,Campos!$B$2:$C$7,2,FALSE)","v":0},"Sin información"]
[4994,30,"Veracruz",6,"Integración de las Mesas Directivas de Casilla","6.9",9,"Sorteo de la letra a partir de la cual, con base en el apellido paterno, se seleccionará a las y los ciudadanos que integrarán las mesas directivas de casilla","INE","CG","2021-02-02","2021-02-02",null,null,{"$f":"VLOOKUP(P5000,Campos!$B$2:$C$7,2,FALSE)","v":0},"Sin información"]
[4995,30,"Veracruz",6,"Integración de las Mesas Directivas de Casilla","6.10",10,"Entrega de la Lista Nominal de Electores para el Procedimiento de la Primera insaculación con corte al 15 de enero de 2021.","INE","DERFE/UNICOM","2021-01-21","2021-01-26",null,null,{"$f":"VLOOKUP(P5001,Campos!$B$2:$C$7,2,FALSE)","v":0},"Sin información"]
[4996,30,"Veracruz",6,"Integración de las Mesas Directivas de Casilla","6.11",11,"Primera insaculación","INE","JDE","2021-02-06","2021-02-06",null,null,{"$f":"VLOOKUP(P5002,Campos!$B$2:$C$7,2,FALSE)","v":0},"Sin información"]
[4997,30,"Veracruz",6,"Integración de las Mesas Directivas de Casilla","6.12",12,"Primera etapa de capacitación a las personas insaculadas","INE","CD","2021-02-09","2021-03-31",null,null,{"$f":"VLOOKUP(P5003,Campos!$B$2:$C$7,2,FALSE)","v":0},"Sin información"]
[4998,30,"Veracruz",6,"Integración de las Mesas Directivas de Casilla","6.13",13,"Integración de la lista de ciudadanos y ciudadanas que cumplen los requisitos legales para integrar las mesas directivas de casilla","INE","CD","2021-02-09","2021-03-31",null,null,{"$f":"VLOOKUP(P5004,Campos!$B$2:$C$7,2,FALSE)","v":0},"Sin información"]
[4999,30,"Veracruz",6,"Integración de las Mesas Directivas de Casilla","6.14",14,"Segunda insaculación y designación de funcionarios para mesas directivas de casilla","INE","CD","2021-04-08","2021-04-08",null,null,{"$f":"VLOOKUP(P5005,Campos!$B$2:$C$7,2,FALSE)","v":0},"Sin información"]
[5000,30,"Veracruz",6,"Integración de las Mesas Directivas de Casilla","6.15",15,"Segunda etapa de capacitación a funcionarios de mesa directiva de casilla y simulacros","INE","CD","2021-04-18","2021-06-05",null,null,{"$f":"VLOOKUP(P5006,Campos!$B$2:$C$7,2,FALSE)","v":0},"Sin información"]
[5001,30,"Veracruz",6,"Integración de las Mesas Directivas de Casilla","6.16",16,"Entrega de reconocimientos a funcionarios de mesas directivas de casilla","INE","CD","2021-06-07","2021-06-12",null,null,{"$f":"VLOOKUP(P5007,Campos!$B$2:$C$7,2,FALSE)","v":0},"Sin información"]
[5002,30,"Veracruz",6,"Integración de las Mesas Directivas de Casilla","6.17",17,"Periodo para contratación de CAE locales","INE/OPL","INE/OPL","Por definir","Por definir",null,null,{"$f":"VLOOKUP(P5008,Campos!$B$2:$C$7,2,FALSE)","v":0},"Sin información"]
[5003,30,"Veracruz",7,"Fiscalización de los recursos de los Partidos Políticos y candidaturas independientes","7.2",2,"Aprobación de topes de gastos de precampaña Diputaciones","OPL","CG","2020-12-01","2020-12-31",null,null,{"$f":"VLOOKUP(P5009,Campos!$B$2:$C$7,2,FALSE)","v":0},"Sin información"]
[5004,30,"Veracruz",7,"Fiscalización de los recursos de los Partidos Políticos y candidaturas independientes","7.3",3,"Aprobación de topes de gastos de precampaña Ayuntamientos","OPL","CG","2020-12-01","2020-12-31",null,null,{"$f":"VLOOKUP(P5010,Campos!$B$2:$C$7,2,FALSE)","v":0},"Sin información"]
[5005,30,"Veracruz",7,"Fiscalización de los recursos de los Partidos Políticos y candidaturas independientes","7.5",5,"Aprobación de los límites de financiamiento privado, aportaciones de militantes, simpatizantes y precandidatos o candidatos; así como el límite individual de aportaciones para Diputaciones","OPL","CG","2021-01-01","2021-01-31",null,null,{"$f":"VLOOKUP(P5011,Campos!$B$2:$C$7,2,FALSE)","v":0},"Sin información"]
[5006,30,"Veracruz",7,"Fiscalización de los recursos de los Partidos Políticos y candidaturas independientes","7.6",6,"Aprobación de los límites de financiamiento privado, aportaciones de militantes, simpatizantes y precandidatos o candidatos; así como el límite individual de aportaciones para Ayuntamientos","OPL","CG","2021-01-01","2021-01-31",null,null,{"$f":"VLOOKUP(P5012,Campos!$B$2:$C$7,2,FALSE)","v":0},"Sin información"]
[5007,30,"Veracruz",7,"Fiscalización de los recursos de los Partidos Políticos y candidaturas independientes","7.8",8,"Aprobación de topes de gastos para el periodo de obtención del apoyo ciudadano para Diputaciones","OPL","CG","2020-11-01","2020-11-10",null,null,{"$f":"VLOOKUP(P5013,Campos!$B$2:$C$7,2,FALSE)","v":0},"Sin información"]
[5008,30,"Veracruz",7,"Fiscalización de los recursos de los Partidos Políticos y candidaturas independientes","7.9",9,"Aprobación de topes de gastos para el periodo de obtención del apoyo ciudadano para Ayuntamientos","OPL","CG","2020-11-01","2020-11-10",null,null,{"$f":"VLOOKUP(P5014,Campos!$B$2:$C$7,2,FALSE)","v":0},"Sin información"]
[5009,30,"Veracruz",7,"Fiscalización de los recursos de los Partidos Políticos y candidaturas independientes","7.11",11,"Precampaña para Diputaciones","OPL","CG","2021-02-07","2021-02-26",null,null,{"$f":"VLOOKUP(P5015,Campos!$B$2:$C$7,2,FALSE)","v":0},"Sin información"]
[5010,30,"Veracruz",7,"Fiscalización de los recursos de los Partidos Políticos y candidaturas independientes","7.12",12,"Precampaña para Ayuntamientos","OPL","CG","2021-02-07","2021-02-26",null,null,{"$f":"VLOOKUP(P5016,Campos!$B$2:$C$7,2,FALSE)","v":0},"Sin información"]
[5011,30,"Veracruz",7,"Fiscalización de los recursos de los Partidos Políticos y candidaturas independientes","7.14",14,"Aprobación de topes de gastos de campaña para Diputaciones","OPL","CG","2021-03-01","2021-03-31",null,null,{"$f":"VLOOKUP(P5017,Campos!$B$2:$C$7,2,FALSE)","v":0},"Sin información"]
[5012,30,"Veracruz",7,"Fiscalización de los recursos de los Partidos Políticos y candidaturas independientes","7.15",15,"Aprobación de topes de gastos de campaña para Ayuntamientos","OPL","CG","2021-03-01","2021-03-31",null,null,{"$f":"VLOOKUP(P5018,Campos!$B$2:$C$7,2,FALSE)","v":0},"Sin información"]
[5013,30,"Veracruz",7,"Fiscalización de los recursos de los Partidos Políticos y candidaturas independientes","7.17",17,"Campaña para Diputaciones","OPL","CG","2021-05-04","2021-06-02",null,null,{"$f":"VLOOKUP(P5019,Campos!$B$2:$C$7,2,FALSE)","v":0},"Sin información"]
[5014,30,"Veracruz",7,"Fiscalización de los recursos de los Partidos Políticos y candidaturas independientes","7.18",18,"Campaña para Ayuntamientos","OPL","CG","2021-05-04","2021-06-02",null,null,{"$f":"VLOOKUP(P5020,Campos!$B$2:$C$7,2,FALSE)","v":0},"Sin información"]
[5015,30,"Veracruz",7,"Fiscalización de los recursos de los Partidos Políticos y candidaturas independientes","7.19",19,"Aprobación de la distribución de financiamiento público para partidos políticos","OPL","CG","2020-08-01","2020-09-30",null,null,{"$f":"VLOOKUP(P5021,Campos!$B$2:$C$7,2,FALSE)","v":0},"Sin información"]
[5016,30,"Veracruz",8,"Candidaturas Independientes","8.1",1,"Emisión de la convocatoria para la ciudadanía interesada en participar en Candidaturas Independientes ","OPL","CG","2020-11-10","2020-11-15",null,null,{"$f":"VLOOKUP(P5022,Campos!$B$2:$C$7,2,FALSE)","v":0},"Sin información"]
[5017,30,"Veracruz",8,"Candidaturas Independientes","8.3",3,"Recepción de escrito de intención y documentación anexa de la ciudadanía que aspire a la candidatura independiente para Diputaciones","OPL","OD","2020-11-11","2021-01-10",null,null,{"$f":"VLOOKUP(P5023,Campos!$B$2:$C$7,2,FALSE)","v":0},"Sin información"]
[5018,30,"Veracruz",8,"Candidaturas Independientes","8.4",4,"Recepción de escrito de intención y documentación anexa de la ciudadanía que aspire a la candidatura independiente para Ayuntamientos","OPL","SE/OD","2020-11-11","2021-01-10",null,null,{"$f":"VLOOKUP(P5024,Campos!$B$2:$C$7,2,FALSE)","v":0},"Sin información"]
[5019,30,"Veracruz",8,"Candidaturas Independientes","8.6",6,"Resolución sobre procedencia de manifestación de intención de aspirantes a candidaturas independientes para Diputaciones","OPL","CG","2021-01-11","2021-02-06",null,null,{"$f":"VLOOKUP(P5025,Campos!$B$2:$C$7,2,FALSE)","v":0},"Sin información"]
[5020,30,"Veracruz",8,"Candidaturas Independientes","8.7",7,"Resolución sobre procedencia de manifestación de intención de aspirantes a candidaturas independientes para Ayuntamientos","OPL","CG","2021-01-11","2021-02-06",null,null,{"$f":"VLOOKUP(P5026,Campos!$B$2:$C$7,2,FALSE)","v":0},"Sin información"]
[5021,30,"Veracruz",8,"Candidaturas Independientes","8.9",9,"Plazo para obtener el apoyo ciudadano de las candidaturas independientes para Diputaciones","OPL","OD","2021-02-07","2021-03-08",null,null,{"$f":"VLOOKUP(P5027,Campos!$B$2:$C$7,2,FALSE)","v":0},"Sin información"]
[5022,30,"Veracruz",8,"Candidaturas Independientes","8.10",10,"Plazo para obtener el apoyo ciudadano de las candidaturas independientes para Ayuntamientos","OPL","OD","2021-02-07","2021-03-08",null,null,{"$f":"VLOOKUP(P5028,Campos!$B$2:$C$7,2,FALSE)","v":0},"Sin información"]
[5023,30,"Veracruz",8,"Candidaturas Independientes","8.12",12,"Plazo para otorgar las constancias de porcentaje a favor de aspirantes a la candidatura independiente para Diputaciones","OPL","CG/OD","2021-03-09","2021-04-15",null,null,{"$f":"VLOOKUP(P5029,Campos!$B$2:$C$7,2,FALSE)","v":0},"Sin información"]
[5024,30,"Veracruz",8,"Candidaturas Independientes","8.13",13,"Plazo para otorgar las constancias de porcentaje a favor de aspirantes a la candidatura independiente para Ayuntamientos","OPL","CG/OD","2021-03-09","2021-04-14",null,null,{"$f":"VLOOKUP(P5030,Campos!$B$2:$C$7,2,FALSE)","v":0},"Sin información"]
[5025,30,"Veracruz",9,"Candidaturas","9.1",1,"Registro de plataformas electorales","OPL","CG","2020-11-10","2021-04-06",null,null,{"$f":"VLOOKUP(P5031,Campos!$B$2:$C$7,2,FALSE)","v":0},"Sin información"]
[5026,30,"Veracruz",9,"Candidaturas","9.3",3,"Solicitud de registro de convenio de coalición para Diputaciones","OPL","CG","2020-11-01","2021-02-07",null,null,{"$f":"VLOOKUP(P5032,Campos!$B$2:$C$7,2,FALSE)","v":0},"Sin información"]
[5027,30,"Veracruz",9,"Candidaturas","9.4",4,"Solicitud de registro de convenio de coalición para Ayuntamientos","OPL","CG","2020-11-01","2021-02-07",null,null,{"$f":"VLOOKUP(P5033,Campos!$B$2:$C$7,2,FALSE)","v":0},"Sin información"]
[5028,30,"Veracruz",9,"Candidaturas","9.6",6,"Resolución sobre Convenio de Coalición para Diputaciones","OPL","CG","2020-11-11","2021-02-17",null,null,{"$f":"VLOOKUP(P5034,Campos!$B$2:$C$7,2,FALSE)","v":0},"Sin información"]
[5029,30,"Veracruz",9,"Candidaturas","9.7",7,"Resolución sobre Convenio de Coalición para Ayuntamientos","OPL","CG","2020-11-11","2021-02-17",null,null,{"$f":"VLOOKUP(P5035,Campos!$B$2:$C$7,2,FALSE)","v":0},"Sin información"]
[5030,30,"Veracruz",9,"Candidaturas","9.9",9,"Solicitud de registro de Candidaturas para Diputaciones","OPL","CG/OD","2021-04-17","2021-04-26",null,null,{"$f":"VLOOKUP(P5036,Campos!$B$2:$C$7,2,FALSE)","v":0},"Sin información"]
[5031,30,"Veracruz",9,"Candidaturas","9.10",10,"Solicitud de registro de Candidaturas para Diputaciones de Representación Proporcional","OPL","CG/OD","2021-05-04","2021-05-13",null,null,{"$f":"VLOOKUP(P5037,Campos!$B$2:$C$7,2,FALSE)","v":0},"Sin información"]
[5032,30,"Veracruz",9,"Candidaturas","9.11",11,"Solicitud de registro de Candidaturas para Ayuntamientos","OPL","CG/OD","2021-04-16","2021-04-25",null,null,{"$f":"VLOOKUP(P5038,Campos!$B$2:$C$7,2,FALSE)","v":0},"Sin información"]
[5033,30,"Veracruz",9,"Candidaturas","9.14",14,"Resolución para aprobar las candidaturas para Diputaciones","OPL","CG","2021-05-02","2021-05-02",null,null,{"$f":"VLOOKUP(P5039,Campos!$B$2:$C$7,2,FALSE)","v":0},"Sin información"]
[5034,30,"Veracruz",9,"Candidaturas","9.15",15,"Resolución para aprobar las candidaturas para Diputaciones de Representación Proporcional","OPL","CG","2021-05-19","2021-05-19",null,null,{"$f":"VLOOKUP(P5040,Campos!$B$2:$C$7,2,FALSE)","v":0},"Sin información"]
[5035,30,"Veracruz",9,"Candidaturas","9.16",16,"Resolución para aprobar las candidaturas para Ayuntamientos","OPL","CG/OD","2021-05-01","2021-05-01",null,null,{"$f":"VLOOKUP(P5041,Campos!$B$2:$C$7,2,FALSE)","v":0},"Sin información"]
[5036,30,"Veracruz",11,"Documentación y material electoral","11.1",1,"Entrega a la Junta Local Ejecutiva del INE, de los diseños y especificaciones técnicas de la documentación y materiales electorales, en medios impresos y electrónicos","OPL","CG","2020-09-01","2020-09-30",null,null,{"$f":"VLOOKUP(P5042,Campos!$B$2:$C$7,2,FALSE)","v":0},"Sin información"]
[5037,30,"Veracruz",11,"Documentación y material electoral","11.2",2,"Revisión de los documentos y materiales electorales y especificaciones técnicas, presentadas por el OPL","INE","JLE","2020-09-15","2020-12-16",null,null,{"$f":"VLOOKUP(P5043,Campos!$B$2:$C$7,2,FALSE)","v":0},"Sin información"]
[5038,30,"Veracruz",11,"Documentación y material electoral","11.3",3,"En su caso, atención y presentación, de los cambios pertinentes, conforme a las observaciones emitidas por la Junta Local Ejecutiva del INE","OPL","CG","2020-09-15","2020-12-16",null,null,{"$f":"VLOOKUP(P5044,Campos!$B$2:$C$7,2,FALSE)","v":0},"Sin información"]
[5039,30,"Veracruz",11,"Documentación y material electoral","11.4",4,"Validación de los documentos y materiales electorales y especificaciones técnicas, con las observaciones subsanadas","INE","DEOE","2020-10-28","2020-12-18",null,null,{"$f":"VLOOKUP(P5045,Campos!$B$2:$C$7,2,FALSE)","v":0},"Sin información"]
[5040,30,"Veracruz",11,"Documentación y material electoral","11.5",5,"Entrega a la Dirección Ejecutiva de Organización Electoral del INE, del Reporte único sobre la aprobación y adjudicación de los documentos y materiales electorales del OPL, en medios electrónicos","OPL","CG","2021-02-01","2021-02-26",null,null,{"$f":"VLOOKUP(P5046,Campos!$B$2:$C$7,2,FALSE)","v":0},"Sin información"]
[5041,30,"Veracruz",11,"Documentación y material electoral","11.6",6,"Revisión y en su caso validación, del Reporte único sobre la aprobación y adjudicación de los documentos y materiales electorales del OPL, en medios electrónicos","INE","DEOE","2021-02-15","2021-03-12",null,null,{"$f":"VLOOKUP(P5047,Campos!$B$2:$C$7,2,FALSE)","v":0},"Sin información"]
[5042,30,"Veracruz",11,"Documentación y material electoral","11.7",7,"Entrega  a la Dirección Ejecutiva de Organización Electoral del INE, del Reporte semanal sobre el avance en la producción de los documentos y materiales electorales del OPL, en medios electrónicos.","OPL","CG","2021-03-15","2021-05-22",null,null,{"$f":"VLOOKUP(P5048,Campos!$B$2:$C$7,2,FALSE)","v":0},"Sin información"]
[5043,30,"Veracruz",11,"Documentación y material electoral","11.8",8,"Aprobación de la documentación y material electoral","OPL","CG","2020-11-11","2020-12-31",null,null,{"$f":"VLOOKUP(P5049,Campos!$B$2:$C$7,2,FALSE)","v":0},"Sin información"]
[5044,30,"Veracruz",11,"Documentación y material electoral","11.9",9,"Entrega a la Dirección Ejecutiva de Organización Electoral del INE, del Reporte con los resultados de las verificaciones de las medidas de seguridad en la documentación electoral","OPL","CG","2021-05-27","2021-06-11",null,null,{"$f":"VLOOKUP(P5050,Campos!$B$2:$C$7,2,FALSE)","v":0},"Sin información"]
[5045,30,"Veracruz",11,"Documentación y material electoral","11.10",10,"Supervisiones respecto de los procedimientos de impresión y producción de la documentación y materiales electorales","INE","DEOE","2021-03-15","2021-05-22",null,null,{"$f":"VLOOKUP(P5051,Campos!$B$2:$C$7,2,FALSE)","v":0},"Sin información"]
[5046,30,"Veracruz",11,"Documentación y material electoral","11.11",11,"Designación de la persona responsable de llevar el control sobre la asignación de los folios de las boletas que se distribuirán en cada mesa directiva de casilla","OPL","CG","2021-03-01","2021-03-30",null,null,{"$f":"VLOOKUP(P5052,Campos!$B$2:$C$7,2,FALSE)","v":0},"Sin información"]
[5047,30,"Veracruz",11,"Documentación y material electoral","11.12",12,"Aprobación de SE y CAE, así como de personal que auxiliará en el procedimiento de conteo, sellado y agrupamiento de las boletas electorales; así como la integración de documentación para las casillas","OPL","CG","2021-04-24","2021-05-11",null,null,{"$f":"VLOOKUP(P5053,Campos!$B$2:$C$7,2,FALSE)","v":0},"Sin información"]
[5048,30,"Veracruz",11,"Documentación y material electoral","11.13",13,"Recepción de las boletas electorales por el órgano competente que realizará el conteo, sellado y agrupamiento","OPL","CG","2021-05-18","2021-05-22",null,null,{"$f":"VLOOKUP(P5054,Campos!$B$2:$C$7,2,FALSE)","v":0},"Sin información"]
[5049,30,"Veracruz",11,"Documentación y material electoral","11.14",14,"Conteo, sellado y agrupamiento de boletas","OPL","CG","2021-05-18","2021-05-28",null,null,{"$f":"VLOOKUP(P5055,Campos!$B$2:$C$7,2,FALSE)","v":0},"Sin información"]
[5050,30,"Veracruz",11,"Documentación y material electoral","11.15",15,"Distribución de la documentación y materiales electorales a las y los Presidentes de mesas directivas de casilla","OPL","OD","2021-05-31","2021-06-04",null,null,{"$f":"VLOOKUP(P5056,Campos!$B$2:$C$7,2,FALSE)","v":0},"Sin información"]
[5051,30,"Veracruz",11,"Documentación y material electoral","11.16",16,"Remisión de los recibos de la entrega de la documentación y materiales electorales al Consejo General del OPL","INE","JLE","2021-06-24","2021-06-30",null,null,{"$f":"VLOOKUP(P5057,Campos!$B$2:$C$7,2,FALSE)","v":0},"Sin información"]
[5052,30,"Veracruz",12,"Jornada Electoral","12.1",1,"Aprobación del Programa de Operación del SIJE 2021","INE","CCOE","2020-07-01","2020-07-31",null,null,{"$f":"VLOOKUP(P5058,Campos!$B$2:$C$7,2,FALSE)","v":0},"Sin información"]
[5053,30,"Veracruz",12,"Jornada Electoral","12.2",2,"Aprobación de las metas del SIJE 2021","INE","CG","2021-03-01","2021-03-31",null,null,{"$f":"VLOOKUP(P5059,Campos!$B$2:$C$7,2,FALSE)","v":0},"Sin información"]
[5054,30,"Veracruz",12,"Jornada Electoral","12.3",3,"Realización de pruebas del SIJE 2021","INE","DEOE","2021-04-01","2021-04-15",null,null,{"$f":"VLOOKUP(P5060,Campos!$B$2:$C$7,2,FALSE)","v":0},"Sin información"]
[5055,30,"Veracruz",12,"Jornada Electoral","12.4",4,"Desarrollo del primer simulacro del SIJE","INE/OPL","DEOE/OD","2021-04-29","2021-04-29",null,null,{"$f":"VLOOKUP(P5061,Campos!$B$2:$C$7,2,FALSE)","v":0},"Sin información"]
[5056,30,"Veracruz",12,"Jornada Electoral","12.5",5,"Desarrollo del segundo simulacro del SIJE","INE/OPL","DEOE/OD","2021-05-09","2021-05-09",null,null,{"$f":"VLOOKUP(P5062,Campos!$B$2:$C$7,2,FALSE)","v":0},"Sin información"]
[5057,30,"Veracruz",12,"Jornada Electoral","12.6",6,"Desarrollo del tercer simulacro del SIJE","INE/OPL","DEOE/OD","2021-05-23","2021-05-23",null,null,{"$f":"VLOOKUP(P5063,Campos!$B$2:$C$7,2,FALSE)","v":0},"Sin información"]
[5058,30,"Veracruz",12,"Jornada Electoral","12.7",7,"Jornada Electoral","OPL","CG/OD","2021-06-06","2021-06-06",null,null,{"$f":"VLOOKUP(P5064,Campos!$B$2:$C$7,2,FALSE)","v":0},"Sin información"]
[5059,30,"Veracruz",13,"Bodegas electorales","13.1",1,"Determinación de los lugares que ocuparán las bodegas electorales para el resguardo de la documentación electoral","OPL","CG","2021-02-01","2021-02-28",null,null,{"$f":"VLOOKUP(P5065,Campos!$B$2:$C$7,2,FALSE)","v":0},"Sin información"]
[5060,30,"Veracruz",13,"Bodegas electorales","13.2",2,"Informe que rinden las y los Presidentes sobre las condiciones de equipamiento, mecanismos de operación y medidas de seguridad de las bodegas electorales","OPL","OD","2021-03-01","2021-03-31",null,null,{"$f":"VLOOKUP(P5066,Campos!$B$2:$C$7,2,FALSE)","v":0},"Sin información"]
[5061,30,"Veracruz",13,"Bodegas electorales","13.3",3,"Designación, por parte del órgano competente del OPL, del personal que tendrá acceso a la bodega electoral","OPL","CG/OD","2021-03-01","2021-03-30",null,null,{"$f":"VLOOKUP(P5067,Campos!$B$2:$C$7,2,FALSE)","v":0},"Sin información"]
[5062,30,"Veracruz",13,"Bodegas electorales","13.4",4,"Envío a la UTVOPL, por conducto de la JLE, el informe sobre las condiciones que guardan las bodegas electorales","OPL","CG","2021-04-04","2021-04-10",null,null,{"$f":"VLOOKUP(P5068,Campos!$B$2:$C$7,2,FALSE)","v":0},"Sin información"]
[5063,30,"Veracruz",14,"Mecanismos de recolección","14.1",1,"Entrega de estudios de factibilidad al OPL","INE","CL","2021-03-15","2021-03-31",null,null,{"$f":"VLOOKUP(P5069,Campos!$B$2:$C$7,2,FALSE)","v":0},"Sin información"]
[5064,30,"Veracruz",14,"Mecanismos de recolección","14.2",2,"Entrega de observaciones a los estudios de factibilidad ","OPL","CG","2021-04-01","2021-04-24",null,null,{"$f":"VLOOKUP(P5070,Campos!$B$2:$C$7,2,FALSE)","v":0},"Sin información"]
[5065,30,"Veracruz",14,"Mecanismos de recolección","14.3",3,"Recorridos para verificar las propuestas de los mecanismos de recolección","INE/OPL","CD/OD","2021-03-16","2021-04-24",null,null,{"$f":"VLOOKUP(P5071,Campos!$B$2:$C$7,2,FALSE)","v":0},"Sin información"]
[5066,30,"Veracruz",14,"Mecanismos de recolección","14.4",4,"Aprobación de los mecanismos de recolección ","INE","CD","2021-04-26","2021-04-30",null,null,{"$f":"VLOOKUP(P5072,Campos!$B$2:$C$7,2,FALSE)","v":0},"Sin información"]
[5067,30,"Veracruz",14,"Mecanismos de recolección","14.5",5,"Traslado y recolección de los paquetes electorales","INE/OPL","CD/OD","2021-06-06","2021-06-07",null,null,{"$f":"VLOOKUP(P5073,Campos!$B$2:$C$7,2,FALSE)","v":0},"Sin información"]
[5068,30,"Veracruz",14,"Mecanismos de recolección","14.6",6,"Acreditación de representantes de partidos políticos y candidaturas independientes ante los mecanismos de recolección","INE","CL/CD","2021-04-27","2021-06-03",null,null,{"$f":"VLOOKUP(P5074,Campos!$B$2:$C$7,2,FALSE)","v":0},"Sin información"]
[5069,30,"Veracruz",14,"Mecanismos de recolección","14.7",7,"Sustitución de representantes de partidos políticos y candidaturas independientes ante los mecanismos de recolección","INE","CL/CD","2021-04-28","2021-06-04",null,null,{"$f":"VLOOKUP(P5075,Campos!$B$2:$C$7,2,FALSE)","v":0},"Sin información"]
[5070,30,"Veracruz",14,"Mecanismos de recolección","14.8",8,"Entrega a la JLE, el informe sobre la recepción de paquetes electorales en los órganos competentes","OPL","CG","2021-06-06","2021-06-28",null,null,{"$f":"VLOOKUP(P5076,Campos!$B$2:$C$7,2,FALSE)","v":0},"Sin información"]
[5071,30,"Veracruz",15,"Cómputos","15.1",1,"Aprobación de los lineamientos de cómputo y del cuadernillo de consulta sobre votos válidos y votos nulos","OPL","CG","2021-01-18","2021-01-29",null,null,{"$f":"VLOOKUP(P5077,Campos!$B$2:$C$7,2,FALSE)","v":0},"Sin información"]
[5072,30,"Veracruz",15,"Cómputos","15.2",2,"Integración por parte de los Órganos Desconcentrados del OPL, de la propuesta para la habilitación de espacios para el recuento de votos con las alternativas para todos los escenarios de cómputo","OPL","OD","2021-03-01","2021-03-07",null,null,{"$f":"VLOOKUP(P5078,Campos!$B$2:$C$7,2,FALSE)","v":0},"Sin información"]
[5073,30,"Veracruz",15,"Cómputos","15.3",3,"Informe de los escenarios de cómputos de la totalidad de sus órganos desconcentrados","OPL","CG","2021-04-01","2021-04-04",null,null,{"$f":"VLOOKUP(P5079,Campos!$B$2:$C$7,2,FALSE)","v":0},"Sin información"]
[5074,30,"Veracruz",15,"Cómputos","15.4",4,"Remisión a la JLE en la entidad, las propuestas de escenarios de cómputos, para la dictaminación de viabilidad","OPL","CG","2021-05-01","2021-05-07",null,null,{"$f":"VLOOKUP(P5080,Campos!$B$2:$C$7,2,FALSE)","v":0},"Sin información"]
[5075,30,"Veracruz",15,"Cómputos","15.5",5,"Remisión de las observaciones a los escenarios de Cómputos al OPL y a su vez informar de las mismas a la UTVOPL","INE","JLE","2021-05-08","2021-05-15",null,null,{"$f":"VLOOKUP(P5081,Campos!$B$2:$C$7,2,FALSE)","v":0},"Sin información"]
[5076,30,"Veracruz",15,"Cómputos","15.6",6,"Aprobación por parte del órgano competente del OPL, del acuerdo mediante el cual se designa al personal que participará en las tareas de apoyo a los Cómputos Municipales","OPL","CG/OD","2021-04-26","2021-05-05",null,null,{"$f":"VLOOKUP(P5082,Campos!$B$2:$C$7,2,FALSE)","v":0},"Sin información"]
[5077,30,"Veracruz",15,"Cómputos","15.7",7,"Aprobación por parte del órgano competente del OPL, del acuerdo mediante el cual se designa al personal que participará en las tareas de apoyo a los Cómputos Distritales ","OPL","CG/OD","2021-04-26","2021-05-05",null,null,{"$f":"VLOOKUP(P5083,Campos!$B$2:$C$7,2,FALSE)","v":0},"Sin información"]
[5078,30,"Veracruz",15,"Cómputos","15.8",8,"Aprobación por parte de los órganos competentes del OPL, de los distintos escenarios de cómputos","OPL","OD","2021-05-08","2021-05-15",null,null,{"$f":"VLOOKUP(P5084,Campos!$B$2:$C$7,2,FALSE)","v":0},"Sin información"]
[5079,30,"Veracruz",15,"Cómputos","15.9",9,"Aprobación por parte del órgano competente del OPL, del acuerdo por el que se habilitarán espacios para la instalación de grupos de trabajo y, en su caso, puntos de recuento","OPL","CG/OD","2021-06-08","2021-06-08",null,null,{"$f":"VLOOKUP(P5085,Campos!$B$2:$C$7,2,FALSE)","v":0},"Sin información"]
[5080,30,"Veracruz",15,"Cómputos","15.10",10,"Cómputos Distritales","OPL","OD","2021-06-09","2021-06-12",null,null,{"$f":"VLOOKUP(P5086,Campos!$B$2:$C$7,2,FALSE)","v":0},"Sin información"]
[5081,30,"Veracruz",15,"Cómputos","15.14",14,"Cómputo Estatal para la asignación diputaciones de Representación Proporcional","OPL","CG","2021-09-09","2021-11-04",null,null,{"$f":"VLOOKUP(P5087,Campos!$B$2:$C$7,2,FALSE)","v":0},"Sin información"]
[5082,30,"Veracruz",15,"Cómputos","15.11",11,"Cómputos Municipales","OPL","OD","2021-06-09","2021-06-12",null,null,{"$f":"VLOOKUP(P5088,Campos!$B$2:$C$7,2,FALSE)","v":0},"Sin información"]
[5083,30,"Veracruz",15,"Cómputos","15.16",16,"Asignación de regidurías por el principio de Representación Proporcional","OPL","CG","2021-06-09","2021-12-31",null,null,{"$f":"VLOOKUP(P5089,Campos!$B$2:$C$7,2,FALSE)","v":0},"Sin información"]
[5084,30,"Veracruz",16,"PREP","16.1",1,"Aprobación del Acuerdo por el que se designa o ratifica a la instancia interna responsable de coordinar el PREP","OPL","CG","2020-09-11","2020-09-11",null,null,{"$f":"VLOOKUP(P5090,Campos!$B$2:$C$7,2,FALSE)","v":0},"Sin información"]
[5085,30,"Veracruz",16,"PREP","16.2",2,"Aprobación del Acuerdo de Integración del COTAPREP","OPL","CG","2020-11-11","2020-11-11",null,null,{"$f":"VLOOKUP(P5091,Campos!$B$2:$C$7,2,FALSE)","v":0},"Sin información"]
[5086,30,"Veracruz",16,"PREP","16.3",3,"Documento por el que se determina la implementación del PREP por el OPL o con el apoyo de un Tercero","OPL","CG","2020-12-11","2020-12-11",null,null,{"$f":"VLOOKUP(P5092,Campos!$B$2:$C$7,2,FALSE)","v":0},"Sin información"]
[5087,30,"Veracruz",16,"PREP","16.4",4,"Aprobación del acuerdo por el que se determina el Proceso Técnico Operativo ","OPL","CG","2021-01-11","2021-01-11",null,null,{"$f":"VLOOKUP(P5093,Campos!$B$2:$C$7,2,FALSE)","v":0},"Sin información"]
[5088,30,"Veracruz",16,"PREP","16.5",5,"Aprobación del Acuerdo por el que se determina la ubicación, instalación y habilitación de los CATD y, en su caso, CCV","OPL","CG","2021-02-11","2021-02-11",null,null,{"$f":"VLOOKUP(P5094,Campos!$B$2:$C$7,2,FALSE)","v":0},"Sin información"]
[5089,30,"Veracruz",16,"PREP","16.7",7,"Instrumento jurídico celebrado entre el OPL y el ente auditor","OPL","CG","2021-03-11","2021-03-11",null,null,{"$f":"VLOOKUP(P5095,Campos!$B$2:$C$7,2,FALSE)","v":0},"Sin información"]
[5090,30,"Veracruz",16,"PREP","16.6",6,"Documento de Designación del Ente Auditor ","OPL","CG","2021-02-11","2021-02-11",null,null,{"$f":"VLOOKUP(P5096,Campos!$B$2:$C$7,2,FALSE)","v":0},"Sin información"]
[5091,30,"Veracruz",16,"PREP","16.8",8,"Realización del primer simulacro del PREP","OPL","CG","2021-05-16","2021-05-16",null,null,{"$f":"VLOOKUP(P5097,Campos!$B$2:$C$7,2,FALSE)","v":0},"Sin información"]
[5092,30,"Veracruz",16,"PREP","16.9",9,"Realización del segundo simulacro del PREP","OPL","CG","2021-05-23","2021-05-23",null,null,{"$f":"VLOOKUP(P5098,Campos!$B$2:$C$7,2,FALSE)","v":0},"Sin información"]
[5093,30,"Veracruz",16,"PREP","16.10",10,"Realización del tercer simulacro del PREP","OPL","CG","2021-05-30","2021-05-30",null,null,{"$f":"VLOOKUP(P5099,Campos!$B$2:$C$7,2,FALSE)","v":0},"Sin información"]
[5094,30,"Veracruz",16,"PREP","16.11",11,"Operación del PREP","OPL","CG","2021-06-06","2021-06-07",null,null,{"$f":"VLOOKUP(P5100,Campos!$B$2:$C$7,2,FALSE)","v":0},"Sin información"]
[5095,30,"Veracruz",19,"Visitantes extranjeros","19.1",1,"Emisión de la Convocatoria para visitantes extranjeros","INE","CG","2020-08-03","2020-09-30",null,null,{"$f":"VLOOKUP(P5101,Campos!$B$2:$C$7,2,FALSE)","v":0},"Sin información"]
[5096,30,"Veracruz",19,"Visitantes extranjeros","19.2",2,"Difusión de la Convocatoria para visitantes extranjeros","INE","CAI","2020-09-01","2021-05-26",null,null,{"$f":"VLOOKUP(P5102,Campos!$B$2:$C$7,2,FALSE)","v":0},"Sin información"]
[5097,30,"Veracruz",19,"Visitantes extranjeros","19.3",3,"Recepción de solicitudes de acreditación como visitantes extranjeros","INE","CAI","2020-09-01","2021-05-26",null,null,{"$f":"VLOOKUP(P5103,Campos!$B$2:$C$7,2,FALSE)","v":0},"Sin información"]
[5098,30,"Veracruz",19,"Visitantes extranjeros","19.4",4,"Resolución de solicitudes de acreditación como visitantes extranjeros","INE","CAI","2020-09-02","2021-05-30",null,null,{"$f":"VLOOKUP(P5104,Campos!$B$2:$C$7,2,FALSE)","v":0},"Sin información"]
[5099,30,"Veracruz",19,"Visitantes extranjeros","19.5",5,"Entrega de acreditaciones a los visitantes extranjeros","INE","CAI","2020-09-04","2021-06-05",null,null,{"$f":"VLOOKUP(P5105,Campos!$B$2:$C$7,2,FALSE)","v":0},"Sin información"]
[5100,31,"Yucatán",1,"Mecanismos de coordinación","1.1",1,"Aprobar Calendarios y Planes Integrales de los Procesos Electorales Locales","INE","CG","2020-08-01","2020-08-07",null,null,{"$f":"VLOOKUP(P5106,Campos!$B$2:$C$7,2,FALSE)","v":0},"Sin información"]
[5101,31,"Yucatán",1,"Mecanismos de coordinación","1.2",2,"Firma del Convenio General de Coordinación y Colaboración 2020-2021","INE/OPL","INE/OPL","2020-09-01","2020-10-01",null,null,{"$f":"VLOOKUP(P5107,Campos!$B$2:$C$7,2,FALSE)","v":0},"Sin información"]
[5102,31,"Yucatán",1,"Mecanismos de coordinación","1.3",3,"Elaborar un plan de trabajo conjunto para la promoción de la participación ciudadana","INE/OPL","INE/OPL","2020-09-01","2020-12-31",null,null,{"$f":"VLOOKUP(P5108,Campos!$B$2:$C$7,2,FALSE)","v":0},"Sin información"]
[5103,31,"Yucatán",1,"Mecanismos de coordinación","1.4",4,"Sesión para dar inicio al PEL","OPL","CG","2020-11-04","2020-11-04",null,null,{"$f":"VLOOKUP(P5109,Campos!$B$2:$C$7,2,FALSE)","v":0},"Sin información"]
[5104,31,"Yucatán",1,"Mecanismos de coordinación","1.5",5,"Implementar un plan de trabajo conjunto para la promoción de la participación ciudadana","INE/OPL","INE/OPL","2021-02-01","2021-06-06",null,null,{"$f":"VLOOKUP(P5110,Campos!$B$2:$C$7,2,FALSE)","v":0},"Sin información"]
[5105,31,"Yucatán",2,"Integración de órganos desconcentrados","2.1",1,"Convocatoria para la integración de los Órganos Distritales","OPL","CG","2020-11-04","2020-11-20",null,null,{"$f":"VLOOKUP(P5111,Campos!$B$2:$C$7,2,FALSE)","v":0},"Sin información"]
[5106,31,"Yucatán",2,"Integración de órganos desconcentrados","2.2",2,"Sesión en la que se designan e integran los Órganos Distritales ","OPL","CG","2020-12-11","2020-12-15",null,null,{"$f":"VLOOKUP(P5112,Campos!$B$2:$C$7,2,FALSE)","v":0},"Sin información"]
[5107,31,"Yucatán",2,"Integración de órganos desconcentrados","2.3",3,"Instalación de los Órganos Distritales ","OPL","OD","2021-01-15","2021-01-31",null,null,{"$f":"VLOOKUP(P5113,Campos!$B$2:$C$7,2,FALSE)","v":0},"Sin información"]
[5108,31,"Yucatán",2,"Integración de órganos desconcentrados","2.4",4,"Convocatoria para la integración de los Órganos Municipales ","OPL","CG","2020-11-04","2020-11-07",null,null,{"$f":"VLOOKUP(P5114,Campos!$B$2:$C$7,2,FALSE)","v":0},"Sin información"]
[5109,31,"Yucatán",2,"Integración de órganos desconcentrados","2.5",5,"Sesión en la que se designan e integran los Órganos Municipales ","OPL","CG","2020-12-11","2020-12-15",null,null,{"$f":"VLOOKUP(P5115,Campos!$B$2:$C$7,2,FALSE)","v":0},"Sin información"]
[5110,31,"Yucatán",2,"Integración de órganos desconcentrados","2.6",6,"Instalación de los Órganos Municipales ","OPL","OD","2021-01-15","2021-01-31",null,null,{"$f":"VLOOKUP(P5116,Campos!$B$2:$C$7,2,FALSE)","v":0},"Sin información"]
[5111,31,"Yucatán",2,"Integración de órganos desconcentrados","2.7",7,"Designación y/o ratificación de las y los Consejeros Electorales del Consejo Local ","INE","CG","2020-10-01","2020-10-15",null,null,{"$f":"VLOOKUP(P5117,Campos!$B$2:$C$7,2,FALSE)","v":0},"Sin información"]
[5112,31,"Yucatán",2,"Integración de órganos desconcentrados","2.8",8,"Instalación del Consejo Local","INE","CL","2020-11-01","2020-11-30",null,null,{"$f":"VLOOKUP(P5118,Campos!$B$2:$C$7,2,FALSE)","v":0},"Sin información"]
[5113,31,"Yucatán",2,"Integración de órganos desconcentrados","2.9",9,"Designación y/o ratificación de las y los Consejeros Electorales de los Consejos Distritales ","INE","CL","2020-11-01","2020-11-30",null,null,{"$f":"VLOOKUP(P5119,Campos!$B$2:$C$7,2,FALSE)","v":0},"Sin información"]
[5114,31,"Yucatán",2,"Integración de órganos desconcentrados","2.10",10,"Instalación de los Consejos Distritales","INE","CD","2020-12-01","2020-12-15",null,null,{"$f":"VLOOKUP(P5120,Campos!$B$2:$C$7,2,FALSE)","v":0},"Sin información"]
[5115,31,"Yucatán",3,"Lista Nominal de Electores","3.1",1,"Generación y entrega de la Lista Nominal de Electores para Revisión en medios ópticos a los representantes de los partidos políticos, y en su caso a las candidaturas independientes acreditados ante el OPL, para observaciones","INE","DERFE","2021-02-15","2021-02-15",null,null,{"$f":"VLOOKUP(P5121,Campos!$B$2:$C$7,2,FALSE)","v":0},"Sin información"]
[5116,31,"Yucatán",3,"Lista Nominal de Electores","3.2",2,"Recepción de observaciones de los partidos políticos y en su caso, candidatos independientes, a la Lista Nominal de Electores para revisión","INE/OPL","DERFE","2021-03-14","2021-03-14",null,null,{"$f":"VLOOKUP(P5122,Campos!$B$2:$C$7,2,FALSE)","v":0},"Sin información"]
[5117,31,"Yucatán",3,"Lista Nominal de Electores","3.3",3,"Entrega en formato digital el informe respecto de la atención a las observaciones formuladas a la Lista Nominal de Electores para Revisión","INE","DERFE","2021-04-15","2021-04-15",null,null,{"$f":"VLOOKUP(P5123,Campos!$B$2:$C$7,2,FALSE)","v":0},"Sin información"]
[5118,31,"Yucatán",3,"Lista Nominal de Electores","3.4",4,"Entrega de la Lista Nominal de Electores Definitiva con fotografía","INE","DERFE","2021-05-06","2021-05-14",null,null,{"$f":"VLOOKUP(P5124,Campos!$B$2:$C$7,2,FALSE)","v":0},"Sin información"]
[5119,31,"Yucatán",3,"Lista Nominal de Electores","3.5",5,"Fecha de entrega de la Lista Nominal de Electores con fotografía Producto de Instancias Administrativas y Resoluciones del Tribunal (ADENDA)","INE","DERFE","2021-05-19","2021-05-24",null,null,{"$f":"VLOOKUP(P5125,Campos!$B$2:$C$7,2,FALSE)","v":0},"Sin información"]
[5120,31,"Yucatán",4,"Observación Electoral","4.1",1,"Emisión de la convocatoria para la ciudadanía que desee participar en la observación electoral","OPL","CG","2020-11-04","2020-11-04",null,null,{"$f":"VLOOKUP(P5126,Campos!$B$2:$C$7,2,FALSE)","v":0},"Sin información"]
[5121,31,"Yucatán",4,"Observación Electoral","4.2",2,"Recepción de solicitudes de la ciudadanía que desee participar en observación electoral","INE/OPL","OPL/JLE/JDE","2020-11-04","2021-04-30",null,null,{"$f":"VLOOKUP(P5127,Campos!$B$2:$C$7,2,FALSE)","v":0},"Sin información"]
[5122,31,"Yucatán",4,"Observación Electoral","4.3",3,"Impartición de los cursos de capacitación, preparación o información","INE/OPL","OPL/JLE/JDE","2020-11-04","2021-05-17",null,null,{"$f":"VLOOKUP(P5128,Campos!$B$2:$C$7,2,FALSE)","v":0},"Sin información"]
[5123,31,"Yucatán",4,"Observación Electoral","4.4",4,"Acreditación de la ciudadanía como observadores u observadoras electorales","INE","CL/CD","2020-11-04","2021-06-05",null,null,{"$f":"VLOOKUP(P5129,Campos!$B$2:$C$7,2,FALSE)","v":0},"Sin información"]
[5124,31,"Yucatán",4,"Observación Electoral","4.5",5,"Seguimiento a los informes mensuales de acreditación","INE","CG","2020-11-04","2021-07-31",null,null,{"$f":"VLOOKUP(P5130,Campos!$B$2:$C$7,2,FALSE)","v":0},"Sin información"]
[5125,31,"Yucatán",4,"Observación Electoral","4.6",6,"Remisión de materiales de capacitación a la JLE para revisión","OPL","CG","2020-10-08","2020-10-08",null,null,{"$f":"VLOOKUP(P5131,Campos!$B$2:$C$7,2,FALSE)","v":0},"Sin información"]
[5126,31,"Yucatán",4,"Observación Electoral","4.7",7,"Revisión, corrección, verificación y validación de materiales de capacitación para observación electoral ","INE","JLE","2020-10-09","2020-10-30",null,null,{"$f":"VLOOKUP(P5132,Campos!$B$2:$C$7,2,FALSE)","v":0},"Sin información"]
[5127,31,"Yucatán",4,"Observación Electoral","4.8",8,"Entrega de materiales de capacitación para observación electoral entre OPL e INE","INE/OPL","VEL/OPL","2020-11-01","2020-11-23",null,null,{"$f":"VLOOKUP(P5133,Campos!$B$2:$C$7,2,FALSE)","v":0},"Sin información"]
[5128,31,"Yucatán",5,"Ubicación de casillas","5.1",1,"Recorridos por las secciones de los distritos para localizar los lugares donde se ubicarán las casillas","INE/OPL","JDE/OPL","2021-01-15","2021-02-15",null,null,{"$f":"VLOOKUP(P5134,Campos!$B$2:$C$7,2,FALSE)","v":0},"Sin información"]
[5129,31,"Yucatán",5,"Ubicación de casillas","5.2",2,"Presentación a los Consejos Distritales del listado de lugares propuestos para ubicar casillas","INE","JDE","2021-02-24","2021-02-24",null,null,{"$f":"VLOOKUP(P5135,Campos!$B$2:$C$7,2,FALSE)","v":0},"Sin información"]
[5130,31,"Yucatán",5,"Ubicación de casillas","5.3",3,"Visitas de examinación en los lugares propuestos para ubicar casillas básicas, contiguas, especiales y extraordinarias","INE/OPL","CD/OPL","2021-02-25","2021-03-16",null,null,{"$f":"VLOOKUP(P5136,Campos!$B$2:$C$7,2,FALSE)","v":0},"Sin información"]
[5131,31,"Yucatán",5,"Ubicación de casillas","5.4",4,"Aprobación del número y ubicación de casillas extraordinarias y especiales","INE","CD","2021-03-16","2021-03-16",null,null,{"$f":"VLOOKUP(P5137,Campos!$B$2:$C$7,2,FALSE)","v":0},"Sin información"]
[5132,31,"Yucatán",5,"Ubicación de casillas","5.5",5,"Aprobación del número y ubicación de casillas básicas y contiguas","INE","CD","2021-03-25","2021-03-25",null,null,{"$f":"VLOOKUP(P5138,Campos!$B$2:$C$7,2,FALSE)","v":0},"Sin información"]
[5133,31,"Yucatán",5,"Ubicación de casillas","5.6",6,"Entrega de la base de datos de la Lista Nominal Definitiva a UNICOM con corte al 10 de abril","INE","DERFE","2021-04-15","2021-04-16",null,null,{"$f":"VLOOKUP(P5139,Campos!$B$2:$C$7,2,FALSE)","v":0},"Sin información"]
[5134,31,"Yucatán",5,"Ubicación de casillas","5.7",7,"Realizar la primera publicación de la lista de ubicación de casillas en los lugares más concurridos del distrito electoral  y en los medios electrónicos del Instituto","INE","CD","2021-04-15","2021-04-15",null,null,{"$f":"VLOOKUP(P5140,Campos!$B$2:$C$7,2,FALSE)","v":0},"Sin información"]
[5135,31,"Yucatán",5,"Ubicación de casillas","5.8",8,"En su caso, segunda publicación de la lista de ubicación de casillas por causas supervenientes en los lugares más concurridos del distrito y en los medios electrónicos del Instituto","INE","CD","2021-05-15","2021-05-25",null,null,{"$f":"VLOOKUP(P5141,Campos!$B$2:$C$7,2,FALSE)","v":0},"Sin información"]
[5136,31,"Yucatán",5,"Ubicación de casillas","5.9",9,"Publicación de los encartes y difusión en medios electrónicos del Instituto","INE/OPL","DEOE/CG","2021-06-05","2021-06-06",null,null,{"$f":"VLOOKUP(P5142,Campos!$B$2:$C$7,2,FALSE)","v":0},"Sin información"]
[5137,31,"Yucatán",5,"Ubicación de casillas","5.10",10,"Registro de representantes generales y ante mesas directivas de casilla","INE","CD","2021-04-16","2021-05-24",null,null,{"$f":"VLOOKUP(P5143,Campos!$B$2:$C$7,2,FALSE)","v":0},"Sin información"]
[5138,31,"Yucatán",5,"Ubicación de casillas","5.11",11,"Sustitución de representantes generales y ante mesas directivas de casilla","INE","CD","2021-04-16","2021-05-27",null,null,{"$f":"VLOOKUP(P5144,Campos!$B$2:$C$7,2,FALSE)","v":0},"Sin información"]
[5139,31,"Yucatán",5,"Ubicación de casillas","5.12",12,"Entrega de listados de representantes generales y ante casilla al OPL","INE","CD","2021-05-30","2021-05-30",null,null,{"$f":"VLOOKUP(P5145,Campos!$B$2:$C$7,2,FALSE)","v":0},"Sin información"]
[5140,31,"Yucatán",5,"Ubicación de casillas","5.13",13,"Notificación ciudadana de ubicación de casillas en secciones electorales involucradas en la actualización del Marco Geográfico Electoral","INE/OPL","DERFE/OPL","2021-04-01","2021-06-15",null,null,{"$f":"VLOOKUP(P5146,Campos!$B$2:$C$7,2,FALSE)","v":0},"Sin información"]
[5141,31,"Yucatán",6,"Integración de las Mesas Directivas de Casilla","6.1",1,"Aprobación de la Estrategia de Capacitación y Asistencia Electoral","INE","CG","2020-08-01","2020-08-15",null,null,{"$f":"VLOOKUP(P5147,Campos!$B$2:$C$7,2,FALSE)","v":0},"Sin información"]
[5142,31,"Yucatán",6,"Integración de las Mesas Directivas de Casilla","6.2",2,"Entrega para revisión y validación de materiales didácticos de primera etapa","OPL","CG","2020-11-03","2020-11-03",null,null,{"$f":"VLOOKUP(P5148,Campos!$B$2:$C$7,2,FALSE)","v":0},"Sin información"]
[5143,31,"Yucatán",6,"Integración de las Mesas Directivas de Casilla","6.3",3,"Revisión, corrección, verificación y validación de los materiales didácticos de primera etapa","INE/OPL","JLE/DECEYEC/OPL","2020-11-03","2020-12-19",null,null,{"$f":"VLOOKUP(P5149,Campos!$B$2:$C$7,2,FALSE)","v":0},"Sin información"]
[5144,31,"Yucatán",6,"Integración de las Mesas Directivas de Casilla","6.4",4,"Entrega de los materiales impresos de la primera etapa a la JLE","OPL","OPL","2021-02-05","2021-02-05",null,null,{"$f":"VLOOKUP(P5150,Campos!$B$2:$C$7,2,FALSE)","v":0},"Sin información"]
[5145,31,"Yucatán",6,"Integración de las Mesas Directivas de Casilla","6.5",5,"Sorteo del mes del calendario como base para la insaculación de las y los ciudadanos que integrarán las mesas directivas de casilla","INE","CG","2020-12-15","2020-12-19",null,null,{"$f":"VLOOKUP(P5151,Campos!$B$2:$C$7,2,FALSE)","v":0},"Sin información"]
[5146,31,"Yucatán",6,"Integración de las Mesas Directivas de Casilla","6.6",6,"Entrega para revisión y validación de materiales didácticos de segunda etapa","OPL","OPL","2021-02-03","2021-02-03",null,null,{"$f":"VLOOKUP(P5152,Campos!$B$2:$C$7,2,FALSE)","v":0},"Sin información"]
[5147,31,"Yucatán",6,"Integración de las Mesas Directivas de Casilla","6.7",7,"Revisión, corrección, verificación y validación de los materiales didácticos de la segunda etapa","INE/OPL","JLE/DECEYEC/OPL","2021-02-03","2021-03-22",null,null,{"$f":"VLOOKUP(P5153,Campos!$B$2:$C$7,2,FALSE)","v":0},"Sin información"]
[5148,31,"Yucatán",6,"Integración de las Mesas Directivas de Casilla","6.8",8,"Entrega de los materiales impresos de la segunda etapa a la JLE","OPL","OPL","2021-04-05","2021-04-05",null,null,{"$f":"VLOOKUP(P5154,Campos!$B$2:$C$7,2,FALSE)","v":0},"Sin información"]
[5149,31,"Yucatán",6,"Integración de las Mesas Directivas de Casilla","6.9",9,"Sorteo de la letra a partir de la cual, con base en el apellido paterno, se seleccionará a las y los ciudadanos que integrarán las mesas directivas de casilla","INE","CG","2021-02-02","2021-02-02",null,null,{"$f":"VLOOKUP(P5155,Campos!$B$2:$C$7,2,FALSE)","v":0},"Sin información"]
[5150,31,"Yucatán",6,"Integración de las Mesas Directivas de Casilla","6.10",10,"Entrega de la Lista Nominal de Electores para el Procedimiento de la Primera insaculación con corte al 15 de enero de 2021.","INE","DERFE/UNICOM","2021-01-21","2021-01-26",null,null,{"$f":"VLOOKUP(P5156,Campos!$B$2:$C$7,2,FALSE)","v":0},"Sin información"]
[5151,31,"Yucatán",6,"Integración de las Mesas Directivas de Casilla","6.11",11,"Primera insaculación","INE","JDE","2021-02-06","2021-02-06",null,null,{"$f":"VLOOKUP(P5157,Campos!$B$2:$C$7,2,FALSE)","v":0},"Sin información"]
[5152,31,"Yucatán",6,"Integración de las Mesas Directivas de Casilla","6.12",12,"Primera etapa de capacitación a las personas insaculadas","INE","CD","2021-02-09","2021-03-31",null,null,{"$f":"VLOOKUP(P5158,Campos!$B$2:$C$7,2,FALSE)","v":0},"Sin información"]
[5153,31,"Yucatán",6,"Integración de las Mesas Directivas de Casilla","6.13",13,"Integración de la lista de ciudadanos y ciudadanas que cumplen los requisitos legales para integrar las mesas directivas de casilla","INE","CD","2021-02-09","2021-03-31",null,null,{"$f":"VLOOKUP(P5159,Campos!$B$2:$C$7,2,FALSE)","v":0},"Sin información"]
[5154,31,"Yucatán",6,"Integración de las Mesas Directivas de Casilla","6.14",14,"Segunda insaculación y designación de funcionarios para mesas directivas de casilla","INE","CD","2021-04-08","2021-04-08",null,null,{"$f":"VLOOKUP(P5160,Campos!$B$2:$C$7,2,FALSE)","v":0},"Sin información"]
[5155,31,"Yucatán",6,"Integración de las Mesas Directivas de Casilla","6.15",15,"Segunda etapa de capacitación a funcionarios de mesa directiva de casilla y simulacros","INE","CD","2021-04-18","2021-06-05",null,null,{"$f":"VLOOKUP(P5161,Campos!$B$2:$C$7,2,FALSE)","v":0},"Sin información"]
[5156,31,"Yucatán",6,"Integración de las Mesas Directivas de Casilla","6.16",16,"Entrega de reconocimientos a funcionarios de mesas directivas de casilla","INE","CD","2021-06-07","2021-06-12",null,null,{"$f":"VLOOKUP(P5162,Campos!$B$2:$C$7,2,FALSE)","v":0},"Sin información"]
[5157,31,"Yucatán",6,"Integración de las Mesas Directivas de Casilla","6.17",17,"Periodo para contratación de CAE locales","INE/OPL","INE/OPL","Por definir","Por definir",null,null,{"$f":"VLOOKUP(P5163,Campos!$B$2:$C$7,2,FALSE)","v":0},"Sin información"]
[5158,31,"Yucatán",6,"Integración de las Mesas Directivas de Casilla","6.18",18,"Reclutamiento y selección de CAE locales","INE/OPL","INE/OPL","Por definir","Por definir",null,null,{"$f":"VLOOKUP(P5164,Campos!$B$2:$C$7,2,FALSE)","v":0},"Sin información"]
[5159,31,"Yucatán",7,"Fiscalización de los recursos de los Partidos Políticos y candidaturas independientes","7.2",2,"Aprobación de topes de gastos de precampaña Diputaciones","OPL","CG","2020-10-01","2020-10-31",null,null,{"$f":"VLOOKUP(P5165,Campos!$B$2:$C$7,2,FALSE)","v":0},"Sin información"]
[5160,31,"Yucatán",7,"Fiscalización de los recursos de los Partidos Políticos y candidaturas independientes","7.3",3,"Aprobación de topes de gastos de precampaña Ayuntamientos","OPL","CG","2020-10-01","2020-10-31",null,null,{"$f":"VLOOKUP(P5166,Campos!$B$2:$C$7,2,FALSE)","v":0},"Sin información"]
[5161,31,"Yucatán",7,"Fiscalización de los recursos de los Partidos Políticos y candidaturas independientes","7.5",5,"Aprobación de los límites de financiamiento privado, aportaciones de militantes, simpatizantes y precandidatos o candidatos; así como el límite individual de aportaciones para Diputaciones","OPL","CG","2020-10-01","2020-10-31",null,null,{"$f":"VLOOKUP(P5167,Campos!$B$2:$C$7,2,FALSE)","v":0},"Sin información"]
[5162,31,"Yucatán",7,"Fiscalización de los recursos de los Partidos Políticos y candidaturas independientes","7.6",6,"Aprobación de los límites de financiamiento privado, aportaciones de militantes, simpatizantes y precandidatos o candidatos; así como el límite individual de aportaciones para Ayuntamientos","OPL","CG","2020-10-01","2020-10-31",null,null,{"$f":"VLOOKUP(P5168,Campos!$B$2:$C$7,2,FALSE)","v":0},"Sin información"]
[5163,31,"Yucatán",7,"Fiscalización de los recursos de los Partidos Políticos y candidaturas independientes","7.8",8,"Aprobación de topes de gastos para el periodo de obtención del apoyo ciudadano para Diputaciones","OPL","CG","2020-10-01","2020-10-31",null,null,{"$f":"VLOOKUP(P5169,Campos!$B$2:$C$7,2,FALSE)","v":0},"Sin información"]
[5164,31,"Yucatán",7,"Fiscalización de los recursos de los Partidos Políticos y candidaturas independientes","7.9",9,"Aprobación de topes de gastos para el periodo de obtención del apoyo ciudadano para Ayuntamientos","OPL","CG","2020-10-01","2020-10-31",null,null,{"$f":"VLOOKUP(P5170,Campos!$B$2:$C$7,2,FALSE)","v":0},"Sin información"]
[5165,31,"Yucatán",7,"Fiscalización de los recursos de los Partidos Políticos y candidaturas independientes","7.11",11,"Precampaña para Diputaciones","OPL","CG","2021-01-04","2021-02-12",null,null,{"$f":"VLOOKUP(P5171,Campos!$B$2:$C$7,2,FALSE)","v":0},"Sin información"]
[5166,31,"Yucatán",7,"Fiscalización de los recursos de los Partidos Políticos y candidaturas independientes","7.12",12,"Precampaña para Ayuntamientos","OPL","CG","2021-01-04","2021-02-12",null,null,{"$f":"VLOOKUP(P5172,Campos!$B$2:$C$7,2,FALSE)","v":0},"Sin información"]
[5167,31,"Yucatán",7,"Fiscalización de los recursos de los Partidos Políticos y candidaturas independientes","7.14",14,"Aprobación de topes de gastos de campaña para Diputaciones","OPL","CG","2021-02-13","2021-04-02",null,null,{"$f":"VLOOKUP(P5173,Campos!$B$2:$C$7,2,FALSE)","v":0},"Sin información"]
[5168,31,"Yucatán",7,"Fiscalización de los recursos de los Partidos Políticos y candidaturas independientes","7.15",15,"Aprobación de topes de gastos de campaña para Ayuntamientos","OPL","CG","2021-02-13","2021-04-02",null,null,{"$f":"VLOOKUP(P5174,Campos!$B$2:$C$7,2,FALSE)","v":0},"Sin información"]
[5169,31,"Yucatán",7,"Fiscalización de los recursos de los Partidos Políticos y candidaturas independientes","7.17",17,"Campaña para Diputaciones","OPL","CG","2021-04-09","2021-06-02",null,null,{"$f":"VLOOKUP(P5175,Campos!$B$2:$C$7,2,FALSE)","v":0},"Sin información"]
[5170,31,"Yucatán",7,"Fiscalización de los recursos de los Partidos Políticos y candidaturas independientes","7.18",18,"Campaña para Ayuntamientos","OPL","CG","2021-04-09","2021-06-02",null,null,{"$f":"VLOOKUP(P5176,Campos!$B$2:$C$7,2,FALSE)","v":0},"Sin información"]
[5171,31,"Yucatán",7,"Fiscalización de los recursos de los Partidos Políticos y candidaturas independientes","7.19",19,"Aprobación de la distribución de financiamiento público para partidos políticos","OPL","CG","2021-01-01","2021-01-31",null,null,{"$f":"VLOOKUP(P5177,Campos!$B$2:$C$7,2,FALSE)","v":0},"Sin información"]
[5172,31,"Yucatán",8,"Candidaturas Independientes","8.1",1,"Emisión de la convocatoria para la ciudadanía interesada en participar en Candidaturas Independientes ","OPL","CG","2020-11-04","2020-12-07",null,null,{"$f":"VLOOKUP(P5178,Campos!$B$2:$C$7,2,FALSE)","v":0},"Sin información"]
[5173,31,"Yucatán",8,"Candidaturas Independientes","8.3",3,"Recepción de escrito de intención y documentación anexa de la ciudadanía que aspire a la candidatura independiente para Diputaciones","OPL","OD","2020-11-05","2020-12-21",null,null,{"$f":"VLOOKUP(P5179,Campos!$B$2:$C$7,2,FALSE)","v":0},"Sin información"]
[5174,31,"Yucatán",8,"Candidaturas Independientes","8.4",4,"Recepción de escrito de intención y documentación anexa de la ciudadanía que aspire a la candidatura independiente para Ayuntamientos","OPL","SE/OD","2020-11-05","2020-12-21",null,null,{"$f":"VLOOKUP(P5180,Campos!$B$2:$C$7,2,FALSE)","v":0},"Sin información"]
[5175,31,"Yucatán",8,"Candidaturas Independientes","8.6",6,"Resolución sobre procedencia de manifestación de intención de aspirantes a candidaturas independientes para Diputaciones","OPL","CG","2020-12-22","2021-01-03",null,null,{"$f":"VLOOKUP(P5181,Campos!$B$2:$C$7,2,FALSE)","v":0},"Sin información"]
[5176,31,"Yucatán",8,"Candidaturas Independientes","8.7",7,"Resolución sobre procedencia de manifestación de intención de aspirantes a candidaturas independientes para Ayuntamientos","OPL","CG","2020-12-22","2021-01-03",null,null,{"$f":"VLOOKUP(P5182,Campos!$B$2:$C$7,2,FALSE)","v":0},"Sin información"]
[5177,31,"Yucatán",8,"Candidaturas Independientes","8.9",9,"Plazo para obtener el apoyo ciudadano de las candidaturas independientes para Diputaciones","OPL","OD","2021-01-04","2021-02-12",null,null,{"$f":"VLOOKUP(P5183,Campos!$B$2:$C$7,2,FALSE)","v":0},"Sin información"]
[5178,31,"Yucatán",8,"Candidaturas Independientes","8.10",10,"Plazo para obtener el apoyo ciudadano de las candidaturas independientes para Ayuntamientos","OPL","OD","2021-01-04","2021-02-12",null,null,{"$f":"VLOOKUP(P5184,Campos!$B$2:$C$7,2,FALSE)","v":0},"Sin información"]
[5179,31,"Yucatán",8,"Candidaturas Independientes","8.12",12,"Plazo para otorgar las constancias de porcentaje a favor de aspirantes a la candidatura independiente para Diputaciones","OPL","CG/OD","2021-02-13","2021-03-21",null,null,{"$f":"VLOOKUP(P5185,Campos!$B$2:$C$7,2,FALSE)","v":0},"Sin información"]
[5180,31,"Yucatán",8,"Candidaturas Independientes","8.13",13,"Plazo para otorgar las constancias de porcentaje a favor de aspirantes a la candidatura independiente para Ayuntamientos","OPL","CG/OD","2021-02-13","2021-03-21",null,null,{"$f":"VLOOKUP(P5186,Campos!$B$2:$C$7,2,FALSE)","v":0},"Sin información"]
[5181,31,"Yucatán",9,"Candidaturas","9.1",1,"Registro de plataformas electorales","OPL","CG","2021-01-01","2021-01-15",null,null,{"$f":"VLOOKUP(P5187,Campos!$B$2:$C$7,2,FALSE)","v":0},"Sin información"]
[5182,31,"Yucatán",9,"Candidaturas","9.3",3,"Solicitud de registro de convenio de coalición para Diputaciones","OPL","CG","2020-11-04","2021-01-04",null,null,{"$f":"VLOOKUP(P5188,Campos!$B$2:$C$7,2,FALSE)","v":0},"Sin información"]
[5183,31,"Yucatán",9,"Candidaturas","9.4",4,"Solicitud de registro de convenio de coalición para Ayuntamientos","OPL","CG","2020-11-04","2021-01-04",null,null,{"$f":"VLOOKUP(P5189,Campos!$B$2:$C$7,2,FALSE)","v":0},"Sin información"]
[5184,31,"Yucatán",9,"Candidaturas","9.6",6,"Resolución sobre Convenio de Coalición para Diputaciones","OPL","CG","2020-11-14","2021-01-14",null,null,{"$f":"VLOOKUP(P5190,Campos!$B$2:$C$7,2,FALSE)","v":0},"Sin información"]
[5185,31,"Yucatán",9,"Candidaturas","9.7",7,"Resolución sobre Convenio de Coalición para Ayuntamientos","OPL","CG","2020-11-14","2021-01-14",null,null,{"$f":"VLOOKUP(P5191,Campos!$B$2:$C$7,2,FALSE)","v":0},"Sin información"]
[5186,31,"Yucatán",9,"Candidaturas","9.9",9,"Solicitud de registro de Candidaturas para Diputaciones","OPL","CG/OD","2021-03-22","2021-03-29",null,null,{"$f":"VLOOKUP(P5192,Campos!$B$2:$C$7,2,FALSE)","v":0},"Sin información"]
[5187,31,"Yucatán",9,"Candidaturas","9.11",11,"Solicitud de registro de Candidaturas para Ayuntamientos","OPL","CG/OD","2021-03-22","2021-03-29",null,null,{"$f":"VLOOKUP(P5193,Campos!$B$2:$C$7,2,FALSE)","v":0},"Sin información"]
[5188,31,"Yucatán",9,"Candidaturas","9.14",14,"Resolución para aprobar las candidaturas para Diputaciones","OPL","CG","2021-03-30","2021-04-08",null,null,{"$f":"VLOOKUP(P5194,Campos!$B$2:$C$7,2,FALSE)","v":0},"Sin información"]
[5189,31,"Yucatán",9,"Candidaturas","9.15",15,"Resolución para aprobar las candidaturas para Diputaciones de Representación Proporcional","OPL","CG","2021-04-12","2021-04-15",null,null,{"$f":"VLOOKUP(P5195,Campos!$B$2:$C$7,2,FALSE)","v":0},"Sin información"]
[5190,31,"Yucatán",9,"Candidaturas","9.16",16,"Resolución para aprobar las candidaturas para Ayuntamientos","OPL","CG/OD","2021-03-30","2021-04-08",null,null,{"$f":"VLOOKUP(P5196,Campos!$B$2:$C$7,2,FALSE)","v":0},"Sin información"]
[5191,31,"Yucatán",9,"Candidaturas","9.18",18,"Solicitud de registro de candidaturas comunes para Diputaciones ","OPL","CG/OD","2021-03-22","2021-03-29",null,null,{"$f":"VLOOKUP(P5197,Campos!$B$2:$C$7,2,FALSE)","v":0},"Sin información"]
[5192,31,"Yucatán",9,"Candidaturas","9.19",19,"Solicitud de registro de candidaturas comunes para Ayuntamientos  ","OPL","CG/OD","2021-03-22","2021-03-29",null,null,{"$f":"VLOOKUP(P5198,Campos!$B$2:$C$7,2,FALSE)","v":0},"Sin información"]
[5193,31,"Yucatán",9,"Candidaturas","9.21",21,"Resolución para aprobar las candidaturas comunes para Diputaciones ","OPL","CG/OD","2021-03-30","2021-04-08",null,null,{"$f":"VLOOKUP(P5199,Campos!$B$2:$C$7,2,FALSE)","v":0},"Sin información"]
[5194,31,"Yucatán",9,"Candidaturas","9.22",22,"Resolución para aprobar las candidaturas comunes para Ayuntamientos ","OPL","CG/OD","2021-03-30","2021-04-08",null,null,{"$f":"VLOOKUP(P5200,Campos!$B$2:$C$7,2,FALSE)","v":0},"Sin información"]
[5195,31,"Yucatán",11,"Documentación y material electoral","11.1",1,"Entrega a la Junta Local Ejecutiva del INE, de los diseños y especificaciones técnicas de la documentación y materiales electorales, en medios impresos y electrónicos","OPL","CG","2020-09-01","2020-09-30",null,null,{"$f":"VLOOKUP(P5201,Campos!$B$2:$C$7,2,FALSE)","v":0},"Sin información"]
[5196,31,"Yucatán",11,"Documentación y material electoral","11.2",2,"Revisión de los documentos y materiales electorales y especificaciones técnicas, presentadas por el OPL","INE","JLE","2020-09-15","2020-12-16",null,null,{"$f":"VLOOKUP(P5202,Campos!$B$2:$C$7,2,FALSE)","v":0},"Sin información"]
[5197,31,"Yucatán",11,"Documentación y material electoral","11.3",3,"En su caso, atención y presentación, de los cambios pertinentes, conforme a las observaciones emitidas por la Junta Local Ejecutiva del INE","OPL","CG","2020-09-15","2020-12-16",null,null,{"$f":"VLOOKUP(P5203,Campos!$B$2:$C$7,2,FALSE)","v":0},"Sin información"]
[5198,31,"Yucatán",11,"Documentación y material electoral","11.4",4,"Validación de los documentos y materiales electorales y especificaciones técnicas, con las observaciones subsanadas","INE","DEOE","2020-10-28","2020-12-18",null,null,{"$f":"VLOOKUP(P5204,Campos!$B$2:$C$7,2,FALSE)","v":0},"Sin información"]
[5199,31,"Yucatán",11,"Documentación y material electoral","11.5",5,"Entrega a la Dirección Ejecutiva de Organización Electoral del INE, del Reporte único sobre la aprobación y adjudicación de los documentos y materiales electorales del OPL, en medios electrónicos","OPL","CG","2021-02-01","2021-02-26",null,null,{"$f":"VLOOKUP(P5205,Campos!$B$2:$C$7,2,FALSE)","v":0},"Sin información"]
[5200,31,"Yucatán",11,"Documentación y material electoral","11.6",6,"Revisión y en su caso validación, del Reporte único sobre la aprobación y adjudicación de los documentos y materiales electorales del OPL, en medios electrónicos","INE","DEOE","2021-02-15","2021-03-12",null,null,{"$f":"VLOOKUP(P5206,Campos!$B$2:$C$7,2,FALSE)","v":0},"Sin información"]
[5201,31,"Yucatán",11,"Documentación y material electoral","11.7",7,"Entrega  a la Dirección Ejecutiva de Organización Electoral del INE, del Reporte semanal sobre el avance en la producción de los documentos y materiales electorales del OPL, en medios electrónicos.","OPL","CG","2021-03-15","2021-05-22",null,null,{"$f":"VLOOKUP(P5207,Campos!$B$2:$C$7,2,FALSE)","v":0},"Sin información"]
[5202,31,"Yucatán",11,"Documentación y material electoral","11.8",8,"Aprobación de la documentación y material electoral","OPL","CG","2020-11-11","2020-12-31",null,null,{"$f":"VLOOKUP(P5208,Campos!$B$2:$C$7,2,FALSE)","v":0},"Sin información"]
[5203,31,"Yucatán",11,"Documentación y material electoral","11.9",9,"Entrega a la Dirección Ejecutiva de Organización Electoral del INE, del Reporte con los resultados de las verificaciones de las medidas de seguridad en la documentación electoral","OPL","CG","2021-05-27","2021-06-11",null,null,{"$f":"VLOOKUP(P5209,Campos!$B$2:$C$7,2,FALSE)","v":0},"Sin información"]
[5204,31,"Yucatán",11,"Documentación y material electoral","11.10",10,"Supervisiones respecto de los procedimientos de impresión y producción de la documentación y materiales electorales","INE","DEOE","2021-03-15","2021-05-22",null,null,{"$f":"VLOOKUP(P5210,Campos!$B$2:$C$7,2,FALSE)","v":0},"Sin información"]
[5205,31,"Yucatán",11,"Documentación y material electoral","11.11",11,"Designación de la persona responsable de llevar el control sobre la asignación de los folios de las boletas que se distribuirán en cada mesa directiva de casilla","OPL","CG","2021-03-01","2021-03-30",null,null,{"$f":"VLOOKUP(P5211,Campos!$B$2:$C$7,2,FALSE)","v":0},"Sin información"]
[5206,31,"Yucatán",11,"Documentación y material electoral","11.12",12,"Aprobación de SE y CAE, así como de personal que auxiliará en el procedimiento de conteo, sellado y agrupamiento de las boletas electorales; así como la integración de documentación para las casillas","OPL","CG","2021-04-24","2021-05-11",null,null,{"$f":"VLOOKUP(P5212,Campos!$B$2:$C$7,2,FALSE)","v":0},"Sin información"]
[5207,31,"Yucatán",11,"Documentación y material electoral","11.13",13,"Recepción de las boletas electorales por el órgano competente que realizará el conteo, sellado y agrupamiento","OPL","CG","2021-05-18","2021-05-22",null,null,{"$f":"VLOOKUP(P5213,Campos!$B$2:$C$7,2,FALSE)","v":0},"Sin información"]
[5208,31,"Yucatán",11,"Documentación y material electoral","11.14",14,"Conteo, sellado y agrupamiento de boletas","OPL","CG","2021-05-18","2021-05-28",null,null,{"$f":"VLOOKUP(P5214,Campos!$B$2:$C$7,2,FALSE)","v":0},"Sin información"]
[5209,31,"Yucatán",11,"Documentación y material electoral","11.15",15,"Distribución de la documentación y materiales electorales a las y los Presidentes de mesas directivas de casilla","OPL","OD","2021-05-31","2021-06-04",null,null,{"$f":"VLOOKUP(P5215,Campos!$B$2:$C$7,2,FALSE)","v":0},"Sin información"]
[5210,31,"Yucatán",11,"Documentación y material electoral","11.16",16,"Remisión de los recibos de la entrega de la documentación y materiales electorales al Consejo General del OPL","INE","JLE","2021-06-24","2021-06-30",null,null,{"$f":"VLOOKUP(P5216,Campos!$B$2:$C$7,2,FALSE)","v":0},"Sin información"]
[5211,31,"Yucatán",12,"Jornada Electoral","12.1",1,"Aprobación del Programa de Operación del SIJE 2021","INE","CCOE","2020-07-01","2020-07-31",null,null,{"$f":"VLOOKUP(P5217,Campos!$B$2:$C$7,2,FALSE)","v":0},"Sin información"]
[5212,31,"Yucatán",12,"Jornada Electoral","12.2",2,"Aprobación de las metas del SIJE 2021","INE","CG","2021-03-01","2021-03-31",null,null,{"$f":"VLOOKUP(P5218,Campos!$B$2:$C$7,2,FALSE)","v":0},"Sin información"]
[5213,31,"Yucatán",12,"Jornada Electoral","12.3",3,"Realización de pruebas del SIJE 2021","INE","DEOE","2021-04-01","2021-04-15",null,null,{"$f":"VLOOKUP(P5219,Campos!$B$2:$C$7,2,FALSE)","v":0},"Sin información"]
[5214,31,"Yucatán",12,"Jornada Electoral","12.4",4,"Desarrollo del primer simulacro del SIJE","INE/OPL","DEOE/OD","2021-04-29","2021-04-29",null,null,{"$f":"VLOOKUP(P5220,Campos!$B$2:$C$7,2,FALSE)","v":0},"Sin información"]
[5215,31,"Yucatán",12,"Jornada Electoral","12.5",5,"Desarrollo del segundo simulacro del SIJE","INE/OPL","DEOE/OD","2021-05-09","2021-05-09",null,null,{"$f":"VLOOKUP(P5221,Campos!$B$2:$C$7,2,FALSE)","v":0},"Sin información"]
[5216,31,"Yucatán",12,"Jornada Electoral","12.6",6,"Desarrollo del tercer simulacro del SIJE","INE/OPL","DEOE/OD","2021-05-23","2021-05-23",null,null,{"$f":"VLOOKUP(P5222,Campos!$B$2:$C$7,2,FALSE)","v":0},"Sin información"]
[5217,31,"Yucatán",12,"Jornada Electoral","12.7",7,"Jornada Electoral","OPL","CG/OD","2021-06-06","2021-06-06",null,null,{"$f":"VLOOKUP(P5223,Campos!$B$2:$C$7,2,FALSE)","v":0},"Sin información"]
[5218,31,"Yucatán",13,"Bodegas electorales","13.1",1,"Determinación de los lugares que ocuparán las bodegas electorales para el resguardo de la documentación electoral","OPL","CG","2021-02-01","2021-02-28",null,null,{"$f":"VLOOKUP(P5224,Campos!$B$2:$C$7,2,FALSE)","v":0},"Sin información"]
[5219,31,"Yucatán",13,"Bodegas electorales","13.2",2,"Informe que rinden las y los Presidentes sobre las condiciones de equipamiento, mecanismos de operación y medidas de seguridad de las bodegas electorales","OPL","OD","2021-03-01","2021-03-31",null,null,{"$f":"VLOOKUP(P5225,Campos!$B$2:$C$7,2,FALSE)","v":0},"Sin información"]
[5220,31,"Yucatán",13,"Bodegas electorales","13.3",3,"Designación, por parte del órgano competente del OPL, del personal que tendrá acceso a la bodega electoral","OPL","CG/OD","2021-03-01","2021-03-30",null,null,{"$f":"VLOOKUP(P5226,Campos!$B$2:$C$7,2,FALSE)","v":0},"Sin información"]
[5221,31,"Yucatán",13,"Bodegas electorales","13.4",4,"Envío a la UTVOPL, por conducto de la JLE, el informe sobre las condiciones que guardan las bodegas electorales","OPL","CG","2021-04-04","2021-04-10",null,null,{"$f":"VLOOKUP(P5227,Campos!$B$2:$C$7,2,FALSE)","v":0},"Sin información"]
[5222,31,"Yucatán",14,"Mecanismos de recolección","14.1",1,"Entrega de estudios de factibilidad al OPL","INE","CL","2021-03-15","2021-03-31",null,null,{"$f":"VLOOKUP(P5228,Campos!$B$2:$C$7,2,FALSE)","v":0},"Sin información"]
[5223,31,"Yucatán",14,"Mecanismos de recolección","14.2",2,"Entrega de observaciones a los estudios de factibilidad ","OPL","CG","2021-04-01","2021-04-24",null,null,{"$f":"VLOOKUP(P5229,Campos!$B$2:$C$7,2,FALSE)","v":0},"Sin información"]
[5224,31,"Yucatán",14,"Mecanismos de recolección","14.3",3,"Recorridos para verificar las propuestas de los mecanismos de recolección","INE/OPL","CD/OD","2021-03-16","2021-04-24",null,null,{"$f":"VLOOKUP(P5230,Campos!$B$2:$C$7,2,FALSE)","v":0},"Sin información"]
[5225,31,"Yucatán",14,"Mecanismos de recolección","14.4",4,"Aprobación de los mecanismos de recolección ","INE","CD","2021-04-26","2021-04-30",null,null,{"$f":"VLOOKUP(P5231,Campos!$B$2:$C$7,2,FALSE)","v":0},"Sin información"]
[5226,31,"Yucatán",14,"Mecanismos de recolección","14.5",5,"Traslado y recolección de los paquetes electorales","INE/OPL","CD/OD","2021-06-06","2021-06-07",null,null,{"$f":"VLOOKUP(P5232,Campos!$B$2:$C$7,2,FALSE)","v":0},"Sin información"]
[5227,31,"Yucatán",14,"Mecanismos de recolección","14.6",6,"Acreditación de representantes de partidos políticos y candidaturas independientes ante los mecanismos de recolección","INE","CL/CD","2021-04-27","2021-06-03",null,null,{"$f":"VLOOKUP(P5233,Campos!$B$2:$C$7,2,FALSE)","v":0},"Sin información"]
[5228,31,"Yucatán",14,"Mecanismos de recolección","14.7",7,"Sustitución de representantes de partidos políticos y candidaturas independientes ante los mecanismos de recolección","INE","CL/CD","2021-04-28","2021-06-04",null,null,{"$f":"VLOOKUP(P5234,Campos!$B$2:$C$7,2,FALSE)","v":0},"Sin información"]
[5229,31,"Yucatán",14,"Mecanismos de recolección","14.8",8,"Entrega a la JLE, el informe sobre la recepción de paquetes electorales en los órganos competentes","OPL","CG","2021-06-06","2021-06-28",null,null,{"$f":"VLOOKUP(P5235,Campos!$B$2:$C$7,2,FALSE)","v":0},"Sin información"]
[5230,31,"Yucatán",15,"Cómputos","15.1",1,"Aprobación de los lineamientos de cómputo y del cuadernillo de consulta sobre votos válidos y votos nulos","OPL","CG","2021-01-18","2021-01-29",null,null,{"$f":"VLOOKUP(P5236,Campos!$B$2:$C$7,2,FALSE)","v":0},"Sin información"]
[5231,31,"Yucatán",15,"Cómputos","15.2",2,"Integración por parte de los Órganos Desconcentrados del OPL, de la propuesta para la habilitación de espacios para el recuento de votos con las alternativas para todos los escenarios de cómputo","OPL","OD","2021-03-01","2021-03-07",null,null,{"$f":"VLOOKUP(P5237,Campos!$B$2:$C$7,2,FALSE)","v":0},"Sin información"]
[5232,31,"Yucatán",15,"Cómputos","15.3",3,"Informe de los escenarios de cómputos de la totalidad de sus órganos desconcentrados","OPL","CG","2021-04-01","2021-04-04",null,null,{"$f":"VLOOKUP(P5238,Campos!$B$2:$C$7,2,FALSE)","v":0},"Sin información"]
[5233,31,"Yucatán",15,"Cómputos","15.4",4,"Remisión a la JLE en la entidad, las propuestas de escenarios de cómputos, para la dictaminación de viabilidad","OPL","CG","2021-05-01","2021-05-07",null,null,{"$f":"VLOOKUP(P5239,Campos!$B$2:$C$7,2,FALSE)","v":0},"Sin información"]
[5234,31,"Yucatán",15,"Cómputos","15.5",5,"Remisión de las observaciones a los escenarios de Cómputos al OPL y a su vez informar de las mismas a la UTVOPL","INE","JLE","2021-05-08","2021-05-15",null,null,{"$f":"VLOOKUP(P5240,Campos!$B$2:$C$7,2,FALSE)","v":0},"Sin información"]
[5235,31,"Yucatán",15,"Cómputos","15.6",6,"Aprobación por parte del órgano competente del OPL, del acuerdo mediante el cual se designa al personal que participará en las tareas de apoyo a los Cómputos Municipales","OPL","CG/OD","2021-04-26","2021-05-05",null,null,{"$f":"VLOOKUP(P5241,Campos!$B$2:$C$7,2,FALSE)","v":0},"Sin información"]
[5236,31,"Yucatán",15,"Cómputos","15.7",7,"Aprobación por parte del órgano competente del OPL, del acuerdo mediante el cual se designa al personal que participará en las tareas de apoyo a los Cómputos Distritales ","OPL","CG/OD","2021-04-26","2021-05-05",null,null,{"$f":"VLOOKUP(P5242,Campos!$B$2:$C$7,2,FALSE)","v":0},"Sin información"]
[5237,31,"Yucatán",15,"Cómputos","15.8",8,"Aprobación por parte de los órganos competentes del OPL, de los distintos escenarios de cómputos","OPL","OD","2021-05-08","2021-05-15",null,null,{"$f":"VLOOKUP(P5243,Campos!$B$2:$C$7,2,FALSE)","v":0},"Sin información"]
[5238,31,"Yucatán",15,"Cómputos","15.9",9,"Aprobación por parte del órgano competente del OPL, del acuerdo por el que se habilitarán espacios para la instalación de grupos de trabajo y, en su caso, puntos de recuento","OPL","CG/OD","2021-06-08","2021-06-08",null,null,{"$f":"VLOOKUP(P5244,Campos!$B$2:$C$7,2,FALSE)","v":0},"Sin información"]
[5239,31,"Yucatán",15,"Cómputos","15.10",10,"Cómputos Distritales","OPL","OD","2021-06-09","2021-06-12",null,null,{"$f":"VLOOKUP(P5245,Campos!$B$2:$C$7,2,FALSE)","v":0},"Sin información"]
[5240,31,"Yucatán",15,"Cómputos","15.14",14,"Cómputo Estatal para la asignación diputaciones de Representación Proporcional","OPL","CG","2021-06-13","2021-06-13",null,null,{"$f":"VLOOKUP(P5246,Campos!$B$2:$C$7,2,FALSE)","v":0},"Sin información"]
[5241,31,"Yucatán",15,"Cómputos","15.11",11,"Cómputos Municipales","OPL","OD","2021-06-09","2021-06-12",null,null,{"$f":"VLOOKUP(P5247,Campos!$B$2:$C$7,2,FALSE)","v":0},"Sin información"]
[5242,31,"Yucatán",15,"Cómputos","15.16",16,"Asignación de regidurías por el principio de Representación Proporcional","OPL","CG","2021-06-14","2021-06-14",null,null,{"$f":"VLOOKUP(P5248,Campos!$B$2:$C$7,2,FALSE)","v":0},"Sin información"]
[5243,31,"Yucatán",16,"PREP","16.1",1,"Aprobación del Acuerdo por el que se designa o ratifica a la instancia interna responsable de coordinar el PREP","OPL","CG","2020-09-11","2020-09-11",null,null,{"$f":"VLOOKUP(P5249,Campos!$B$2:$C$7,2,FALSE)","v":0},"Sin información"]
[5244,31,"Yucatán",16,"PREP","16.2",2,"Aprobación del Acuerdo de Integración del COTAPREP","OPL","CG","2020-11-11","2020-11-11",null,null,{"$f":"VLOOKUP(P5250,Campos!$B$2:$C$7,2,FALSE)","v":0},"Sin información"]
[5245,31,"Yucatán",16,"PREP","16.3",3,"Documento por el que se determina la implementación del PREP por el OPL o con el apoyo de un Tercero","OPL","CG","2020-12-11","2020-12-11",null,null,{"$f":"VLOOKUP(P5251,Campos!$B$2:$C$7,2,FALSE)","v":0},"Sin información"]
[5246,31,"Yucatán",16,"PREP","16.4",4,"Aprobación del acuerdo por el que se determina el Proceso Técnico Operativo ","OPL","CG","2021-01-11","2021-01-11",null,null,{"$f":"VLOOKUP(P5252,Campos!$B$2:$C$7,2,FALSE)","v":0},"Sin información"]
[5247,31,"Yucatán",16,"PREP","16.5",5,"Aprobación del Acuerdo por el que se determina la ubicación, instalación y habilitación de los CATD y, en su caso, CCV","OPL","CG","2021-02-11","2021-02-11",null,null,{"$f":"VLOOKUP(P5253,Campos!$B$2:$C$7,2,FALSE)","v":0},"Sin información"]
[5248,31,"Yucatán",16,"PREP","16.7",7,"Instrumento jurídico celebrado entre el OPL y el ente auditor","OPL","CG","2021-03-11","2021-03-11",null,null,{"$f":"VLOOKUP(P5254,Campos!$B$2:$C$7,2,FALSE)","v":0},"Sin información"]
[5249,31,"Yucatán",16,"PREP","16.6",6,"Documento de Designación del Ente Auditor ","OPL","CG","2021-02-11","2021-02-11",null,null,{"$f":"VLOOKUP(P5255,Campos!$B$2:$C$7,2,FALSE)","v":0},"Sin información"]
[5250,31,"Yucatán",16,"PREP","16.8",8,"Realización del primer simulacro del PREP","OPL","CG","2021-05-16","2021-05-16",null,null,{"$f":"VLOOKUP(P5256,Campos!$B$2:$C$7,2,FALSE)","v":0},"Sin información"]
[5251,31,"Yucatán",16,"PREP","16.9",9,"Realización del segundo simulacro del PREP","OPL","CG","2021-05-23","2021-05-23",null,null,{"$f":"VLOOKUP(P5257,Campos!$B$2:$C$7,2,FALSE)","v":0},"Sin información"]
[5252,31,"Yucatán",16,"PREP","16.10",10,"Realización del tercer simulacro del PREP","OPL","CG","2021-05-30","2021-05-30",null,null,{"$f":"VLOOKUP(P5258,Campos!$B$2:$C$7,2,FALSE)","v":0},"Sin información"]
[5253,31,"Yucatán",16,"PREP","16.11",11,"Operación del PREP","OPL","CG","2021-06-06","2021-06-07",null,null,{"$f":"VLOOKUP(P5259,Campos!$B$2:$C$7,2,FALSE)","v":0},"Sin información"]
[5254,31,"Yucatán",19,"Visitantes extranjeros","19.1",1,"Emisión de la Convocatoria para visitantes extranjeros","INE","CG","2020-08-03","2020-09-30",null,null,{"$f":"VLOOKUP(P5260,Campos!$B$2:$C$7,2,FALSE)","v":0},"Sin información"]
[5255,31,"Yucatán",19,"Visitantes extranjeros","19.2",2,"Difusión de la Convocatoria para visitantes extranjeros","INE","CAI","2020-09-01","2021-05-26",null,null,{"$f":"VLOOKUP(P5261,Campos!$B$2:$C$7,2,FALSE)","v":0},"Sin información"]
[5256,31,"Yucatán",19,"Visitantes extranjeros","19.3",3,"Recepción de solicitudes de acreditación como visitantes extranjeros","INE","CAI","2020-09-01","2021-05-26",null,null,{"$f":"VLOOKUP(P5262,Campos!$B$2:$C$7,2,FALSE)","v":0},"Sin información"]
[5257,31,"Yucatán",19,"Visitantes extranjeros","19.4",4,"Resolución de solicitudes de acreditación como visitantes extranjeros","INE","CAI","2020-09-02","2021-05-30",null,null,{"$f":"VLOOKUP(P5263,Campos!$B$2:$C$7,2,FALSE)","v":0},"Sin información"]
[5258,31,"Yucatán",19,"Visitantes extranjeros","19.5",5,"Entrega de acreditaciones a los visitantes extranjeros","INE","CAI","2020-09-04","2021-06-05",null,null,{"$f":"VLOOKUP(P5264,Campos!$B$2:$C$7,2,FALSE)","v":0},"Sin información"]
[5259,32,"Zacatecas",1,"Mecanismos de coordinación","1.1",1,"Aprobar Calendarios y Planes Integrales de los Procesos Electorales Locales","INE","CG","2020-08-01","2020-08-07",null,null,{"$f":"VLOOKUP(P5265,Campos!$B$2:$C$7,2,FALSE)","v":0},"Sin información"]
[5260,32,"Zacatecas",1,"Mecanismos de coordinación","1.2",2,"Firma del Convenio General de Coordinación y Colaboración 2020-2021","INE/OPL","INE/OPL","2020-09-01","2020-10-01",null,null,{"$f":"VLOOKUP(P5266,Campos!$B$2:$C$7,2,FALSE)","v":0},"Sin información"]
[5261,32,"Zacatecas",1,"Mecanismos de coordinación","1.3",3,"Elaborar un plan de trabajo conjunto para la promoción de la participación ciudadana","INE/OPL","INE/OPL","2020-09-01","2020-12-31",null,null,{"$f":"VLOOKUP(P5267,Campos!$B$2:$C$7,2,FALSE)","v":0},"Sin información"]
[5262,32,"Zacatecas",1,"Mecanismos de coordinación","1.4",4,"Sesión para dar inicio al PEL","OPL","CG","2020-09-07","2020-09-07",null,null,{"$f":"VLOOKUP(P5268,Campos!$B$2:$C$7,2,FALSE)","v":0},"Sin información"]
[5263,32,"Zacatecas",1,"Mecanismos de coordinación","1.5",5,"Implementar un plan de trabajo conjunto para la promoción de la participación ciudadana","INE/OPL","INE/OPL","2021-02-01","2021-06-06",null,null,{"$f":"VLOOKUP(P5269,Campos!$B$2:$C$7,2,FALSE)","v":0},"Sin información"]
[5264,32,"Zacatecas",2,"Integración de órganos desconcentrados","2.1",1,"Convocatoria para la integración de los Órganos Distritales","OPL","OD","2020-05-29","2020-05-29",null,null,{"$f":"VLOOKUP(P5270,Campos!$B$2:$C$7,2,FALSE)","v":0},"Sin información"]
[5265,32,"Zacatecas",2,"Integración de órganos desconcentrados","2.2",2,"Sesión en la que se designan e integran los Órganos Distritales ","OPL","CG","2020-12-01","2020-12-15",null,null,{"$f":"VLOOKUP(P5271,Campos!$B$2:$C$7,2,FALSE)","v":0},"Sin información"]
[5266,32,"Zacatecas",2,"Integración de órganos desconcentrados","2.3",3,"Instalación de los Órganos Distritales ","OPL","OD","2021-01-04","2021-01-10",null,null,{"$f":"VLOOKUP(P5272,Campos!$B$2:$C$7,2,FALSE)","v":0},"Sin información"]
[5267,32,"Zacatecas",2,"Integración de órganos desconcentrados","2.4",4,"Convocatoria para la integración de los Órganos Municipales ","OPL","OD","2020-05-15","2020-05-15",null,null,{"$f":"VLOOKUP(P5273,Campos!$B$2:$C$7,2,FALSE)","v":0},"Sin información"]
[5268,32,"Zacatecas",2,"Integración de órganos desconcentrados","2.5",5,"Sesión en la que se designan e integran los Órganos Municipales ","OPL","CG","2020-12-01","2020-12-15",null,null,{"$f":"VLOOKUP(P5274,Campos!$B$2:$C$7,2,FALSE)","v":0},"Sin información"]
[5269,32,"Zacatecas",2,"Integración de órganos desconcentrados","2.6",6,"Instalación de los Órganos Municipales ","OPL","OD","2021-02-01","2021-02-07",null,null,{"$f":"VLOOKUP(P5275,Campos!$B$2:$C$7,2,FALSE)","v":0},"Sin información"]
[5270,32,"Zacatecas",2,"Integración de órganos desconcentrados","2.7",7,"Designación y/o ratificación de las y los Consejeros Electorales del Consejo Local ","INE","CG","2020-10-01","2020-10-15",null,null,{"$f":"VLOOKUP(P5276,Campos!$B$2:$C$7,2,FALSE)","v":0},"Sin información"]
[5271,32,"Zacatecas",2,"Integración de órganos desconcentrados","2.8",8,"Instalación del Consejo Local","INE","CL","2020-11-01","2020-11-30",null,null,{"$f":"VLOOKUP(P5277,Campos!$B$2:$C$7,2,FALSE)","v":0},"Sin información"]
[5272,32,"Zacatecas",2,"Integración de órganos desconcentrados","2.9",9,"Designación y/o ratificación de las y los Consejeros Electorales de los Consejos Distritales ","INE","CL","2020-11-01","2020-11-30",null,null,{"$f":"VLOOKUP(P5278,Campos!$B$2:$C$7,2,FALSE)","v":0},"Sin información"]
[5273,32,"Zacatecas",2,"Integración de órganos desconcentrados","2.10",10,"Instalación de los Consejos Distritales","INE","CD","2020-12-01","2020-12-15",null,null,{"$f":"VLOOKUP(P5279,Campos!$B$2:$C$7,2,FALSE)","v":0},"Sin información"]
[5274,32,"Zacatecas",3,"Lista Nominal de Electores","3.1",1,"Generación y entrega de la Lista Nominal de Electores para Revisión en medios ópticos a los representantes de los partidos políticos, y en su caso a las candidaturas independientes acreditados ante el OPL, para observaciones","INE","DERFE","2021-02-15","2021-02-15",null,null,{"$f":"VLOOKUP(P5280,Campos!$B$2:$C$7,2,FALSE)","v":0},"Sin información"]
[5275,32,"Zacatecas",3,"Lista Nominal de Electores","3.2",2,"Recepción de observaciones de los partidos políticos y en su caso, candidatos independientes, a la Lista Nominal de Electores para revisión","INE/OPL","DERFE","2021-03-14","2021-03-14",null,null,{"$f":"VLOOKUP(P5281,Campos!$B$2:$C$7,2,FALSE)","v":0},"Sin información"]
[5276,32,"Zacatecas",3,"Lista Nominal de Electores","3.3",3,"Entrega en formato digital el informe respecto de la atención a las observaciones formuladas a la Lista Nominal de Electores para Revisión","INE","DERFE","2021-04-15","2021-04-15",null,null,{"$f":"VLOOKUP(P5282,Campos!$B$2:$C$7,2,FALSE)","v":0},"Sin información"]
[5277,32,"Zacatecas",3,"Lista Nominal de Electores","3.4",4,"Entrega de la Lista Nominal de Electores Definitiva con fotografía","INE","DERFE","2021-05-06","2021-05-14",null,null,{"$f":"VLOOKUP(P5283,Campos!$B$2:$C$7,2,FALSE)","v":0},"Sin información"]
[5278,32,"Zacatecas",3,"Lista Nominal de Electores","3.5",5,"Fecha de entrega de la Lista Nominal de Electores con fotografía Producto de Instancias Administrativas y Resoluciones del Tribunal (ADENDA)","INE","DERFE","2021-05-19","2021-05-24",null,null,{"$f":"VLOOKUP(P5284,Campos!$B$2:$C$7,2,FALSE)","v":0},"Sin información"]
[5279,32,"Zacatecas",4,"Observación Electoral","4.1",1,"Emisión de la convocatoria para la ciudadanía que desee participar en la observación electoral","OPL","CG","2020-09-07","2020-09-07",null,null,{"$f":"VLOOKUP(P5285,Campos!$B$2:$C$7,2,FALSE)","v":0},"Sin información"]
[5280,32,"Zacatecas",4,"Observación Electoral","4.2",2,"Recepción de solicitudes de la ciudadanía que desee participar en observación electoral","INE/OPL","OPL/JLE/JDE","2020-09-07","2021-04-30",null,null,{"$f":"VLOOKUP(P5286,Campos!$B$2:$C$7,2,FALSE)","v":0},"Sin información"]
[5281,32,"Zacatecas",4,"Observación Electoral","4.3",3,"Impartición de los cursos de capacitación, preparación o información","INE/OPL","OPL/JLE/JDE","2020-09-07","2021-05-17",null,null,{"$f":"VLOOKUP(P5287,Campos!$B$2:$C$7,2,FALSE)","v":0},"Sin información"]
[5282,32,"Zacatecas",4,"Observación Electoral","4.4",4,"Acreditación de la ciudadanía como observadores u observadoras electorales","INE","CL/CD","2020-09-07","2021-06-05",null,null,{"$f":"VLOOKUP(P5288,Campos!$B$2:$C$7,2,FALSE)","v":0},"Sin información"]
[5283,32,"Zacatecas",4,"Observación Electoral","4.5",5,"Seguimiento a los informes mensuales de acreditación","INE","CG","2020-09-07","2021-07-31",null,null,{"$f":"VLOOKUP(P5289,Campos!$B$2:$C$7,2,FALSE)","v":0},"Sin información"]
[5284,32,"Zacatecas",4,"Observación Electoral","4.6",6,"Remisión de materiales de capacitación a la JLE para revisión","OPL","CG","2020-10-08","2020-10-08",null,null,{"$f":"VLOOKUP(P5290,Campos!$B$2:$C$7,2,FALSE)","v":0},"Sin información"]
[5285,32,"Zacatecas",4,"Observación Electoral","4.7",7,"Revisión, corrección, verificación y validación de materiales de capacitación para observación electoral ","INE","JLE","2020-10-09","2020-10-30",null,null,{"$f":"VLOOKUP(P5291,Campos!$B$2:$C$7,2,FALSE)","v":0},"Sin información"]
[5286,32,"Zacatecas",4,"Observación Electoral","4.8",8,"Entrega de materiales de capacitación para observación electoral entre OPL e INE","INE/OPL","VEL/OPL","2020-11-01","2020-11-23",null,null,{"$f":"VLOOKUP(P5292,Campos!$B$2:$C$7,2,FALSE)","v":0},"Sin información"]
[5287,32,"Zacatecas",5,"Ubicación de casillas","5.1",1,"Recorridos por las secciones de los distritos para localizar los lugares donde se ubicarán las casillas","INE/OPL","JDE/OPL","2021-01-15","2021-02-15",null,null,{"$f":"VLOOKUP(P5293,Campos!$B$2:$C$7,2,FALSE)","v":0},"Sin información"]
[5288,32,"Zacatecas",5,"Ubicación de casillas","5.2",2,"Presentación a los Consejos Distritales del listado de lugares propuestos para ubicar casillas","INE","JDE","2021-02-24","2021-02-24",null,null,{"$f":"VLOOKUP(P5294,Campos!$B$2:$C$7,2,FALSE)","v":0},"Sin información"]
[5289,32,"Zacatecas",5,"Ubicación de casillas","5.3",3,"Visitas de examinación en los lugares propuestos para ubicar casillas básicas, contiguas, especiales y extraordinarias","INE/OPL","CD/OPL","2021-02-25","2021-03-16",null,null,{"$f":"VLOOKUP(P5295,Campos!$B$2:$C$7,2,FALSE)","v":0},"Sin información"]
[5290,32,"Zacatecas",5,"Ubicación de casillas","5.4",4,"Aprobación del número y ubicación de casillas extraordinarias y especiales","INE","CD","2021-03-16","2021-03-16",null,null,{"$f":"VLOOKUP(P5296,Campos!$B$2:$C$7,2,FALSE)","v":0},"Sin información"]
[5291,32,"Zacatecas",5,"Ubicación de casillas","5.5",5,"Aprobación del número y ubicación de casillas básicas y contiguas","INE","CD","2021-03-25","2021-03-25",null,null,{"$f":"VLOOKUP(P5297,Campos!$B$2:$C$7,2,FALSE)","v":0},"Sin información"]
[5292,32,"Zacatecas",5,"Ubicación de casillas","5.6",6,"Entrega de la base de datos de la Lista Nominal Definitiva a UNICOM con corte al 10 de abril","INE","DERFE","2021-04-15","2021-04-16",null,null,{"$f":"VLOOKUP(P5298,Campos!$B$2:$C$7,2,FALSE)","v":0},"Sin información"]
[5293,32,"Zacatecas",5,"Ubicación de casillas","5.7",7,"Realizar la primera publicación de la lista de ubicación de casillas en los lugares más concurridos del distrito electoral  y en los medios electrónicos del Instituto","INE","CD","2021-04-15","2021-04-15",null,null,{"$f":"VLOOKUP(P5299,Campos!$B$2:$C$7,2,FALSE)","v":0},"Sin información"]
[5294,32,"Zacatecas",5,"Ubicación de casillas","5.8",8,"En su caso, segunda publicación de la lista de ubicación de casillas por causas supervenientes en los lugares más concurridos del distrito y en los medios electrónicos del Instituto","INE","CD","2021-05-15","2021-05-25",null,null,{"$f":"VLOOKUP(P5300,Campos!$B$2:$C$7,2,FALSE)","v":0},"Sin información"]
[5295,32,"Zacatecas",5,"Ubicación de casillas","5.9",9,"Publicación de los encartes y difusión en medios electrónicos del Instituto","INE/OPL","DEOE/CG","2021-06-05","2021-06-06",null,null,{"$f":"VLOOKUP(P5301,Campos!$B$2:$C$7,2,FALSE)","v":0},"Sin información"]
[5296,32,"Zacatecas",5,"Ubicación de casillas","5.10",10,"Registro de representantes generales y ante mesas directivas de casilla","INE","CD","2021-04-16","2021-05-24",null,null,{"$f":"VLOOKUP(P5302,Campos!$B$2:$C$7,2,FALSE)","v":0},"Sin información"]
[5297,32,"Zacatecas",5,"Ubicación de casillas","5.11",11,"Sustitución de representantes generales y ante mesas directivas de casilla","INE","CD","2021-04-16","2021-05-27",null,null,{"$f":"VLOOKUP(P5303,Campos!$B$2:$C$7,2,FALSE)","v":0},"Sin información"]
[5298,32,"Zacatecas",5,"Ubicación de casillas","5.12",12,"Entrega de listados de representantes generales y ante casilla al OPL","INE","CD","2021-05-30","2021-05-30",null,null,{"$f":"VLOOKUP(P5304,Campos!$B$2:$C$7,2,FALSE)","v":0},"Sin información"]
[5299,32,"Zacatecas",5,"Ubicación de casillas","5.13",13,"Notificación ciudadana de ubicación de casillas en secciones electorales involucradas en la actualización del Marco Geográfico Electoral","INE/OPL","DERFE/OPL","2021-04-01","2021-06-15",null,null,{"$f":"VLOOKUP(P5305,Campos!$B$2:$C$7,2,FALSE)","v":0},"Sin información"]
[5300,32,"Zacatecas",6,"Integración de las Mesas Directivas de Casilla","6.1",1,"Aprobación de la Estrategia de Capacitación y Asistencia Electoral","INE","CG","2020-08-01","2020-08-15",null,null,{"$f":"VLOOKUP(P5306,Campos!$B$2:$C$7,2,FALSE)","v":0},"Sin información"]
[5301,32,"Zacatecas",6,"Integración de las Mesas Directivas de Casilla","6.2",2,"Entrega para revisión y validación de materiales didácticos de primera etapa","OPL","CG","2020-11-03","2020-11-03",null,null,{"$f":"VLOOKUP(P5307,Campos!$B$2:$C$7,2,FALSE)","v":0},"Sin información"]
[5302,32,"Zacatecas",6,"Integración de las Mesas Directivas de Casilla","6.3",3,"Revisión, corrección, verificación y validación de los materiales didácticos de primera etapa","INE/OPL","JLE/DECEYEC/OPL","2020-11-03","2020-12-19",null,null,{"$f":"VLOOKUP(P5308,Campos!$B$2:$C$7,2,FALSE)","v":0},"Sin información"]
[5303,32,"Zacatecas",6,"Integración de las Mesas Directivas de Casilla","6.4",4,"Entrega de los materiales impresos de la primera etapa a la JLE","OPL","OPL","2021-02-05","2021-02-05",null,null,{"$f":"VLOOKUP(P5309,Campos!$B$2:$C$7,2,FALSE)","v":0},"Sin información"]
[5304,32,"Zacatecas",6,"Integración de las Mesas Directivas de Casilla","6.5",5,"Sorteo del mes del calendario como base para la insaculación de las y los ciudadanos que integrarán las mesas directivas de casilla","INE","CG","2020-12-15","2020-12-19",null,null,{"$f":"VLOOKUP(P5310,Campos!$B$2:$C$7,2,FALSE)","v":0},"Sin información"]
[5305,32,"Zacatecas",6,"Integración de las Mesas Directivas de Casilla","6.6",6,"Entrega para revisión y validación de materiales didácticos de segunda etapa","OPL","OPL","2021-02-03","2021-02-03",null,null,{"$f":"VLOOKUP(P5311,Campos!$B$2:$C$7,2,FALSE)","v":0},"Sin información"]
[5306,32,"Zacatecas",6,"Integración de las Mesas Directivas de Casilla","6.7",7,"Revisión, corrección, verificación y validación de los materiales didácticos de la segunda etapa","INE/OPL","JLE/DECEYEC/OPL","2021-02-03","2021-03-22",null,null,{"$f":"VLOOKUP(P5312,Campos!$B$2:$C$7,2,FALSE)","v":0},"Sin información"]
[5307,32,"Zacatecas",6,"Integración de las Mesas Directivas de Casilla","6.8",8,"Entrega de los materiales impresos de la segunda etapa a la JLE","OPL","OPL","2021-04-05","2021-04-05",null,null,{"$f":"VLOOKUP(P5313,Campos!$B$2:$C$7,2,FALSE)","v":0},"Sin información"]
[5308,32,"Zacatecas",6,"Integración de las Mesas Directivas de Casilla","6.9",9,"Sorteo de la letra a partir de la cual, con base en el apellido paterno, se seleccionará a las y los ciudadanos que integrarán las mesas directivas de casilla","INE","CG","2021-02-02","2021-02-02",null,null,{"$f":"VLOOKUP(P5314,Campos!$B$2:$C$7,2,FALSE)","v":0},"Sin información"]
[5309,32,"Zacatecas",6,"Integración de las Mesas Directivas de Casilla","6.10",10,"Entrega de la Lista Nominal de Electores para el Procedimiento de la Primera insaculación con corte al 15 de enero de 2021.","INE","DERFE/UNICOM","2021-01-21","2021-01-26",null,null,{"$f":"VLOOKUP(P5315,Campos!$B$2:$C$7,2,FALSE)","v":0},"Sin información"]
[5310,32,"Zacatecas",6,"Integración de las Mesas Directivas de Casilla","6.11",11,"Primera insaculación","INE","JDE","2021-02-06","2021-02-06",null,null,{"$f":"VLOOKUP(P5316,Campos!$B$2:$C$7,2,FALSE)","v":0},"Sin información"]
[5311,32,"Zacatecas",6,"Integración de las Mesas Directivas de Casilla","6.12",12,"Primera etapa de capacitación a las personas insaculadas","INE","CD","2021-02-09","2021-03-31",null,null,{"$f":"VLOOKUP(P5317,Campos!$B$2:$C$7,2,FALSE)","v":0},"Sin información"]
[5312,32,"Zacatecas",6,"Integración de las Mesas Directivas de Casilla","6.13",13,"Integración de la lista de ciudadanos y ciudadanas que cumplen los requisitos legales para integrar las mesas directivas de casilla","INE","CD","2021-02-09","2021-03-31",null,null,{"$f":"VLOOKUP(P5318,Campos!$B$2:$C$7,2,FALSE)","v":0},"Sin información"]
[5313,32,"Zacatecas",6,"Integración de las Mesas Directivas de Casilla","6.14",14,"Segunda insaculación y designación de funcionarios para mesas directivas de casilla","INE","CD","2021-04-08","2021-04-08",null,null,{"$f":"VLOOKUP(P5319,Campos!$B$2:$C$7,2,FALSE)","v":0},"Sin información"]
[5314,32,"Zacatecas",6,"Integración de las Mesas Directivas de Casilla","6.15",15,"Segunda etapa de capacitación a funcionarios de mesa directiva de casilla y simulacros","INE","CD","2021-04-18","2021-06-05",null,null,{"$f":"VLOOKUP(P5320,Campos!$B$2:$C$7,2,FALSE)","v":0},"Sin información"]
[5315,32,"Zacatecas",6,"Integración de las Mesas Directivas de Casilla","6.16",16,"Entrega de reconocimientos a funcionarios de mesas directivas de casilla","INE","CD","2021-06-07","2021-06-12",null,null,{"$f":"VLOOKUP(P5321,Campos!$B$2:$C$7,2,FALSE)","v":0},"Sin información"]
[5316,32,"Zacatecas",6,"Integración de las Mesas Directivas de Casilla","6.17",17,"Periodo para contratación de CAE locales","INE/OPL","INE/OPL","Por definir","Por definir",null,null,{"$f":"VLOOKUP(P5322,Campos!$B$2:$C$7,2,FALSE)","v":0},"Sin información"]
[5317,32,"Zacatecas",6,"Integración de las Mesas Directivas de Casilla","6.18",18,"Reclutamiento y selección de CAE locales","INE/OPL","INE/OPL","Por definir","Por definir",null,null,{"$f":"VLOOKUP(P5323,Campos!$B$2:$C$7,2,FALSE)","v":0},"Sin información"]
[5318,32,"Zacatecas",7,"Fiscalización de los recursos de los Partidos Políticos y candidaturas independientes","7.1",1,"Aprobación de topes de gastos de precampaña Gubernatura","OPL","CG","2020-10-01","2020-10-31",null,null,{"$f":"VLOOKUP(P5324,Campos!$B$2:$C$7,2,FALSE)","v":0},"Sin información"]
[5319,32,"Zacatecas",7,"Fiscalización de los recursos de los Partidos Políticos y candidaturas independientes","7.2",2,"Aprobación de topes de gastos de precampaña Diputaciones","OPL","CG","2020-10-01","2020-10-31",null,null,{"$f":"VLOOKUP(P5325,Campos!$B$2:$C$7,2,FALSE)","v":0},"Sin información"]
[5320,32,"Zacatecas",7,"Fiscalización de los recursos de los Partidos Políticos y candidaturas independientes","7.3",3,"Aprobación de topes de gastos de precampaña Ayuntamientos","OPL","CG","2020-10-01","2020-10-31",null,null,{"$f":"VLOOKUP(P5326,Campos!$B$2:$C$7,2,FALSE)","v":0},"Sin información"]
[5321,32,"Zacatecas",7,"Fiscalización de los recursos de los Partidos Políticos y candidaturas independientes","7.4",4,"Aprobación de los límites de financiamiento privado, aportaciones de militantes, simpatizantes y precandidatos o candidatos; así como el límite individual de aportaciones para Gubernatura","OPL","CG","2020-10-01","2020-10-31",null,null,{"$f":"VLOOKUP(P5327,Campos!$B$2:$C$7,2,FALSE)","v":0},"Sin información"]
[5322,32,"Zacatecas",7,"Fiscalización de los recursos de los Partidos Políticos y candidaturas independientes","7.5",5,"Aprobación de los límites de financiamiento privado, aportaciones de militantes, simpatizantes y precandidatos o candidatos; así como el límite individual de aportaciones para Diputaciones","OPL","CG","2020-10-01","2020-10-31",null,null,{"$f":"VLOOKUP(P5328,Campos!$B$2:$C$7,2,FALSE)","v":0},"Sin información"]
[5323,32,"Zacatecas",7,"Fiscalización de los recursos de los Partidos Políticos y candidaturas independientes","7.6",6,"Aprobación de los límites de financiamiento privado, aportaciones de militantes, simpatizantes y precandidatos o candidatos; así como el límite individual de aportaciones para Ayuntamientos","OPL","CG","2020-10-01","2020-10-31",null,null,{"$f":"VLOOKUP(P5329,Campos!$B$2:$C$7,2,FALSE)","v":0},"Sin información"]
[5324,32,"Zacatecas",7,"Fiscalización de los recursos de los Partidos Políticos y candidaturas independientes","7.7",7,"Aprobación de topes de gastos para el periodo de obtención del apoyo ciudadano para Gubernatura","OPL","CG","2020-10-01","2020-10-31",null,null,{"$f":"VLOOKUP(P5330,Campos!$B$2:$C$7,2,FALSE)","v":0},"Sin información"]
[5325,32,"Zacatecas",7,"Fiscalización de los recursos de los Partidos Políticos y candidaturas independientes","7.8",8,"Aprobación de topes de gastos para el periodo de obtención del apoyo ciudadano para Diputaciones","OPL","CG","2020-10-01","2020-10-31",null,null,{"$f":"VLOOKUP(P5331,Campos!$B$2:$C$7,2,FALSE)","v":0},"Sin información"]
[5326,32,"Zacatecas",7,"Fiscalización de los recursos de los Partidos Políticos y candidaturas independientes","7.9",9,"Aprobación de topes de gastos para el periodo de obtención del apoyo ciudadano para Ayuntamientos","OPL","CG","2020-10-01","2020-10-31",null,null,{"$f":"VLOOKUP(P5332,Campos!$B$2:$C$7,2,FALSE)","v":0},"Sin información"]
[5327,32,"Zacatecas",7,"Fiscalización de los recursos de los Partidos Políticos y candidaturas independientes","7.10",10,"Precampaña para Gubernatura","OPL","CG","2021-01-02","2021-02-10",null,null,{"$f":"VLOOKUP(P5333,Campos!$B$2:$C$7,2,FALSE)","v":0},"Sin información"]
[5328,32,"Zacatecas",7,"Fiscalización de los recursos de los Partidos Políticos y candidaturas independientes","7.11",11,"Precampaña para Diputaciones","OPL","CG","2021-01-02","2021-02-10",null,null,{"$f":"VLOOKUP(P5334,Campos!$B$2:$C$7,2,FALSE)","v":0},"Sin información"]
[5329,32,"Zacatecas",7,"Fiscalización de los recursos de los Partidos Políticos y candidaturas independientes","7.12",12,"Precampaña para Ayuntamientos","OPL","CG","2021-01-02","2021-02-10",null,null,{"$f":"VLOOKUP(P5335,Campos!$B$2:$C$7,2,FALSE)","v":0},"Sin información"]
[5330,32,"Zacatecas",7,"Fiscalización de los recursos de los Partidos Políticos y candidaturas independientes","7.13",13,"Aprobación de topes de gastos de campaña para Gubernatura","OPL","CG","2020-11-01","2020-11-30",null,null,{"$f":"VLOOKUP(P5336,Campos!$B$2:$C$7,2,FALSE)","v":0},"Sin información"]
[5331,32,"Zacatecas",7,"Fiscalización de los recursos de los Partidos Políticos y candidaturas independientes","7.14",14,"Aprobación de topes de gastos de campaña para Diputaciones","OPL","CG","2020-11-01","2021-11-30",null,null,{"$f":"VLOOKUP(P5337,Campos!$B$2:$C$7,2,FALSE)","v":0},"Sin información"]
[5332,32,"Zacatecas",7,"Fiscalización de los recursos de los Partidos Políticos y candidaturas independientes","7.15",15,"Aprobación de topes de gastos de campaña para Ayuntamientos","OPL","CG","2020-11-01","2020-11-30",null,null,{"$f":"VLOOKUP(P5338,Campos!$B$2:$C$7,2,FALSE)","v":0},"Sin información"]
[5333,32,"Zacatecas",7,"Fiscalización de los recursos de los Partidos Políticos y candidaturas independientes","7.16",16,"Campaña para Gubernatura","OPL","CG","2021-04-04","2021-06-02",null,null,{"$f":"VLOOKUP(P5339,Campos!$B$2:$C$7,2,FALSE)","v":0},"Sin información"]
[5334,32,"Zacatecas",7,"Fiscalización de los recursos de los Partidos Políticos y candidaturas independientes","7.17",17,"Campaña para Diputaciones","OPL","CG","2021-04-04","2021-06-02",null,null,{"$f":"VLOOKUP(P5340,Campos!$B$2:$C$7,2,FALSE)","v":0},"Sin información"]
[5335,32,"Zacatecas",7,"Fiscalización de los recursos de los Partidos Políticos y candidaturas independientes","7.18",18,"Campaña para Ayuntamientos","OPL","CG","2021-04-04","2021-06-02",null,null,{"$f":"VLOOKUP(P5341,Campos!$B$2:$C$7,2,FALSE)","v":0},"Sin información"]
[5336,32,"Zacatecas",7,"Fiscalización de los recursos de los Partidos Políticos y candidaturas independientes","7.19",19,"Aprobación de la distribución de financiamiento público para partidos políticos","OPL","CG","2021-01-01","2021-01-15",null,null,{"$f":"VLOOKUP(P5342,Campos!$B$2:$C$7,2,FALSE)","v":0},"Sin información"]
[5337,32,"Zacatecas",8,"Candidaturas Independientes","8.1",1,"Emisión de la convocatoria para la ciudadanía interesada en participar en Candidaturas Independientes ","OPL","CG","2020-10-01","2020-11-30",null,null,{"$f":"VLOOKUP(P5343,Campos!$B$2:$C$7,2,FALSE)","v":0},"Sin información"]
[5338,32,"Zacatecas",8,"Candidaturas Independientes","8.2",2,"Recepción de escrito de intención y documentación anexa de la ciudadanía que aspire a la candidatura independiente para Gubernatura","OPL","CG/OD","2020-11-30","2021-01-02",null,null,{"$f":"VLOOKUP(P5344,Campos!$B$2:$C$7,2,FALSE)","v":0},"Sin información"]
[5339,32,"Zacatecas",8,"Candidaturas Independientes","8.3",3,"Recepción de escrito de intención y documentación anexa de la ciudadanía que aspire a la candidatura independiente para Diputaciones","OPL","CG/OD","2020-11-30","2021-01-02",null,null,{"$f":"VLOOKUP(P5345,Campos!$B$2:$C$7,2,FALSE)","v":0},"Sin información"]
[5340,32,"Zacatecas",8,"Candidaturas Independientes","8.4",4,"Recepción de escrito de intención y documentación anexa de la ciudadanía que aspire a la candidatura independiente para Ayuntamientos","OPL","CG/OD","2020-11-30","2021-01-02",null,null,{"$f":"VLOOKUP(P5346,Campos!$B$2:$C$7,2,FALSE)","v":0},"Sin información"]
[5341,32,"Zacatecas",8,"Candidaturas Independientes","8.5",5,"Resolución sobre procedencia de manifestación de intención de aspirantes a candidaturas independientes para Gubernatura","OPL","CG","2020-12-02","2021-01-07",null,null,{"$f":"VLOOKUP(P5347,Campos!$B$2:$C$7,2,FALSE)","v":0},"Sin información"]
[5342,32,"Zacatecas",8,"Candidaturas Independientes","8.6",6,"Resolución sobre procedencia de manifestación de intención de aspirantes a candidaturas independientes para Diputaciones","OPL","CG","2020-12-02","2021-01-07",null,null,{"$f":"VLOOKUP(P5348,Campos!$B$2:$C$7,2,FALSE)","v":0},"Sin información"]
[5343,32,"Zacatecas",8,"Candidaturas Independientes","8.7",7,"Resolución sobre procedencia de manifestación de intención de aspirantes a candidaturas independientes para Ayuntamientos","OPL","CG","2020-12-02","2021-01-07",null,null,{"$f":"VLOOKUP(P5349,Campos!$B$2:$C$7,2,FALSE)","v":0},"Sin información"]
[5344,32,"Zacatecas",8,"Candidaturas Independientes","8.8",8,"Plazo para obtener el apoyo ciudadano de las candidaturas independientes para Gubernatura","OPL","OD","2021-01-02","2021-02-10",null,null,{"$f":"VLOOKUP(P5350,Campos!$B$2:$C$7,2,FALSE)","v":0},"Sin información"]
[5345,32,"Zacatecas",8,"Candidaturas Independientes","8.9",9,"Plazo para obtener el apoyo ciudadano de las candidaturas independientes para Diputaciones","OPL","OD","2021-01-02","2021-02-10",null,null,{"$f":"VLOOKUP(P5351,Campos!$B$2:$C$7,2,FALSE)","v":0},"Sin información"]
[5346,32,"Zacatecas",8,"Candidaturas Independientes","8.10",10,"Plazo para obtener el apoyo ciudadano de las candidaturas independientes para Ayuntamientos","OPL","OD","2021-01-02","2021-02-10",null,null,{"$f":"VLOOKUP(P5352,Campos!$B$2:$C$7,2,FALSE)","v":0},"Sin información"]
[5347,32,"Zacatecas",8,"Candidaturas Independientes","8.11",11,"Plazo para otorgar las constancias de porcentaje a favor de aspirantes a la candidatura independiente para Gubernatura","OPL","CG","2021-02-11","2021-02-25",null,null,{"$f":"VLOOKUP(P5353,Campos!$B$2:$C$7,2,FALSE)","v":0},"Sin información"]
[5348,32,"Zacatecas",8,"Candidaturas Independientes","8.12",12,"Plazo para otorgar las constancias de porcentaje a favor de aspirantes a la candidatura independiente para Diputaciones","OPL","CG","2021-02-11","2021-02-25",null,null,{"$f":"VLOOKUP(P5354,Campos!$B$2:$C$7,2,FALSE)","v":0},"Sin información"]
[5349,32,"Zacatecas",8,"Candidaturas Independientes","8.13",13,"Plazo para otorgar las constancias de porcentaje a favor de aspirantes a la candidatura independiente para Ayuntamientos","OPL","CG","2021-02-11","2021-02-25",null,null,{"$f":"VLOOKUP(P5355,Campos!$B$2:$C$7,2,FALSE)","v":0},"Sin información"]
[5350,32,"Zacatecas",9,"Candidaturas","9.1",1,"Registro de plataformas electorales","OPL","CG","2021-01-01","2021-01-15",null,null,{"$f":"VLOOKUP(P5356,Campos!$B$2:$C$7,2,FALSE)","v":0},"Sin información"]
[5351,32,"Zacatecas",9,"Candidaturas","9.2",2,"Solicitud de registro de convenio de coalición para Gubernatura","OPL","CG","2020-09-07","2021-01-02",null,null,{"$f":"VLOOKUP(P5357,Campos!$B$2:$C$7,2,FALSE)","v":0},"Sin información"]
[5352,32,"Zacatecas",9,"Candidaturas","9.3",3,"Solicitud de registro de convenio de coalición para Diputaciones","OPL","CG","2020-09-07","2021-01-02",null,null,{"$f":"VLOOKUP(P5358,Campos!$B$2:$C$7,2,FALSE)","v":0},"Sin información"]
[5353,32,"Zacatecas",9,"Candidaturas","9.4",4,"Solicitud de registro de convenio de coalición para Ayuntamientos","OPL","CG","2020-09-07","2021-01-02",null,null,{"$f":"VLOOKUP(P5359,Campos!$B$2:$C$7,2,FALSE)","v":0},"Sin información"]
[5354,32,"Zacatecas",9,"Candidaturas","9.5",5,"Resolución sobre Convenio de Coalición para Gubernatura","OPL","CG","2020-09-17","2021-01-12",null,null,{"$f":"VLOOKUP(P5360,Campos!$B$2:$C$7,2,FALSE)","v":0},"Sin información"]
[5355,32,"Zacatecas",9,"Candidaturas","9.6",6,"Resolución sobre Convenio de Coalición para Diputaciones","OPL","CG","2020-09-17","2021-01-12",null,null,{"$f":"VLOOKUP(P5361,Campos!$B$2:$C$7,2,FALSE)","v":0},"Sin información"]
[5356,32,"Zacatecas",9,"Candidaturas","9.7",7,"Resolución sobre Convenio de Coalición para Ayuntamientos","OPL","CG","2020-09-17","2021-01-12",null,null,{"$f":"VLOOKUP(P5362,Campos!$B$2:$C$7,2,FALSE)","v":0},"Sin información"]
[5357,32,"Zacatecas",9,"Candidaturas","9.8",8,"Solicitud de registro de Candidaturas para Gubernatura","OPL","CG/OD","2021-02-26","2021-03-12",null,null,{"$f":"VLOOKUP(P5363,Campos!$B$2:$C$7,2,FALSE)","v":0},"Sin información"]
[5358,32,"Zacatecas",9,"Candidaturas","9.9",9,"Solicitud de registro de Candidaturas para Diputaciones","OPL","CG/OD","2021-02-26","2021-03-12",null,null,{"$f":"VLOOKUP(P5364,Campos!$B$2:$C$7,2,FALSE)","v":0},"Sin información"]
[5359,32,"Zacatecas",9,"Candidaturas","9.11",11,"Solicitud de registro de Candidaturas para Ayuntamientos","OPL","CG/OD","2021-02-26","2021-03-12",null,null,{"$f":"VLOOKUP(P5365,Campos!$B$2:$C$7,2,FALSE)","v":0},"Sin información"]
[5360,32,"Zacatecas",9,"Candidaturas","9.13",13,"Resolución para aprobar las candidaturas para Gubernatura","OPL","CG","2021-04-02","2021-04-03",null,null,{"$f":"VLOOKUP(P5366,Campos!$B$2:$C$7,2,FALSE)","v":0},"Sin información"]
[5361,32,"Zacatecas",9,"Candidaturas","9.14",14,"Resolución para aprobar las candidaturas para Diputaciones","OPL","CG","2021-04-02","2021-04-03",null,null,{"$f":"VLOOKUP(P5367,Campos!$B$2:$C$7,2,FALSE)","v":0},"Sin información"]
[5362,32,"Zacatecas",9,"Candidaturas","9.16",16,"Resolución para aprobar las candidaturas para Ayuntamientos","OPL","CG/OD","2021-04-02","2021-04-03",null,null,{"$f":"VLOOKUP(P5368,Campos!$B$2:$C$7,2,FALSE)","v":0},"Sin información"]
[5363,32,"Zacatecas",10,"Debates","10.1",1,"Aprobación de las fechas en que se celebrarán los debates","OPL","CG","2021-03-25","2021-04-13",null,null,{"$f":"VLOOKUP(P5369,Campos!$B$2:$C$7,2,FALSE)","v":0},"Sin información"]
[5364,32,"Zacatecas",10,"Debates","10.2",2,"Realización de debate(s)","OPL","CG","2021-04-04","2021-06-02",null,null,{"$f":"VLOOKUP(P5370,Campos!$B$2:$C$7,2,FALSE)","v":0},"Sin información"]
[5365,32,"Zacatecas",11,"Documentación y material electoral","11.1",1,"Entrega a la Junta Local Ejecutiva del INE, de los diseños y especificaciones técnicas de la documentación y materiales electorales, en medios impresos y electrónicos","OPL","CG","2020-09-01","2020-09-30",null,null,{"$f":"VLOOKUP(P5371,Campos!$B$2:$C$7,2,FALSE)","v":0},"Sin información"]
[5366,32,"Zacatecas",11,"Documentación y material electoral","11.2",2,"Revisión de los documentos y materiales electorales y especificaciones técnicas, presentadas por el OPL","INE","JLE","2020-09-15","2020-12-16",null,null,{"$f":"VLOOKUP(P5372,Campos!$B$2:$C$7,2,FALSE)","v":0},"Sin información"]
[5367,32,"Zacatecas",11,"Documentación y material electoral","11.3",3,"En su caso, atención y presentación, de los cambios pertinentes, conforme a las observaciones emitidas por la Junta Local Ejecutiva del INE","OPL","CG","2020-09-15","2020-12-16",null,null,{"$f":"VLOOKUP(P5373,Campos!$B$2:$C$7,2,FALSE)","v":0},"Sin información"]
[5368,32,"Zacatecas",11,"Documentación y material electoral","11.4",4,"Validación de los documentos y materiales electorales y especificaciones técnicas, con las observaciones subsanadas","INE","DEOE","2020-10-28","2020-12-18",null,null,{"$f":"VLOOKUP(P5374,Campos!$B$2:$C$7,2,FALSE)","v":0},"Sin información"]
[5369,32,"Zacatecas",11,"Documentación y material electoral","11.5",5,"Entrega a la Dirección Ejecutiva de Organización Electoral del INE, del Reporte único sobre la aprobación y adjudicación de los documentos y materiales electorales del OPL, en medios electrónicos","OPL","CG","2021-02-01","2021-02-26",null,null,{"$f":"VLOOKUP(P5375,Campos!$B$2:$C$7,2,FALSE)","v":0},"Sin información"]
[5370,32,"Zacatecas",11,"Documentación y material electoral","11.6",6,"Revisión y en su caso validación, del Reporte único sobre la aprobación y adjudicación de los documentos y materiales electorales del OPL, en medios electrónicos","INE","DEOE","2021-02-15","2021-03-12",null,null,{"$f":"VLOOKUP(P5376,Campos!$B$2:$C$7,2,FALSE)","v":0},"Sin información"]
[5371,32,"Zacatecas",11,"Documentación y material electoral","11.7",7,"Entrega  a la Dirección Ejecutiva de Organización Electoral del INE, del Reporte semanal sobre el avance en la producción de los documentos y materiales electorales del OPL, en medios electrónicos.","OPL","CG","2021-03-15","2021-05-22",null,null,{"$f":"VLOOKUP(P5377,Campos!$B$2:$C$7,2,FALSE)","v":0},"Sin información"]
[5372,32,"Zacatecas",11,"Documentación y material electoral","11.8",8,"Aprobación de la documentación y material electoral","OPL","CG","2020-11-11","2020-12-31",null,null,{"$f":"VLOOKUP(P5378,Campos!$B$2:$C$7,2,FALSE)","v":0},"Sin información"]
[5373,32,"Zacatecas",11,"Documentación y material electoral","11.9",9,"Entrega a la Dirección Ejecutiva de Organización Electoral del INE, del Reporte con los resultados de las verificaciones de las medidas de seguridad en la documentación electoral","OPL","CG","2021-05-27","2021-06-11",null,null,{"$f":"VLOOKUP(P5379,Campos!$B$2:$C$7,2,FALSE)","v":0},"Sin información"]
[5374,32,"Zacatecas",11,"Documentación y material electoral","11.10",10,"Supervisiones respecto de los procedimientos de impresión y producción de la documentación y materiales electorales","INE","DEOE","2021-03-15","2021-05-22",null,null,{"$f":"VLOOKUP(P5380,Campos!$B$2:$C$7,2,FALSE)","v":0},"Sin información"]
[5375,32,"Zacatecas",11,"Documentación y material electoral","11.11",11,"Designación de la persona responsable de llevar el control sobre la asignación de los folios de las boletas que se distribuirán en cada mesa directiva de casilla","OPL","CG","2021-03-01","2021-03-30",null,null,{"$f":"VLOOKUP(P5381,Campos!$B$2:$C$7,2,FALSE)","v":0},"Sin información"]
[5376,32,"Zacatecas",11,"Documentación y material electoral","11.12",12,"Aprobación de SE y CAE, así como de personal que auxiliará en el procedimiento de conteo, sellado y agrupamiento de las boletas electorales; así como la integración de documentación para las casillas","OPL","CG","2021-04-24","2021-05-11",null,null,{"$f":"VLOOKUP(P5382,Campos!$B$2:$C$7,2,FALSE)","v":0},"Sin información"]
[5377,32,"Zacatecas",11,"Documentación y material electoral","11.13",13,"Recepción de las boletas electorales por el órgano competente que realizará el conteo, sellado y agrupamiento","OPL","CG","2021-05-18","2021-05-22",null,null,{"$f":"VLOOKUP(P5383,Campos!$B$2:$C$7,2,FALSE)","v":0},"Sin información"]
[5378,32,"Zacatecas",11,"Documentación y material electoral","11.14",14,"Conteo, sellado y agrupamiento de boletas","OPL","CG","2021-05-18","2021-05-28",null,null,{"$f":"VLOOKUP(P5384,Campos!$B$2:$C$7,2,FALSE)","v":0},"Sin información"]
[5379,32,"Zacatecas",11,"Documentación y material electoral","11.15",15,"Distribución de la documentación y materiales electorales a las y los Presidentes de mesas directivas de casilla","OPL","OD","2021-05-31","2021-06-04",null,null,{"$f":"VLOOKUP(P5385,Campos!$B$2:$C$7,2,FALSE)","v":0},"Sin información"]
[5380,32,"Zacatecas",11,"Documentación y material electoral","11.16",16,"Remisión de los recibos de la entrega de la documentación y materiales electorales al Consejo General del OPL","INE","JLE","2021-06-24","2021-06-30",null,null,{"$f":"VLOOKUP(P5386,Campos!$B$2:$C$7,2,FALSE)","v":0},"Sin información"]
[5381,32,"Zacatecas",12,"Jornada Electoral","12.1",1,"Aprobación del Programa de Operación del SIJE 2021","INE","CCOE","2020-07-01","2020-07-31",null,null,{"$f":"VLOOKUP(P5387,Campos!$B$2:$C$7,2,FALSE)","v":0},"Sin información"]
[5382,32,"Zacatecas",12,"Jornada Electoral","12.2",2,"Aprobación de las metas del SIJE 2021","INE","CG","2021-03-01","2021-03-31",null,null,{"$f":"VLOOKUP(P5388,Campos!$B$2:$C$7,2,FALSE)","v":0},"Sin información"]
[5383,32,"Zacatecas",12,"Jornada Electoral","12.3",3,"Realización de pruebas del SIJE 2021","INE","DEOE","2021-04-01","2021-04-15",null,null,{"$f":"VLOOKUP(P5389,Campos!$B$2:$C$7,2,FALSE)","v":0},"Sin información"]
[5384,32,"Zacatecas",12,"Jornada Electoral","12.4",4,"Desarrollo del primer simulacro del SIJE","INE/OPL","DEOE/OD","2021-04-29","2021-04-29",null,null,{"$f":"VLOOKUP(P5390,Campos!$B$2:$C$7,2,FALSE)","v":0},"Sin información"]
[5385,32,"Zacatecas",12,"Jornada Electoral","12.5",5,"Desarrollo del segundo simulacro del SIJE","INE/OPL","DEOE/OD","2021-05-09","2021-05-09",null,null,{"$f":"VLOOKUP(P5391,Campos!$B$2:$C$7,2,FALSE)","v":0},"Sin información"]
[5386,32,"Zacatecas",12,"Jornada Electoral","12.6",6,"Desarrollo del tercer simulacro del SIJE","INE/OPL","DEOE/OD","2021-05-23","2021-05-23",null,null,{"$f":"VLOOKUP(P5392,Campos!$B$2:$C$7,2,FALSE)","v":0},"Sin información"]
[5387,32,"Zacatecas",12,"Jornada Electoral","12.7",7,"Jornada Electoral","OPL","CG/OD","2021-06-06","2021-06-06",null,null,{"$f":"VLOOKUP(P5393,Campos!$B$2:$C$7,2,FALSE)","v":0},"Sin información"]
[5388,32,"Zacatecas",13,"Bodegas electorales","13.1",1,"Determinación de los lugares que ocuparán las bodegas electorales para el resguardo de la documentación electoral","OPL","CG","2021-02-01","2021-02-28",null,null,{"$f":"VLOOKUP(P5394,Campos!$B$2:$C$7,2,FALSE)","v":0},"Sin información"]
[5389,32,"Zacatecas",13,"Bodegas electorales","13.2",2,"Informe que rinden las y los Presidentes sobre las condiciones de equipamiento, mecanismos de operación y medidas de seguridad de las bodegas electorales","OPL","OD","2021-03-01","2021-03-31",null,null,{"$f":"VLOOKUP(P5395,Campos!$B$2:$C$7,2,FALSE)","v":0},"Sin información"]
[5390,32,"Zacatecas",13,"Bodegas electorales","13.3",3,"Designación, por parte del órgano competente del OPL, del personal que tendrá acceso a la bodega electoral","OPL","CG/OD","2021-03-01","2021-03-30",null,null,{"$f":"VLOOKUP(P5396,Campos!$B$2:$C$7,2,FALSE)","v":0},"Sin información"]
[5391,32,"Zacatecas",13,"Bodegas electorales","13.4",4,"Envío a la UTVOPL, por conducto de la JLE, el informe sobre las condiciones que guardan las bodegas electorales","OPL","CG","2021-04-04","2021-04-10",null,null,{"$f":"VLOOKUP(P5397,Campos!$B$2:$C$7,2,FALSE)","v":0},"Sin información"]
[5392,32,"Zacatecas",14,"Mecanismos de recolección","14.1",1,"Entrega de estudios de factibilidad al OPL","INE","CL","2021-03-15","2021-03-31",null,null,{"$f":"VLOOKUP(P5398,Campos!$B$2:$C$7,2,FALSE)","v":0},"Sin información"]
[5393,32,"Zacatecas",14,"Mecanismos de recolección","14.2",2,"Entrega de observaciones a los estudios de factibilidad ","OPL","CG","2021-04-01","2021-04-24",null,null,{"$f":"VLOOKUP(P5399,Campos!$B$2:$C$7,2,FALSE)","v":0},"Sin información"]
[5394,32,"Zacatecas",14,"Mecanismos de recolección","14.3",3,"Recorridos para verificar las propuestas de los mecanismos de recolección","INE/OPL","CD/OD","2021-03-16","2021-04-24",null,null,{"$f":"VLOOKUP(P5400,Campos!$B$2:$C$7,2,FALSE)","v":0},"Sin información"]
[5395,32,"Zacatecas",14,"Mecanismos de recolección","14.4",4,"Aprobación de los mecanismos de recolección ","INE","CD","2021-04-26","2021-04-30",null,null,{"$f":"VLOOKUP(P5401,Campos!$B$2:$C$7,2,FALSE)","v":0},"Sin información"]
[5396,32,"Zacatecas",14,"Mecanismos de recolección","14.5",5,"Traslado y recolección de los paquetes electorales","INE/OPL","CD/OD","2021-06-06","2021-06-07",null,null,{"$f":"VLOOKUP(P5402,Campos!$B$2:$C$7,2,FALSE)","v":0},"Sin información"]
[5397,32,"Zacatecas",14,"Mecanismos de recolección","14.6",6,"Acreditación de representantes de partidos políticos y candidaturas independientes ante los mecanismos de recolección","INE","CL/CD","2021-04-27","2021-06-03",null,null,{"$f":"VLOOKUP(P5403,Campos!$B$2:$C$7,2,FALSE)","v":0},"Sin información"]
[5398,32,"Zacatecas",14,"Mecanismos de recolección","14.7",7,"Sustitución de representantes de partidos políticos y candidaturas independientes ante los mecanismos de recolección","INE","CL/CD","2021-04-28","2021-06-04",null,null,{"$f":"VLOOKUP(P5404,Campos!$B$2:$C$7,2,FALSE)","v":0},"Sin información"]
[5399,32,"Zacatecas",14,"Mecanismos de recolección","14.8",8,"Entrega a la JLE, el informe sobre la recepción de paquetes electorales en los órganos competentes","OPL","CG","2021-06-06","2021-06-28",null,null,{"$f":"VLOOKUP(P5405,Campos!$B$2:$C$7,2,FALSE)","v":0},"Sin información"]
[5400,32,"Zacatecas",15,"Cómputos","15.1",1,"Aprobación de los lineamientos de cómputo y del cuadernillo de consulta sobre votos válidos y votos nulos","OPL","CG","2021-01-18","2021-01-29",null,null,{"$f":"VLOOKUP(P5406,Campos!$B$2:$C$7,2,FALSE)","v":0},"Sin información"]
[5401,32,"Zacatecas",15,"Cómputos","15.2",2,"Integración por parte de los Órganos Desconcentrados del OPL, de la propuesta para la habilitación de espacios para el recuento de votos con las alternativas para todos los escenarios de cómputo","OPL","OD","2021-03-01","2021-03-07",null,null,{"$f":"VLOOKUP(P5407,Campos!$B$2:$C$7,2,FALSE)","v":0},"Sin información"]
[5402,32,"Zacatecas",15,"Cómputos","15.3",3,"Informe de los escenarios de cómputos de la totalidad de sus órganos desconcentrados","OPL","CG","2021-04-01","2021-04-04",null,null,{"$f":"VLOOKUP(P5408,Campos!$B$2:$C$7,2,FALSE)","v":0},"Sin información"]
[5403,32,"Zacatecas",15,"Cómputos","15.4",4,"Remisión a la JLE en la entidad, las propuestas de escenarios de cómputos, para la dictaminación de viabilidad","OPL","CG","2021-05-01","2021-05-07",null,null,{"$f":"VLOOKUP(P5409,Campos!$B$2:$C$7,2,FALSE)","v":0},"Sin información"]
[5404,32,"Zacatecas",15,"Cómputos","15.5",5,"Remisión de las observaciones a los escenarios de Cómputos al OPL y a su vez informar de las mismas a la UTVOPL","INE","JLE","2021-05-08","2021-05-15",null,null,{"$f":"VLOOKUP(P5410,Campos!$B$2:$C$7,2,FALSE)","v":0},"Sin información"]
[5405,32,"Zacatecas",15,"Cómputos","15.6",6,"Aprobación por parte del órgano competente del OPL, del acuerdo mediante el cual se designa al personal que participará en las tareas de apoyo a los Cómputos Municipales","OPL","CG/OD","2021-04-26","2021-05-05",null,null,{"$f":"VLOOKUP(P5411,Campos!$B$2:$C$7,2,FALSE)","v":0},"Sin información"]
[5406,32,"Zacatecas",15,"Cómputos","15.7",7,"Aprobación por parte del órgano competente del OPL, del acuerdo mediante el cual se designa al personal que participará en las tareas de apoyo a los Cómputos Distritales ","OPL","CG/OD","2021-04-26","2021-05-05",null,null,{"$f":"VLOOKUP(P5412,Campos!$B$2:$C$7,2,FALSE)","v":0},"Sin información"]
[5407,32,"Zacatecas",15,"Cómputos","15.8",8,"Aprobación por parte de los órganos competentes del OPL, de los distintos escenarios de cómputos","OPL","OD","2021-05-08","2021-05-15",null,null,{"$f":"VLOOKUP(P5413,Campos!$B$2:$C$7,2,FALSE)","v":0},"Sin información"]
[5408,32,"Zacatecas",15,"Cómputos","15.9",9,"Aprobación por parte del órgano competente del OPL, del acuerdo por el que se habilitarán espacios para la instalación de grupos de trabajo y, en su caso, puntos de recuento","OPL","CG/OD","2021-06-08","2021-06-08",null,null,{"$f":"VLOOKUP(P5414,Campos!$B$2:$C$7,2,FALSE)","v":0},"Sin información"]
[5409,32,"Zacatecas",15,"Cómputos","15.10",10,"Cómputos Distritales","OPL","OD","2021-06-09","2021-06-12",null,null,{"$f":"VLOOKUP(P5415,Campos!$B$2:$C$7,2,FALSE)","v":0},"Sin información"]
[5410,32,"Zacatecas",15,"Cómputos","15.14",14,"Cómputo Estatal para la asignación diputaciones de Representación Proporcional","OPL","CG","2021-06-13","2021-06-13",null,null,{"$f":"VLOOKUP(P5416,Campos!$B$2:$C$7,2,FALSE)","v":0},"Sin información"]
[5411,32,"Zacatecas",15,"Cómputos","15.13",13,"Cómputo Estatal para la Gubernatura","OPL","CG","2021-06-13","2021-06-13",null,null,{"$f":"VLOOKUP(P5417,Campos!$B$2:$C$7,2,FALSE)","v":0},"Sin información"]
[5412,32,"Zacatecas",15,"Cómputos","15.11",11,"Cómputos Municipales","OPL","OD","2021-06-09","2021-06-12",null,null,{"$f":"VLOOKUP(P5418,Campos!$B$2:$C$7,2,FALSE)","v":0},"Sin información"]
[5413,32,"Zacatecas",15,"Cómputos","15.16",16,"Asignación de regidurías por el principio de Representación Proporcional","OPL","CG","2021-06-13","2021-06-13",null,null,{"$f":"VLOOKUP(P5419,Campos!$B$2:$C$7,2,FALSE)","v":0},"Sin información"]
[5414,32,"Zacatecas",16,"PREP","16.1",1,"Aprobación del Acuerdo por el que se designa o ratifica a la instancia interna responsable de coordinar el PREP","OPL","CG","2020-09-11","2020-09-11",null,null,{"$f":"VLOOKUP(P5420,Campos!$B$2:$C$7,2,FALSE)","v":0},"Sin información"]
[5415,32,"Zacatecas",16,"PREP","16.2",2,"Aprobación del Acuerdo de Integración del COTAPREP","OPL","CG","2020-11-11","2020-11-11",null,null,{"$f":"VLOOKUP(P5421,Campos!$B$2:$C$7,2,FALSE)","v":0},"Sin información"]
[5416,32,"Zacatecas",16,"PREP","16.3",3,"Documento por el que se determina la implementación del PREP por el OPL o con el apoyo de un Tercero","OPL","CG","2020-12-11","2020-12-11",null,null,{"$f":"VLOOKUP(P5422,Campos!$B$2:$C$7,2,FALSE)","v":0},"Sin información"]
[5417,32,"Zacatecas",16,"PREP","16.4",4,"Aprobación del Acuerdo por el que se determina el Proceso Técnico Operativo ","OPL","CG","2021-01-11","2021-01-11",null,null,{"$f":"VLOOKUP(P5423,Campos!$B$2:$C$7,2,FALSE)","v":0},"Sin información"]
[5418,32,"Zacatecas",16,"PREP","16.5",5,"Aprobación del Acuerdo por el que se determina la ubicación, instalación y habilitación de los CATD y, en su caso, CCV","OPL","CG","2021-02-11","2021-02-11",null,null,{"$f":"VLOOKUP(P5424,Campos!$B$2:$C$7,2,FALSE)","v":0},"Sin información"]
[5419,32,"Zacatecas",16,"PREP","16.6",6,"Documento de Designación del Ente Auditor ","OPL","CG","2021-02-11","2021-02-11",null,null,{"$f":"VLOOKUP(P5425,Campos!$B$2:$C$7,2,FALSE)","v":0},"Sin información"]
[5420,32,"Zacatecas",16,"PREP","16.7",7,"Instrumento jurídico celebrado entre el OPL y el ente auditor","OPL","CG","2021-03-11","2021-03-11",null,null,{"$f":"VLOOKUP(P5426,Campos!$B$2:$C$7,2,FALSE)","v":0},"Sin información"]
[5421,32,"Zacatecas",16,"PREP","16.8",8,"Realización del primer simulacro del PREP","OPL","CG","2021-05-16","2021-05-16",null,null,{"$f":"VLOOKUP(P5427,Campos!$B$2:$C$7,2,FALSE)","v":0},"Sin información"]
[5422,32,"Zacatecas",16,"PREP","16.9",9,"Realización del segundo simulacro del PREP","OPL","CG","2021-05-23","2021-05-23",null,null,{"$f":"VLOOKUP(P5428,Campos!$B$2:$C$7,2,FALSE)","v":0},"Sin información"]
[5423,32,"Zacatecas",16,"PREP","16.10",10,"Realización del tercer simulacro del PREP","OPL","CG","2021-05-30","2021-05-30",null,null,{"$f":"VLOOKUP(P5429,Campos!$B$2:$C$7,2,FALSE)","v":0},"Sin información"]
[5424,32,"Zacatecas",16,"PREP","16.11",11,"Operación del PREP","OPL","CG","2021-06-06","2021-06-07",null,null,{"$f":"VLOOKUP(P5430,Campos!$B$2:$C$7,2,FALSE)","v":0},"Sin información"]
[5425,32,"Zacatecas",17,"Conteo Rápido","17.1",1,"Aprobación del Acuerdo de Integración del COTECORA","Por definir","Por definir","2021-02-01","2021-02-06",null,null,{"$f":"VLOOKUP(P5431,Campos!$B$2:$C$7,2,FALSE)","v":0},"Sin información"]
[5426,32,"Zacatecas",17,"Conteo Rápido","17.2",2,"Realización de pruebas de captura","Por definir","Por definir","2021-04-14","2021-04-15",null,null,{"$f":"VLOOKUP(P5432,Campos!$B$2:$C$7,2,FALSE)","v":0},"Sin información"]
[5427,32,"Zacatecas",17,"Conteo Rápido","17.3",3,"Realización de primer simulacro del Conteo Rápido","Por definir","Por definir","2021-04-29","2021-04-29",null,null,{"$f":"VLOOKUP(P5433,Campos!$B$2:$C$7,2,FALSE)","v":0},"Sin información"]
[5428,32,"Zacatecas",17,"Conteo Rápido","17.4",4,"Realización de segundo simulacro del Conteo Rápido","Por definir","Por definir","2021-05-16","2021-05-16",null,null,{"$f":"VLOOKUP(P5434,Campos!$B$2:$C$7,2,FALSE)","v":0},"Sin información"]
[5429,32,"Zacatecas",17,"Conteo Rápido","17.5",5,"Selección de la Muestra para el Conteo Rápido","Por definir","Por definir","2021-06-02","2021-06-04",null,null,{"$f":"VLOOKUP(P5435,Campos!$B$2:$C$7,2,FALSE)","v":0},"Sin información"]
[5430,32,"Zacatecas",17,"Conteo Rápido","17.6",6,"Realización de tercer simulacro del Conteo Rápido","Por definir","Por definir","2021-05-23","2021-05-23",null,null,{"$f":"VLOOKUP(P5436,Campos!$B$2:$C$7,2,FALSE)","v":0},"Sin información"]
[5431,32,"Zacatecas",18,"Voto de la ciudadanía residente en el extranjero","18.1",1,"Puesta a disposición de la Solicitud individual de Inscripción a la Lista Nominal de Electores Residentes en el extranjero para procesos electorales locales (SIILNERE), por los medios que determine el INE.","INE","DERFE","2020-09-01","2021-03-15",null,null,{"$f":"VLOOKUP(P5437,Campos!$B$2:$C$7,2,FALSE)","v":0},"Sin información"]
[5432,32,"Zacatecas",18,"Voto de la ciudadanía residente en el extranjero","18.2",2,"Recepción de la Solicitud individual de Inscripción a la Lista Nominal de Electores Residentes en el extranjero para procesos electorales locales (SIILNERE), por los medios que determine el INE","INE","DERFE","2020-09-01","2021-03-15",null,null,{"$f":"VLOOKUP(P5438,Campos!$B$2:$C$7,2,FALSE)","v":0},"Sin información"]
[5433,32,"Zacatecas",18,"Voto de la ciudadanía residente en el extranjero","18.3",3,"Conformación de la Lista Nominal de Electores Residentes en el Extranjero (subsanes, observaciones de partidos políticos e informe)","INE","DERFE","2020-09-01","2021-04-15",null,null,{"$f":"VLOOKUP(P5439,Campos!$B$2:$C$7,2,FALSE)","v":0},"Sin información"]
[5434,32,"Zacatecas",18,"Voto de la ciudadanía residente en el extranjero","18.4",4,"En caso de voto postal, entrega-recepción de materiales del PEP.","INE","DERFE/UTVOPL/OPL","Por definir","2021-03-15",null,null,{"$f":"VLOOKUP(P5440,Campos!$B$2:$C$7,2,FALSE)","v":0},"Sin información"]
[5435,32,"Zacatecas",18,"Voto de la ciudadanía residente en el extranjero","18.5",5,"En caso de voto postal, preparación y envío de los PEP a la ciudadanía residente en el extranjero","INE","DERFE/DEOE/UNICOM/DECEYEC","2021-04-02","2021-04-30",null,null,{"$f":"VLOOKUP(P5441,Campos!$B$2:$C$7,2,FALSE)","v":0},"Sin información"]
[5436,32,"Zacatecas",18,"Voto de la ciudadanía residente en el extranjero","18.6",6,"En caso de voto postal, recepción de Sobres Voto y resguardo","INE","DERFE/DEOE","2021-04-11","2021-06-05",null,null,{"$f":"VLOOKUP(P5442,Campos!$B$2:$C$7,2,FALSE)","v":0},"Sin información"]
[5437,32,"Zacatecas",18,"Voto de la ciudadanía residente en el extranjero","18.7",7,"Elaboración y aprobación del Programa de Integración de Mesas de Escrutinio y Cómputo y Capacitación Electoral para el Voto de las y los Mexicanos Residentes en el Extranjero","INE","CG","Por definir","Por definir",null,null,{"$f":"VLOOKUP(P5443,Campos!$B$2:$C$7,2,FALSE)","v":0},"Sin información"]
[5438,32,"Zacatecas",18,"Voto de la ciudadanía residente en el extranjero","18.8",8,"Aprobación del número de mesas de escrutinio y cómputo a instalar","INE","CL","Por definir","Por definir",null,null,{"$f":"VLOOKUP(P5444,Campos!$B$2:$C$7,2,FALSE)","v":0},"Sin información"]
[5439,32,"Zacatecas",18,"Voto de la ciudadanía residente en el extranjero","18.9",9,"Integración y aprobación del Listado del personal que realizará las suplencias en las Mesas de Escrutinio y Cómputo","INE","CL","Por definir","Por definir",null,null,{"$f":"VLOOKUP(P5445,Campos!$B$2:$C$7,2,FALSE)","v":0},"Sin información"]
[5440,32,"Zacatecas",18,"Voto de la ciudadanía residente en el extranjero","18.10",10,"Logística del Local Único","OPL","CG","Por definir","Por definir",null,null,{"$f":"VLOOKUP(P5446,Campos!$B$2:$C$7,2,FALSE)","v":0},"Sin información"]
[5441,32,"Zacatecas",18,"Voto de la ciudadanía residente en el extranjero","18.11",11,"Escrutinio y Cómputo de los votos de los mexicanos residentes en el extranjero","OPL","CG","2021-06-06","2021-06-06",null,null,{"$f":"VLOOKUP(P5447,Campos!$B$2:$C$7,2,FALSE)","v":0},"Sin información"]
[5442,32,"Zacatecas",18,"Voto de la ciudadanía residente en el extranjero","18.12",12,"Promoción del Voto de los Mexicanos Residentes en el Extranjero (Difusión, Comunicación, Vinculación y Plataformas Digitales)","INE/OPL","CG/CG","Por definir","Por definir",null,null,{"$f":"VLOOKUP(P5448,Campos!$B$2:$C$7,2,FALSE)","v":0},"Sin información"]
[5443,32,"Zacatecas",18,"Voto de la ciudadanía residente en el extranjero","18.13",13,"Entrega de la Lista Nominal de Electores Residentes en el Extranjero (LNERE), para escrutinio y cómputo.","INE","DERFE/DEOE","2021-06-05","2021-06-05",null,null,{"$f":"VLOOKUP(P5449,Campos!$B$2:$C$7,2,FALSE)","v":0},"Sin información"]
[5444,32,"Zacatecas",19,"Visitantes extranjeros","19.1",1,"Emisión de la Convocatoria para visitantes extranjeros","INE","CG","2020-08-03","2020-09-30",null,null,{"$f":"VLOOKUP(P5450,Campos!$B$2:$C$7,2,FALSE)","v":0},"Sin información"]
[5445,32,"Zacatecas",19,"Visitantes extranjeros","19.2",2,"Difusión de la Convocatoria para visitantes extranjeros","INE","CAI","2020-09-01","2021-05-26",null,null,{"$f":"VLOOKUP(P5451,Campos!$B$2:$C$7,2,FALSE)","v":0},"Sin información"]
[5446,32,"Zacatecas",19,"Visitantes extranjeros","19.3",3,"Recepción de solicitudes de acreditación como visitantes extranjeros","INE","CAI","2020-09-01","2021-05-26",null,null,{"$f":"VLOOKUP(P5452,Campos!$B$2:$C$7,2,FALSE)","v":0},"Sin información"]
[5447,32,"Zacatecas",19,"Visitantes extranjeros","19.4",4,"Resolución de solicitudes de acreditación como visitantes extranjeros","INE","CAI","2020-09-02","2021-05-30",null,null,{"$f":"VLOOKUP(P5453,Campos!$B$2:$C$7,2,FALSE)","v":0},"Sin información"]
[5448,32,"Zacatecas",19,"Visitantes extranjeros","19.5",5,"Entrega de acreditaciones a los visitantes extranjeros","INE","CAI","2020-09-04","2021-06-05",null,null,{"$f":"VLOOKUP(P5454,Campos!$B$2:$C$7,2,FALSE)","v":0},"Sin información"]

{"sheet":"Campos","index":5,"n_rows":7,"n_cols":3,"rows_kept":7,"cut":false,"hidden":true,"merged":[]}
[null,"Status","ID Status"]
[null,"Sin información",0]
[null,"Por Iniciar",1]
[null,"Concluida dentro el plazo",2]
[null,"Concluida fuera de plazo",3]
[null,"En proceso dentro del plazo",4]
[null,"En proceso fuera del plazo",5]